{"text_format":"1","workbook":"xlsx","n_sheets":5,"sheets":["RWH Instructions","RWH Calculator","References","RWH 10-yr Simulation","RWH Performance Evaluation"],"not_rendered":{"charts":4,"images":2,"macros":1,"external_links":0,"defined_names":17,"comments":2,"pivot_tables":0},"unopened":[],"bounds":{"document_bytes":16777216,"sheet_cells":100000,"rows_first":2000,"rows_last":500,"rows_between":2000,"halvings":0,"cell_chars":16384,"cell_head_chars":4096},"cells_cut":0,"cells_raw":0,"read":"whole","date_system":"1900"}

{"sheet":"RWH Instructions","index":0,"n_rows":50,"n_cols":2,"rows_kept":50,"cut":false,"hidden":false,"merged":[[0,0,0,1]]}
[]
["RAINWATER HARVESTING CALCULATOR INSTRUCTIONS"]
["NOTE:","This Rainwater Harvesting (RWH) calculator is intended for the conceptual design of simple cisterns.  Projects obligated to meet SDG performance"]
[null,"requirements should use the appropriate BMP Sizing Calculators available on the SDG website.  The RWH calculator simulates the performance of"]
[null,"the design over 10 years of historical rainfall data to determine the average annual runoff captured by the cistern and the average annual non-"]
[null,"potable demand met by the rainwater harvesting.  "]
[]
["PART 1 - Calculating Irrigation Demand"]
[1,"Enter the square footage of the area to be irrigated that is covered by turfgrass or crops. If no turf, skip to Step 3. [1 acre = 43,560 sq ft] "]
[2,"Enter the crop coefficient for your site.  Cool season grasses= 0.8, warm season=0.6. Please see the linked CIMIS publication (in \"Reference\" TAB) if more information is needed. "]
[3,"Enter the square footage of the landscaped area to be irrigated.  If no landscaped area, skip to Step 8. [1 acre = 43,560 sq ft]"]
[4,"Enter species factor based on type of plants used. Please see pages 62-99 of A Guide to Estimating Irrigation Water Needs of Landscape Plantings in California for more info."]
[5,"Enter density factor based on plant coverage.  Full coverage of one vegetation type is considered average. Please see p. 18 of Guide for more info."]
[6,"Enter microclimate factor based on site's exposure to sun and wind.  Open-field without extraordinary winds or heat inputs is considered average (e.g., a park). Please see p. 19 of Guide for more info.  "]
[7,"The landscape coefficient is calculated here.  It is a product of the species, density, and microclimate factors. "]
[8,"Enter irrigation efficiency.  Generally ranges from 0.7 to 0.95, with subsurface drip being the most efficient and spray irrigation the least efficient. Current San Francisco regulations require that harvested rainwater be treated prior to use in spray irrigation."]
[9,"Select whether the site is located in western or eastern San Francisco.  Sites located in the foggier western half of the city will have lower evapotranspiration values. "]
[null,">NOTE: Other conditions not included in the Sizer may also effect irrigation water demand, such as soil salt concentration, soil evaporation rate, trees in turf, etc. If you feel these special conditions may apply to your site, please see Chapter 7 and 8 of the Guide to Estimating Irrigation Water Needs of Landscape Plantings in California."]
[10,"The monthly irrigation demand is shown in the table.  Reference evapotranspiration rates are from CIMIS. "]
[]
["PART 2 - Calculating Indoor Non-Potable Demand"]
[11,"Enter the number of residential units at the site and the average people per unit.  People per unit typically ranges from 2.0 for multi-family to 3.1 for single-family use. "]
[12,"For commercial and industrial sites, enter the number of full-time equivalents (FTEs) located on site.  An 8-hr/day occupant has an FTE of 1.  "]
[null,"Part-time occupants have an FTE = # hrs per day/8 hrs. "]
[13,"For facilities such as schools, museums, and churches, enter the number of students or visitors (per day).  "]
[14,"For retail buildings, enter the number of customers (per day). "]
[15,"The default values for toilet flushes per day are given here. These values are based on the  SFPUC Urban Water Management Plan (UWMP) (SFPUC 2011)"]
[16,"Enter the gallons per toilet flush. Recommended value is 1.28 gallons per flush based on the California Green Building Standards Code 5.303.2"]
[17,"Enter the washing machine loads and gallons per load. The default gallons per load is 36.9."]
[18,"Enter any additional non-potable demand in gallons per day. This includes industrial uses, heating/cooling, and all other permitted indoor uses."]
[19,"The indoor non-potable demand is calculated here. "]
["Part III - Calculate Cistern Size to Meet Desired Percent Capture"]
[20,"Enter the runoff coefficient for the area draining to the cistern. A value of 0.85 is recommended for roofs. "]
[21,"Enter the square footage of the area draining to the cistern. "]
[22,"Enter a volume for the cistern.  Adjust the volume until the desired percent capture is met (typically at least 80%) or when 100% of non-potable demand is met."]
[23,"If the cistern cannot capture the required percentage of annual runoff (typically at least 80%), then additional BMPs will be needed to manage runoff from the drainage area. "]
[24,"Enter the depth of the cistern to find the surface area covered by the cistern. "]
[25,"The estimated monthly runoff captured and reused by the cistern is shown in the table. "]
[]
["PART 3 - Entering Cistern Dimensions"]
[20,"Enter the impervious and pervious areas that drain to the cistern. The total drainage area to the cistern is then calculated."]
[21,"Enter the runoff coefficient of the area draining to the cistern. A value of 0.85 is recommended for roofs. Please see page 93 of Stormwater Design Guidelines for other values."]
[22,"Enter the shape and dimensions of the cistern.  For cisterns with atypical geometries, such as spherical, oblong, or pyramidal cisterns designed to fit beneath ramps, normalize the volume of the cistern to fit within a circular or rectangular footprint. "]
[]
["PART 4 - Calculating Cistern Performance"]
[23,"The surface area and volume of the cistern and detention space are calculated here."]
[24,"The volume of runoff captured and the percent of non-potable demand are shown here.  These volumes are calculated from the results of a 10-year daily simulation of RWH performance during rain events."]
[25,"The average monthly totals over the course of the 10-year daily simulation period are shown in the figures.  Note, the average monthly runoff captured and stored by the cistern may be different than the amount reused in that month.  Therefore, the sum of monthly reuse plus overflow in the second figure does not necessarily equal the runoff supply depicted in the first figure.  "]
[]
["NOTE:","The RWH Calculator does not consider treatment requirements for the various non-potable demands. The designer will need to coordinate with SF Department of Public Health, SF Department of Building Inspection and SF Public Utilities Commission for the specific treatment requirement per each proposed use. Additional review may be required based on the proposed use."]

{"sheet":"RWH Calculator","index":1,"n_rows":163,"n_cols":28,"rows_kept":163,"cut":false,"hidden":false,"merged":[[159,0,159,8],[160,0,160,8],[3,13,3,16],[4,0,4,7],[23,1,25,1],[51,4,51,8],[72,4,76,8],[66,4,68,8]]}
[null,null,null,null,null,null,null,null,null,null,null,"HIDE ROWS"]
["RAINWATER HARVESTING (RWH) CALCULATOR",null,null,null,null,null,null,null,"LEGEND:"]
["The RWH Calculator simulates the performance of a cistern over 10 years based on the runoff to the cistern, cistern size, and the site's non-potable demand. ",null,null,null,null,null,null,null,"User Input",null,null,null,null,null,null,null,null,null,null,"SF Downtown Gauge",null,null,null,null,null,null,"Estimate of Available Cistern Volume"]
["The RWH's performance is used to calculate the average annual rainwater captured and non-potable demand met.",null,null,null,null,null,null,null,"Default Value",null,null,null,null,"ETo Values (DWR 2005 - CIMIS)",null,null,null,null,null,"24 hour curves",null,"C=1",null,"48 hour curves","C =1",null,"48 hour % Capture Curves"]
["The RWH calculator is intended for conceptual design, not for determining compliance with the SDG performance measures.",null,null,null,null,null,null,null,"Locked",null,null,null,null,"Zone 1","Zone 2","Zone 1","Zone 2",null,null,"Unit Storage","Percent","Percent",null,"Unit Storage","Percent",null,"Annual ","Equivalent"]
["Projects that need to comply with the SDG requirements should use either the CSS or MS4 BMP Sizing Calculators  found at http://sfwater.org/sdg. ",null,null,null,null,null,null,null,null,null,null,null,null,"(in/mo)","(In/mo)","(in/day)","(in/day)",null,null,"(inches)","Capture","Capture",null,"(inches)","Capture",null,"Reuse %","Rainfall Depth (in)"]
[null,null,null,null,null,null,null,null,null,null,null,null,"Jan",0.93,1.24,{"$f":"N7/31","v":3.0000000000000002E-2},{"$f":"O7/31","v":0.04}]
[null,null,null,null,null,null,null,null,null,null,null,null,"Feb",1.4,1.68,{"$f":"N8/28","v":4.9999999999999996E-2},{"$f":"O8/28","v":0.06},null,null,0,{"$f":"V8/100","v":0},0,null,0,0,null,0,0]
[null,null,null,null,null,null,null,null,null,null,null,null,"Mar",2.48,3.1,{"$f":"N9/31","v":0.08},{"$f":"O9/31","v":0.1},null,null,0.03,0.06,6,null,0.03,6,null,0.06,0.03]
["PART 1 - Calculate Irrigation Demand",null,null,null,null,null,null,null,null,null,null,null,"Apr",3.3,3.9,{"$f":"N10/30","v":0.11},{"$f":"O10/30","v":0.13},null,null,0.06,0.13,13,null,0.06,13,null,0.1,0.05]
[null,null,null,null,null,null,null,null,null,null,null,null,"May",4.03,4.6500000000000004,{"$f":"N11/31","v":0.13},{"$f":"O11/31","v":0.15000000000000002},null,null,0.12,0.2823,28.23,null,0.12,21.54,null,0.13,0.06]
[1,"Turf/Crop Area to be Irrigated",500," ft2",null,null,null,null,null,null,null,null,"Jun",4.5,5.0999999999999996,{"$f":"N12/30","v":0.15},{"$f":"O12/30","v":0.16999999999999998},null,null,0.24,0.49219999999999997,49.22,null,0.24,38.76,null,0.15,0.08]
[2,"Crop Coefficient - Kc",0.8,"cool season grasses = 0.8, warm season grasses = 0.6.  Please see CIMIS publication for more information.  ",null,null,null,null,null,null,null,null,"Jul",4.6500000000000004,4.96,{"$f":"N13/31","v":0.15000000000000002},{"$f":"O13/31","v":0.16},null,null,0.36,0.64579999999999993,64.58,null,0.36,52.69,null,0.21539999999999998,0.12]
[3,"Landscape Area to be Irrigated",300," ft2",null,null,null,null,null,null,null,null,"Aug",4.03,4.6500000000000004,{"$f":"N14/31","v":0.13},{"$f":"O14/31","v":0.15000000000000002},null,null,0.48,0.75709999999999988,75.709999999999994,null,0.48,63.74,null,0.28000000000000003,0.16]
[4,"Species Factor - ks",0.5," <0.1 for very low, 0.1-0.3 for low, 0.4-0.6 for medium, 0.7-0.9 for high.  See p. 62-99 of Guide (DWR 2000).",null,null,null,null,null,null,null,null,"Sep",3.3,3.9,{"$f":"N15/30","v":0.11},{"$f":"O15/30","v":0.13},null,null,0.6,0.83450000000000002,83.45,null,0.6,72.510000000000005,null,0.3,0.17]
[5,"Density Factor - kd",1.1000000000000001," 0.5-0.9 for low, 1 for average, 1.1-1.3 for high. See p. 18 of Guide (DWR 2000).",null,null,null,null,null,null,null,null,"Oct",2.48,2.79,{"$f":"N16/31","v":0.08},{"$f":"O16/31","v":0.09},null,null,0.72,0.88780000000000003,88.78,null,0.72,79.28,null,0.33500000000000002,0.2]
[6,"Microclimate Factor - kmc",1," 0.5-0.9 for low, 1 for average, 1.1-1.4 for high. See p. 19 of Guide (DWR 2000).",null,null,null,null,null,null,null,null,"Nov",1.2,1.8,{"$f":"N17/30","v":0.04},{"$f":"O17/30","v":6.0000000000000005E-2},null,null,0.84,0.92510000000000003,92.51,null,0.84,84.49,null,0.3876,0.24]
[7,"Landscape Coefficient - KL",{"$f":"C15*C16*C17","v":0.55000000000000004}," KL = ks*kd*kmc",null,null,null,null,null,null,null,null,"Dec",0.62,1.24,{"$f":"N18/31","v":0.02},{"$f":"O18/31","v":0.04},null,null,0.96,0.95019999999999993,95.02,null,0.96,88.46,null,0.44,0.28000000000000003]
[null,"Total Irrigation Area",{"$f":"SUM(C14,C12)","v":800}," ft2",null,null,null,null,null,null,null,null,"Total",32.9,39,null,null,null,null,1.08,0.96629999999999994,96.63,null,1.08,91.49,null,0.46,0.3]
[null,"Average Coefficient",{"$f":"IF(C19>0,(C12*C13+C14*C18)/C19,0)","v":0.70625000000000004},null,null,null,null,null,null,null,null,null,null,null,null,null,null,null,null,1.2,0.97739999999999994,97.74,null,1.2,93.71,null,0.49,0.33]
[8,"Irrigation Efficiency",0.9," Estimated efficiencies are 0.70 to 0.85 for spray, 0.9 for drip, 0.95 for subsurface drip. ",null,null,null,null,null,null,null,null,null,null,null,null,null,null,null,1.32,0.98459999999999992,98.46,null,1.32,95.35,null,0.52689999999999992,0.36]
[9,"Site Location (ETo Zone)","Eastern SF"," Select Western if located in the Richmond, Sunset, or Lake Merced areas of San Francisco",null,null,null,null,null,null,null,null,null,null,null,null,null,null,null,1.44,0.98919999999999997,98.92,null,1.44,96.52,null,0.56999999999999995,0.4]
[null,null,null,null,null,null,null,null,null,null,null,null,null,null,null,null,null,null,null,1.56,0.99230000000000007,99.23,null,1.56,97.4,null,0.63739999999999997,0.48]
[10,"Month","Avg. Monthly","Reference","Actual","Irrigation Demand",null,null,null,null,null,null,null,null,null,null,null,null,null,1.68,0.99480000000000002,99.48,null,1.68,98.04,null,0.67,0.52]
[null,null,"Rainfall","Evapotranspiration","Evapotranspiration",null,null,null,"% of  ",null,null,null,null,null,null,null,null,null,null,1.8,0.99629999999999996,99.63,null,1.8,98.49,null,0.72510000000000008,0.6]
[null,null,"in/month","ETo","ETL","ft3/month","gal/mo","gpd","annual",null,null,"(in/unit area)","days/mo",null,null,null,null,null,null,1.92,0.99719999999999998,99.72,null,1.92,98.82,null,0.75,0.64]
[null,"January",{"$f":"'RWH 10-yr Simulation'!X25/10","v":3.656000000000001},{"$f":"'RWH 10-yr Simulation'!AA25/10","v":1.2399999999999911},{"$f":"D27*$C$20","v":0.87574999999999381},{"$f":"'RWH 10-yr Simulation'!AC25/10/7.48","v":43.029629629629554},{"$f":"F27*7.48","v":321.86162962962908},{"$f":"(G27)/M27","v":10.382633213859002},{"$f":"G27/$G$39","v":2.3514523654051225E-2},null,null,{"$f":"IF(E27-C27>0, (E27-C27)/$C$21,0)","v":0},31,null,null,null,null,null,null,2.04,0.99769999999999992,99.77,null,2.04,99.1,null,0.79280000000000006,0.72]
[null,"February",{"$f":"'RWH 10-yr Simulation'!X26/10","v":4.3790000000000004},{"$f":"'RWH 10-yr Simulation'!AA26/10","v":1.6920000000000024},1.1949750000000017,{"$f":"'RWH 10-yr Simulation'!AC26/10/7.48","v":54.774999999999906},{"$f":"F28*7.48","v":409.7169999999993},14.632749999999975,{"$f":"G28/$G$39","v":2.9933049487921939E-2},null,null,0,28,null,null,null,null,null,null,2.16,0.998,99.8,null,2.16,99.34,null,0.82,0.78]
[null,"March",{"$f":"'RWH 10-yr Simulation'!X27/10","v":2.5679999999999992},{"$f":"'RWH 10-yr Simulation'!AA27/10","v":3.100000000000017},2.1893750000000121,{"$f":"'RWH 10-yr Simulation'!AC27/10/7.48","v":122.5555555555553},916.71555555555369,29.57146953405012,{"$f":"G29/$G$39","v":6.6973281779355728E-2},null,null,0,31,null,null,null,null,null,null,2.2799999999999998,0.99819999999999998,99.82,null,2.2799999999999998,99.52,null,0.84489999999999998,0.84]
[null,"April",{"$f":"'RWH 10-yr Simulation'!X28/10","v":1.4359999999999997},{"$f":"'RWH 10-yr Simulation'!AA28/10","v":3.9000000000000057},2.754375000000004,{"$f":"'RWH 10-yr Simulation'!AC28/10/7.48","v":174.93842592592668},1308.5394259259317,43.617980864197726,{"$f":"G30/$G$39","v":9.5599097409035855E-2},null,null,1.4648611111111158,30,null,null,null,null,null,null,2.4,0.99849999999999994,99.85,null,2.4,99.64,null,0.88459999999999994,0.96]
[null,"May",{"$f":"'RWH 10-yr Simulation'!X29/10","v":0.49000000000000005},{"$f":"'RWH 10-yr Simulation'!AA29/10","v":4.6499999999999737},3.2840624999999815,{"$f":"'RWH 10-yr Simulation'!AC29/10/7.48","v":226.65046296296401},1695.3454629629709,54.688563321386162,0.12385832084583902,null,null,3.1045138888888681,31,null,null,null,null,null,null,2.52,0.99870000000000003,99.87,null,2.52,99.7,null,0.91489999999999994,1.08]
[null,"June",{"$f":"'RWH 10-yr Simulation'!X30/10","v":0.11900000000000002},{"$f":"'RWH 10-yr Simulation'!AA30/10","v":5.1000000000000343},3.6018750000000246,{"$f":"'RWH 10-yr Simulation'!AC30/10/7.48","v":262.35925925926074},1962.4472592592704,65.414908641975686,0.14337220796023747,null,null,3.8698611111111383,30,null,null,null,null,null,null,2.64,0.99890000000000001,99.89,null,2.64,99.74,null,0.93709999999999993,1.2]
[null,"July",{"$f":"'RWH 10-yr Simulation'!X31/10","v":5.0000000000000001E-3},{"$f":"'RWH 10-yr Simulation'!AA31/10","v":4.9599999999999644},3.5029999999999752,{"$f":"'RWH 10-yr Simulation'!AC31/10/7.48","v":259.11111111111057},1938.1511111111072,62.521003584229263,0.14159718323613557,null,null,3.8866666666666392,31,null,null,null,null,null,null,2.76,0.99919999999999998,99.92,null,2.76,99.77,null,0.9534999999999999,1.32]
[null,"August",{"$f":"'RWH 10-yr Simulation'!X32/10","v":1.3000000000000001E-2},{"$f":"'RWH 10-yr Simulation'!AA32/10","v":4.6499999999999737},3.2840624999999815,{"$f":"'RWH 10-yr Simulation'!AC32/10/7.48","v":242.30092592592678},1812.4109259259324,58.464868578255881,0.13241087369621335,null,null,3.6345138888888684,31,null,null,null,null,null,null,2.88,0.99939999999999996,99.94,null,2.88,99.8,null,0.96519999999999995,1.44]
[null,"September",{"$f":"'RWH 10-yr Simulation'!X33/10","v":6.2000000000000013E-2},{"$f":"'RWH 10-yr Simulation'!AA33/10","v":3.9000000000000057},2.754375000000004,{"$f":"'RWH 10-yr Simulation'!AC33/10/7.48","v":201.0379629629642},1503.7639629629723,50.125465432099077,0.10986178538240869,null,null,2.9915277777777822,30,null,null,null,null,null,null,3,0.99959999999999993,99.96,null,3,99.82,null,0.97400000000000009,1.56]
[null,"October",{"$f":"'RWH 10-yr Simulation'!X34/10","v":1.1529999999999996},{"$f":"'RWH 10-yr Simulation'!AA34/10","v":2.7899999999999965},1.9704374999999976,{"$f":"'RWH 10-yr Simulation'!AC34/10/7.48","v":132.63194444444474},992.08694444444677,32.002804659498281,7.2479754572978269E-2,null,null,0.90826388888888665,31,null,null,null,null,null,null,3.12,0.99980000000000002,99.98,null,3.12,99.84,null,0.98040000000000005,1.68]
[null,"November",{"$f":"'RWH 10-yr Simulation'!X35/10","v":2.3539999999999996},{"$f":"'RWH 10-yr Simulation'!AA35/10","v":1.8},1.2712500000000002,{"$f":"'RWH 10-yr Simulation'!AC35/10/7.48","v":74.049074074073914},553.88707407407287,18.462902469135763,4.0465807371867744E-2,null,null,0,30,null,null,null,null,null,null,3.24,0.9998999999999999,99.99,null,3.24,99.86,null,0.9849,1.8]
[null,"December",{"$f":"'RWH 10-yr Simulation'!X36/10","v":7.0379999999999985},{"$f":"'RWH 10-yr Simulation'!AA36/10","v":1.2399999999999911},0.87574999999999381,{"$f":"'RWH 10-yr Simulation'!AC36/10/7.48","v":36.477777777777703},272.85377777777722,8.8017347670250725,1.9934114603955107E-2,null,null,0,31,null,null,null,null,null,null,3.36,1,100,null,3.36,99.88,null,0.98819999999999997,1.92]
[null,"Totals",{"$f":"SUM(C27:C38)","v":23.272999999999996},{"$f":"SUM(D27:D38)","v":39.021999999999949},{"$f":"SUM(E27:E38)","v":27.559287499999972},{"$f":"SUM(F27:F38)","v":1829.917129629634},{"$f":"SUM(G27:G38)","v":13687.780129629664},null,null,null,null,{"$f":"SUM(L27:L38)","v":19.860208333333297},{"$f":"SUM(M27:M38)","v":365},null,null,null,null,null,null,3.48,1,100,null,3.48,99.91,null,0.99099999999999999,2.04]
[null,null,null,null,null,null,null,null,null,null,null,null,null,null,null,null,null,null,null,null,null,null,null,3.6,99.93,null,0.99340000000000006,2.16]
["PART 2 - Calculate Indoor Non-Potable Demand ",null,null,null,null,null,null,null,null,null,null,null,null,null,null,null,null,null,null,null,null,null,null,3.72,99.95,null,0.99519999999999997,2.2799999999999998]
[null,null,null,null,null,null,null,null,null,null,null,null,null,null,null,null,null,null,null,null,null,null,null,3.84,99.97,null,0.99639999999999995,2.4]
[11,"No. of Residential Units",null,null,null,null,null,null,null,null,null,null,null,null,null,null,null,null,null,null,null,null,null,3.96,99.98,null,0.997,2.52]
[null,"Persons per Unit",2.0099999999999998,"Recommend 2.0 for multi-family, 3.1 for single family.  See 2010 SFPUC Appendix D ",null,null,null,null,null,null,null,null,null,null,null,null,null,null,null,null,null,null,null,4.08,99.99,null,0.99739999999999995,2.64]
[12,"Number of Full Time Equivalents",null,"Use for commercial and industrial facilities. An 8-hr a day occupant has an FTE of 1. ",null,null,null,null,null,null,null,null,null,null,null,null,null,null,null,null,null,null,null,4.2,100,null,0.99769999999999992,2.76]
[13,"Number of Students/Visitors",null,"Use for schools, museums, libraries, etc. ",null,null,null,null,null,null,null,null,null,null,null,null,null,null,null,null,null,null,null,null,null,null,0.998,2.88]
[14,"Number of Retail Customers",null,"Use for retail stores",null,null,null,null,null,null,null,null,null,null,null,null,null,null,null,null,null,null,null,null,null,null,0.99819999999999998,3]
[15,"Freq. of Residential Toilet Use",4.75,"flush/person/day","See SFPUC Urban Water Management Plan (UWMP) ",null,null,null,null,null,null,null,null,null,null,null,null,null,null,null,null,null,null,null,null,null,0.99840000000000007,3.12]
[null,"Freq. of FTE Toilet Use",1.74,"flush/person/day","See SFPUC UWMP",null,null,null,null,null,null,null,null,null,null,null,null,null,null,null,null,null,null,null,null,null,0.99860000000000004,3.24]
[null,"Freq. of Student/Visitor Toilet Use",0.5,"flush/person/day","See SFPUC UWMP",null,null,null,null,null,null,null,null,null,null,null,null,null,null,null,null,null,null,null,null,null,0.99879999999999991,3.36]
[null,"Freq. of Customer Toilet Use",0.5,"flush/person/day","See SFPUC UWMP",null,null,null,null,null,null,null,null,null,null,null,null,null,null,null,null,null,null,null,null,null,0.99909999999999999,3.48]
[16,"Volume per Flush",1.28,"gal/flush","See California Green Building Standards Code 5.303.2.",null,null,null,null,null,null,null,null,null,null,null,null,null,null,null,null,null,null,null,null,null,0.99930000000000008,3.6]
[17,"Washing Machine Use",null,"cycles/person/day",null,null,null,null,null,null,null,null,null,null,null,null,null,null,null,null,null,null,null,null,null,null,0.99950000000000006,3.72]
[null,"Volume per Load",36.9,"gal/cycle","See SFPUC UWMP",null,null,null,null,null,null,null,null,null,null,null,null,null,null,null,null,null,null,null,null,null,0.99970000000000003,3.84]
[18,"Other Non-Potable Demand",null,"gal/day","Additional non-potable demand (e.g. cooling water, industrial) per supporting documentation",null,null,null,null,null,null,null,null,null,null,null,null,null,null,null,null,null,null,null,null,null,0.99980000000000002,3.96]
[19,"Daily Reuse Demand ",{"$f":"C52*(C43*C44*C48+C45*C49+C46*C50+C47*C51)+C55+C53*C54*C43*C44","v":0},"gal/day ",null,null,null,null,null,null,null,null,null,null,null,null,null,null,null,null,null,null,null,null,null,null,0.9998999999999999,4.08]
[null,"Monthly Reuse Demand",{"$f":"(365/12)*C56","v":0},"gal/month",null,null,null,null,null,null,null,null,null,null,null,null,null,null,null,null,null,null,null,null,null,null,1,4.2]
[null,"Annual Reuse Demand",{"$f":"C56*365/1000000","v":0},"MG/yr"]
[]
["PART 3   Enter Cistern Design Information and the Conventional Areas that drain to the Cistern"]
[]
[20,"Impervious Drainage Area",1200,"ft2 (Enter roof area, paved area, etc. that drain to cistern.)"]
[null,"Pervious Drainage Area",null,"ft2 (Enter allowed pervious areas that drain to cistern.  This is not recommended.)"]
[null,"Total Area Draining to Cistern",{"$f":"SUM(C62:C63)","v":1200},"ft2 "]
[21,"Avg. Runoff Coefficient",0.85,"Recommend 0.85 for roofs. "]
[22,"Shape of Cistern Footprint","Circular","Select Circular or Rectangular"]
[null,{"$f":"IF(C$66=\"Circular\",\"Cistern Diameter\", \"Cistern Length\")","v":"Cistern Diameter"},6,"ft",{"$f":"IF(C74=0,\" \",IF(C74<(0.25/12)*C62, \"The proposed cistern size is insufficient to store the recommended minimum runoff volume of 0.25 inches of rainfall per square foot of impervious drainage area.  Please increase the cistern size or provide justification for the design.\", \"\"))","v":""}]
[null,{"$f":"IF(C$66=\"Circular\",\"N/A\", \"Cistern Width\")","v":"N/A"},null,"ft"]
[null,"Cistern Depth",5,"ft"]
[]
["PART 4 - Calculate Cistern Performance in 10-year Simulation Based on Inputs"]
[]
[23,"Cistern Surface Area",{"$f":"IF(C66=\"Rectangular\",C67*C68,PI()*C67^2/4)","v":28.274333882308138},"square ft","Adjust the cistern size until the desired performance is achieved (e.g., 50% of non-potable water demand met by captured rainwater). Annual cistern performance is summarized in Line 24 while the 10-year daily precipitation data and the daily cistern performance over a typical year are shown in the graphs below. The \"Available Cistern Volume prior to Design Storm Event\" is the effective volume available prior to a rain event that can be used to meet SDG requirements.  "]
[null,"Cistern Volume",{"$f":"C69*C73","v":141.37166941154069},"ft3"]
[null,"Cistern Volume",{"$f":"C74*7.48","v":1057.4600871983243},"gallons"]
[null,"Average Volume in Cistern prior to each Rainy-Season Storm Event",{"$f":"'RWH Performance Evaluation'!D17","v":822.16724283311908},"gallons"]
[null,"Available Cistern Volume prior to Design Storm Event",{"$f":"ROUND(C75-C76,0)","v":235},"gallons"]
[24,"Average Annual Runoff Captured and Reused",{"$f":"'RWH Performance Evaluation'!D4/10","v":4275.0232292514902},"gallons ","Average annual volume of runoff captured in the cistern and reused onsite (potable water reduction)"]
[null,"Ave. Annual Non-Potable Demand Met by Rainwater Harvesting",{"$f":"'RWH Performance Evaluation'!D9","v":0.30482720350090181},null,"Average annual percentage of non-potable water demand supplied by captured rainwater"]
["Hide Row","Rainfall Event Captured",{"$f":"IF(C65*C64>0,C74/C65/C64*12,0)","v":1.6631961107240081},"inches"]
["Hide Row","Storm Percentile",{"$f":"VLOOKUP(C80,$T$8:$U$39,2)","v":0.99230000000000007}]
[]
["RWH Performance Graphs"]
[]
[]
[]
[]
[]
[]
[]
[]
[]
[]
[]
[]
[]
[]
[]
[]
[]
[]
[]
[]
[]
[]
[]
[]
[]
[]
[]
[]
[]
[]
[]
[]
[]
[]
[]
[]
[]
[]
[]
[]
[]
[]
[]
[]
[]
[]
[]
[]
[]
[]
[]
[]
[]
[]
[]
[]
[]
[]
[]
[]
[]
[]
[]
[]
[]
[null,null,"Rainwater Harvester Performance from Step 4"]
[null,null,"Avg. Annual Runoff Captured & Reused",null,null,{"$f":"ROUND(C78,0)&\" gallons\"","v":"4275 gallons"}]
[null,null,"Percent of Annual Runoff Captured & Reused",null,null,{"$f":"'RWH Performance Evaluation'!D5","v":0.28891200340006695}]
[null,null,"Percent of Non-Potable Demand Met by Rainwater",null,null,{"$f":"C79","v":0.30482720350090181}]
[null,null,"Avg. Volume Available in Cistern prior to Storm Event",null,null,{"$f":"ROUND(C77,0)&\" gallons\"","v":"235 gallons"}]
[]
[]
[]
["References"]
["California Department of Water Resources (DWR). 2005. CIMIS Reference Evapotranspiration Zones. http://wwwcimis.water.ca.gov/cimis/pdf/CimisRefEvapZones.pdf"]
["San Francisco Public Utilities Commission (SFPUC). 2004. Water Use Estimates. Source files: \"householdcons.xls\", \"nonresconsump.xls\". "]
["University of California Cooperative Extension and California Department of Water Resources (DWR). 2000. A Guide to Estimating Landscape Planting Needs in California.  http://www.owue.water.ca.gov/docs/wucols00.pdf. August 2000."]
["United States Green Building Council. 2007. LEED New Construction v2.2 Reference Manual. Third Edition October 2007."]
[]
["Part I calculates the monthly irrigation demand, Part II calculates the indoor non-potable demand, and Part III sizes the cistern. "]

{"sheet":"References","index":2,"n_rows":47,"n_cols":7,"rows_kept":47,"cut":false,"hidden":false,"merged":[[5,6,5,9],[30,0,31,0],[30,1,30,9],[31,1,31,9],[22,0,23,0],[24,0,26,0],[27,0,29,0],[18,1,18,9],[15,1,15,9],[27,1,28,9],[29,1,29,9],[8,0,9,0],[10,0,11,0],[37,1,38,9],[33,0,36,0],[37,0,39,0],[36,1,36,9],[33,1,35,9],[43,0,46,0],[39,1,39,9],[42,1,42,9],[46,1,46,9],[43,1,45,9],[40,1,41,9],[40,0,42,0],[3,6,3,9],[4,0,5,5],[2,0,3,5],[26,1,26,9],[23,1,23,9],[19,1,20,9],[21,1,21,9],[11,1,11,9],[14,0,15,0],[16,0,18,0],[19,0,21,0],[9,1,9,9],[24,1,25,9],[16,1,17,9],[2,6,2,9],[4,6,4,9]]}
[]
["PROJECT TEAM"]
["San Francisco Public Utilities Commission",null,null,null,null,null,"Ken Kortkamp, Stormwater Lead"]
[null,null,null,null,null,null,"John Scarpulla, Nonpotable Lead"]
["Lotus Water ",null,null,null,null,null,"Scott Durbin"]
[null,null,null,null,null,null,"Nathan Stormzand"]
[]
["REFERENCE MATERIALS"]
["General Information:","San Francisco Public Utilities Commission (SFPUC) Stormwater Design Guidelines"]
[null,"http://sfwater.org/sdg"]
["CSS BMP Calculation Approach:","SFPUC. CSS BMP Sizing Calculator: Calculation Approach Memo. "]
[null,"http://www.sfwater.org/Modules/ShowDocument.aspx?documentID=4730"]
[]
["Stormwater Guidance Materials Available on the SFPUC Website"]
["Stormwater Design Guidelines Handbook:","SFPUC.  \" Stormwater Design Guidelines\". January 2010"]
[null,"http://www.sfwater.org/Modules/ShowDocument.aspx?documentID=2779"]
["Stormwater Control Plan Information:","See \"Stormwater Control Plan\" section on the linked webpage for additional SCP guidance:"]
[]
[null,"http://sfwater.org/sdg"]
["Modified Compliance:","Modified Compliance Application.  See \"Modified Compliance\" section of the SDG website for more information."]
[]
[null,"http://sfwater.org/modules/showdocument.aspx?documentid=5860"]
["Design Storms:","1-year and 2-year 24-hour Design Storms"]
[null,"http://sfwater.org/modules/showdocument.aspx?documentid=2776"]
["Urban Water Management Plan:","SFPUC. 2010 Urban Water Management Plan for the City and County of San Francisco. June 2011."]
[]
[null,"http://sfwater.org/modules/showdocument.aspx?documentid=1055"]
["Urban Water Management Plan Appendices:","SFPUC. 2010 Urban Water Management Plan for the City and County of San Francisco - Appendices. June 2011."]
[]
[null,"http://www.sfwater.org/modules/showdocument.aspx?documentid=1054"]
["Non-Potable Water Program:","San Francisco's Non-potable Water Program Guidebook"]
[null,"http://sfwater.org/modules/showdocument.aspx?documentid=4962"]
["Other Reference Materials"]
["Soil Groups and Time of Concentration Calculations:","United States Department of Agriculture (USDA). Natural Resource Conservation Service (NRCS). Conservation Engineering Division. Technical Release 55 (TR-55). \"Urban Hydrology for Small Watersheds\". June 1986."]
[]
[]
[null,"http://www.nrcs.usda.gov/Internet/FSE_DOCUMENTS/stelprdb1044171.pdf"]
["Evapotranspiration Rates:","California Department of Water Resources (DWR). California Irrigation Management Information System (CIMIS). \"Reference Evapotranspiration Map\". 1999."]
[]
[null,"http://www.cimis.water.ca.gov/App_Themes/images/etozonemap.jpg"]
["Irrigation Water Needs:","DWR. CIMIS. Leaflet 21427. \"Using Reference Evapotranspiration (Eto) and Crop Coefficients to Estimate Crop Evapotranspiration (ETc) for Agronomic Crops, Grasses, and Vegetable Crops\". 1987."]
[]
[null,"http://www.cimis.water.ca.gov/Content/PDF/21427-KcAgronomicGrassandVeg.pdf"]
["Water Use Efficiency:","DWR. University of California Cooperative Extension. \"A Guide to Estimating Irrigation Water Needs of Landscape Plantings in California - The Landscape Coefficient Method and WUCOLS III\". August 2000."]
[]
[]
[null,"http://www.water.ca.gov/wateruseefficiency/docs/wucols00.pdf"]

{"sheet":"RWH 10-yr Simulation","index":3,"n_rows":3662,"n_cols":48,"rows_kept":3662,"cut":false,"hidden":true,"merged":[[40,35,41,35],[40,36,41,36],[39,22,39,34],[40,22,41,22],[40,23,41,23],[40,24,40,25],[40,26,40,27],[40,28,40,30],[40,31,40,34],[2,18,2,21],[8,5,8,6],[8,7,8,9],[8,10,8,13],[22,22,23,22],[21,22,21,34],[22,24,22,25],[22,26,22,27],[22,28,22,30],[22,31,22,34],[22,23,23,23],[22,41,22,43],[22,44,22,46],[22,39,22,40],[22,37,22,38],[21,36,21,46],[22,36,23,36]]}
[]
["ET Zone",{"$f":"'RWH Calculator'!C22","v":"Eastern SF"},null,null,null,null,"Cistern Vol (ft3)",{"$f":"'RWH Calculator'!C75","v":1057.4600871983243}]
["Tot Runoff Area (sf) ",{"$f":"'RWH Calculator'!C64","v":1200},null,null,null,null,"Storm Percentile",{"$f":"'RWH Calculator'!C81","v":0.99230000000000007},null,null,null,null,null,null,null,null,null,null,"ETo Values (DWR 2005 - CIMIS)",null,null,null,null,null,null,"Design Storms"]
["Avg. Runoff C",{"$f":"'RWH Calculator'!C65","v":0.85},null,null,null,null,null,null,null,null,null,null,null,null,null,null,null,null,"Zone 1","Zone 2","Zone 1","Zone 2",null,null,null,"1-yr, 24-hr Design Storm - 2.65 in","2001-01-01",2.65]
[null,null,null,null,null,null,null,null,null,null,null,null,null,null,null,null,null,null,"(in/mo)","(In/mo)","(in/day)","(in/day)",null,null,null,null,"2010-12-31",2.65]
["Ave. Irr C",{"$f":"'RWH Calculator'!C20","v":0.70625000000000004},null,null,null,null,null,null,null,null,null,null,null,null,null,null,null,1,0.93,1.24,{"$f":"S6/31","v":3.0000000000000002E-2},{"$f":"T6/31","v":0.04},null,null,null,"2-yr, 24-hr Design Storm - 2.85 in","2001-01-01",2.85]
["Irrigation Eff",{"$f":"'RWH Calculator'!C21","v":0.9},null,null,null,null,null,null,null,null,null,null,null,null,null,null,null,2,1.4,1.68,{"$f":"S7/28","v":4.9999999999999996E-2},{"$f":"T7/28","v":0.06},null,null,null,null,"2010-12-31",2.85]
["Irrigation Area (sf)",{"$f":"'RWH Calculator'!C19","v":800},null,null,null,null,null,null,null,null,null,null,null,null,null,null,null,3,2.48,3.1,{"$f":"S8/31","v":0.08},{"$f":"T8/31","v":0.1}]
[null,null,null,null,null,"Evapotranspiration",null,"Non-Potable Demand",null,null,"Rainwater Harvester Performance",null,null,null,null,null,null,4,3.3,3.9,{"$f":"S9/30","v":0.11},{"$f":"T9/30","v":0.13}]
["Date","Simulated Precipitation (in/day)","Runoff (gal/day)","Runoff Collected (gal/day)","M","Reference ET (in/day)","Actual ET (in/day)","Irrigation Demand (gal/day)","Indoor (gal/day)","Total (gal/day)","Water in Cistern (gal)","Water Captured (gal/day)","Water Used (gal/day)","Overflow (gal/day)","Net Water (gal/day)","Cumulative Use (gal)",null,5,4.03,4.6500000000000004,{"$f":"S10/31","v":0.13},{"$f":"T10/31","v":0.15000000000000002}]
["2001-01-01",0,{"$f":"$B$3*$B$4*(B11/12)*7.48","v":0},{"$f":"C11","v":0},{"$f":"MONTH(A11)","v":1},{"$f":"IF($B$2=\"Western SF\", VLOOKUP(E11,$R$6:$U$17, 4),VLOOKUP(E11, $R$6:$V$17,5))","v":0.04},{"$f":"F11*$B$6","v":2.8250000000000001E-2},{"$f":"(IF(G11-B11>0,(G11-B11)/$B$7,0)/12*7.48)*$B$8","v":15.652592592592596},{"$f":"'RWH Calculator'!$C$56","v":0},{"$f":"H11+I11","v":15.652592592592596},{"$f":"IF(O11<0, 0, IF(O11>$H$2, $H$2, O11))","v":0},{"$f":"IF(J11>D11,D11, K11-0+J11)","v":0},{"$f":"IF(D11+0>J11,J11, D11+0)","v":0},{"$f":"IF(C11>J11, C11-J11-0,0)","v":0},{"$f":"0+D11-J11","v":-15.652592592592596},{"$f":"M11","v":0},null,6,4.5,5.0999999999999996,{"$f":"S11/30","v":0.15},{"$f":"T11/30","v":0.16999999999999998},null,null,null,"Water in Cistern"]
["2001-01-02",0,{"$f":"$B$3*$B$4*(B12/12)*7.48","v":0},{"$f":"C12","v":0},{"$f":"MONTH(A12)","v":1},0.04,{"$f":"F12*$B$6","v":2.8250000000000001E-2},{"$f":"(IF(G12-B12>0,(G12-B12)/$B$7,0)/12*7.48)*$B$8","v":15.652592592592596},{"$f":"'RWH Calculator'!$C$56","v":0},{"$f":"H12+I12","v":15.652592592592596},{"$f":"IF(O12<0, 0, IF(O12>$H$2, $H$2, O12))","v":0},{"$f":"IF(J12>D12,D12, K12-K11+J12)","v":0},{"$f":"IF(D12+K11>J12,J12, D12+K11)","v":0},{"$f":"IF(C12>J12, C12-J12-(K12-K11),0)","v":0},{"$f":"K11+D12-J12","v":-15.652592592592596},{"$f":"M12+P11","v":0},null,7,4.6500000000000004,4.96,{"$f":"S12/31","v":0.15000000000000002},{"$f":"T12/31","v":0.16},null,null,null,"Avg Water in Cistern before Storm (gal)","2009-10-01",{"$f":"'RWH Calculator'!C76","v":822.16724283311908}]
["2001-01-03",0,{"$f":"$B$3*$B$4*(B13/12)*7.48","v":0},{"$f":"C13","v":0},1,0.04,2.8250000000000001E-2,{"$f":"(IF(G13-B13>0,(G13-B13)/$B$7,0)/12*7.48)*$B$8","v":15.652592592592596},{"$f":"'RWH Calculator'!$C$56","v":0},15.652592592592596,{"$f":"IF(O13<0, 0, IF(O13>$H$2, $H$2, O13))","v":0},{"$f":"IF(J13>D13,D13, K13-K12+J13)","v":0},{"$f":"IF(D13+K12>J13,J13, D13+K12)","v":0},{"$f":"IF(C13>J13, C13-J13-(K13-K12),0)","v":0},{"$f":"K12+D13-J13","v":-15.652592592592596},{"$f":"M13+P12","v":0},null,8,4.03,4.6500000000000004,{"$f":"S13/31","v":0.13},{"$f":"T13/31","v":0.15000000000000002},null,null,null,null,"2010-09-30",{"$f":"'RWH Calculator'!C76","v":822.16724283311908}]
["2001-01-04",0,0,0,1,0.04,2.8250000000000001E-2,15.652592592592596,{"$f":"'RWH Calculator'!$C$56","v":0},15.652592592592596,0,0,0,0,-15.652592592592596,0,null,9,3.3,3.9,{"$f":"S14/30","v":0.11},{"$f":"T14/30","v":0.13},null,null,null,"Cistern Size (gal)","2009-10-01",{"$f":"'RWH Calculator'!C75","v":1057.4600871983243}]
["2001-01-05",0,0,0,1,0.04,2.8250000000000001E-2,15.652592592592596,{"$f":"'RWH Calculator'!$C$56","v":0},15.652592592592596,0,0,0,0,-15.652592592592596,0,null,10,2.48,2.79,{"$f":"S15/31","v":0.08},{"$f":"T15/31","v":0.09},null,null,null,null,"2010-09-30",{"$f":"'RWH Calculator'!C75","v":1057.4600871983243}]
["2001-01-06",0,0,0,1,0.04,2.8250000000000001E-2,15.652592592592596,{"$f":"'RWH Calculator'!$C$56","v":0},15.652592592592596,0,0,0,0,-15.652592592592596,0,null,11,1.2,1.8,{"$f":"S16/30","v":0.04},{"$f":"T16/30","v":6.0000000000000005E-2}]
["2001-01-07",0,0,0,1,0.04,2.8250000000000001E-2,15.652592592592596,{"$f":"'RWH Calculator'!$C$56","v":0},15.652592592592596,0,0,0,0,-15.652592592592596,0,null,12,0.62,1.24,{"$f":"S17/31","v":0.02},{"$f":"T17/31","v":0.04}]
["2001-01-08",0.56000000000000005,356.04800000000006,356.04800000000006,1,0.04,2.8250000000000001E-2,0,{"$f":"'RWH Calculator'!$C$56","v":0},0,356.04800000000006,356.04800000000006,0,0,356.04800000000006,0,null,"Total",32.9,39]
["2001-01-09",0.09,57.222000000000001,57.222000000000001,1,0.04,2.8250000000000001E-2,0,{"$f":"'RWH Calculator'!$C$56","v":0},0,413.27000000000004,57.22199999999998,0,2.1316282072803006E-14,413.27000000000004,0]
["2001-01-10",0.75,476.85,476.85,1,0.04,2.8250000000000001E-2,0,{"$f":"'RWH Calculator'!$C$56","v":0},0,890.12000000000012,476.85000000000008,0,-5.6843418860808015E-14,890.12000000000012,0]
["2001-01-11",0.84000000000000008,534.07200000000012,534.07200000000012,1,0.04,2.8250000000000001E-2,0,{"$f":"'RWH Calculator'!$C$56","v":0},0,1057.4600871983243,167.34008719832423,0,366.73191280167589,1424.1920000000002,0]
["2001-01-12",0.01,6.3580000000000014,6.3580000000000014,1,0.04,2.8250000000000001E-2,10.111851851851855,{"$f":"'RWH Calculator'!$C$56","v":0},10.111851851851855,1053.7062353464723,6.3580000000000014,10.111851851851855,0,1053.7062353464723,10.111851851851855,null,null,null,null,null,null,"TOTALS FOR 10-YEAR SIMULATION, BY MONTH",null,null,null,null,null,null,null,null,null,null,null,null,null,"MONTHLY AVERAGES - FOR BAR GRAPHS"]
["2001-01-13",0,0,0,1,0.04,2.8250000000000001E-2,15.652592592592596,{"$f":"'RWH Calculator'!$C$56","v":0},15.652592592592596,1038.0536427538798,0,15.652592592592596,0,1038.0536427538798,25.76444444444445,null,null,null,null,null,null,"Month","Precipitation","Runoff",null,"Evapotranspiration",null,"Demand",null,null,"Performance",null,null,null,null,"Precipitation","Runoff",null,"Evapotranspiration",null,"Demand",null,null,"Performance"]
["2001-01-14",0,0,0,1,0.04,2.8250000000000001E-2,15.652592592592596,{"$f":"'RWH Calculator'!$C$56","v":0},15.652592592592596,1022.4010501612872,0,15.652592592592596,0,1022.4010501612872,41.417037037037048,null,null,null,null,null,null,null,null,"Runoff (gal)","Runoff Collected (gal)","Reference ET (in)","Actual ET (in)","Irrigation (gal)","Indoor (gal)","Total (gal)","Water Captured (gal)","Water Used (gal)","Water in Cistern (gal)","Overflow (gal)",null,null,"Runoff (gal)","Runoff Collected (gal)","Reference ET (in)","Actual ET (in)","Irrigation (gal)","Indoor (gal)","Total (gal)","Water Captured (gal)","Water Used (gal)","Overflow (gal)","Capture + Overflow"]
["2001-01-15",0,0,0,1,0.04,2.8250000000000001E-2,15.652592592592596,{"$f":"'RWH Calculator'!$C$56","v":0},15.652592592592596,1006.7484575686947,0,15.652592592592596,0,1006.7484575686947,57.069629629629645,null,null,null,null,null,null,"Jan",{"$f":"SUM(IF(MONTH($A$11:$A$3662)=1, B$11:B$3662, 0))","v":36.560000000000009},{"$f":"SUM(IF(MONTH($A$11:$A$3662)=1, C$11:C$3662, 0))","v":23244.848000000013},{"$f":"SUM(IF(MONTH($A$11:$A$3662)=1, D$11:D$3662, 0))","v":23244.848000000013},{"$f":"SUM(IF(MONTH($A$11:$A$3662)=1, F$11:F$3662, 0))","v":12.399999999999912},{"$f":"SUM(IF(MONTH($A$11:$A$3662)=1, G$11:G$3662, 0))","v":8.7574999999999772},{"$f":"SUM(IF(MONTH($A$11:$A$3662)=1, H$11:H$3662, 0))","v":3218.6162962962908},{"$f":"SUM(IF(MONTH($A$11:$A$3662)=1, I$11:I$3662, 0))","v":0},{"$f":"SUM(IF(MONTH($A$11:$A$3662)=1, J$11:J$3662, 0))","v":3218.6162962962908},{"$f":"SUM(IF(MONTH($A$11:$A$3662)=1, L$11:L$3662, 0))","v":3892.8787538649881},{"$f":"SUM(IF(MONTH($A$11:$A$3662)=1, M$11:M$3662, 0))","v":3109.0481481481429},{"$f":"SUM(IF(MONTH($A$11:$A$3662)=1, K$11:K$3662, 0))","v":301185.04578912701},{"$f":"SUM(IF(MONTH($A$11:$A$3662)=1, N$11:N$3662, 0))","v":19351.969246135017},null,{"$f":"X25/10","v":3.656000000000001},{"$f":"Y25/10","v":2324.4848000000011},{"$f":"Z25/10","v":2324.4848000000011},{"$f":"AA25/10","v":1.2399999999999911},{"$f":"AB25/10","v":0.8757499999999977},{"$f":"AC25/10","v":321.86162962962908},{"$f":"AD25/10","v":0},{"$f":"AE25/10","v":321.86162962962908},{"$f":"AF25/10","v":389.2878753864988},{"$f":"AG25/10","v":310.9048148148143},{"$f":"AI25/10","v":1935.1969246135018},{"$f":"AS25+AU25","v":2324.4848000000006}]
["2001-01-16",0,0,0,1,0.04,2.8250000000000001E-2,15.652592592592596,{"$f":"'RWH Calculator'!$C$56","v":0},15.652592592592596,991.09586497610212,0,15.652592592592596,0,991.09586497610212,72.722222222222243,null,null,null,null,null,null,"Feb",{"$f":"SUM(IF(MONTH($A$11:$A$3662)=2, B$11:B$3662, 0))","v":43.790000000000006},{"$f":"SUM(IF(MONTH($A$11:$A$3662)=2, C$11:C$3662, 0))","v":27841.682000000008},{"$f":"SUM(IF(MONTH($A$11:$A$3662)=2, D$11:D$3662, 0))","v":27841.682000000008},{"$f":"SUM(IF(MONTH($A$11:$A$3662)=2, F$11:F$3662, 0))","v":16.920000000000023},{"$f":"SUM(IF(MONTH($A$11:$A$3662)=2, G$11:G$3662, 0))","v":11.949749999999963},{"$f":"SUM(IF(MONTH($A$11:$A$3662)=2, H$11:H$3662, 0))","v":4097.1699999999928},{"$f":"SUM(IF(MONTH($A$11:$A$3662)=2, I$11:I$3662, 0))","v":0},{"$f":"SUM(IF(MONTH($A$11:$A$3662)=2, J$11:J$3662, 0))","v":4097.1699999999928},{"$f":"SUM(IF(MONTH($A$11:$A$3662)=2, L$11:L$3662, 0))","v":4112.2131111111021},{"$f":"SUM(IF(MONTH($A$11:$A$3662)=2, M$11:M$3662, 0))","v":4097.1699999999928},{"$f":"SUM(IF(MONTH($A$11:$A$3662)=2, K$11:K$3662, 0))","v":276117.02221955726},{"$f":"SUM(IF(MONTH($A$11:$A$3662)=2, N$11:N$3662, 0))","v":23729.468888888903},null,4.3790000000000004,2784.168200000001,2784.168200000001,1.6920000000000024,1.1949749999999963,409.7169999999993,0,409.7169999999993,411.2213111111102,409.7169999999993,2372.9468888888905,{"$f":"AS26+AU26","v":2784.1682000000005}]
["2001-01-17",0,0,0,1,0.04,2.8250000000000001E-2,15.652592592592596,{"$f":"'RWH Calculator'!$C$56","v":0},15.652592592592596,975.44327238350957,0,15.652592592592596,0,975.44327238350957,88.37481481481484,null,null,null,null,null,null,"Mar",{"$f":"SUM(IF(MONTH($A$11:$A$3662)=3, B$11:B$3662, 0))","v":25.679999999999993},{"$f":"SUM(IF(MONTH($A$11:$A$3662)=3, C$11:C$3662, 0))","v":16327.344000000005},{"$f":"SUM(IF(MONTH($A$11:$A$3662)=3, D$11:D$3662, 0))","v":16327.344000000005},{"$f":"SUM(IF(MONTH($A$11:$A$3662)=3, F$11:F$3662, 0))","v":31.000000000000171},{"$f":"SUM(IF(MONTH($A$11:$A$3662)=3, G$11:G$3662, 0))","v":21.893749999999933},{"$f":"SUM(IF(MONTH($A$11:$A$3662)=3, H$11:H$3662, 0))","v":9167.1555555555369},{"$f":"SUM(IF(MONTH($A$11:$A$3662)=3, I$11:I$3662, 0))","v":0},{"$f":"SUM(IF(MONTH($A$11:$A$3662)=3, J$11:J$3662, 0))","v":9167.1555555555369},{"$f":"SUM(IF(MONTH($A$11:$A$3662)=3, L$11:L$3662, 0))","v":4766.3114074074056},{"$f":"SUM(IF(MONTH($A$11:$A$3662)=3, M$11:M$3662, 0))","v":9167.1555555555369},{"$f":"SUM(IF(MONTH($A$11:$A$3662)=3, K$11:K$3662, 0))","v":234736.5075499989},{"$f":"SUM(IF(MONTH($A$11:$A$3662)=3, N$11:N$3662, 0))","v":11561.032592592595},null,2.5679999999999992,1632.7344000000005,1632.7344000000005,3.100000000000017,2.1893749999999934,916.71555555555369,0,916.71555555555369,476.63114074074053,916.71555555555369,1156.1032592592596,1632.7344000000003]
["2001-01-18",0,0,0,1,0.04,2.8250000000000001E-2,15.652592592592596,{"$f":"'RWH Calculator'!$C$56","v":0},15.652592592592596,959.79067979091701,0,15.652592592592596,0,959.79067979091701,104.02740740740744,null,null,null,null,null,null,"Apr",{"$f":"SUM(IF(MONTH($A$11:$A$3662)=4, B$11:B$3662, 0))","v":14.359999999999998},{"$f":"SUM(IF(MONTH($A$11:$A$3662)=4, C$11:C$3662, 0))","v":9130.0880000000016},{"$f":"SUM(IF(MONTH($A$11:$A$3662)=4, D$11:D$3662, 0))","v":9130.0880000000016},{"$f":"SUM(IF(MONTH($A$11:$A$3662)=4, F$11:F$3662, 0))","v":39.000000000000057},{"$f":"SUM(IF(MONTH($A$11:$A$3662)=4, G$11:G$3662, 0))","v":27.54374999999991},{"$f":"SUM(IF(MONTH($A$11:$A$3662)=4, H$11:H$3662, 0))","v":13085.394259259318},{"$f":"SUM(IF(MONTH($A$11:$A$3662)=4, I$11:I$3662, 0))","v":0},{"$f":"SUM(IF(MONTH($A$11:$A$3662)=4, J$11:J$3662, 0))","v":13085.394259259318},{"$f":"SUM(IF(MONTH($A$11:$A$3662)=4, L$11:L$3662, 0))","v":4594.7008148148161},{"$f":"SUM(IF(MONTH($A$11:$A$3662)=4, M$11:M$3662, 0))","v":8215.5805733512188},{"$f":"SUM(IF(MONTH($A$11:$A$3662)=4, K$11:K$3662, 0))","v":100530.89689222779},{"$f":"SUM(IF(MONTH($A$11:$A$3662)=4, N$11:N$3662, 0))","v":4535.3871851851864},null,1.4359999999999997,913.00880000000018,913.00880000000018,3.9000000000000057,2.7543749999999911,1308.5394259259317,0,1308.5394259259317,459.4700814814816,821.55805733512193,453.53871851851864,913.00880000000029]
["2001-01-19",0,0,0,1,0.04,2.8250000000000001E-2,15.652592592592596,{"$f":"'RWH Calculator'!$C$56","v":0},15.652592592592596,944.13808719832446,0,15.652592592592596,0,944.13808719832446,119.68000000000004,null,null,null,null,null,null,"May",{"$f":"SUM(IF(MONTH($A$11:$A$3662)=5, B$11:B$3662, 0))","v":4.9000000000000004},{"$f":"SUM(IF(MONTH($A$11:$A$3662)=5, C$11:C$3662, 0))","v":3115.420000000001},{"$f":"SUM(IF(MONTH($A$11:$A$3662)=5, D$11:D$3662, 0))","v":3115.420000000001},{"$f":"SUM(IF(MONTH($A$11:$A$3662)=5, F$11:F$3662, 0))","v":46.499999999999737},{"$f":"SUM(IF(MONTH($A$11:$A$3662)=5, G$11:G$3662, 0))","v":32.84062499999991},{"$f":"SUM(IF(MONTH($A$11:$A$3662)=5, H$11:H$3662, 0))","v":16953.454629629709},{"$f":"SUM(IF(MONTH($A$11:$A$3662)=5, I$11:I$3662, 0))","v":0},{"$f":"SUM(IF(MONTH($A$11:$A$3662)=5, J$11:J$3662, 0))","v":16953.454629629709},{"$f":"SUM(IF(MONTH($A$11:$A$3662)=5, L$11:L$3662, 0))","v":3115.420000000001},{"$f":"SUM(IF(MONTH($A$11:$A$3662)=5, M$11:M$3662, 0))","v":5162.406557891265},{"$f":"SUM(IF(MONTH($A$11:$A$3662)=5, K$11:K$3662, 0))","v":24869.521669336766},{"$f":"SUM(IF(MONTH($A$11:$A$3662)=5, N$11:N$3662, 0))","v":-1.8118839761882555E-13},null,0.49000000000000005,311.54200000000009,311.54200000000009,4.6499999999999737,3.2840624999999912,1695.3454629629709,0,1695.3454629629709,311.54200000000009,516.24065578912655,-1.8118839761882553E-14,311.54200000000009]
["2001-01-20",0,0,0,1,0.04,2.8250000000000001E-2,15.652592592592596,{"$f":"'RWH Calculator'!$C$56","v":0},15.652592592592596,928.4854946057319,0,15.652592592592596,0,928.4854946057319,135.33259259259262,null,null,null,null,null,null,"Jun",{"$f":"SUM(IF(MONTH($A$11:$A$3662)=6, B$11:B$3662, 0))","v":1.1900000000000002},{"$f":"SUM(IF(MONTH($A$11:$A$3662)=6, C$11:C$3662, 0))","v":756.60199999999986},{"$f":"SUM(IF(MONTH($A$11:$A$3662)=6, D$11:D$3662, 0))","v":756.60199999999986},{"$f":"SUM(IF(MONTH($A$11:$A$3662)=6, F$11:F$3662, 0))","v":51.000000000000341},{"$f":"SUM(IF(MONTH($A$11:$A$3662)=6, G$11:G$3662, 0))","v":36.018750000000018},{"$f":"SUM(IF(MONTH($A$11:$A$3662)=6, H$11:H$3662, 0))","v":19624.472592592705},{"$f":"SUM(IF(MONTH($A$11:$A$3662)=6, I$11:I$3662, 0))","v":0},{"$f":"SUM(IF(MONTH($A$11:$A$3662)=6, J$11:J$3662, 0))","v":19624.472592592705},{"$f":"SUM(IF(MONTH($A$11:$A$3662)=6, L$11:L$3662, 0))","v":756.60199999999975},{"$f":"SUM(IF(MONTH($A$11:$A$3662)=6, M$11:M$3662, 0))","v":792.91462962962919},{"$f":"SUM(IF(MONTH($A$11:$A$3662)=6, K$11:K$3662, 0))","v":2855.3307037037039},{"$f":"SUM(IF(MONTH($A$11:$A$3662)=6, N$11:N$3662, 0))","v":2.8421709430404007E-14},null,0.11900000000000002,75.660199999999989,75.660199999999989,5.1000000000000343,3.6018750000000019,1962.4472592592706,0,1962.4472592592706,75.660199999999975,79.291462962962925,2.8421709430404009E-15,75.660199999999975]
["2001-01-21",0,0,0,1,0.04,2.8250000000000001E-2,15.652592592592596,{"$f":"'RWH Calculator'!$C$56","v":0},15.652592592592596,912.83290201313935,0,15.652592592592596,0,912.83290201313935,150.9851851851852,null,null,null,null,null,null,"Jul",{"$f":"SUM(IF(MONTH($A$11:$A$3662)=7, B$11:B$3662, 0))","v":0.05},{"$f":"SUM(IF(MONTH($A$11:$A$3662)=7, C$11:C$3662, 0))","v":31.790000000000006},{"$f":"SUM(IF(MONTH($A$11:$A$3662)=7, D$11:D$3662, 0))","v":31.790000000000006},{"$f":"SUM(IF(MONTH($A$11:$A$3662)=7, F$11:F$3662, 0))","v":49.599999999999646},{"$f":"SUM(IF(MONTH($A$11:$A$3662)=7, G$11:G$3662, 0))","v":35.029999999999909},{"$f":"SUM(IF(MONTH($A$11:$A$3662)=7, H$11:H$3662, 0))","v":19381.511111111071},{"$f":"SUM(IF(MONTH($A$11:$A$3662)=7, I$11:I$3662, 0))","v":0},{"$f":"SUM(IF(MONTH($A$11:$A$3662)=7, J$11:J$3662, 0))","v":19381.511111111071},{"$f":"SUM(IF(MONTH($A$11:$A$3662)=7, L$11:L$3662, 0))","v":31.790000000000006},{"$f":"SUM(IF(MONTH($A$11:$A$3662)=7, M$11:M$3662, 0))","v":31.790000000000006},{"$f":"SUM(IF(MONTH($A$11:$A$3662)=7, K$11:K$3662, 0))","v":0},{"$f":"SUM(IF(MONTH($A$11:$A$3662)=7, N$11:N$3662, 0))","v":0},null,5.0000000000000001E-3,3.1790000000000007,3.1790000000000007,4.9599999999999644,3.5029999999999908,1938.1511111111072,0,1938.1511111111072,3.1790000000000007,3.1790000000000007,0,3.1790000000000007]
["2001-01-22",0,0,0,1,0.04,2.8250000000000001E-2,15.652592592592596,{"$f":"'RWH Calculator'!$C$56","v":0},15.652592592592596,897.18030942054679,0,15.652592592592596,0,897.18030942054679,166.63777777777779,null,null,null,null,null,null,"Aug",{"$f":"SUM(IF(MONTH($A$11:$A$3662)=8, B$11:B$3662, 0))","v":0.13},{"$f":"SUM(IF(MONTH($A$11:$A$3662)=8, C$11:C$3662, 0))","v":82.654000000000025},{"$f":"SUM(IF(MONTH($A$11:$A$3662)=8, D$11:D$3662, 0))","v":82.654000000000025},{"$f":"SUM(IF(MONTH($A$11:$A$3662)=8, F$11:F$3662, 0))","v":46.499999999999737},{"$f":"SUM(IF(MONTH($A$11:$A$3662)=8, G$11:G$3662, 0))","v":32.84062499999991},{"$f":"SUM(IF(MONTH($A$11:$A$3662)=8, H$11:H$3662, 0))","v":18124.109259259323},{"$f":"SUM(IF(MONTH($A$11:$A$3662)=8, I$11:I$3662, 0))","v":0},{"$f":"SUM(IF(MONTH($A$11:$A$3662)=8, J$11:J$3662, 0))","v":18124.109259259323},{"$f":"SUM(IF(MONTH($A$11:$A$3662)=8, L$11:L$3662, 0))","v":82.654000000000025},{"$f":"SUM(IF(MONTH($A$11:$A$3662)=8, M$11:M$3662, 0))","v":82.654000000000025},{"$f":"SUM(IF(MONTH($A$11:$A$3662)=8, K$11:K$3662, 0))","v":0},{"$f":"SUM(IF(MONTH($A$11:$A$3662)=8, N$11:N$3662, 0))","v":0},null,1.3000000000000001E-2,8.2654000000000032,8.2654000000000032,4.6499999999999737,3.2840624999999912,1812.4109259259324,0,1812.4109259259324,8.2654000000000032,8.2654000000000032,0,8.2654000000000032]
["2001-01-23",0.45000000000000007,286.11000000000007,286.11000000000007,1,0.04,2.8250000000000001E-2,0,{"$f":"'RWH Calculator'!$C$56","v":0},0,1057.4600871983243,160.27977777777755,0,125.83022222222252,1183.2903094205469,166.63777777777779,null,null,null,null,null,null,"Sep",{"$f":"SUM(IF(MONTH($A$11:$A$3662)=9, B$11:B$3662, 0))","v":0.62000000000000011},{"$f":"SUM(IF(MONTH($A$11:$A$3662)=9, C$11:C$3662, 0))","v":394.19600000000008},{"$f":"SUM(IF(MONTH($A$11:$A$3662)=9, D$11:D$3662, 0))","v":394.19600000000008},{"$f":"SUM(IF(MONTH($A$11:$A$3662)=9, F$11:F$3662, 0))","v":39.000000000000057},{"$f":"SUM(IF(MONTH($A$11:$A$3662)=9, G$11:G$3662, 0))","v":27.54374999999991},{"$f":"SUM(IF(MONTH($A$11:$A$3662)=9, H$11:H$3662, 0))","v":15037.639629629723},{"$f":"SUM(IF(MONTH($A$11:$A$3662)=9, I$11:I$3662, 0))","v":0},{"$f":"SUM(IF(MONTH($A$11:$A$3662)=9, J$11:J$3662, 0))","v":15037.639629629723},{"$f":"SUM(IF(MONTH($A$11:$A$3662)=9, L$11:L$3662, 0))","v":394.19600000000008},{"$f":"SUM(IF(MONTH($A$11:$A$3662)=9, M$11:M$3662, 0))","v":394.19600000000008},{"$f":"SUM(IF(MONTH($A$11:$A$3662)=9, K$11:K$3662, 0))","v":543.09648148148165},{"$f":"SUM(IF(MONTH($A$11:$A$3662)=9, N$11:N$3662, 0))","v":0},null,6.2000000000000013E-2,39.41960000000001,39.41960000000001,3.9000000000000057,2.7543749999999911,1503.7639629629723,0,1503.7639629629723,39.41960000000001,39.41960000000001,0,39.41960000000001]
["2001-01-24",0.18,114.444,114.444,1,0.04,2.8250000000000001E-2,0,{"$f":"'RWH Calculator'!$C$56","v":0},0,1057.4600871983243,0,0,114.444,1171.9040871983243,166.63777777777779,null,null,null,null,null,null,"Oct",{"$f":"SUM(IF(MONTH($A$11:$A$3662)=10, B$11:B$3662, 0))","v":11.529999999999996},{"$f":"SUM(IF(MONTH($A$11:$A$3662)=10, C$11:C$3662, 0))","v":7330.7740000000013},{"$f":"SUM(IF(MONTH($A$11:$A$3662)=10, D$11:D$3662, 0))","v":7330.7740000000013},{"$f":"SUM(IF(MONTH($A$11:$A$3662)=10, F$11:F$3662, 0))","v":27.899999999999963},{"$f":"SUM(IF(MONTH($A$11:$A$3662)=10, G$11:G$3662, 0))","v":19.704374999999942},{"$f":"SUM(IF(MONTH($A$11:$A$3662)=10, H$11:H$3662, 0))","v":9920.8694444444682},{"$f":"SUM(IF(MONTH($A$11:$A$3662)=10, I$11:I$3662, 0))","v":0},{"$f":"SUM(IF(MONTH($A$11:$A$3662)=10, J$11:J$3662, 0))","v":9920.8694444444682},{"$f":"SUM(IF(MONTH($A$11:$A$3662)=10, L$11:L$3662, 0))","v":6109.1806319653442},{"$f":"SUM(IF(MONTH($A$11:$A$3662)=10, M$11:M$3662, 0))","v":2579.685777777775},{"$f":"SUM(IF(MONTH($A$11:$A$3662)=10, K$11:K$3662, 0))","v":57107.113664665339},{"$f":"SUM(IF(MONTH($A$11:$A$3662)=10, N$11:N$3662, 0))","v":1221.5933680346566},null,1.1529999999999996,733.07740000000013,733.07740000000013,2.7899999999999965,1.9704374999999943,992.08694444444677,0,992.08694444444677,610.91806319653438,257.96857777777751,122.15933680346566,733.07740000000001]
["2001-01-25",0.70000000000000007,445.06000000000006,445.06000000000006,1,0.04,2.8250000000000001E-2,0,{"$f":"'RWH Calculator'!$C$56","v":0},0,1057.4600871983243,0,0,445.06000000000006,1502.5200871983243,166.63777777777779,null,null,null,null,null,null,"Nov",{"$f":"SUM(IF(MONTH($A$11:$A$3662)=11, B$11:B$3662, 0))","v":23.539999999999996},{"$f":"SUM(IF(MONTH($A$11:$A$3662)=11, C$11:C$3662, 0))","v":14966.732000000004},{"$f":"SUM(IF(MONTH($A$11:$A$3662)=11, D$11:D$3662, 0))","v":14966.732000000004},{"$f":"SUM(IF(MONTH($A$11:$A$3662)=11, F$11:F$3662, 0))","v":18},{"$f":"SUM(IF(MONTH($A$11:$A$3662)=11, G$11:G$3662, 0))","v":12.712499999999959},{"$f":"SUM(IF(MONTH($A$11:$A$3662)=11, H$11:H$3662, 0))","v":5538.8707407407292},{"$f":"SUM(IF(MONTH($A$11:$A$3662)=11, I$11:I$3662, 0))","v":0},{"$f":"SUM(IF(MONTH($A$11:$A$3662)=11, J$11:J$3662, 0))","v":5538.8707407407292},{"$f":"SUM(IF(MONTH($A$11:$A$3662)=11, L$11:L$3662, 0))","v":9894.5925841397693},{"$f":"SUM(IF(MONTH($A$11:$A$3662)=11, M$11:M$3662, 0))","v":5362.9383703703588},{"$f":"SUM(IF(MONTH($A$11:$A$3662)=11, K$11:K$3662, 0))","v":204877.3925531118},{"$f":"SUM(IF(MONTH($A$11:$A$3662)=11, N$11:N$3662, 0))","v":5072.1394158602352},null,2.3539999999999996,1496.6732000000004,1496.6732000000004,1.8,1.271249999999996,553.88707407407287,0,553.88707407407287,989.45925841397695,536.29383703703593,507.21394158602351,1496.6732000000004]
["2001-01-26",0.04,25.432000000000006,25.432000000000006,1,0.04,2.8250000000000001E-2,0,{"$f":"'RWH Calculator'!$C$56","v":0},0,1057.4600871983243,0,0,25.432000000000006,1082.8920871983244,166.63777777777779,null,null,null,null,null,null,"Dec",{"$f":"SUM(IF(MONTH($A$11:$A$3662)=12, B$11:B$3662, 0))","v":70.379999999999981},{"$f":"SUM(IF(MONTH($A$11:$A$3662)=12, C$11:C$3662, 0))","v":44747.604000000021},{"$f":"SUM(IF(MONTH($A$11:$A$3662)=12, D$11:D$3662, 0))","v":44747.604000000021},{"$f":"SUM(IF(MONTH($A$11:$A$3662)=12, F$11:F$3662, 0))","v":12.399999999999912},{"$f":"SUM(IF(MONTH($A$11:$A$3662)=12, G$11:G$3662, 0))","v":8.7574999999999772},{"$f":"SUM(IF(MONTH($A$11:$A$3662)=12, H$11:H$3662, 0))","v":2728.5377777777721},{"$f":"SUM(IF(MONTH($A$11:$A$3662)=12, I$11:I$3662, 0))","v":0},{"$f":"SUM(IF(MONTH($A$11:$A$3662)=12, J$11:J$3662, 0))","v":2728.5377777777721},{"$f":"SUM(IF(MONTH($A$11:$A$3662)=12, L$11:L$3662, 0))","v":4999.6929892114549},{"$f":"SUM(IF(MONTH($A$11:$A$3662)=12, M$11:M$3662, 0))","v":2728.5377777777721},{"$f":"SUM(IF(MONTH($A$11:$A$3662)=12, K$11:K$3662, 0))","v":297920.441549999},{"$f":"SUM(IF(MONTH($A$11:$A$3662)=12, N$11:N$3662, 0))","v":39747.911010788564},null,7.0379999999999985,4474.7604000000019,4474.7604000000019,1.2399999999999911,0.8757499999999977,272.85377777777722,0,272.85377777777722,499.96929892114548,272.85377777777722,3974.7911010788566,4474.7604000000019]
["2001-01-27",0,0,0,1,0.04,2.8250000000000001E-2,15.652592592592596,{"$f":"'RWH Calculator'!$C$56","v":0},15.652592592592596,1041.8074946057318,0,15.652592592592596,0,1041.8074946057318,182.29037037037037,null,null,null,null,null,null,"Total",{"$f":"SUM(X25:X36)","v":232.72999999999996},147969.73400000005,147969.73400000005,390.21999999999957,275.59287499999931,136877.80129629662,0,136877.80129629662,42750.232292514884,41724.077390501683,1500742.3690732091,105219.50170748515,null,23.272999999999996,14796.973400000006,14796.973400000006,39.021999999999956,27.559287499999932,13687.780129629662,0,13687.780129629662,4275.0232292514884,4172.4077390501679,10521.950170748514,14796.973400000003]
["2001-01-28",0,0,0,1,0.04,2.8250000000000001E-2,15.652592592592596,{"$f":"'RWH Calculator'!$C$56","v":0},15.652592592592596,1026.1549020131392,0,15.652592592592596,0,1026.1549020131392,197.94296296296295]
["2001-01-29",0.14000000000000001,89.012000000000015,89.012000000000015,1,0.04,2.8250000000000001E-2,0,{"$f":"'RWH Calculator'!$C$56","v":0},0,1057.4600871983243,31.30518518518511,0,57.706814814814905,1115.1669020131392,197.94296296296295]
["2001-01-30",0,0,0,1,0.04,2.8250000000000001E-2,15.652592592592596,{"$f":"'RWH Calculator'!$C$56","v":0},15.652592592592596,1041.8074946057318,0,15.652592592592596,0,1041.8074946057318,213.59555555555553,null,null,null,null,null,null,"TOTALS FOR 10-YEAR SIMULATION, BY YEAR"]
["2001-01-31",0,0,0,1,0.04,2.8250000000000001E-2,15.652592592592596,{"$f":"'RWH Calculator'!$C$56","v":0},15.652592592592596,1026.1549020131392,0,15.652592592592596,0,1026.1549020131392,229.24814814814812,null,null,null,null,null,null,"Year","Precipitation","Runoff",null,"Evapotranspiration",null,"Demand",null,null,"Performance",null,null,null,"Avg. Annual Runoff Captured and Reused %","Avg. Annual Demand Met by RWH %"]
["2001-02-01",0,0,0,2,0.06,4.2375000000000003E-2,23.478888888888889,{"$f":"'RWH Calculator'!$C$56","v":0},23.478888888888889,1002.6760131242504,0,23.478888888888889,0,1002.6760131242504,252.72703703703701,null,null,null,null,null,null,null,null,"Runoff (gal)","Runoff Collected (gal)","Reference ET (in)","Actual ET (in)","Irrigation (gal)","Indoor (gal)","Total (gal)","Water Captured (gal)","Water Used (gal)","Water in Cistern (gal)","Overflow (gal)"]
["2001-02-02",0,0,0,2,0.06,4.2375000000000003E-2,23.478888888888889,{"$f":"'RWH Calculator'!$C$56","v":0},23.478888888888889,979.19712423536157,0,23.478888888888889,0,979.19712423536157,276.2059259259259,null,null,null,null,null,null,2001,{"$f":"SUM(IF(YEAR($A$11:$A$3662)=$W$43, B$11:B$3662, 0))","v":31.749999999999993},{"$f":"SUM(IF(YEAR($A$11:$A$3662)=$W$43, C$11:C$3662, 0))","v":20186.650000000001},{"$f":"SUM(IF(YEAR($A$11:$A$3662)=$W$43, D$11:D$3662, 0))","v":20186.650000000001},{"$f":"SUM(IF(YEAR($A$11:$A$3662)=$W$43, F$11:F$3662, 0))","v":39.010000000000161},{"$f":"SUM(IF(YEAR($A$11:$A$3662)=$W$43, G$11:G$3662, 0))","v":27.55081249999991},{"$f":"SUM(IF(YEAR($A$11:$A$3662)=$W$43, H$11:H$3662, 0))","v":13505.763333333385},{"$f":"SUM(IF(YEAR($A$11:$A$3662)=$W$43, I$11:I$3662, 0))","v":0},{"$f":"SUM(IF(YEAR($A$11:$A$3662)=$W$43, J$11:J$3662, 0))","v":13505.763333333385},{"$f":"SUM(IF(YEAR($A$11:$A$3662)=$W$43, L$11:L$3662, 0))","v":4889.7023595818328},{"$f":"SUM(IF(YEAR($A$11:$A$3662)=$W$43, M$11:M$3662, 0))","v":3832.2422723835066},{"$f":"SUM(IF(YEAR($A$11:$A$3662)=$W$43, K$11:K$3662, 0))","v":136395.18611589581},{"$f":"SUM(IF(YEAR($A$11:$A$3662)=$W$43, N$11:N$3662, 0))","v":15296.94764041817},{"$f":"AF43/Z43","v":0.24222455729810705},{"$f":"AG43/AE43","v":0.28374866179723462}]
["2001-02-03",0,0,0,2,0.06,4.2375000000000003E-2,23.478888888888889,{"$f":"'RWH Calculator'!$C$56","v":0},23.478888888888889,955.71823534647274,0,23.478888888888889,0,955.71823534647274,299.68481481481479,null,null,null,null,null,null,2002,{"$f":"SUM(IF(YEAR($A$11:$A$3662)=$W$44, B$11:B$3662, 0))","v":22.459999999999994},{"$f":"SUM(IF(YEAR($A$11:$A$3662)=$W$44, C$11:C$3662, 0))","v":14280.068000000005},{"$f":"SUM(IF(YEAR($A$11:$A$3662)=$W$44, D$11:D$3662, 0))","v":14280.068000000005},{"$f":"SUM(IF(YEAR($A$11:$A$3662)=$W$44, F$11:F$3662, 0))","v":39.010000000000161},{"$f":"SUM(IF(YEAR($A$11:$A$3662)=$W$44, G$11:G$3662, 0))","v":27.55081249999991},{"$f":"SUM(IF(YEAR($A$11:$A$3662)=$W$44, H$11:H$3662, 0))","v":13990.231851851904},{"$f":"SUM(IF(YEAR($A$11:$A$3662)=$W$44, I$11:I$3662, 0))","v":0},{"$f":"SUM(IF(YEAR($A$11:$A$3662)=$W$44, J$11:J$3662, 0))","v":13990.231851851904},{"$f":"SUM(IF(YEAR($A$11:$A$3662)=$W$44, L$11:L$3662, 0))","v":4139.3031983094334},{"$f":"SUM(IF(YEAR($A$11:$A$3662)=$W$44, M$11:M$3662, 0))","v":4139.3031983094297},{"$f":"SUM(IF(YEAR($A$11:$A$3662)=$W$44, K$11:K$3662, 0))","v":145120.70369480844},{"$f":"SUM(IF(YEAR($A$11:$A$3662)=$W$44, N$11:N$3662, 0))","v":10140.764801690568},{"$f":"AF44/Z44","v":0.28986579043667243},{"$f":"AG44/AE44","v":0.29587095068488839}]
["2001-02-04",0,0,0,2,0.06,4.2375000000000003E-2,23.478888888888889,{"$f":"'RWH Calculator'!$C$56","v":0},23.478888888888889,932.23934645758391,0,23.478888888888889,0,932.23934645758391,323.16370370370367,null,null,null,null,null,null,2003,{"$f":"SUM(IF(YEAR($A$11:$A$3662)=$W$45, B$11:B$3662, 0))","v":14.320000000000004},{"$f":"SUM(IF(YEAR($A$11:$A$3662)=$W$45, C$11:C$3662, 0))","v":9104.6560000000009},{"$f":"SUM(IF(YEAR($A$11:$A$3662)=$W$45, D$11:D$3662, 0))","v":9104.6560000000009},{"$f":"SUM(IF(YEAR($A$11:$A$3662)=$W$45, F$11:F$3662, 0))","v":39.010000000000161},{"$f":"SUM(IF(YEAR($A$11:$A$3662)=$W$45, G$11:G$3662, 0))","v":27.55081249999991},{"$f":"SUM(IF(YEAR($A$11:$A$3662)=$W$45, H$11:H$3662, 0))","v":14390.030925925977},{"$f":"SUM(IF(YEAR($A$11:$A$3662)=$W$45, I$11:I$3662, 0))","v":0},{"$f":"SUM(IF(YEAR($A$11:$A$3662)=$W$45, J$11:J$3662, 0))","v":14390.030925925977},{"$f":"SUM(IF(YEAR($A$11:$A$3662)=$W$45, L$11:L$3662, 0))","v":3099.1399390501742},{"$f":"SUM(IF(YEAR($A$11:$A$3662)=$W$45, M$11:M$3662, 0))","v":3114.7925316427636},{"$f":"SUM(IF(YEAR($A$11:$A$3662)=$W$45, K$11:K$3662, 0))","v":128659.70803948589},{"$f":"SUM(IF(YEAR($A$11:$A$3662)=$W$45, N$11:N$3662, 0))","v":6005.5160609498271},0.34039066814278035,0.21645488794822249]
["2001-02-05",0,0,0,2,0.06,4.2375000000000003E-2,23.478888888888889,{"$f":"'RWH Calculator'!$C$56","v":0},23.478888888888889,908.76045756869507,0,23.478888888888889,0,908.76045756869507,346.64259259259256,null,null,null,null,null,null,2004,{"$f":"SUM(IF(YEAR($A$11:$A$3662)=$W$46, B$11:B$3662, 0))","v":23.189999999999994},{"$f":"SUM(IF(YEAR($A$11:$A$3662)=$W$46, C$11:C$3662, 0))","v":14744.202000000003},{"$f":"SUM(IF(YEAR($A$11:$A$3662)=$W$46, D$11:D$3662, 0))","v":14744.202000000003},{"$f":"SUM(IF(YEAR($A$11:$A$3662)=$W$46, F$11:F$3662, 0))","v":39.070000000000164},{"$f":"SUM(IF(YEAR($A$11:$A$3662)=$W$46, G$11:G$3662, 0))","v":27.59318749999991},{"$f":"SUM(IF(YEAR($A$11:$A$3662)=$W$46, H$11:H$3662, 0))","v":14040.825740740785},{"$f":"SUM(IF(YEAR($A$11:$A$3662)=$W$46, I$11:I$3662, 0))","v":0},{"$f":"SUM(IF(YEAR($A$11:$A$3662)=$W$46, J$11:J$3662, 0))","v":14040.825740740785},{"$f":"SUM(IF(YEAR($A$11:$A$3662)=$W$46, L$11:L$3662, 0))","v":3754.0554946057282},{"$f":"SUM(IF(YEAR($A$11:$A$3662)=$W$46, M$11:M$3662, 0))","v":3738.4029020131343},{"$f":"SUM(IF(YEAR($A$11:$A$3662)=$W$46, K$11:K$3662, 0))","v":151262.42511767577},{"$f":"SUM(IF(YEAR($A$11:$A$3662)=$W$46, N$11:N$3662, 0))","v":10990.146505394272},0.25461232114194632,0.26625235374624756]
["2001-02-06",0.04,25.432000000000006,25.432000000000006,2,0.06,4.2375000000000003E-2,1.3159259259259271,{"$f":"'RWH Calculator'!$C$56","v":0},1.3159259259259271,932.87653164276912,25.431999999999977,1.3159259259259271,2.8421709430404007E-14,932.87653164276912,347.95851851851847,null,null,null,null,null,null,2005,{"$f":"SUM(IF(YEAR($A$11:$A$3662)=$W$47, B$11:B$3662, 0))","v":32.320000000000007},{"$f":"SUM(IF(YEAR($A$11:$A$3662)=$W$47, C$11:C$3662, 0))","v":20549.056000000015},{"$f":"SUM(IF(YEAR($A$11:$A$3662)=$W$47, D$11:D$3662, 0))","v":20549.056000000015},{"$f":"SUM(IF(YEAR($A$11:$A$3662)=$W$47, F$11:F$3662, 0))","v":39.010000000000161},{"$f":"SUM(IF(YEAR($A$11:$A$3662)=$W$47, G$11:G$3662, 0))","v":27.55081249999991},{"$f":"SUM(IF(YEAR($A$11:$A$3662)=$W$47, H$11:H$3662, 0))","v":13073.27388888894},{"$f":"SUM(IF(YEAR($A$11:$A$3662)=$W$47, I$11:I$3662, 0))","v":0},{"$f":"SUM(IF(YEAR($A$11:$A$3662)=$W$47, J$11:J$3662, 0))","v":13073.27388888894},{"$f":"SUM(IF(YEAR($A$11:$A$3662)=$W$47, L$11:L$3662, 0))","v":5521.6695316427686},{"$f":"SUM(IF(YEAR($A$11:$A$3662)=$W$47, M$11:M$3662, 0))","v":5521.6695316427631},{"$f":"SUM(IF(YEAR($A$11:$A$3662)=$W$47, K$11:K$3662, 0))","v":156296.19655600309},{"$f":"SUM(IF(YEAR($A$11:$A$3662)=$W$47, N$11:N$3662, 0))","v":15027.386468357236},0.26870672461269096,0.42236317991743949]
["2001-02-07",0,0,0,2,0.06,4.2375000000000003E-2,23.478888888888889,{"$f":"'RWH Calculator'!$C$56","v":0},23.478888888888889,909.39764275388029,0,23.478888888888889,0,909.39764275388029,371.43740740740736,null,null,null,null,null,null,2006,{"$f":"SUM(IF(YEAR($A$11:$A$3662)=$W$48, B$11:B$3662, 0))","v":29.490000000000016},{"$f":"SUM(IF(YEAR($A$11:$A$3662)=$W$48, C$11:C$3662, 0))","v":18749.742000000013},{"$f":"SUM(IF(YEAR($A$11:$A$3662)=$W$48, D$11:D$3662, 0))","v":18749.742000000013},{"$f":"SUM(IF(YEAR($A$11:$A$3662)=$W$48, F$11:F$3662, 0))","v":39.010000000000161},{"$f":"SUM(IF(YEAR($A$11:$A$3662)=$W$48, G$11:G$3662, 0))","v":27.55081249999991},{"$f":"SUM(IF(YEAR($A$11:$A$3662)=$W$48, H$11:H$3662, 0))","v":12796.098333333382},{"$f":"SUM(IF(YEAR($A$11:$A$3662)=$W$48, I$11:I$3662, 0))","v":0},{"$f":"SUM(IF(YEAR($A$11:$A$3662)=$W$48, J$11:J$3662, 0))","v":12796.098333333382},{"$f":"SUM(IF(YEAR($A$11:$A$3662)=$W$48, L$11:L$3662, 0))","v":3789.9802723835082},{"$f":"SUM(IF(YEAR($A$11:$A$3662)=$W$48, M$11:M$3662, 0))","v":3852.590642753878},{"$f":"SUM(IF(YEAR($A$11:$A$3662)=$W$48, K$11:K$3662, 0))","v":174790.44807452176},{"$f":"SUM(IF(YEAR($A$11:$A$3662)=$W$48, N$11:N$3662, 0))","v":14959.761727616489},0.20213506257224795,0.30107541708381658]
["2001-02-08",0,0,0,2,0.06,4.2375000000000003E-2,23.478888888888889,{"$f":"'RWH Calculator'!$C$56","v":0},23.478888888888889,885.91875386499146,0,23.478888888888889,0,885.91875386499146,394.91629629629625,null,null,null,null,null,null,2007,{"$f":"SUM(IF(YEAR($A$11:$A$3662)=$W$49, B$11:B$3662, 0))","v":14.130000000000003},{"$f":"SUM(IF(YEAR($A$11:$A$3662)=$W$49, C$11:C$3662, 0))","v":8983.854000000003},{"$f":"SUM(IF(YEAR($A$11:$A$3662)=$W$49, D$11:D$3662, 0))","v":8983.854000000003},{"$f":"SUM(IF(YEAR($A$11:$A$3662)=$W$49, F$11:F$3662, 0))","v":39.010000000000161},{"$f":"SUM(IF(YEAR($A$11:$A$3662)=$W$49, G$11:G$3662, 0))","v":27.55081249999991},{"$f":"SUM(IF(YEAR($A$11:$A$3662)=$W$49, H$11:H$3662, 0))","v":13954.667222222273},{"$f":"SUM(IF(YEAR($A$11:$A$3662)=$W$49, I$11:I$3662, 0))","v":0},{"$f":"SUM(IF(YEAR($A$11:$A$3662)=$W$49, J$11:J$3662, 0))","v":13954.667222222273},{"$f":"SUM(IF(YEAR($A$11:$A$3662)=$W$49, L$11:L$3662, 0))","v":5058.2766057168401},{"$f":"SUM(IF(YEAR($A$11:$A$3662)=$W$49, M$11:M$3662, 0))","v":5015.0726797909074},{"$f":"SUM(IF(YEAR($A$11:$A$3662)=$W$49, K$11:K$3662, 0))","v":149351.59833378089},{"$f":"SUM(IF(YEAR($A$11:$A$3662)=$W$49, N$11:N$3662, 0))","v":3925.5773942831611},0.5630408292161514,0.35938317982994222]
["2001-02-09",1.1299999999999999,718.45400000000006,718.45400000000006,2,0.06,4.2375000000000003E-2,0,{"$f":"'RWH Calculator'!$C$56","v":0},0,1057.4600871983243,171.54133333333289,0,546.91266666666718,1604.3727538649914,394.91629629629625,null,null,null,null,null,null,2008,{"$f":"SUM(IF(YEAR($A$11:$A$3662)=$W$50, B$11:B$3662, 0))","v":16.72},{"$f":"SUM(IF(YEAR($A$11:$A$3662)=$W$50, C$11:C$3662, 0))","v":10630.576000000005},{"$f":"SUM(IF(YEAR($A$11:$A$3662)=$W$50, D$11:D$3662, 0))","v":10630.576000000005},{"$f":"SUM(IF(YEAR($A$11:$A$3662)=$W$50, F$11:F$3662, 0))","v":39.070000000000164},{"$f":"SUM(IF(YEAR($A$11:$A$3662)=$W$50, G$11:G$3662, 0))","v":27.59318749999991},{"$f":"SUM(IF(YEAR($A$11:$A$3662)=$W$50, H$11:H$3662, 0))","v":14238.734074074122},{"$f":"SUM(IF(YEAR($A$11:$A$3662)=$W$50, I$11:I$3662, 0))","v":0},{"$f":"SUM(IF(YEAR($A$11:$A$3662)=$W$50, J$11:J$3662, 0))","v":14238.734074074122},{"$f":"SUM(IF(YEAR($A$11:$A$3662)=$W$50, L$11:L$3662, 0))","v":2913.2411612723954},{"$f":"SUM(IF(YEAR($A$11:$A$3662)=$W$50, M$11:M$3662, 0))","v":2987.750272383505},{"$f":"SUM(IF(YEAR($A$11:$A$3662)=$W$50, K$11:K$3662, 0))","v":125159.73199488613},{"$f":"SUM(IF(YEAR($A$11:$A$3662)=$W$50, N$11:N$3662, 0))","v":7717.3348387276046},0.27404358534028583,0.20983257759013835]
["2001-02-10",0.96000000000000008,610.36800000000005,610.36800000000005,2,0.06,4.2375000000000003E-2,0,{"$f":"'RWH Calculator'!$C$56","v":0},0,1057.4600871983243,0,0,610.36800000000005,1667.8280871983243,394.91629629629625,null,null,null,null,null,null,2009,{"$f":"SUM(IF(YEAR($A$11:$A$3662)=$W$51, B$11:B$3662, 0))","v":19.229999999999997},{"$f":"SUM(IF(YEAR($A$11:$A$3662)=$W$51, C$11:C$3662, 0))","v":12226.434000000005},{"$f":"SUM(IF(YEAR($A$11:$A$3662)=$W$51, D$11:D$3662, 0))","v":12226.434000000005},{"$f":"SUM(IF(YEAR($A$11:$A$3662)=$W$51, F$11:F$3662, 0))","v":39.010000000000161},{"$f":"SUM(IF(YEAR($A$11:$A$3662)=$W$51, G$11:G$3662, 0))","v":27.55081249999991},{"$f":"SUM(IF(YEAR($A$11:$A$3662)=$W$51, H$11:H$3662, 0))","v":13855.903518518571},{"$f":"SUM(IF(YEAR($A$11:$A$3662)=$W$51, I$11:I$3662, 0))","v":0},{"$f":"SUM(IF(YEAR($A$11:$A$3662)=$W$51, J$11:J$3662, 0))","v":13855.903518518571},{"$f":"SUM(IF(YEAR($A$11:$A$3662)=$W$51, L$11:L$3662, 0))","v":4478.9021242353592},{"$f":"SUM(IF(YEAR($A$11:$A$3662)=$W$51, M$11:M$3662, 0))","v":4404.3930131242441},{"$f":"SUM(IF(YEAR($A$11:$A$3662)=$W$51, K$11:K$3662, 0))","v":142842.71579602105},{"$f":"SUM(IF(YEAR($A$11:$A$3662)=$W$51, N$11:N$3662, 0))","v":7747.5318757646428},0.36632939123830854,0.31787122414916669]
["2001-02-11",0.76000000000000012,483.20800000000008,483.20800000000008,2,0.06,4.2375000000000003E-2,0,{"$f":"'RWH Calculator'!$C$56","v":0},0,1057.4600871983243,0,0,483.20800000000008,1540.6680871983244,394.91629629629625,null,null,null,null,null,null,2010,{"$f":"SUM(IF(YEAR($A$11:$A$3662)=$W$52, B$11:B$3662, 0))","v":29.120000000000005},{"$f":"SUM(IF(YEAR($A$11:$A$3662)=$W$52, C$11:C$3662, 0))","v":18514.49600000001},{"$f":"SUM(IF(YEAR($A$11:$A$3662)=$W$52, D$11:D$3662, 0))","v":18514.49600000001},{"$f":"SUM(IF(YEAR($A$11:$A$3662)=$W$52, F$11:F$3662, 0))","v":39.010000000000161},{"$f":"SUM(IF(YEAR($A$11:$A$3662)=$W$52, G$11:G$3662, 0))","v":27.55081249999991},{"$f":"SUM(IF(YEAR($A$11:$A$3662)=$W$52, H$11:H$3662, 0))","v":13032.272407407456},{"$f":"SUM(IF(YEAR($A$11:$A$3662)=$W$52, I$11:I$3662, 0))","v":0},{"$f":"SUM(IF(YEAR($A$11:$A$3662)=$W$52, J$11:J$3662, 0))","v":13032.272407407456},{"$f":"SUM(IF(YEAR($A$11:$A$3662)=$W$52, L$11:L$3662, 0))","v":5105.9616057168432},{"$f":"SUM(IF(YEAR($A$11:$A$3662)=$W$52, M$11:M$3662, 0))","v":5117.8603464575772},{"$f":"SUM(IF(YEAR($A$11:$A$3662)=$W$52, K$11:K$3662, 0))","v":190863.65535013101},{"$f":"SUM(IF(YEAR($A$11:$A$3662)=$W$52, N$11:N$3662, 0))","v":13408.534394283155},0.27578183093489772,0.39270667359198386]
["2001-02-12",0.63,400.55399999999997,400.55399999999997,2,0.06,4.2375000000000003E-2,0,{"$f":"'RWH Calculator'!$C$56","v":0},0,1057.4600871983243,0,0,400.55399999999997,1458.0140871983244,394.91629629629625,null,null,null,null,null,null,"Total",{"$f":"SUM(X43:X52)","v":232.73},147969.73400000005,147969.73400000005,390.22000000000162,275.59287499999914,136877.80129629679,0,136877.80129629679,42750.232292514891,41724.077390501712,1500742.3690732098,105219.50170748513,0.28891200340006606,0.30482720350089776]
["2001-02-13",0,0,0,2,0.06,4.2375000000000003E-2,23.478888888888889,{"$f":"'RWH Calculator'!$C$56","v":0},23.478888888888889,1033.9811983094355,0,23.478888888888889,0,1033.9811983094355,418.39518518518514]
["2001-02-14",0,0,0,2,0.06,4.2375000000000003E-2,23.478888888888889,{"$f":"'RWH Calculator'!$C$56","v":0},23.478888888888889,1010.5023094205467,0,23.478888888888889,0,1010.5023094205467,441.87407407407403]
["2001-02-15",0,0,0,2,0.06,4.2375000000000003E-2,23.478888888888889,{"$f":"'RWH Calculator'!$C$56","v":0},23.478888888888889,987.02342053165785,0,23.478888888888889,0,987.02342053165785,465.35296296296292]
["2001-02-16",0,0,0,2,0.06,4.2375000000000003E-2,23.478888888888889,{"$f":"'RWH Calculator'!$C$56","v":0},23.478888888888889,963.54453164276902,0,23.478888888888889,0,963.54453164276902,488.83185185185181]
["2001-02-17",0.65000000000000013,413.2700000000001,413.2700000000001,2,0.06,4.2375000000000003E-2,0,{"$f":"'RWH Calculator'!$C$56","v":0},0,1057.4600871983243,93.915555555555329,0,319.35444444444477,1376.814531642769,488.83185185185181]
["2001-02-18",0.15000000000000002,95.370000000000019,95.370000000000019,2,0.06,4.2375000000000003E-2,0,{"$f":"'RWH Calculator'!$C$56","v":0},0,1057.4600871983243,0,0,95.370000000000019,1152.8300871983245,488.83185185185181]
["2001-02-19",0.65,413.27000000000004,413.27000000000004,2,0.06,4.2375000000000003E-2,0,{"$f":"'RWH Calculator'!$C$56","v":0},0,1057.4600871983243,0,0,413.27000000000004,1470.7300871983243,488.83185185185181]
["2001-02-20",0.41000000000000003,260.67800000000005,260.67800000000005,2,0.06,4.2375000000000003E-2,0,{"$f":"'RWH Calculator'!$C$56","v":0},0,1057.4600871983243,0,0,260.67800000000005,1318.1380871983245,488.83185185185181]
["2001-02-21",0.18,114.444,114.444,2,0.06,4.2375000000000003E-2,0,{"$f":"'RWH Calculator'!$C$56","v":0},0,1057.4600871983243,0,0,114.444,1171.9040871983243,488.83185185185181]
["2001-02-22",0.79,502.2820000000001,502.2820000000001,2,0.06,4.2375000000000003E-2,0,{"$f":"'RWH Calculator'!$C$56","v":0},0,1057.4600871983243,0,0,502.2820000000001,1559.7420871983245,488.83185185185181]
["2001-02-23",0.1,63.580000000000005,63.580000000000005,2,0.06,4.2375000000000003E-2,0,{"$f":"'RWH Calculator'!$C$56","v":0},0,1057.4600871983243,0,0,63.580000000000005,1121.0400871983243,488.83185185185181]
["2001-02-24",0.93000000000000016,591.2940000000001,591.2940000000001,2,0.06,4.2375000000000003E-2,0,{"$f":"'RWH Calculator'!$C$56","v":0},0,1057.4600871983243,0,0,591.2940000000001,1648.7540871983244,488.83185185185181]
["2001-02-25",0.35000000000000003,222.53000000000003,222.53000000000003,2,0.06,4.2375000000000003E-2,0,{"$f":"'RWH Calculator'!$C$56","v":0},0,1057.4600871983243,0,0,222.53000000000003,1279.9900871983243,488.83185185185181]
["2001-02-26",0,0,0,2,0.06,4.2375000000000003E-2,23.478888888888889,{"$f":"'RWH Calculator'!$C$56","v":0},23.478888888888889,1033.9811983094355,0,23.478888888888889,0,1033.9811983094355,512.3107407407407]
["2001-02-27",0,0,0,2,0.06,4.2375000000000003E-2,23.478888888888889,{"$f":"'RWH Calculator'!$C$56","v":0},23.478888888888889,1010.5023094205467,0,23.478888888888889,0,1010.5023094205467,535.78962962962964]
["2001-02-28",0,0,0,2,0.06,4.2375000000000003E-2,23.478888888888889,{"$f":"'RWH Calculator'!$C$56","v":0},23.478888888888889,987.02342053165785,0,23.478888888888889,0,987.02342053165785,559.26851851851848]
["2001-03-01",6.0000000000000005E-2,38.148000000000003,38.148000000000003,3,0.1,7.0625000000000007E-2,5.8870370370370395,{"$f":"'RWH Calculator'!$C$56","v":0},5.8870370370370395,1019.2843834946207,38.147999999999861,5.8870370370370395,1.4210854715202004E-13,1019.2843834946207,565.15555555555557]
["2001-03-02",0.2,127.16000000000001,127.16000000000001,3,0.1,7.0625000000000007E-2,0,{"$f":"'RWH Calculator'!$C$56","v":0},0,1057.4600871983243,38.175703703703675,0,88.984296296296336,1146.4443834946208,565.15555555555557]
["2001-03-03",0.23000000000000004,146.23400000000001,146.23400000000001,3,0.1,7.0625000000000007E-2,0,{"$f":"'RWH Calculator'!$C$56","v":0},0,1057.4600871983243,0,0,146.23400000000001,1203.6940871983243,565.15555555555557]
["2001-03-04",0.85000000000000009,540.43000000000018,540.43000000000018,3,0.1,7.0625000000000007E-2,0,{"$f":"'RWH Calculator'!$C$56","v":0},0,1057.4600871983243,0,0,540.43000000000018,1597.8900871983246,565.15555555555557]
["2001-03-05",0.12000000000000001,76.296000000000006,76.296000000000006,3,0.1,7.0625000000000007E-2,0,{"$f":"'RWH Calculator'!$C$56","v":0},0,1057.4600871983243,0,0,76.296000000000006,1133.7560871983244,565.15555555555557]
["2001-03-06",0.01,6.3580000000000014,6.3580000000000014,3,{"$f":"IF($B$2=\"Western SF\", VLOOKUP(E75,$R$6:$U$17, 4),VLOOKUP(E75, $R$6:$V$17,5))","v":0.1},7.0625000000000007E-2,33.590740740740749,{"$f":"'RWH Calculator'!$C$56","v":0},33.590740740740749,1030.2273464575835,6.3580000000000014,33.590740740740749,0,1030.2273464575835,598.74629629629635]
["2001-03-07",0,0,0,{"$f":"MONTH(A76)","v":3},0.1,{"$f":"F76*$B$6","v":7.0625000000000007E-2},39.131481481481487,{"$f":"'RWH Calculator'!$C$56","v":0},{"$f":"H76+I76","v":39.131481481481487},991.09586497610201,0,39.131481481481487,0,991.09586497610201,637.87777777777785]
["2001-03-08",0,{"$f":"$B$3*$B$4*(B77/12)*7.48","v":0},{"$f":"C77","v":0},3,0.1,7.0625000000000007E-2,{"$f":"(IF(G77-B77>0,(G77-B77)/$B$7,0)/12*7.48)*$B$8","v":39.131481481481487},{"$f":"'RWH Calculator'!$C$56","v":0},39.131481481481487,{"$f":"IF(O77<0, 0, IF(O77>$H$2, $H$2, O77))","v":951.96438349462051},{"$f":"IF(J77>D77,D77, K77-K76+J77)","v":0},{"$f":"IF(D77+K76>J77,J77, D77+K76)","v":39.131481481481487},{"$f":"IF(C77>J77, C77-J77-(K77-K76),0)","v":0},{"$f":"K76+D77-J77","v":951.96438349462051},{"$f":"M77+P76","v":677.00925925925935}]
["2001-03-09",0,0,0,3,0.1,7.0625000000000007E-2,39.131481481481487,{"$f":"'RWH Calculator'!$C$56","v":0},39.131481481481487,912.83290201313901,0,39.131481481481487,0,912.83290201313901,716.14074074074085]
["2001-03-10",0,0,0,3,0.1,7.0625000000000007E-2,39.131481481481487,{"$f":"'RWH Calculator'!$C$56","v":0},39.131481481481487,873.7014205316575,0,39.131481481481487,0,873.7014205316575,755.27222222222235]
["2001-03-11",0,0,0,3,0.1,7.0625000000000007E-2,39.131481481481487,{"$f":"'RWH Calculator'!$C$56","v":0},39.131481481481487,834.569939050176,0,39.131481481481487,0,834.569939050176,794.40370370370385]
["2001-03-12",0,0,0,3,0.1,7.0625000000000007E-2,39.131481481481487,{"$f":"'RWH Calculator'!$C$56","v":0},39.131481481481487,795.4384575686945,0,39.131481481481487,0,795.4384575686945,833.53518518518536]
["2001-03-13",0,0,0,3,0.1,7.0625000000000007E-2,39.131481481481487,{"$f":"'RWH Calculator'!$C$56","v":0},39.131481481481487,756.306976087213,0,39.131481481481487,0,756.306976087213,872.66666666666686]
["2001-03-14",0,0,0,3,0.1,7.0625000000000007E-2,39.131481481481487,{"$f":"'RWH Calculator'!$C$56","v":0},39.131481481481487,717.1754946057315,0,39.131481481481487,0,717.1754946057315,911.79814814814836]
["2001-03-15",0,0,0,3,0.1,7.0625000000000007E-2,39.131481481481487,{"$f":"'RWH Calculator'!$C$56","v":0},39.131481481481487,678.04401312425,0,39.131481481481487,0,678.04401312425,950.92962962962986]
["2001-03-16",0,0,0,3,0.1,7.0625000000000007E-2,39.131481481481487,{"$f":"'RWH Calculator'!$C$56","v":0},39.131481481481487,638.9125316427685,0,39.131481481481487,0,638.9125316427685,990.06111111111136]
["2001-03-17",0,0,0,3,0.1,7.0625000000000007E-2,39.131481481481487,{"$f":"'RWH Calculator'!$C$56","v":0},39.131481481481487,599.781050161287,0,39.131481481481487,0,599.781050161287,1029.1925925925927]
["2001-03-18",0,0,0,3,0.1,7.0625000000000007E-2,39.131481481481487,{"$f":"'RWH Calculator'!$C$56","v":0},39.131481481481487,560.6495686798055,0,39.131481481481487,0,560.6495686798055,1068.3240740740741]
["2001-03-19",0,0,0,3,0.1,7.0625000000000007E-2,39.131481481481487,{"$f":"'RWH Calculator'!$C$56","v":0},39.131481481481487,521.518087198324,0,39.131481481481487,0,521.518087198324,1107.4555555555555]
["2001-03-20",0,0,0,3,0.1,7.0625000000000007E-2,39.131481481481487,{"$f":"'RWH Calculator'!$C$56","v":0},39.131481481481487,482.3866057168425,0,39.131481481481487,0,482.3866057168425,1146.5870370370369]
["2001-03-21",0,0,0,3,0.1,7.0625000000000007E-2,39.131481481481487,{"$f":"'RWH Calculator'!$C$56","v":0},39.131481481481487,443.255124235361,0,39.131481481481487,0,443.255124235361,1185.7185185185183]
["2001-03-22",0,0,0,3,0.1,7.0625000000000007E-2,39.131481481481487,{"$f":"'RWH Calculator'!$C$56","v":0},39.131481481481487,404.12364275387949,0,39.131481481481487,0,404.12364275387949,1224.8499999999997]
["2001-03-23",0,0,0,3,0.1,7.0625000000000007E-2,39.131481481481487,{"$f":"'RWH Calculator'!$C$56","v":0},39.131481481481487,364.99216127239799,0,39.131481481481487,0,364.99216127239799,1263.9814814814811]
["2001-03-24",6.0000000000000005E-2,38.148000000000003,38.148000000000003,3,0.1,7.0625000000000007E-2,5.8870370370370395,{"$f":"'RWH Calculator'!$C$56","v":0},5.8870370370370395,397.25312423536099,38.148000000000032,5.8870370370370395,-2.8421709430404007E-14,397.25312423536099,1269.8685185185182]
["2001-03-25",0.05,31.790000000000003,31.790000000000003,3,0.1,7.0625000000000007E-2,11.427777777777781,{"$f":"'RWH Calculator'!$C$56","v":0},11.427777777777781,417.6153464575832,31.789999999999996,11.427777777777781,7.1054273576010019E-15,417.6153464575832,1281.2962962962958]
["2001-03-26",0,0,0,3,0.1,7.0625000000000007E-2,39.131481481481487,{"$f":"'RWH Calculator'!$C$56","v":0},39.131481481481487,378.4838649761017,0,39.131481481481487,0,378.4838649761017,1320.4277777777772]
["2001-03-27",0,0,0,3,0.1,7.0625000000000007E-2,39.131481481481487,{"$f":"'RWH Calculator'!$C$56","v":0},39.131481481481487,339.3523834946202,0,39.131481481481487,0,339.3523834946202,1359.5592592592586]
["2001-03-28",0,0,0,3,0.1,7.0625000000000007E-2,39.131481481481487,{"$f":"'RWH Calculator'!$C$56","v":0},39.131481481481487,300.2209020131387,0,39.131481481481487,0,300.2209020131387,1398.69074074074]
["2001-03-29",0,0,0,3,0.1,7.0625000000000007E-2,39.131481481481487,{"$f":"'RWH Calculator'!$C$56","v":0},39.131481481481487,261.0894205316572,0,39.131481481481487,0,261.0894205316572,1437.8222222222214]
["2001-03-30",0,0,0,3,0.1,7.0625000000000007E-2,39.131481481481487,{"$f":"'RWH Calculator'!$C$56","v":0},39.131481481481487,221.9579390501757,0,39.131481481481487,0,221.9579390501757,1476.9537037037028]
["2001-03-31",0,0,0,3,0.1,7.0625000000000007E-2,39.131481481481487,{"$f":"'RWH Calculator'!$C$56","v":0},39.131481481481487,182.8264575686942,0,39.131481481481487,0,182.8264575686942,1516.0851851851842]
["2001-04-01",0,0,0,4,0.13,9.1812500000000005E-2,50.870925925925924,{"$f":"'RWH Calculator'!$C$56","v":0},50.870925925925924,131.95553164276828,0,50.870925925925924,0,131.95553164276828,1566.9561111111102]
["2001-04-02",0,0,0,4,0.13,9.1812500000000005E-2,50.870925925925924,{"$f":"'RWH Calculator'!$C$56","v":0},50.870925925925924,81.084605716842361,0,50.870925925925924,0,81.084605716842361,1617.8270370370362]
["2001-04-03",0,0,0,4,0.13,9.1812500000000005E-2,50.870925925925924,{"$f":"'RWH Calculator'!$C$56","v":0},50.870925925925924,30.213679790916437,0,50.870925925925924,0,30.213679790916437,1668.6979629629623]
["2001-04-04",0,0,0,4,0.13,9.1812500000000005E-2,50.870925925925924,{"$f":"'RWH Calculator'!$C$56","v":0},50.870925925925924,0,0,30.213679790916437,0,-20.657246135009487,1698.9116427538786]
["2001-04-05",0,0,0,4,0.13,9.1812500000000005E-2,50.870925925925924,{"$f":"'RWH Calculator'!$C$56","v":0},50.870925925925924,0,0,0,0,-50.870925925925924,1698.9116427538786]
["2001-04-06",0.25,158.95000000000002,158.95000000000002,4,0.13,9.1812500000000005E-2,0,{"$f":"'RWH Calculator'!$C$56","v":0},0,158.95000000000002,158.95000000000002,0,0,158.95000000000002,1698.9116427538786]
["2001-04-07",0.26,165.30800000000002,165.30800000000002,4,0.13,9.1812500000000005E-2,0,{"$f":"'RWH Calculator'!$C$56","v":0},0,324.25800000000004,165.30800000000002,0,0,324.25800000000004,1698.9116427538786]
["2001-04-08",0,0,0,4,0.13,9.1812500000000005E-2,50.870925925925924,{"$f":"'RWH Calculator'!$C$56","v":0},50.870925925925924,273.38707407407412,0,50.870925925925924,0,273.38707407407412,1749.7825686798046]
["2001-04-09",0.28000000000000003,178.02400000000003,178.02400000000003,4,0.13,9.1812500000000005E-2,0,{"$f":"'RWH Calculator'!$C$56","v":0},0,451.41107407407412,178.024,0,2.8421709430404007E-14,451.41107407407412,1749.7825686798046]
["2001-04-10",0,0,0,4,0.13,9.1812500000000005E-2,50.870925925925924,{"$f":"'RWH Calculator'!$C$56","v":0},50.870925925925924,400.54014814814821,0,50.870925925925924,0,400.54014814814821,1800.6534946057307]
["2001-04-11",7.9999999999999988E-2,50.863999999999997,50.863999999999997,4,0.13,9.1812500000000005E-2,6.5450000000000106,{"$f":"'RWH Calculator'!$C$56","v":0},6.5450000000000106,444.85914814814817,50.863999999999969,6.5450000000000106,2.8421709430404007E-14,444.85914814814817,1807.1984946057307]
["2001-04-12",0,0,0,4,0.13,9.1812500000000005E-2,50.870925925925924,{"$f":"'RWH Calculator'!$C$56","v":0},50.870925925925924,393.98822222222225,0,50.870925925925924,0,393.98822222222225,1858.0694205316568]
["2001-04-13",0,0,0,4,0.13,9.1812500000000005E-2,50.870925925925924,{"$f":"'RWH Calculator'!$C$56","v":0},50.870925925925924,343.11729629629633,0,50.870925925925924,0,343.11729629629633,1908.9403464575828]
["2001-04-14",0,0,0,4,0.13,9.1812500000000005E-2,50.870925925925924,{"$f":"'RWH Calculator'!$C$56","v":0},50.870925925925924,292.24637037037041,0,50.870925925925924,0,292.24637037037041,1959.8112723835088]
["2001-04-15",0,0,0,4,0.13,9.1812500000000005E-2,50.870925925925924,{"$f":"'RWH Calculator'!$C$56","v":0},50.870925925925924,241.3754444444445,0,50.870925925925924,0,241.3754444444445,2010.6821983094349]
["2001-04-16",0,0,0,4,0.13,9.1812500000000005E-2,50.870925925925924,{"$f":"'RWH Calculator'!$C$56","v":0},50.870925925925924,190.50451851851858,0,50.870925925925924,0,190.50451851851858,2061.5531242353609]
["2001-04-17",0,0,0,4,0.13,9.1812500000000005E-2,50.870925925925924,{"$f":"'RWH Calculator'!$C$56","v":0},50.870925925925924,139.63359259259266,0,50.870925925925924,0,139.63359259259266,2112.4240501612867]
["2001-04-18",0.06,38.148000000000003,38.148000000000003,4,0.13,9.1812500000000005E-2,17.626481481481488,{"$f":"'RWH Calculator'!$C$56","v":0},17.626481481481488,160.15511111111118,38.14800000000001,17.626481481481488,-3.5527136788005009E-15,160.15511111111118,2130.050531642768]
["2001-04-19",0.01,6.3580000000000014,6.3580000000000014,4,0.13,9.1812500000000005E-2,45.330185185185186,{"$f":"'RWH Calculator'!$C$56","v":0},45.330185185185186,121.182925925926,6.3580000000000014,45.330185185185186,0,121.182925925926,2175.3807168279532]
["2001-04-20",0.92000000000000015,584.93600000000004,584.93600000000004,4,0.13,9.1812500000000005E-2,0,{"$f":"'RWH Calculator'!$C$56","v":0},0,706.11892592592608,584.93600000000004,0,0,706.11892592592608,2175.3807168279532]
["2001-04-21",0,0,0,4,0.13,9.1812500000000005E-2,50.870925925925924,{"$f":"'RWH Calculator'!$C$56","v":0},50.870925925925924,655.24800000000016,0,50.870925925925924,0,655.24800000000016,2226.251642753879]
["2001-04-22",0,0,0,4,0.13,9.1812500000000005E-2,50.870925925925924,{"$f":"'RWH Calculator'!$C$56","v":0},50.870925925925924,604.37707407407424,0,50.870925925925924,0,604.37707407407424,2277.1225686798048]
["2001-04-23",0,0,0,4,0.13,9.1812500000000005E-2,50.870925925925924,{"$f":"'RWH Calculator'!$C$56","v":0},50.870925925925924,553.50614814814833,0,50.870925925925924,0,553.50614814814833,2327.9934946057306]
["2001-04-24",0,0,0,4,0.13,9.1812500000000005E-2,50.870925925925924,{"$f":"'RWH Calculator'!$C$56","v":0},50.870925925925924,502.63522222222241,0,50.870925925925924,0,502.63522222222241,2378.8644205316564]
["2001-04-25",0,0,0,4,0.13,9.1812500000000005E-2,50.870925925925924,{"$f":"'RWH Calculator'!$C$56","v":0},50.870925925925924,451.76429629629649,0,50.870925925925924,0,451.76429629629649,2429.7353464575822]
["2001-04-26",0,0,0,4,0.13,9.1812500000000005E-2,50.870925925925924,{"$f":"'RWH Calculator'!$C$56","v":0},50.870925925925924,400.89337037037058,0,50.870925925925924,0,400.89337037037058,2480.606272383508]
["2001-04-27",0.01,6.3580000000000014,6.3580000000000014,4,0.13,9.1812500000000005E-2,45.330185185185186,{"$f":"'RWH Calculator'!$C$56","v":0},45.330185185185186,361.92118518518538,6.3580000000000014,45.330185185185186,0,361.92118518518538,2525.9364575686932]
["2001-04-28",0.02,12.716000000000003,12.716000000000003,4,0.13,9.1812500000000005E-2,39.789444444444442,{"$f":"'RWH Calculator'!$C$56","v":0},39.789444444444442,334.84774074074096,12.716000000000003,39.789444444444442,0,334.84774074074096,2565.7259020131378]
["2001-04-29",0,0,0,4,0.13,9.1812500000000005E-2,50.870925925925924,{"$f":"'RWH Calculator'!$C$56","v":0},50.870925925925924,283.97681481481504,0,50.870925925925924,0,283.97681481481504,2616.5968279390636]
["2001-04-30",0,0,0,4,0.13,9.1812500000000005E-2,50.870925925925924,{"$f":"'RWH Calculator'!$C$56","v":0},50.870925925925924,233.10588888888913,0,50.870925925925924,0,233.10588888888913,2667.4677538649894]
["2001-05-01",0,0,0,5,0.15000000000000002,0.10593750000000002,58.697222222222237,{"$f":"'RWH Calculator'!$C$56","v":0},58.697222222222237,174.40866666666687,0,58.697222222222237,0,174.40866666666687,2726.1649760872115]
["2001-05-02",0,0,0,5,0.15000000000000002,0.10593750000000002,58.697222222222237,{"$f":"'RWH Calculator'!$C$56","v":0},58.697222222222237,115.71144444444464,0,58.697222222222237,0,115.71144444444464,2784.8621983094336]
["2001-05-03",0,0,0,5,0.15000000000000002,0.10593750000000002,58.697222222222237,{"$f":"'RWH Calculator'!$C$56","v":0},58.697222222222237,57.014222222222401,0,58.697222222222237,0,57.014222222222401,2843.5594205316556]
["2001-05-04",0,0,0,5,0.15000000000000002,0.10593750000000002,58.697222222222237,{"$f":"'RWH Calculator'!$C$56","v":0},58.697222222222237,0,0,57.014222222222401,0,-1.6829999999998364,2900.5736427538782]
["2001-05-05",0,0,0,5,0.15000000000000002,0.10593750000000002,58.697222222222237,{"$f":"'RWH Calculator'!$C$56","v":0},58.697222222222237,0,0,0,0,-58.697222222222237,2900.5736427538782]
["2001-05-06",0,0,0,5,0.15000000000000002,0.10593750000000002,58.697222222222237,{"$f":"'RWH Calculator'!$C$56","v":0},58.697222222222237,0,0,0,0,-58.697222222222237,2900.5736427538782]
["2001-05-07",0,0,0,5,0.15000000000000002,0.10593750000000002,58.697222222222237,{"$f":"'RWH Calculator'!$C$56","v":0},58.697222222222237,0,0,0,0,-58.697222222222237,2900.5736427538782]
["2001-05-08",0,0,0,5,0.15000000000000002,0.10593750000000002,58.697222222222237,{"$f":"'RWH Calculator'!$C$56","v":0},58.697222222222237,0,0,0,0,-58.697222222222237,2900.5736427538782]
["2001-05-09",0,0,0,5,{"$f":"IF($B$2=\"Western SF\", VLOOKUP(E139,$R$6:$U$17, 4),VLOOKUP(E139, $R$6:$V$17,5))","v":0.15000000000000002},0.10593750000000002,58.697222222222237,{"$f":"'RWH Calculator'!$C$56","v":0},58.697222222222237,0,0,0,0,-58.697222222222237,2900.5736427538782]
["2001-05-10",0,0,0,{"$f":"MONTH(A140)","v":5},0.15000000000000002,{"$f":"F140*$B$6","v":0.10593750000000002},58.697222222222237,{"$f":"'RWH Calculator'!$C$56","v":0},{"$f":"H140+I140","v":58.697222222222237},0,0,0,0,-58.697222222222237,2900.5736427538782]
["2001-05-11",0,{"$f":"$B$3*$B$4*(B141/12)*7.48","v":0},{"$f":"C141","v":0},5,0.15000000000000002,0.10593750000000002,{"$f":"(IF(G141-B141>0,(G141-B141)/$B$7,0)/12*7.48)*$B$8","v":58.697222222222237},{"$f":"'RWH Calculator'!$C$56","v":0},58.697222222222237,{"$f":"IF(O141<0, 0, IF(O141>$H$2, $H$2, O141))","v":0},{"$f":"IF(J141>D141,D141, K141-K140+J141)","v":0},{"$f":"IF(D141+K140>J141,J141, D141+K140)","v":0},{"$f":"IF(C141>J141, C141-J141-(K141-K140),0)","v":0},{"$f":"K140+D141-J141","v":-58.697222222222237},{"$f":"M141+P140","v":2900.5736427538782}]
["2001-05-12",0,0,0,5,0.15000000000000002,0.10593750000000002,58.697222222222237,{"$f":"'RWH Calculator'!$C$56","v":0},58.697222222222237,0,0,0,0,-58.697222222222237,2900.5736427538782]
["2001-05-13",0,0,0,5,0.15000000000000002,0.10593750000000002,58.697222222222237,{"$f":"'RWH Calculator'!$C$56","v":0},58.697222222222237,0,0,0,0,-58.697222222222237,2900.5736427538782]
["2001-05-14",0,0,0,5,0.15000000000000002,0.10593750000000002,58.697222222222237,{"$f":"'RWH Calculator'!$C$56","v":0},58.697222222222237,0,0,0,0,-58.697222222222237,2900.5736427538782]
["2001-05-15",0,0,0,5,0.15000000000000002,0.10593750000000002,58.697222222222237,{"$f":"'RWH Calculator'!$C$56","v":0},58.697222222222237,0,0,0,0,-58.697222222222237,2900.5736427538782]
["2001-05-16",0,0,0,5,0.15000000000000002,0.10593750000000002,58.697222222222237,{"$f":"'RWH Calculator'!$C$56","v":0},58.697222222222237,0,0,0,0,-58.697222222222237,2900.5736427538782]
["2001-05-17",0,0,0,5,0.15000000000000002,0.10593750000000002,58.697222222222237,{"$f":"'RWH Calculator'!$C$56","v":0},58.697222222222237,0,0,0,0,-58.697222222222237,2900.5736427538782]
["2001-05-18",0,0,0,5,0.15000000000000002,0.10593750000000002,58.697222222222237,{"$f":"'RWH Calculator'!$C$56","v":0},58.697222222222237,0,0,0,0,-58.697222222222237,2900.5736427538782]
["2001-05-19",0,0,0,5,0.15000000000000002,0.10593750000000002,58.697222222222237,{"$f":"'RWH Calculator'!$C$56","v":0},58.697222222222237,0,0,0,0,-58.697222222222237,2900.5736427538782]
["2001-05-20",0,0,0,5,0.15000000000000002,0.10593750000000002,58.697222222222237,{"$f":"'RWH Calculator'!$C$56","v":0},58.697222222222237,0,0,0,0,-58.697222222222237,2900.5736427538782]
["2001-05-21",0,0,0,5,0.15000000000000002,0.10593750000000002,58.697222222222237,{"$f":"'RWH Calculator'!$C$56","v":0},58.697222222222237,0,0,0,0,-58.697222222222237,2900.5736427538782]
["2001-05-22",0,0,0,5,0.15000000000000002,0.10593750000000002,58.697222222222237,{"$f":"'RWH Calculator'!$C$56","v":0},58.697222222222237,0,0,0,0,-58.697222222222237,2900.5736427538782]
["2001-05-23",0,0,0,5,0.15000000000000002,0.10593750000000002,58.697222222222237,{"$f":"'RWH Calculator'!$C$56","v":0},58.697222222222237,0,0,0,0,-58.697222222222237,2900.5736427538782]
["2001-05-24",0,0,0,5,0.15000000000000002,0.10593750000000002,58.697222222222237,{"$f":"'RWH Calculator'!$C$56","v":0},58.697222222222237,0,0,0,0,-58.697222222222237,2900.5736427538782]
["2001-05-25",0,0,0,5,0.15000000000000002,0.10593750000000002,58.697222222222237,{"$f":"'RWH Calculator'!$C$56","v":0},58.697222222222237,0,0,0,0,-58.697222222222237,2900.5736427538782]
["2001-05-26",0,0,0,5,0.15000000000000002,0.10593750000000002,58.697222222222237,{"$f":"'RWH Calculator'!$C$56","v":0},58.697222222222237,0,0,0,0,-58.697222222222237,2900.5736427538782]
["2001-05-27",0,0,0,5,0.15000000000000002,0.10593750000000002,58.697222222222237,{"$f":"'RWH Calculator'!$C$56","v":0},58.697222222222237,0,0,0,0,-58.697222222222237,2900.5736427538782]
["2001-05-28",0,0,0,5,0.15000000000000002,0.10593750000000002,58.697222222222237,{"$f":"'RWH Calculator'!$C$56","v":0},58.697222222222237,0,0,0,0,-58.697222222222237,2900.5736427538782]
["2001-05-29",0,0,0,5,0.15000000000000002,0.10593750000000002,58.697222222222237,{"$f":"'RWH Calculator'!$C$56","v":0},58.697222222222237,0,0,0,0,-58.697222222222237,2900.5736427538782]
["2001-05-30",0,0,0,5,0.15000000000000002,0.10593750000000002,58.697222222222237,{"$f":"'RWH Calculator'!$C$56","v":0},58.697222222222237,0,0,0,0,-58.697222222222237,2900.5736427538782]
["2001-05-31",0,0,0,5,0.15000000000000002,0.10593750000000002,58.697222222222237,{"$f":"'RWH Calculator'!$C$56","v":0},58.697222222222237,0,0,0,0,-58.697222222222237,2900.5736427538782]
["2001-06-01",0,0,0,6,0.16999999999999998,0.1200625,66.523518518518514,{"$f":"'RWH Calculator'!$C$56","v":0},66.523518518518514,0,0,0,0,-66.523518518518514,2900.5736427538782]
["2001-06-02",0,0,0,6,0.16999999999999998,0.1200625,66.523518518518514,{"$f":"'RWH Calculator'!$C$56","v":0},66.523518518518514,0,0,0,0,-66.523518518518514,2900.5736427538782]
["2001-06-03",0,0,0,6,0.16999999999999998,0.1200625,66.523518518518514,{"$f":"'RWH Calculator'!$C$56","v":0},66.523518518518514,0,0,0,0,-66.523518518518514,2900.5736427538782]
["2001-06-04",0,0,0,6,0.16999999999999998,0.1200625,66.523518518518514,{"$f":"'RWH Calculator'!$C$56","v":0},66.523518518518514,0,0,0,0,-66.523518518518514,2900.5736427538782]
["2001-06-05",0,0,0,6,0.16999999999999998,0.1200625,66.523518518518514,{"$f":"'RWH Calculator'!$C$56","v":0},66.523518518518514,0,0,0,0,-66.523518518518514,2900.5736427538782]
["2001-06-06",0,0,0,6,0.16999999999999998,0.1200625,66.523518518518514,{"$f":"'RWH Calculator'!$C$56","v":0},66.523518518518514,0,0,0,0,-66.523518518518514,2900.5736427538782]
["2001-06-07",0,0,0,6,0.16999999999999998,0.1200625,66.523518518518514,{"$f":"'RWH Calculator'!$C$56","v":0},66.523518518518514,0,0,0,0,-66.523518518518514,2900.5736427538782]
["2001-06-08",0,0,0,6,0.16999999999999998,0.1200625,66.523518518518514,{"$f":"'RWH Calculator'!$C$56","v":0},66.523518518518514,0,0,0,0,-66.523518518518514,2900.5736427538782]
["2001-06-09",0,0,0,6,0.16999999999999998,0.1200625,66.523518518518514,{"$f":"'RWH Calculator'!$C$56","v":0},66.523518518518514,0,0,0,0,-66.523518518518514,2900.5736427538782]
["2001-06-10",0,0,0,6,0.16999999999999998,0.1200625,66.523518518518514,{"$f":"'RWH Calculator'!$C$56","v":0},66.523518518518514,0,0,0,0,-66.523518518518514,2900.5736427538782]
["2001-06-11",0,0,0,6,0.16999999999999998,0.1200625,66.523518518518514,{"$f":"'RWH Calculator'!$C$56","v":0},66.523518518518514,0,0,0,0,-66.523518518518514,2900.5736427538782]
["2001-06-12",0,0,0,6,0.16999999999999998,0.1200625,66.523518518518514,{"$f":"'RWH Calculator'!$C$56","v":0},66.523518518518514,0,0,0,0,-66.523518518518514,2900.5736427538782]
["2001-06-13",0,0,0,6,0.16999999999999998,0.1200625,66.523518518518514,{"$f":"'RWH Calculator'!$C$56","v":0},66.523518518518514,0,0,0,0,-66.523518518518514,2900.5736427538782]
["2001-06-14",0,0,0,6,0.16999999999999998,0.1200625,66.523518518518514,{"$f":"'RWH Calculator'!$C$56","v":0},66.523518518518514,0,0,0,0,-66.523518518518514,2900.5736427538782]
["2001-06-15",0,0,0,6,0.16999999999999998,0.1200625,66.523518518518514,{"$f":"'RWH Calculator'!$C$56","v":0},66.523518518518514,0,0,0,0,-66.523518518518514,2900.5736427538782]
["2001-06-16",0,0,0,6,0.16999999999999998,0.1200625,66.523518518518514,{"$f":"'RWH Calculator'!$C$56","v":0},66.523518518518514,0,0,0,0,-66.523518518518514,2900.5736427538782]
["2001-06-17",0,0,0,6,0.16999999999999998,0.1200625,66.523518518518514,{"$f":"'RWH Calculator'!$C$56","v":0},66.523518518518514,0,0,0,0,-66.523518518518514,2900.5736427538782]
["2001-06-18",0,0,0,6,0.16999999999999998,0.1200625,66.523518518518514,{"$f":"'RWH Calculator'!$C$56","v":0},66.523518518518514,0,0,0,0,-66.523518518518514,2900.5736427538782]
["2001-06-19",0,0,0,6,0.16999999999999998,0.1200625,66.523518518518514,{"$f":"'RWH Calculator'!$C$56","v":0},66.523518518518514,0,0,0,0,-66.523518518518514,2900.5736427538782]
["2001-06-20",0,0,0,6,0.16999999999999998,0.1200625,66.523518518518514,{"$f":"'RWH Calculator'!$C$56","v":0},66.523518518518514,0,0,0,0,-66.523518518518514,2900.5736427538782]
["2001-06-21",0,0,0,6,0.16999999999999998,0.1200625,66.523518518518514,{"$f":"'RWH Calculator'!$C$56","v":0},66.523518518518514,0,0,0,0,-66.523518518518514,2900.5736427538782]
["2001-06-22",0,0,0,6,0.16999999999999998,0.1200625,66.523518518518514,{"$f":"'RWH Calculator'!$C$56","v":0},66.523518518518514,0,0,0,0,-66.523518518518514,2900.5736427538782]
["2001-06-23",0,0,0,6,0.16999999999999998,0.1200625,66.523518518518514,{"$f":"'RWH Calculator'!$C$56","v":0},66.523518518518514,0,0,0,0,-66.523518518518514,2900.5736427538782]
["2001-06-24",0,0,0,6,0.16999999999999998,0.1200625,66.523518518518514,{"$f":"'RWH Calculator'!$C$56","v":0},66.523518518518514,0,0,0,0,-66.523518518518514,2900.5736427538782]
["2001-06-25",0.15,95.36999999999999,95.36999999999999,6,0.16999999999999998,0.1200625,0,{"$f":"'RWH Calculator'!$C$56","v":0},0,95.36999999999999,95.36999999999999,0,0,95.36999999999999,2900.5736427538782]
["2001-06-26",0,0,0,6,0.16999999999999998,0.1200625,66.523518518518514,{"$f":"'RWH Calculator'!$C$56","v":0},66.523518518518514,28.846481481481476,0,66.523518518518514,0,28.846481481481476,2967.0971612723965]
["2001-06-27",0,0,0,6,0.16999999999999998,0.1200625,66.523518518518514,{"$f":"'RWH Calculator'!$C$56","v":0},66.523518518518514,0,0,28.846481481481476,0,-37.677037037037039,2995.9436427538781]
["2001-06-28",0,0,0,6,0.16999999999999998,0.1200625,66.523518518518514,{"$f":"'RWH Calculator'!$C$56","v":0},66.523518518518514,0,0,0,0,-66.523518518518514,2995.9436427538781]
["2001-06-29",0,0,0,6,0.16999999999999998,0.1200625,66.523518518518514,{"$f":"'RWH Calculator'!$C$56","v":0},66.523518518518514,0,0,0,0,-66.523518518518514,2995.9436427538781]
["2001-06-30",0,0,0,6,0.16999999999999998,0.1200625,66.523518518518514,{"$f":"'RWH Calculator'!$C$56","v":0},66.523518518518514,0,0,0,0,-66.523518518518514,2995.9436427538781]
["2001-07-01",0,0,0,7,0.16,0.113,62.610370370370383,{"$f":"'RWH Calculator'!$C$56","v":0},62.610370370370383,0,0,0,0,-62.610370370370383,2995.9436427538781]
["2001-07-02",0,0,0,7,0.16,0.113,62.610370370370383,{"$f":"'RWH Calculator'!$C$56","v":0},62.610370370370383,0,0,0,0,-62.610370370370383,2995.9436427538781]
["2001-07-03",0,0,0,7,0.16,0.113,62.610370370370383,{"$f":"'RWH Calculator'!$C$56","v":0},62.610370370370383,0,0,0,0,-62.610370370370383,2995.9436427538781]
["2001-07-04",0,0,0,7,0.16,0.113,62.610370370370383,{"$f":"'RWH Calculator'!$C$56","v":0},62.610370370370383,0,0,0,0,-62.610370370370383,2995.9436427538781]
["2001-07-05",0,0,0,7,0.16,0.113,62.610370370370383,{"$f":"'RWH Calculator'!$C$56","v":0},62.610370370370383,0,0,0,0,-62.610370370370383,2995.9436427538781]
["2001-07-06",0,0,0,7,0.16,0.113,62.610370370370383,{"$f":"'RWH Calculator'!$C$56","v":0},62.610370370370383,0,0,0,0,-62.610370370370383,2995.9436427538781]
["2001-07-07",0,0,0,7,0.16,0.113,62.610370370370383,{"$f":"'RWH Calculator'!$C$56","v":0},62.610370370370383,0,0,0,0,-62.610370370370383,2995.9436427538781]
["2001-07-08",0,0,0,7,0.16,0.113,62.610370370370383,{"$f":"'RWH Calculator'!$C$56","v":0},62.610370370370383,0,0,0,0,-62.610370370370383,2995.9436427538781]
["2001-07-09",0,0,0,7,0.16,0.113,62.610370370370383,{"$f":"'RWH Calculator'!$C$56","v":0},62.610370370370383,0,0,0,0,-62.610370370370383,2995.9436427538781]
["2001-07-10",0,0,0,7,0.16,0.113,62.610370370370383,{"$f":"'RWH Calculator'!$C$56","v":0},62.610370370370383,0,0,0,0,-62.610370370370383,2995.9436427538781]
["2001-07-11",0,0,0,7,0.16,0.113,62.610370370370383,{"$f":"'RWH Calculator'!$C$56","v":0},62.610370370370383,0,0,0,0,-62.610370370370383,2995.9436427538781]
["2001-07-12",0,0,0,7,{"$f":"IF($B$2=\"Western SF\", VLOOKUP(E203,$R$6:$U$17, 4),VLOOKUP(E203, $R$6:$V$17,5))","v":0.16},0.113,62.610370370370383,{"$f":"'RWH Calculator'!$C$56","v":0},62.610370370370383,0,0,0,0,-62.610370370370383,2995.9436427538781]
["2001-07-13",0,0,0,{"$f":"MONTH(A204)","v":7},0.16,{"$f":"F204*$B$6","v":0.113},62.610370370370383,{"$f":"'RWH Calculator'!$C$56","v":0},{"$f":"H204+I204","v":62.610370370370383},0,0,0,0,-62.610370370370383,2995.9436427538781]
["2001-07-14",0,{"$f":"$B$3*$B$4*(B205/12)*7.48","v":0},{"$f":"C205","v":0},7,0.16,0.113,{"$f":"(IF(G205-B205>0,(G205-B205)/$B$7,0)/12*7.48)*$B$8","v":62.610370370370383},{"$f":"'RWH Calculator'!$C$56","v":0},62.610370370370383,{"$f":"IF(O205<0, 0, IF(O205>$H$2, $H$2, O205))","v":0},{"$f":"IF(J205>D205,D205, K205-K204+J205)","v":0},{"$f":"IF(D205+K204>J205,J205, D205+K204)","v":0},{"$f":"IF(C205>J205, C205-J205-(K205-K204),0)","v":0},{"$f":"K204+D205-J205","v":-62.610370370370383},{"$f":"M205+P204","v":2995.9436427538781}]
["2001-07-15",0,0,0,7,0.16,0.113,62.610370370370383,{"$f":"'RWH Calculator'!$C$56","v":0},62.610370370370383,0,0,0,0,-62.610370370370383,2995.9436427538781]
["2001-07-16",0,0,0,7,0.16,0.113,62.610370370370383,{"$f":"'RWH Calculator'!$C$56","v":0},62.610370370370383,0,0,0,0,-62.610370370370383,2995.9436427538781]
["2001-07-17",0,0,0,7,0.16,0.113,62.610370370370383,{"$f":"'RWH Calculator'!$C$56","v":0},62.610370370370383,0,0,0,0,-62.610370370370383,2995.9436427538781]
["2001-07-18",0,0,0,7,0.16,0.113,62.610370370370383,{"$f":"'RWH Calculator'!$C$56","v":0},62.610370370370383,0,0,0,0,-62.610370370370383,2995.9436427538781]
["2001-07-19",0,0,0,7,0.16,0.113,62.610370370370383,{"$f":"'RWH Calculator'!$C$56","v":0},62.610370370370383,0,0,0,0,-62.610370370370383,2995.9436427538781]
["2001-07-20",0,0,0,7,0.16,0.113,62.610370370370383,{"$f":"'RWH Calculator'!$C$56","v":0},62.610370370370383,0,0,0,0,-62.610370370370383,2995.9436427538781]
["2001-07-21",0,0,0,7,0.16,0.113,62.610370370370383,{"$f":"'RWH Calculator'!$C$56","v":0},62.610370370370383,0,0,0,0,-62.610370370370383,2995.9436427538781]
["2001-07-22",0,0,0,7,0.16,0.113,62.610370370370383,{"$f":"'RWH Calculator'!$C$56","v":0},62.610370370370383,0,0,0,0,-62.610370370370383,2995.9436427538781]
["2001-07-23",0,0,0,7,0.16,0.113,62.610370370370383,{"$f":"'RWH Calculator'!$C$56","v":0},62.610370370370383,0,0,0,0,-62.610370370370383,2995.9436427538781]
["2001-07-24",0,0,0,7,0.16,0.113,62.610370370370383,{"$f":"'RWH Calculator'!$C$56","v":0},62.610370370370383,0,0,0,0,-62.610370370370383,2995.9436427538781]
["2001-07-25",0,0,0,7,0.16,0.113,62.610370370370383,{"$f":"'RWH Calculator'!$C$56","v":0},62.610370370370383,0,0,0,0,-62.610370370370383,2995.9436427538781]
["2001-07-26",0,0,0,7,0.16,0.113,62.610370370370383,{"$f":"'RWH Calculator'!$C$56","v":0},62.610370370370383,0,0,0,0,-62.610370370370383,2995.9436427538781]
["2001-07-27",0,0,0,7,0.16,0.113,62.610370370370383,{"$f":"'RWH Calculator'!$C$56","v":0},62.610370370370383,0,0,0,0,-62.610370370370383,2995.9436427538781]
["2001-07-28",0,0,0,7,0.16,0.113,62.610370370370383,{"$f":"'RWH Calculator'!$C$56","v":0},62.610370370370383,0,0,0,0,-62.610370370370383,2995.9436427538781]
["2001-07-29",0,0,0,7,0.16,0.113,62.610370370370383,{"$f":"'RWH Calculator'!$C$56","v":0},62.610370370370383,0,0,0,0,-62.610370370370383,2995.9436427538781]
["2001-07-30",0.01,6.3580000000000014,6.3580000000000014,7,0.16,0.113,57.069629629629624,{"$f":"'RWH Calculator'!$C$56","v":0},57.069629629629624,0,6.3580000000000014,6.3580000000000014,0,-50.71162962962962,3002.3016427538782]
["2001-07-31",0,0,0,7,0.16,0.113,62.610370370370383,{"$f":"'RWH Calculator'!$C$56","v":0},62.610370370370383,0,0,0,0,-62.610370370370383,3002.3016427538782]
["2001-08-01",0,0,0,8,0.15000000000000002,0.10593750000000002,58.697222222222237,{"$f":"'RWH Calculator'!$C$56","v":0},58.697222222222237,0,0,0,0,-58.697222222222237,3002.3016427538782]
["2001-08-02",0,0,0,8,0.15000000000000002,0.10593750000000002,58.697222222222237,{"$f":"'RWH Calculator'!$C$56","v":0},58.697222222222237,0,0,0,0,-58.697222222222237,3002.3016427538782]
["2001-08-03",0,0,0,8,0.15000000000000002,0.10593750000000002,58.697222222222237,{"$f":"'RWH Calculator'!$C$56","v":0},58.697222222222237,0,0,0,0,-58.697222222222237,3002.3016427538782]
["2001-08-04",0.03,19.074000000000002,19.074000000000002,8,0.15000000000000002,0.10593750000000002,42.07500000000001,{"$f":"'RWH Calculator'!$C$56","v":0},42.07500000000001,0,19.074000000000002,19.074000000000002,0,-23.001000000000008,3021.3756427538783]
["2001-08-05",0,0,0,8,0.15000000000000002,0.10593750000000002,58.697222222222237,{"$f":"'RWH Calculator'!$C$56","v":0},58.697222222222237,0,0,0,0,-58.697222222222237,3021.3756427538783]
["2001-08-06",0,0,0,8,0.15000000000000002,0.10593750000000002,58.697222222222237,{"$f":"'RWH Calculator'!$C$56","v":0},58.697222222222237,0,0,0,0,-58.697222222222237,3021.3756427538783]
["2001-08-07",0,0,0,8,0.15000000000000002,0.10593750000000002,58.697222222222237,{"$f":"'RWH Calculator'!$C$56","v":0},58.697222222222237,0,0,0,0,-58.697222222222237,3021.3756427538783]
["2001-08-08",0,0,0,8,0.15000000000000002,0.10593750000000002,58.697222222222237,{"$f":"'RWH Calculator'!$C$56","v":0},58.697222222222237,0,0,0,0,-58.697222222222237,3021.3756427538783]
["2001-08-09",0,0,0,8,0.15000000000000002,0.10593750000000002,58.697222222222237,{"$f":"'RWH Calculator'!$C$56","v":0},58.697222222222237,0,0,0,0,-58.697222222222237,3021.3756427538783]
["2001-08-10",0,0,0,8,0.15000000000000002,0.10593750000000002,58.697222222222237,{"$f":"'RWH Calculator'!$C$56","v":0},58.697222222222237,0,0,0,0,-58.697222222222237,3021.3756427538783]
["2001-08-11",0,0,0,8,0.15000000000000002,0.10593750000000002,58.697222222222237,{"$f":"'RWH Calculator'!$C$56","v":0},58.697222222222237,0,0,0,0,-58.697222222222237,3021.3756427538783]
["2001-08-12",0,0,0,8,0.15000000000000002,0.10593750000000002,58.697222222222237,{"$f":"'RWH Calculator'!$C$56","v":0},58.697222222222237,0,0,0,0,-58.697222222222237,3021.3756427538783]
["2001-08-13",0,0,0,8,0.15000000000000002,0.10593750000000002,58.697222222222237,{"$f":"'RWH Calculator'!$C$56","v":0},58.697222222222237,0,0,0,0,-58.697222222222237,3021.3756427538783]
["2001-08-14",0,0,0,8,0.15000000000000002,0.10593750000000002,58.697222222222237,{"$f":"'RWH Calculator'!$C$56","v":0},58.697222222222237,0,0,0,0,-58.697222222222237,3021.3756427538783]
["2001-08-15",0,0,0,8,0.15000000000000002,0.10593750000000002,58.697222222222237,{"$f":"'RWH Calculator'!$C$56","v":0},58.697222222222237,0,0,0,0,-58.697222222222237,3021.3756427538783]
["2001-08-16",0,0,0,8,0.15000000000000002,0.10593750000000002,58.697222222222237,{"$f":"'RWH Calculator'!$C$56","v":0},58.697222222222237,0,0,0,0,-58.697222222222237,3021.3756427538783]
["2001-08-17",0,0,0,8,0.15000000000000002,0.10593750000000002,58.697222222222237,{"$f":"'RWH Calculator'!$C$56","v":0},58.697222222222237,0,0,0,0,-58.697222222222237,3021.3756427538783]
["2001-08-18",0,0,0,8,0.15000000000000002,0.10593750000000002,58.697222222222237,{"$f":"'RWH Calculator'!$C$56","v":0},58.697222222222237,0,0,0,0,-58.697222222222237,3021.3756427538783]
["2001-08-19",0,0,0,8,0.15000000000000002,0.10593750000000002,58.697222222222237,{"$f":"'RWH Calculator'!$C$56","v":0},58.697222222222237,0,0,0,0,-58.697222222222237,3021.3756427538783]
["2001-08-20",0,0,0,8,0.15000000000000002,0.10593750000000002,58.697222222222237,{"$f":"'RWH Calculator'!$C$56","v":0},58.697222222222237,0,0,0,0,-58.697222222222237,3021.3756427538783]
["2001-08-21",0,0,0,8,0.15000000000000002,0.10593750000000002,58.697222222222237,{"$f":"'RWH Calculator'!$C$56","v":0},58.697222222222237,0,0,0,0,-58.697222222222237,3021.3756427538783]
["2001-08-22",0,0,0,8,0.15000000000000002,0.10593750000000002,58.697222222222237,{"$f":"'RWH Calculator'!$C$56","v":0},58.697222222222237,0,0,0,0,-58.697222222222237,3021.3756427538783]
["2001-08-23",0,0,0,8,0.15000000000000002,0.10593750000000002,58.697222222222237,{"$f":"'RWH Calculator'!$C$56","v":0},58.697222222222237,0,0,0,0,-58.697222222222237,3021.3756427538783]
["2001-08-24",0,0,0,8,0.15000000000000002,0.10593750000000002,58.697222222222237,{"$f":"'RWH Calculator'!$C$56","v":0},58.697222222222237,0,0,0,0,-58.697222222222237,3021.3756427538783]
["2001-08-25",0,0,0,8,0.15000000000000002,0.10593750000000002,58.697222222222237,{"$f":"'RWH Calculator'!$C$56","v":0},58.697222222222237,0,0,0,0,-58.697222222222237,3021.3756427538783]
["2001-08-26",0,0,0,8,0.15000000000000002,0.10593750000000002,58.697222222222237,{"$f":"'RWH Calculator'!$C$56","v":0},58.697222222222237,0,0,0,0,-58.697222222222237,3021.3756427538783]
["2001-08-27",0,0,0,8,0.15000000000000002,0.10593750000000002,58.697222222222237,{"$f":"'RWH Calculator'!$C$56","v":0},58.697222222222237,0,0,0,0,-58.697222222222237,3021.3756427538783]
["2001-08-28",0,0,0,8,0.15000000000000002,0.10593750000000002,58.697222222222237,{"$f":"'RWH Calculator'!$C$56","v":0},58.697222222222237,0,0,0,0,-58.697222222222237,3021.3756427538783]
["2001-08-29",0,0,0,8,0.15000000000000002,0.10593750000000002,58.697222222222237,{"$f":"'RWH Calculator'!$C$56","v":0},58.697222222222237,0,0,0,0,-58.697222222222237,3021.3756427538783]
["2001-08-30",0,0,0,8,0.15000000000000002,0.10593750000000002,58.697222222222237,{"$f":"'RWH Calculator'!$C$56","v":0},58.697222222222237,0,0,0,0,-58.697222222222237,3021.3756427538783]
["2001-08-31",0,0,0,8,0.15000000000000002,0.10593750000000002,58.697222222222237,{"$f":"'RWH Calculator'!$C$56","v":0},58.697222222222237,0,0,0,0,-58.697222222222237,3021.3756427538783]
["2001-09-01",0,0,0,9,0.13,9.1812500000000005E-2,50.870925925925924,{"$f":"'RWH Calculator'!$C$56","v":0},50.870925925925924,0,0,0,0,-50.870925925925924,3021.3756427538783]
["2001-09-02",0,0,0,9,0.13,9.1812500000000005E-2,50.870925925925924,{"$f":"'RWH Calculator'!$C$56","v":0},50.870925925925924,0,0,0,0,-50.870925925925924,3021.3756427538783]
["2001-09-03",0,0,0,9,0.13,9.1812500000000005E-2,50.870925925925924,{"$f":"'RWH Calculator'!$C$56","v":0},50.870925925925924,0,0,0,0,-50.870925925925924,3021.3756427538783]
["2001-09-04",0,0,0,9,0.13,9.1812500000000005E-2,50.870925925925924,{"$f":"'RWH Calculator'!$C$56","v":0},50.870925925925924,0,0,0,0,-50.870925925925924,3021.3756427538783]
["2001-09-05",0,0,0,9,0.13,9.1812500000000005E-2,50.870925925925924,{"$f":"'RWH Calculator'!$C$56","v":0},50.870925925925924,0,0,0,0,-50.870925925925924,3021.3756427538783]
["2001-09-06",0,0,0,9,0.13,9.1812500000000005E-2,50.870925925925924,{"$f":"'RWH Calculator'!$C$56","v":0},50.870925925925924,0,0,0,0,-50.870925925925924,3021.3756427538783]
["2001-09-07",0,0,0,9,0.13,9.1812500000000005E-2,50.870925925925924,{"$f":"'RWH Calculator'!$C$56","v":0},50.870925925925924,0,0,0,0,-50.870925925925924,3021.3756427538783]
["2001-09-08",0,0,0,9,0.13,9.1812500000000005E-2,50.870925925925924,{"$f":"'RWH Calculator'!$C$56","v":0},50.870925925925924,0,0,0,0,-50.870925925925924,3021.3756427538783]
["2001-09-09",0,0,0,9,0.13,9.1812500000000005E-2,50.870925925925924,{"$f":"'RWH Calculator'!$C$56","v":0},50.870925925925924,0,0,0,0,-50.870925925925924,3021.3756427538783]
["2001-09-10",0,0,0,9,0.13,9.1812500000000005E-2,50.870925925925924,{"$f":"'RWH Calculator'!$C$56","v":0},50.870925925925924,0,0,0,0,-50.870925925925924,3021.3756427538783]
["2001-09-11",0,0,0,9,0.13,9.1812500000000005E-2,50.870925925925924,{"$f":"'RWH Calculator'!$C$56","v":0},50.870925925925924,0,0,0,0,-50.870925925925924,3021.3756427538783]
["2001-09-12",0,0,0,9,0.13,9.1812500000000005E-2,50.870925925925924,{"$f":"'RWH Calculator'!$C$56","v":0},50.870925925925924,0,0,0,0,-50.870925925925924,3021.3756427538783]
["2001-09-13",0,0,0,9,0.13,9.1812500000000005E-2,50.870925925925924,{"$f":"'RWH Calculator'!$C$56","v":0},50.870925925925924,0,0,0,0,-50.870925925925924,3021.3756427538783]
["2001-09-14",0,0,0,9,{"$f":"IF($B$2=\"Western SF\", VLOOKUP(E267,$R$6:$U$17, 4),VLOOKUP(E267, $R$6:$V$17,5))","v":0.13},9.1812500000000005E-2,50.870925925925924,{"$f":"'RWH Calculator'!$C$56","v":0},50.870925925925924,0,0,0,0,-50.870925925925924,3021.3756427538783]
["2001-09-15",0,0,0,{"$f":"MONTH(A268)","v":9},0.13,{"$f":"F268*$B$6","v":9.1812500000000005E-2},50.870925925925924,{"$f":"'RWH Calculator'!$C$56","v":0},{"$f":"H268+I268","v":50.870925925925924},0,0,0,0,-50.870925925925924,3021.3756427538783]
["2001-09-16",0,{"$f":"$B$3*$B$4*(B269/12)*7.48","v":0},{"$f":"C269","v":0},9,0.13,9.1812500000000005E-2,{"$f":"(IF(G269-B269>0,(G269-B269)/$B$7,0)/12*7.48)*$B$8","v":50.870925925925924},{"$f":"'RWH Calculator'!$C$56","v":0},50.870925925925924,{"$f":"IF(O269<0, 0, IF(O269>$H$2, $H$2, O269))","v":0},{"$f":"IF(J269>D269,D269, K269-K268+J269)","v":0},{"$f":"IF(D269+K268>J269,J269, D269+K268)","v":0},{"$f":"IF(C269>J269, C269-J269-(K269-K268),0)","v":0},{"$f":"K268+D269-J269","v":-50.870925925925924},{"$f":"M269+P268","v":3021.3756427538783}]
["2001-09-17",0.01,6.3580000000000014,6.3580000000000014,9,0.13,9.1812500000000005E-2,45.330185185185186,{"$f":"'RWH Calculator'!$C$56","v":0},45.330185185185186,0,6.3580000000000014,6.3580000000000014,0,-38.972185185185182,3027.7336427538785]
["2001-09-18",0,0,0,9,0.13,9.1812500000000005E-2,50.870925925925924,{"$f":"'RWH Calculator'!$C$56","v":0},50.870925925925924,0,0,0,0,-50.870925925925924,3027.7336427538785]
["2001-09-19",0,0,0,9,0.13,9.1812500000000005E-2,50.870925925925924,{"$f":"'RWH Calculator'!$C$56","v":0},50.870925925925924,0,0,0,0,-50.870925925925924,3027.7336427538785]
["2001-09-20",0,0,0,9,0.13,9.1812500000000005E-2,50.870925925925924,{"$f":"'RWH Calculator'!$C$56","v":0},50.870925925925924,0,0,0,0,-50.870925925925924,3027.7336427538785]
["2001-09-21",0,0,0,9,0.13,9.1812500000000005E-2,50.870925925925924,{"$f":"'RWH Calculator'!$C$56","v":0},50.870925925925924,0,0,0,0,-50.870925925925924,3027.7336427538785]
["2001-09-22",0,0,0,9,0.13,9.1812500000000005E-2,50.870925925925924,{"$f":"'RWH Calculator'!$C$56","v":0},50.870925925925924,0,0,0,0,-50.870925925925924,3027.7336427538785]
["2001-09-23",0,0,0,9,0.13,9.1812500000000005E-2,50.870925925925924,{"$f":"'RWH Calculator'!$C$56","v":0},50.870925925925924,0,0,0,0,-50.870925925925924,3027.7336427538785]
["2001-09-24",0.16000000000000003,101.72800000000002,101.72800000000002,9,0.13,9.1812500000000005E-2,0,{"$f":"'RWH Calculator'!$C$56","v":0},0,101.72800000000002,101.72800000000002,0,0,101.72800000000002,3027.7336427538785]
["2001-09-25",0.01,6.3580000000000014,6.3580000000000014,9,0.13,9.1812500000000005E-2,45.330185185185186,{"$f":"'RWH Calculator'!$C$56","v":0},45.330185185185186,62.75581481481484,6.3580000000000014,45.330185185185186,0,62.75581481481484,3073.0638279390637]
["2001-09-26",0,0,0,9,0.13,9.1812500000000005E-2,50.870925925925924,{"$f":"'RWH Calculator'!$C$56","v":0},50.870925925925924,11.884888888888916,0,50.870925925925924,0,11.884888888888916,3123.9347538649895]
["2001-09-27",0,0,0,9,0.13,9.1812500000000005E-2,50.870925925925924,{"$f":"'RWH Calculator'!$C$56","v":0},50.870925925925924,0,0,11.884888888888916,0,-38.986037037037008,3135.8196427538783]
["2001-09-28",0,0,0,9,0.13,9.1812500000000005E-2,50.870925925925924,{"$f":"'RWH Calculator'!$C$56","v":0},50.870925925925924,0,0,0,0,-50.870925925925924,3135.8196427538783]
["2001-09-29",0,0,0,9,0.13,9.1812500000000005E-2,50.870925925925924,{"$f":"'RWH Calculator'!$C$56","v":0},50.870925925925924,0,0,0,0,-50.870925925925924,3135.8196427538783]
["2001-09-30",0,0,0,9,0.13,9.1812500000000005E-2,50.870925925925924,{"$f":"'RWH Calculator'!$C$56","v":0},50.870925925925924,0,0,0,0,-50.870925925925924,3135.8196427538783]
["2001-10-01",0,0,0,10,0.09,6.3562500000000008E-2,35.218333333333341,{"$f":"'RWH Calculator'!$C$56","v":0},35.218333333333341,0,0,0,0,-35.218333333333341,3135.8196427538783]
["2001-10-02",0,0,0,10,0.09,6.3562500000000008E-2,35.218333333333341,{"$f":"'RWH Calculator'!$C$56","v":0},35.218333333333341,0,0,0,0,-35.218333333333341,3135.8196427538783]
["2001-10-03",0,0,0,10,0.09,6.3562500000000008E-2,35.218333333333341,{"$f":"'RWH Calculator'!$C$56","v":0},35.218333333333341,0,0,0,0,-35.218333333333341,3135.8196427538783]
["2001-10-04",0,0,0,10,0.09,6.3562500000000008E-2,35.218333333333341,{"$f":"'RWH Calculator'!$C$56","v":0},35.218333333333341,0,0,0,0,-35.218333333333341,3135.8196427538783]
["2001-10-05",0,0,0,10,0.09,6.3562500000000008E-2,35.218333333333341,{"$f":"'RWH Calculator'!$C$56","v":0},35.218333333333341,0,0,0,0,-35.218333333333341,3135.8196427538783]
["2001-10-06",0,0,0,10,0.09,6.3562500000000008E-2,35.218333333333341,{"$f":"'RWH Calculator'!$C$56","v":0},35.218333333333341,0,0,0,0,-35.218333333333341,3135.8196427538783]
["2001-10-07",0,0,0,10,0.09,6.3562500000000008E-2,35.218333333333341,{"$f":"'RWH Calculator'!$C$56","v":0},35.218333333333341,0,0,0,0,-35.218333333333341,3135.8196427538783]
["2001-10-08",0,0,0,10,0.09,6.3562500000000008E-2,35.218333333333341,{"$f":"'RWH Calculator'!$C$56","v":0},35.218333333333341,0,0,0,0,-35.218333333333341,3135.8196427538783]
["2001-10-09",0,0,0,10,0.09,6.3562500000000008E-2,35.218333333333341,{"$f":"'RWH Calculator'!$C$56","v":0},35.218333333333341,0,0,0,0,-35.218333333333341,3135.8196427538783]
["2001-10-10",0,0,0,10,0.09,6.3562500000000008E-2,35.218333333333341,{"$f":"'RWH Calculator'!$C$56","v":0},35.218333333333341,0,0,0,0,-35.218333333333341,3135.8196427538783]
["2001-10-11",0,0,0,10,0.09,6.3562500000000008E-2,35.218333333333341,{"$f":"'RWH Calculator'!$C$56","v":0},35.218333333333341,0,0,0,0,-35.218333333333341,3135.8196427538783]
["2001-10-12",0,0,0,10,0.09,6.3562500000000008E-2,35.218333333333341,{"$f":"'RWH Calculator'!$C$56","v":0},35.218333333333341,0,0,0,0,-35.218333333333341,3135.8196427538783]
["2001-10-13",0,0,0,10,0.09,6.3562500000000008E-2,35.218333333333341,{"$f":"'RWH Calculator'!$C$56","v":0},35.218333333333341,0,0,0,0,-35.218333333333341,3135.8196427538783]
["2001-10-14",0,0,0,10,0.09,6.3562500000000008E-2,35.218333333333341,{"$f":"'RWH Calculator'!$C$56","v":0},35.218333333333341,0,0,0,0,-35.218333333333341,3135.8196427538783]
["2001-10-15",0,0,0,10,0.09,6.3562500000000008E-2,35.218333333333341,{"$f":"'RWH Calculator'!$C$56","v":0},35.218333333333341,0,0,0,0,-35.218333333333341,3135.8196427538783]
["2001-10-16",0,0,0,10,0.09,6.3562500000000008E-2,35.218333333333341,{"$f":"'RWH Calculator'!$C$56","v":0},35.218333333333341,0,0,0,0,-35.218333333333341,3135.8196427538783]
["2001-10-17",0,0,0,10,0.09,6.3562500000000008E-2,35.218333333333341,{"$f":"'RWH Calculator'!$C$56","v":0},35.218333333333341,0,0,0,0,-35.218333333333341,3135.8196427538783]
["2001-10-18",0,0,0,10,0.09,6.3562500000000008E-2,35.218333333333341,{"$f":"'RWH Calculator'!$C$56","v":0},35.218333333333341,0,0,0,0,-35.218333333333341,3135.8196427538783]
["2001-10-19",0,0,0,10,0.09,6.3562500000000008E-2,35.218333333333341,{"$f":"'RWH Calculator'!$C$56","v":0},35.218333333333341,0,0,0,0,-35.218333333333341,3135.8196427538783]
["2001-10-20",0,0,0,10,0.09,6.3562500000000008E-2,35.218333333333341,{"$f":"'RWH Calculator'!$C$56","v":0},35.218333333333341,0,0,0,0,-35.218333333333341,3135.8196427538783]
["2001-10-21",0,0,0,10,0.09,6.3562500000000008E-2,35.218333333333341,{"$f":"'RWH Calculator'!$C$56","v":0},35.218333333333341,0,0,0,0,-35.218333333333341,3135.8196427538783]
["2001-10-22",0,0,0,10,0.09,6.3562500000000008E-2,35.218333333333341,{"$f":"'RWH Calculator'!$C$56","v":0},35.218333333333341,0,0,0,0,-35.218333333333341,3135.8196427538783]
["2001-10-23",0,0,0,10,0.09,6.3562500000000008E-2,35.218333333333341,{"$f":"'RWH Calculator'!$C$56","v":0},35.218333333333341,0,0,0,0,-35.218333333333341,3135.8196427538783]
["2001-10-24",0,0,0,10,0.09,6.3562500000000008E-2,35.218333333333341,{"$f":"'RWH Calculator'!$C$56","v":0},35.218333333333341,0,0,0,0,-35.218333333333341,3135.8196427538783]
["2001-10-25",0,0,0,10,0.09,6.3562500000000008E-2,35.218333333333341,{"$f":"'RWH Calculator'!$C$56","v":0},35.218333333333341,0,0,0,0,-35.218333333333341,3135.8196427538783]
["2001-10-26",0,0,0,10,0.09,6.3562500000000008E-2,35.218333333333341,{"$f":"'RWH Calculator'!$C$56","v":0},35.218333333333341,0,0,0,0,-35.218333333333341,3135.8196427538783]
["2001-10-27",0,0,0,10,0.09,6.3562500000000008E-2,35.218333333333341,{"$f":"'RWH Calculator'!$C$56","v":0},35.218333333333341,0,0,0,0,-35.218333333333341,3135.8196427538783]
["2001-10-28",0,0,0,10,0.09,6.3562500000000008E-2,35.218333333333341,{"$f":"'RWH Calculator'!$C$56","v":0},35.218333333333341,0,0,0,0,-35.218333333333341,3135.8196427538783]
["2001-10-29",0.01,6.3580000000000014,6.3580000000000014,10,0.09,6.3562500000000008E-2,29.677592592592596,{"$f":"'RWH Calculator'!$C$56","v":0},29.677592592592596,0,6.3580000000000014,6.3580000000000014,0,-23.319592592592596,3142.1776427538784]
["2001-10-30",0.48000000000000004,305.18400000000003,305.18400000000003,10,0.09,6.3562500000000008E-2,0,{"$f":"'RWH Calculator'!$C$56","v":0},0,305.18400000000003,305.18400000000003,0,0,305.18400000000003,3142.1776427538784]
["2001-10-31",0,0,0,10,0.09,6.3562500000000008E-2,35.218333333333341,{"$f":"'RWH Calculator'!$C$56","v":0},35.218333333333341,269.96566666666666,0,35.218333333333341,0,269.96566666666666,3177.3959760872117]
["2001-11-01",0,0,0,11,6.0000000000000005E-2,4.2375000000000003E-2,23.478888888888889,{"$f":"'RWH Calculator'!$C$56","v":0},23.478888888888889,246.48677777777777,0,23.478888888888889,0,246.48677777777777,3200.8748649761005]
["2001-11-02",0,0,0,11,6.0000000000000005E-2,4.2375000000000003E-2,23.478888888888889,{"$f":"'RWH Calculator'!$C$56","v":0},23.478888888888889,223.00788888888889,0,23.478888888888889,0,223.00788888888889,3224.3537538649894]
["2001-11-03",0.01,6.3580000000000014,6.3580000000000014,11,6.0000000000000005E-2,4.2375000000000003E-2,17.938148148148152,{"$f":"'RWH Calculator'!$C$56","v":0},17.938148148148152,211.42774074074075,6.3580000000000014,17.938148148148152,0,211.42774074074075,3242.2919020131376]
["2001-11-04",0,0,0,11,6.0000000000000005E-2,4.2375000000000003E-2,23.478888888888889,{"$f":"'RWH Calculator'!$C$56","v":0},23.478888888888889,187.94885185185186,0,23.478888888888889,0,187.94885185185186,3265.7707909020264]
["2001-11-05",0,0,0,11,6.0000000000000005E-2,4.2375000000000003E-2,23.478888888888889,{"$f":"'RWH Calculator'!$C$56","v":0},23.478888888888889,164.46996296296297,0,23.478888888888889,0,164.46996296296297,3289.2496797909153]
["2001-11-06",0,0,0,11,6.0000000000000005E-2,4.2375000000000003E-2,23.478888888888889,{"$f":"'RWH Calculator'!$C$56","v":0},23.478888888888889,140.99107407407408,0,23.478888888888889,0,140.99107407407408,3312.7285686798041]
["2001-11-07",0,0,0,11,6.0000000000000005E-2,4.2375000000000003E-2,23.478888888888889,{"$f":"'RWH Calculator'!$C$56","v":0},23.478888888888889,117.51218518518519,0,23.478888888888889,0,117.51218518518519,3336.2074575686929]
["2001-11-08",0,0,0,11,6.0000000000000005E-2,4.2375000000000003E-2,23.478888888888889,{"$f":"'RWH Calculator'!$C$56","v":0},23.478888888888889,94.033296296296299,0,23.478888888888889,0,94.033296296296299,3359.6863464575817]
["2001-11-09",0,0,0,11,6.0000000000000005E-2,4.2375000000000003E-2,23.478888888888889,{"$f":"'RWH Calculator'!$C$56","v":0},23.478888888888889,70.55440740740741,0,23.478888888888889,0,70.55440740740741,3383.1652353464706]
["2001-11-10",0.59000000000000008,375.12200000000007,375.12200000000007,11,6.0000000000000005E-2,4.2375000000000003E-2,0,{"$f":"'RWH Calculator'!$C$56","v":0},0,445.67640740740751,375.12200000000007,0,0,445.67640740740751,3383.1652353464706]
["2001-11-11",6.9999999999999993E-2,44.506,44.506,11,6.0000000000000005E-2,4.2375000000000003E-2,0,{"$f":"'RWH Calculator'!$C$56","v":0},0,490.18240740740748,44.505999999999972,0,2.8421709430404007E-14,490.18240740740748,3383.1652353464706]
["2001-11-12",2.09,1328.8220000000001,1328.8220000000001,11,6.0000000000000005E-2,4.2375000000000003E-2,0,{"$f":"'RWH Calculator'!$C$56","v":0},0,1057.4600871983243,567.27767979091686,0,761.54432020908325,1819.0044074074076,3383.1652353464706]
["2001-11-13",0.01,6.3580000000000014,6.3580000000000014,11,6.0000000000000005E-2,4.2375000000000003E-2,17.938148148148152,{"$f":"'RWH Calculator'!$C$56","v":0},17.938148148148152,1045.8799390501761,6.3580000000000014,17.938148148148152,0,1045.8799390501761,3401.1033834946188]
["2001-11-14",0.03,19.074000000000002,19.074000000000002,11,6.0000000000000005E-2,4.2375000000000003E-2,6.8566666666666682,{"$f":"'RWH Calculator'!$C$56","v":0},6.8566666666666682,1057.4600871983243,18.436814814814952,6.8566666666666682,0.63718518518505007,1058.0972723835096,3407.9600501612854]
["2001-11-15",0,0,0,11,6.0000000000000005E-2,4.2375000000000003E-2,23.478888888888889,{"$f":"'RWH Calculator'!$C$56","v":0},23.478888888888889,1033.9811983094355,0,23.478888888888889,0,1033.9811983094355,3431.4389390501742]
["2001-11-16",0.04,25.432000000000006,25.432000000000006,11,6.0000000000000005E-2,4.2375000000000003E-2,1.3159259259259271,{"$f":"'RWH Calculator'!$C$56","v":0},1.3159259259259271,1057.4600871983243,24.79481481481476,1.3159259259259271,0.63718518518524547,1058.0972723835096,3432.7548649761002]
["2001-11-17",0,0,0,11,{"$f":"IF($B$2=\"Western SF\", VLOOKUP(E331,$R$6:$U$17, 4),VLOOKUP(E331, $R$6:$V$17,5))","v":6.0000000000000005E-2},4.2375000000000003E-2,23.478888888888889,{"$f":"'RWH Calculator'!$C$56","v":0},23.478888888888889,1033.9811983094355,0,23.478888888888889,0,1033.9811983094355,3456.233753864989]
["2001-11-18",0,0,0,{"$f":"MONTH(A332)","v":11},6.0000000000000005E-2,{"$f":"F332*$B$6","v":4.2375000000000003E-2},23.478888888888889,{"$f":"'RWH Calculator'!$C$56","v":0},{"$f":"H332+I332","v":23.478888888888889},1010.5023094205467,0,23.478888888888889,0,1010.5023094205467,3479.7126427538778]
["2001-11-19",0,{"$f":"$B$3*$B$4*(B333/12)*7.48","v":0},{"$f":"C333","v":0},11,6.0000000000000005E-2,4.2375000000000003E-2,{"$f":"(IF(G333-B333>0,(G333-B333)/$B$7,0)/12*7.48)*$B$8","v":23.478888888888889},{"$f":"'RWH Calculator'!$C$56","v":0},23.478888888888889,{"$f":"IF(O333<0, 0, IF(O333>$H$2, $H$2, O333))","v":987.02342053165785},{"$f":"IF(J333>D333,D333, K333-K332+J333)","v":0},{"$f":"IF(D333+K332>J333,J333, D333+K332)","v":23.478888888888889},{"$f":"IF(C333>J333, C333-J333-(K333-K332),0)","v":0},{"$f":"K332+D333-J333","v":987.02342053165785},{"$f":"M333+P332","v":3503.1915316427667}]
["2001-11-20",0,0,0,11,6.0000000000000005E-2,4.2375000000000003E-2,23.478888888888889,{"$f":"'RWH Calculator'!$C$56","v":0},23.478888888888889,963.54453164276902,0,23.478888888888889,0,963.54453164276902,3526.6704205316555]
["2001-11-21",0.16,101.72800000000002,101.72800000000002,11,6.0000000000000005E-2,4.2375000000000003E-2,0,{"$f":"'RWH Calculator'!$C$56","v":0},0,1057.4600871983243,93.915555555555329,0,7.8124444444446937,1065.2725316427691,3526.6704205316555]
["2001-11-22",0.01,6.3580000000000014,6.3580000000000014,11,6.0000000000000005E-2,4.2375000000000003E-2,17.938148148148152,{"$f":"'RWH Calculator'!$C$56","v":0},17.938148148148152,1045.8799390501761,6.3580000000000014,17.938148148148152,0,1045.8799390501761,3544.6085686798037]
["2001-11-23",0,0,0,11,6.0000000000000005E-2,4.2375000000000003E-2,23.478888888888889,{"$f":"'RWH Calculator'!$C$56","v":0},23.478888888888889,1022.4010501612872,0,23.478888888888889,0,1022.4010501612872,3568.0874575686926]
["2001-11-24",0.79000000000000015,502.2820000000001,502.2820000000001,11,6.0000000000000005E-2,4.2375000000000003E-2,0,{"$f":"'RWH Calculator'!$C$56","v":0},0,1057.4600871983243,35.059037037037115,0,467.22296296296298,1524.6830501612874,3568.0874575686926]
["2001-11-25",0,0,0,11,6.0000000000000005E-2,4.2375000000000003E-2,23.478888888888889,{"$f":"'RWH Calculator'!$C$56","v":0},23.478888888888889,1033.9811983094355,0,23.478888888888889,0,1033.9811983094355,3591.5663464575814]
["2001-11-26",0,0,0,11,6.0000000000000005E-2,4.2375000000000003E-2,23.478888888888889,{"$f":"'RWH Calculator'!$C$56","v":0},23.478888888888889,1010.5023094205467,0,23.478888888888889,0,1010.5023094205467,3615.0452353464702]
["2001-11-27",0,0,0,11,6.0000000000000005E-2,4.2375000000000003E-2,23.478888888888889,{"$f":"'RWH Calculator'!$C$56","v":0},23.478888888888889,987.02342053165785,0,23.478888888888889,0,987.02342053165785,3638.5241242353591]
["2001-11-28",0.82000000000000006,521.35600000000011,521.35600000000011,11,6.0000000000000005E-2,4.2375000000000003E-2,0,{"$f":"'RWH Calculator'!$C$56","v":0},0,1057.4600871983243,70.436666666666497,0,450.91933333333361,1508.3794205316581,3638.5241242353591]
["2001-11-29",0.54,343.33200000000005,343.33200000000005,11,6.0000000000000005E-2,4.2375000000000003E-2,0,{"$f":"'RWH Calculator'!$C$56","v":0},0,1057.4600871983243,0,0,343.33200000000005,1400.7920871983245,3638.5241242353591]
["2001-11-30",0.02,12.716000000000003,12.716000000000003,11,6.0000000000000005E-2,4.2375000000000003E-2,12.397407407407409,{"$f":"'RWH Calculator'!$C$56","v":0},12.397407407407409,1057.4600871983243,12.397407407407409,12.397407407407409,0.31859259259259431,1057.7786797909168,3650.9215316427667]
["2001-12-01",0.9900000000000001,629.44200000000012,629.44200000000012,12,0.04,2.8250000000000001E-2,0,{"$f":"'RWH Calculator'!$C$56","v":0},0,1057.4600871983243,0,0,629.44200000000012,1686.9020871983244,3650.9215316427667]
["2001-12-02",1.5500000000000003,985.49,985.49,12,0.04,2.8250000000000001E-2,0,{"$f":"'RWH Calculator'!$C$56","v":0},0,1057.4600871983243,0,0,985.49,2042.9500871983244,3650.9215316427667]
["2001-12-03",7.9999999999999988E-2,50.863999999999997,50.863999999999997,12,0.04,2.8250000000000001E-2,0,{"$f":"'RWH Calculator'!$C$56","v":0},0,1057.4600871983243,0,0,50.863999999999997,1108.3240871983244,3650.9215316427667]
["2001-12-04",0,0,0,12,0.04,2.8250000000000001E-2,15.652592592592596,{"$f":"'RWH Calculator'!$C$56","v":0},15.652592592592596,1041.8074946057318,0,15.652592592592596,0,1041.8074946057318,3666.5741242353592]
["2001-12-05",0.70000000000000007,445.06000000000006,445.06000000000006,12,0.04,2.8250000000000001E-2,0,{"$f":"'RWH Calculator'!$C$56","v":0},0,1057.4600871983243,15.652592592592555,0,429.4074074074075,1486.8674946057317,3666.5741242353592]
["2001-12-06",0.24,152.59200000000001,152.59200000000001,12,0.04,2.8250000000000001E-2,0,{"$f":"'RWH Calculator'!$C$56","v":0},0,1057.4600871983243,0,0,152.59200000000001,1210.0520871983244,3666.5741242353592]
["2001-12-07",0,0,0,12,0.04,2.8250000000000001E-2,15.652592592592596,{"$f":"'RWH Calculator'!$C$56","v":0},15.652592592592596,1041.8074946057318,0,15.652592592592596,0,1041.8074946057318,3682.2267168279518]
["2001-12-08",0.02,12.716000000000003,12.716000000000003,12,0.04,2.8250000000000001E-2,4.5711111111111116,{"$f":"'RWH Calculator'!$C$56","v":0},4.5711111111111116,1049.9523834946206,12.715999999999884,4.5711111111111116,1.1901590823981678E-13,1049.9523834946206,3686.7978279390627]
["2001-12-09",0,0,0,12,0.04,2.8250000000000001E-2,15.652592592592596,{"$f":"'RWH Calculator'!$C$56","v":0},15.652592592592596,1034.299790902028,0,15.652592592592596,0,1034.299790902028,3702.4504205316553]
["2001-12-10",0,0,0,12,0.04,2.8250000000000001E-2,15.652592592592596,{"$f":"'RWH Calculator'!$C$56","v":0},15.652592592592596,1018.6471983094355,0,15.652592592592596,0,1018.6471983094355,3718.1030131242478]
["2001-12-11",0,0,0,12,0.04,2.8250000000000001E-2,15.652592592592596,{"$f":"'RWH Calculator'!$C$56","v":0},15.652592592592596,1002.9946057168429,0,15.652592592592596,0,1002.9946057168429,3733.7556057168404]
["2001-12-12",0,0,0,12,0.04,2.8250000000000001E-2,15.652592592592596,{"$f":"'RWH Calculator'!$C$56","v":0},15.652592592592596,987.34201312425034,0,15.652592592592596,0,987.34201312425034,3749.4081983094329]
["2001-12-13",0.47,298.82599999999996,298.82599999999996,12,0.04,2.8250000000000001E-2,0,{"$f":"'RWH Calculator'!$C$56","v":0},0,1057.4600871983243,70.118074074074002,0,228.70792592592596,1286.1680131242504,3749.4081983094329]
["2001-12-14",0.43000000000000005,273.39400000000006,273.39400000000006,12,0.04,2.8250000000000001E-2,0,{"$f":"'RWH Calculator'!$C$56","v":0},0,1057.4600871983243,0,0,273.39400000000006,1330.8540871983244,3749.4081983094329]
["2001-12-15",0,0,0,12,0.04,2.8250000000000001E-2,15.652592592592596,{"$f":"'RWH Calculator'!$C$56","v":0},15.652592592592596,1041.8074946057318,0,15.652592592592596,0,1041.8074946057318,3765.0607909020255]
["2001-12-16",0,0,0,12,0.04,2.8250000000000001E-2,15.652592592592596,{"$f":"'RWH Calculator'!$C$56","v":0},15.652592592592596,1026.1549020131392,0,15.652592592592596,0,1026.1549020131392,3780.713383494618]
["2001-12-17",0.61,387.83800000000002,387.83800000000002,12,0.04,2.8250000000000001E-2,0,{"$f":"'RWH Calculator'!$C$56","v":0},0,1057.4600871983243,31.30518518518511,0,356.53281481481491,1413.9929020131392,3780.713383494618]
["2001-12-18",0,0,0,12,0.04,2.8250000000000001E-2,15.652592592592596,{"$f":"'RWH Calculator'!$C$56","v":0},15.652592592592596,1041.8074946057318,0,15.652592592592596,0,1041.8074946057318,3796.3659760872106]
["2001-12-19",0.29000000000000004,184.38200000000003,184.38200000000003,12,0.04,2.8250000000000001E-2,0,{"$f":"'RWH Calculator'!$C$56","v":0},0,1057.4600871983243,15.652592592592555,0,168.72940740740748,1226.1894946057319,3796.3659760872106]
["2001-12-20",0.52,330.61600000000004,330.61600000000004,12,0.04,2.8250000000000001E-2,0,{"$f":"'RWH Calculator'!$C$56","v":0},0,1057.4600871983243,0,0,330.61600000000004,1388.0760871983243,3796.3659760872106]
["2001-12-21",0.16,101.72800000000002,101.72800000000002,12,0.04,2.8250000000000001E-2,0,{"$f":"'RWH Calculator'!$C$56","v":0},0,1057.4600871983243,0,0,101.72800000000002,1159.1880871983244,3796.3659760872106]
["2001-12-22",0.95000000000000007,604.0100000000001,604.0100000000001,12,0.04,2.8250000000000001E-2,0,{"$f":"'RWH Calculator'!$C$56","v":0},0,1057.4600871983243,0,0,604.0100000000001,1661.4700871983246,3796.3659760872106]
["2001-12-23",6.0000000000000005E-2,38.148000000000003,38.148000000000003,12,0.04,2.8250000000000001E-2,0,{"$f":"'RWH Calculator'!$C$56","v":0},0,1057.4600871983243,0,0,38.148000000000003,1095.6080871983243,3796.3659760872106]
["2001-12-24",0,0,0,12,0.04,2.8250000000000001E-2,15.652592592592596,{"$f":"'RWH Calculator'!$C$56","v":0},15.652592592592596,1041.8074946057318,0,15.652592592592596,0,1041.8074946057318,3812.0185686798031]
["2001-12-25",0,0,0,12,0.04,2.8250000000000001E-2,15.652592592592596,{"$f":"'RWH Calculator'!$C$56","v":0},15.652592592592596,1026.1549020131392,0,15.652592592592596,0,1026.1549020131392,3827.6711612723957]
["2001-12-26",0.02,12.716000000000003,12.716000000000003,12,0.04,2.8250000000000001E-2,4.5711111111111116,{"$f":"'RWH Calculator'!$C$56","v":0},4.5711111111111116,1034.299790902028,12.715999999999884,4.5711111111111116,1.1901590823981678E-13,1034.299790902028,3832.2422723835066]
["2001-12-27",0.19,120.80200000000002,120.80200000000002,12,0.04,2.8250000000000001E-2,0,{"$f":"'RWH Calculator'!$C$56","v":0},0,1057.4600871983243,23.160296296296337,0,97.641703703703683,1155.1017909020279,3832.2422723835066]
["2001-12-28",1.7800000000000002,1131.7240000000002,1131.7240000000002,12,0.04,2.8250000000000001E-2,0,{"$f":"'RWH Calculator'!$C$56","v":0},0,1057.4600871983243,0,0,1131.7240000000002,2189.1840871983245,3832.2422723835066]
["2001-12-29",0.54000000000000015,343.33200000000011,343.33200000000011,12,0.04,2.8250000000000001E-2,0,{"$f":"'RWH Calculator'!$C$56","v":0},0,1057.4600871983243,0,0,343.33200000000011,1400.7920871983245,3832.2422723835066]
["2001-12-30",1.1200000000000001,712.09600000000012,712.09600000000012,12,0.04,2.8250000000000001E-2,0,{"$f":"'RWH Calculator'!$C$56","v":0},0,1057.4600871983243,0,0,712.09600000000012,1769.5560871983243,3832.2422723835066]
["2001-12-31",0.03,19.074000000000002,19.074000000000002,12,0.04,2.8250000000000001E-2,0,{"$f":"'RWH Calculator'!$C$56","v":0},0,1057.4600871983243,0,0,19.074000000000002,1076.5340871983244,3832.2422723835066]
["2002-01-01",0.13999999999999999,89.012,89.012,1,0.04,2.8250000000000001E-2,0,{"$f":"'RWH Calculator'!$C$56","v":0},0,1057.4600871983243,0,0,89.012,1146.4720871983243,3832.2422723835066]
["2002-01-02",0.91000000000000014,578.5780000000002,578.5780000000002,1,0.04,2.8250000000000001E-2,0,{"$f":"'RWH Calculator'!$C$56","v":0},0,1057.4600871983243,0,0,578.5780000000002,1636.0380871983245,3832.2422723835066]
["2002-01-03",0,0,0,1,0.04,2.8250000000000001E-2,15.652592592592596,{"$f":"'RWH Calculator'!$C$56","v":0},15.652592592592596,1041.8074946057318,0,15.652592592592596,0,1041.8074946057318,3847.8948649760991]
["2002-01-04",0,0,0,1,0.04,2.8250000000000001E-2,15.652592592592596,{"$f":"'RWH Calculator'!$C$56","v":0},15.652592592592596,1026.1549020131392,0,15.652592592592596,0,1026.1549020131392,3863.5474575686917]
["2002-01-05",0,0,0,1,0.04,2.8250000000000001E-2,15.652592592592596,{"$f":"'RWH Calculator'!$C$56","v":0},15.652592592592596,1010.5023094205467,0,15.652592592592596,0,1010.5023094205467,3879.2000501612843]
["2002-01-06",0.02,12.716000000000003,12.716000000000003,1,0.04,2.8250000000000001E-2,4.5711111111111116,{"$f":"'RWH Calculator'!$C$56","v":0},4.5711111111111116,1018.6471983094356,12.715999999999998,4.5711111111111116,5.3290705182007514E-15,1018.6471983094356,3883.7711612723951]
["2002-01-07",0,0,0,1,0.04,2.8250000000000001E-2,15.652592592592596,{"$f":"'RWH Calculator'!$C$56","v":0},15.652592592592596,1002.994605716843,0,15.652592592592596,0,1002.994605716843,3899.4237538649877]
["2002-01-08",0,0,0,1,0.04,2.8250000000000001E-2,15.652592592592596,{"$f":"'RWH Calculator'!$C$56","v":0},15.652592592592596,987.34201312425046,0,15.652592592592596,0,987.34201312425046,3915.0763464575803]
["2002-01-09",0,0,0,1,0.04,2.8250000000000001E-2,15.652592592592596,{"$f":"'RWH Calculator'!$C$56","v":0},15.652592592592596,971.6894205316579,0,15.652592592592596,0,971.6894205316579,3930.7289390501728]
["2002-01-10",0,0,0,1,0.04,2.8250000000000001E-2,15.652592592592596,{"$f":"'RWH Calculator'!$C$56","v":0},15.652592592592596,956.03682793906535,0,15.652592592592596,0,956.03682793906535,3946.3815316427654]
["2002-01-11",0,0,0,1,0.04,2.8250000000000001E-2,15.652592592592596,{"$f":"'RWH Calculator'!$C$56","v":0},15.652592592592596,940.38423534647279,0,15.652592592592596,0,940.38423534647279,3962.0341242353579]
["2002-01-12",0,0,0,1,0.04,2.8250000000000001E-2,15.652592592592596,{"$f":"'RWH Calculator'!$C$56","v":0},15.652592592592596,924.73164275388024,0,15.652592592592596,0,924.73164275388024,3977.6867168279505]
["2002-01-13",0,0,0,1,0.04,2.8250000000000001E-2,15.652592592592596,{"$f":"'RWH Calculator'!$C$56","v":0},15.652592592592596,909.07905016128768,0,15.652592592592596,0,909.07905016128768,3993.339309420543]
["2002-01-14",0,0,0,1,0.04,2.8250000000000001E-2,15.652592592592596,{"$f":"'RWH Calculator'!$C$56","v":0},15.652592592592596,893.42645756869513,0,15.652592592592596,0,893.42645756869513,4008.9919020131356]
["2002-01-15",0,0,0,1,0.04,2.8250000000000001E-2,15.652592592592596,{"$f":"'RWH Calculator'!$C$56","v":0},15.652592592592596,877.77386497610257,0,15.652592592592596,0,877.77386497610257,4024.6444946057281]
["2002-01-16",0,0,0,1,0.04,2.8250000000000001E-2,15.652592592592596,{"$f":"'RWH Calculator'!$C$56","v":0},15.652592592592596,862.12127238351002,0,15.652592592592596,0,862.12127238351002,4040.2970871983207]
["2002-01-17",0,0,0,1,0.04,2.8250000000000001E-2,15.652592592592596,{"$f":"'RWH Calculator'!$C$56","v":0},15.652592592592596,846.46867979091746,0,15.652592592592596,0,846.46867979091746,4055.9496797909133]
["2002-01-18",0,0,0,1,0.04,2.8250000000000001E-2,15.652592592592596,{"$f":"'RWH Calculator'!$C$56","v":0},15.652592592592596,830.81608719832491,0,15.652592592592596,0,830.81608719832491,4071.6022723835058]
["2002-01-19",0,0,0,1,0.04,2.8250000000000001E-2,15.652592592592596,{"$f":"'RWH Calculator'!$C$56","v":0},15.652592592592596,815.16349460573235,0,15.652592592592596,0,815.16349460573235,4087.2548649760984]
["2002-01-20",0,0,0,1,{"$f":"IF($B$2=\"Western SF\", VLOOKUP(E395,$R$6:$U$17, 4),VLOOKUP(E395, $R$6:$V$17,5))","v":0.04},2.8250000000000001E-2,15.652592592592596,{"$f":"'RWH Calculator'!$C$56","v":0},15.652592592592596,799.5109020131398,0,15.652592592592596,0,799.5109020131398,4102.9074575686909]
["2002-01-21",0.19999999999999998,127.16000000000001,127.16000000000001,{"$f":"MONTH(A396)","v":1},0.04,{"$f":"F396*$B$6","v":2.8250000000000001E-2},0,{"$f":"'RWH Calculator'!$C$56","v":0},{"$f":"H396+I396","v":0},926.67090201313977,127.15999999999997,0,4.2632564145606011E-14,926.67090201313977,4102.9074575686909]
["2002-01-22",0,{"$f":"$B$3*$B$4*(B397/12)*7.48","v":0},{"$f":"C397","v":0},1,0.04,2.8250000000000001E-2,{"$f":"(IF(G397-B397>0,(G397-B397)/$B$7,0)/12*7.48)*$B$8","v":15.652592592592596},{"$f":"'RWH Calculator'!$C$56","v":0},15.652592592592596,{"$f":"IF(O397<0, 0, IF(O397>$H$2, $H$2, O397))","v":911.01830942054721},{"$f":"IF(J397>D397,D397, K397-K396+J397)","v":0},{"$f":"IF(D397+K396>J397,J397, D397+K396)","v":15.652592592592596},{"$f":"IF(C397>J397, C397-J397-(K397-K396),0)","v":0},{"$f":"K396+D397-J397","v":911.01830942054721},{"$f":"M397+P396","v":4118.5600501612835}]
["2002-01-23",0,0,0,1,0.04,2.8250000000000001E-2,15.652592592592596,{"$f":"'RWH Calculator'!$C$56","v":0},15.652592592592596,895.36571682795466,0,15.652592592592596,0,895.36571682795466,4134.212642753876]
["2002-01-24",0,0,0,1,0.04,2.8250000000000001E-2,15.652592592592596,{"$f":"'RWH Calculator'!$C$56","v":0},15.652592592592596,879.7131242353621,0,15.652592592592596,0,879.7131242353621,4149.8652353464686]
["2002-01-25",0,0,0,1,0.04,2.8250000000000001E-2,15.652592592592596,{"$f":"'RWH Calculator'!$C$56","v":0},15.652592592592596,864.06053164276955,0,15.652592592592596,0,864.06053164276955,4165.5178279390611]
["2002-01-26",0.48,305.18400000000003,305.18400000000003,1,0.04,2.8250000000000001E-2,0,{"$f":"'RWH Calculator'!$C$56","v":0},0,1057.4600871983243,193.3995555555548,0,111.78444444444523,1169.2445316427695,4165.5178279390611]
["2002-01-27",0,0,0,1,0.04,2.8250000000000001E-2,15.652592592592596,{"$f":"'RWH Calculator'!$C$56","v":0},15.652592592592596,1041.8074946057318,0,15.652592592592596,0,1041.8074946057318,4181.1704205316537]
["2002-01-28",0.38,241.60400000000004,241.60400000000004,1,0.04,2.8250000000000001E-2,0,{"$f":"'RWH Calculator'!$C$56","v":0},0,1057.4600871983243,15.652592592592555,0,225.95140740740749,1283.4114946057318,4181.1704205316537]
["2002-01-29",0,0,0,1,0.04,2.8250000000000001E-2,15.652592592592596,{"$f":"'RWH Calculator'!$C$56","v":0},15.652592592592596,1041.8074946057318,0,15.652592592592596,0,1041.8074946057318,4196.8230131242462]
["2002-01-30",0,0,0,1,0.04,2.8250000000000001E-2,15.652592592592596,{"$f":"'RWH Calculator'!$C$56","v":0},15.652592592592596,1026.1549020131392,0,15.652592592592596,0,1026.1549020131392,4212.4756057168388]
["2002-01-31",0,0,0,1,0.04,2.8250000000000001E-2,15.652592592592596,{"$f":"'RWH Calculator'!$C$56","v":0},15.652592592592596,1010.5023094205467,0,15.652592592592596,0,1010.5023094205467,4228.1281983094314]
["2002-02-01",0,0,0,2,0.06,4.2375000000000003E-2,23.478888888888889,{"$f":"'RWH Calculator'!$C$56","v":0},23.478888888888889,987.02342053165785,0,23.478888888888889,0,987.02342053165785,4251.6070871983202]
["2002-02-02",0,0,0,2,0.06,4.2375000000000003E-2,23.478888888888889,{"$f":"'RWH Calculator'!$C$56","v":0},23.478888888888889,963.54453164276902,0,23.478888888888889,0,963.54453164276902,4275.085976087209]
["2002-02-03",0,0,0,2,0.06,4.2375000000000003E-2,23.478888888888889,{"$f":"'RWH Calculator'!$C$56","v":0},23.478888888888889,940.06564275388018,0,23.478888888888889,0,940.06564275388018,4298.5648649760979]
["2002-02-04",0,0,0,2,0.06,4.2375000000000003E-2,23.478888888888889,{"$f":"'RWH Calculator'!$C$56","v":0},23.478888888888889,916.58675386499135,0,23.478888888888889,0,916.58675386499135,4322.0437538649867]
["2002-02-05",0,0,0,2,0.06,4.2375000000000003E-2,23.478888888888889,{"$f":"'RWH Calculator'!$C$56","v":0},23.478888888888889,893.10786497610252,0,23.478888888888889,0,893.10786497610252,4345.5226427538755]
["2002-02-06",0.01,6.3580000000000014,6.3580000000000014,2,0.06,4.2375000000000003E-2,17.938148148148152,{"$f":"'RWH Calculator'!$C$56","v":0},17.938148148148152,881.52771682795435,6.3580000000000014,17.938148148148152,0,881.52771682795435,4363.4607909020233]
["2002-02-07",0.46,292.46800000000002,292.46800000000002,2,0.06,4.2375000000000003E-2,0,{"$f":"'RWH Calculator'!$C$56","v":0},0,1057.4600871983243,175.93237037036999,0,116.53562962963002,1173.9957168279543,4363.4607909020233]
["2002-02-08",0.01,6.3580000000000014,6.3580000000000014,2,0.06,4.2375000000000003E-2,17.938148148148152,{"$f":"'RWH Calculator'!$C$56","v":0},17.938148148148152,1045.8799390501761,6.3580000000000014,17.938148148148152,0,1045.8799390501761,4381.3989390501711]
["2002-02-09",0,0,0,2,0.06,4.2375000000000003E-2,23.478888888888889,{"$f":"'RWH Calculator'!$C$56","v":0},23.478888888888889,1022.4010501612872,0,23.478888888888889,0,1022.4010501612872,4404.8778279390599]
["2002-02-10",0,0,0,2,0.06,4.2375000000000003E-2,23.478888888888889,{"$f":"'RWH Calculator'!$C$56","v":0},23.478888888888889,998.9221612723984,0,23.478888888888889,0,998.9221612723984,4428.3567168279487]
["2002-02-11",0,0,0,2,0.06,4.2375000000000003E-2,23.478888888888889,{"$f":"'RWH Calculator'!$C$56","v":0},23.478888888888889,975.44327238350957,0,23.478888888888889,0,975.44327238350957,4451.8356057168376]
["2002-02-12",0,0,0,2,0.06,4.2375000000000003E-2,23.478888888888889,{"$f":"'RWH Calculator'!$C$56","v":0},23.478888888888889,951.96438349462073,0,23.478888888888889,0,951.96438349462073,4475.3144946057264]
["2002-02-13",0.09,57.222000000000001,57.222000000000001,2,0.06,4.2375000000000003E-2,0,{"$f":"'RWH Calculator'!$C$56","v":0},0,1009.1863834946207,57.22199999999998,0,2.1316282072803006E-14,1009.1863834946207,4475.3144946057264]
["2002-02-14",0,0,0,2,0.06,4.2375000000000003E-2,23.478888888888889,{"$f":"'RWH Calculator'!$C$56","v":0},23.478888888888889,985.70749460573188,0,23.478888888888889,0,985.70749460573188,4498.7933834946152]
["2002-02-15",0,0,0,2,0.06,4.2375000000000003E-2,23.478888888888889,{"$f":"'RWH Calculator'!$C$56","v":0},23.478888888888889,962.22860571684305,0,23.478888888888889,0,962.22860571684305,4522.2722723835041]
["2002-02-16",0.35,222.52999999999997,222.52999999999997,2,0.06,4.2375000000000003E-2,0,{"$f":"'RWH Calculator'!$C$56","v":0},0,1057.4600871983243,95.231481481481296,0,127.29851851851868,1184.758605716843,4522.2722723835041]
["2002-02-17",0.4300000000000001,273.39400000000012,273.39400000000012,2,0.06,4.2375000000000003E-2,0,{"$f":"'RWH Calculator'!$C$56","v":0},0,1057.4600871983243,0,0,273.39400000000012,1330.8540871983246,4522.2722723835041]
["2002-02-18",0.02,12.716000000000003,12.716000000000003,2,0.06,4.2375000000000003E-2,12.397407407407409,{"$f":"'RWH Calculator'!$C$56","v":0},12.397407407407409,1057.4600871983243,12.397407407407409,12.397407407407409,0.31859259259259431,1057.7786797909168,4534.6696797909117]
["2002-02-19",1.0900000000000003,693.02200000000028,693.02200000000028,2,0.06,4.2375000000000003E-2,0,{"$f":"'RWH Calculator'!$C$56","v":0},0,1057.4600871983243,0,0,693.02200000000028,1750.4820871983247,4534.6696797909117]
["2002-02-20",0.06,38.148000000000003,38.148000000000003,2,0.06,4.2375000000000003E-2,0,{"$f":"'RWH Calculator'!$C$56","v":0},0,1057.4600871983243,0,0,38.148000000000003,1095.6080871983243,4534.6696797909117]
["2002-02-21",0,0,0,2,0.06,4.2375000000000003E-2,23.478888888888889,{"$f":"'RWH Calculator'!$C$56","v":0},23.478888888888889,1033.9811983094355,0,23.478888888888889,0,1033.9811983094355,4558.1485686798005]
["2002-02-22",0.01,6.3580000000000014,6.3580000000000014,2,0.06,4.2375000000000003E-2,17.938148148148152,{"$f":"'RWH Calculator'!$C$56","v":0},17.938148148148152,1022.4010501612873,6.3580000000000014,17.938148148148152,0,1022.4010501612873,4576.0867168279483]
["2002-02-23",0.06,38.148000000000003,38.148000000000003,2,0.06,4.2375000000000003E-2,0,{"$f":"'RWH Calculator'!$C$56","v":0},0,1057.4600871983243,35.059037037037001,0,3.0889629629630022,1060.5490501612874,4576.0867168279483]
["2002-02-24",0,0,0,2,0.06,4.2375000000000003E-2,23.478888888888889,{"$f":"'RWH Calculator'!$C$56","v":0},23.478888888888889,1033.9811983094355,0,23.478888888888889,0,1033.9811983094355,4599.5656057168371]
["2002-02-25",0,0,0,2,0.06,4.2375000000000003E-2,23.478888888888889,{"$f":"'RWH Calculator'!$C$56","v":0},23.478888888888889,1010.5023094205467,0,23.478888888888889,0,1010.5023094205467,4623.044494605726]
["2002-02-26",0,0,0,2,0.06,4.2375000000000003E-2,23.478888888888889,{"$f":"'RWH Calculator'!$C$56","v":0},23.478888888888889,987.02342053165785,0,23.478888888888889,0,987.02342053165785,4646.5233834946148]
["2002-02-27",0,0,0,2,0.06,4.2375000000000003E-2,23.478888888888889,{"$f":"'RWH Calculator'!$C$56","v":0},23.478888888888889,963.54453164276902,0,23.478888888888889,0,963.54453164276902,4670.0022723835036]
["2002-02-28",0,0,0,2,0.06,4.2375000000000003E-2,23.478888888888889,{"$f":"'RWH Calculator'!$C$56","v":0},23.478888888888889,940.06564275388018,0,23.478888888888889,0,940.06564275388018,4693.4811612723925]
["2002-03-01",0,0,0,3,0.1,7.0625000000000007E-2,39.131481481481487,{"$f":"'RWH Calculator'!$C$56","v":0},39.131481481481487,900.93416127239868,0,39.131481481481487,0,900.93416127239868,4732.6126427538738]
["2002-03-02",0,0,0,3,0.1,7.0625000000000007E-2,39.131481481481487,{"$f":"'RWH Calculator'!$C$56","v":0},39.131481481481487,861.80267979091718,0,39.131481481481487,0,861.80267979091718,4771.7441242353552]
["2002-03-03",0,0,0,3,0.1,7.0625000000000007E-2,39.131481481481487,{"$f":"'RWH Calculator'!$C$56","v":0},39.131481481481487,822.67119830943568,0,39.131481481481487,0,822.67119830943568,4810.8756057168366]
["2002-03-04",0,0,0,3,0.1,7.0625000000000007E-2,39.131481481481487,{"$f":"'RWH Calculator'!$C$56","v":0},39.131481481481487,783.53971682795418,0,39.131481481481487,0,783.53971682795418,4850.007087198318]
["2002-03-05",0.01,6.3580000000000014,6.3580000000000014,3,0.1,7.0625000000000007E-2,33.590740740740749,{"$f":"'RWH Calculator'!$C$56","v":0},33.590740740740749,756.30697608721334,6.3580000000000014,33.590740740740749,0,756.30697608721334,4883.5978279390583]
["2002-03-06",0.56999999999999995,362.40600000000001,362.40600000000001,3,0.1,7.0625000000000007E-2,0,{"$f":"'RWH Calculator'!$C$56","v":0},0,1057.4600871983243,301.153111111111,0,61.252888888889004,1118.7129760872133,4883.5978279390583]
["2002-03-07",0.28000000000000003,178.02400000000003,178.02400000000003,3,0.1,7.0625000000000007E-2,0,{"$f":"'RWH Calculator'!$C$56","v":0},0,1057.4600871983243,0,0,178.02400000000003,1235.4840871983245,4883.5978279390583]
["2002-03-08",0,0,0,3,0.1,7.0625000000000007E-2,39.131481481481487,{"$f":"'RWH Calculator'!$C$56","v":0},39.131481481481487,1018.3286057168428,0,39.131481481481487,0,1018.3286057168428,4922.7293094205397]
["2002-03-09",0.09,57.222000000000001,57.222000000000001,3,0.1,7.0625000000000007E-2,0,{"$f":"'RWH Calculator'!$C$56","v":0},0,1057.4600871983243,39.131481481481501,0,18.0905185185185,1075.5506057168429,4922.7293094205397]
["2002-03-10",0.38000000000000006,241.60400000000004,241.60400000000004,3,0.1,7.0625000000000007E-2,0,{"$f":"'RWH Calculator'!$C$56","v":0},0,1057.4600871983243,0,0,241.60400000000004,1299.0640871983244,4922.7293094205397]
["2002-03-11",0,0,0,3,0.1,7.0625000000000007E-2,39.131481481481487,{"$f":"'RWH Calculator'!$C$56","v":0},39.131481481481487,1018.3286057168428,0,39.131481481481487,0,1018.3286057168428,4961.8607909020211]
["2002-03-12",0,0,0,3,0.1,7.0625000000000007E-2,39.131481481481487,{"$f":"'RWH Calculator'!$C$56","v":0},39.131481481481487,979.19712423536134,0,39.131481481481487,0,979.19712423536134,5000.9922723835025]
["2002-03-13",0,0,0,3,0.1,7.0625000000000007E-2,39.131481481481487,{"$f":"'RWH Calculator'!$C$56","v":0},39.131481481481487,940.06564275387984,0,39.131481481481487,0,940.06564275387984,5040.1237538649839]
["2002-03-14",0,0,0,3,0.1,7.0625000000000007E-2,39.131481481481487,{"$f":"'RWH Calculator'!$C$56","v":0},39.131481481481487,900.93416127239834,0,39.131481481481487,0,900.93416127239834,5079.2552353464653]
["2002-03-15",0,0,0,3,0.1,7.0625000000000007E-2,39.131481481481487,{"$f":"'RWH Calculator'!$C$56","v":0},39.131481481481487,861.80267979091684,0,39.131481481481487,0,861.80267979091684,5118.3867168279467]
["2002-03-16",0,0,0,3,0.1,7.0625000000000007E-2,39.131481481481487,{"$f":"'RWH Calculator'!$C$56","v":0},39.131481481481487,822.67119830943534,0,39.131481481481487,0,822.67119830943534,5157.518198309428]
["2002-03-17",0.58000000000000007,368.76400000000007,368.76400000000007,3,0.1,7.0625000000000007E-2,0,{"$f":"'RWH Calculator'!$C$56","v":0},0,1057.4600871983243,234.78888888888901,0,133.97511111111106,1191.4351983094355,5157.518198309428]
["2002-03-18",0,0,0,3,0.1,7.0625000000000007E-2,39.131481481481487,{"$f":"'RWH Calculator'!$C$56","v":0},39.131481481481487,1018.3286057168428,0,39.131481481481487,0,1018.3286057168428,5196.6496797909094]
["2002-03-19",0,0,0,3,0.1,7.0625000000000007E-2,39.131481481481487,{"$f":"'RWH Calculator'!$C$56","v":0},39.131481481481487,979.19712423536134,0,39.131481481481487,0,979.19712423536134,5235.7811612723908]
["2002-03-20",0,0,0,3,0.1,7.0625000000000007E-2,39.131481481481487,{"$f":"'RWH Calculator'!$C$56","v":0},39.131481481481487,940.06564275387984,0,39.131481481481487,0,940.06564275387984,5274.9126427538722]
["2002-03-21",0,0,0,3,0.1,7.0625000000000007E-2,39.131481481481487,{"$f":"'RWH Calculator'!$C$56","v":0},39.131481481481487,900.93416127239834,0,39.131481481481487,0,900.93416127239834,5314.0441242353536]
["2002-03-22",0.18,114.444,114.444,3,0.1,7.0625000000000007E-2,0,{"$f":"'RWH Calculator'!$C$56","v":0},0,1015.3781612723983,114.44399999999996,0,4.2632564145606011E-14,1015.3781612723983,5314.0441242353536]
["2002-03-23",0.18000000000000005,114.44400000000005,114.44400000000005,3,0.1,7.0625000000000007E-2,0,{"$f":"'RWH Calculator'!$C$56","v":0},0,1057.4600871983243,42.081925925926043,0,72.362074074074002,1129.8221612723983,5314.0441242353536]
["2002-03-24",0,0,0,3,0.1,7.0625000000000007E-2,39.131481481481487,{"$f":"'RWH Calculator'!$C$56","v":0},39.131481481481487,1018.3286057168428,0,39.131481481481487,0,1018.3286057168428,5353.175605716835]
["2002-03-25",0,0,0,3,{"$f":"IF($B$2=\"Western SF\", VLOOKUP(E459,$R$6:$U$17, 4),VLOOKUP(E459, $R$6:$V$17,5))","v":0.1},7.0625000000000007E-2,39.131481481481487,{"$f":"'RWH Calculator'!$C$56","v":0},39.131481481481487,979.19712423536134,0,39.131481481481487,0,979.19712423536134,5392.3070871983164]
["2002-03-26",0,0,0,{"$f":"MONTH(A460)","v":3},0.1,{"$f":"F460*$B$6","v":7.0625000000000007E-2},39.131481481481487,{"$f":"'RWH Calculator'!$C$56","v":0},{"$f":"H460+I460","v":39.131481481481487},940.06564275387984,0,39.131481481481487,0,940.06564275387984,5431.4385686797978]
["2002-03-27",0,{"$f":"$B$3*$B$4*(B461/12)*7.48","v":0},{"$f":"C461","v":0},3,0.1,7.0625000000000007E-2,{"$f":"(IF(G461-B461>0,(G461-B461)/$B$7,0)/12*7.48)*$B$8","v":39.131481481481487},{"$f":"'RWH Calculator'!$C$56","v":0},39.131481481481487,{"$f":"IF(O461<0, 0, IF(O461>$H$2, $H$2, O461))","v":900.93416127239834},{"$f":"IF(J461>D461,D461, K461-K460+J461)","v":0},{"$f":"IF(D461+K460>J461,J461, D461+K460)","v":39.131481481481487},{"$f":"IF(C461>J461, C461-J461-(K461-K460),0)","v":0},{"$f":"K460+D461-J461","v":900.93416127239834},{"$f":"M461+P460","v":5470.5700501612791}]
["2002-03-28",0,0,0,3,0.1,7.0625000000000007E-2,39.131481481481487,{"$f":"'RWH Calculator'!$C$56","v":0},39.131481481481487,861.80267979091684,0,39.131481481481487,0,861.80267979091684,5509.7015316427605]
["2002-03-29",0,0,0,3,0.1,7.0625000000000007E-2,39.131481481481487,{"$f":"'RWH Calculator'!$C$56","v":0},39.131481481481487,822.67119830943534,0,39.131481481481487,0,822.67119830943534,5548.8330131242419]
["2002-03-30",0,0,0,3,0.1,7.0625000000000007E-2,39.131481481481487,{"$f":"'RWH Calculator'!$C$56","v":0},39.131481481481487,783.53971682795384,0,39.131481481481487,0,783.53971682795384,5587.9644946057233]
["2002-03-31",0,0,0,3,0.1,7.0625000000000007E-2,39.131481481481487,{"$f":"'RWH Calculator'!$C$56","v":0},39.131481481481487,744.40823534647234,0,39.131481481481487,0,744.40823534647234,5627.0959760872047]
["2002-04-01",0,0,0,4,0.13,9.1812500000000005E-2,50.870925925925924,{"$f":"'RWH Calculator'!$C$56","v":0},50.870925925925924,693.53730942054642,0,50.870925925925924,0,693.53730942054642,5677.9669020131305]
["2002-04-02",0,0,0,4,0.13,9.1812500000000005E-2,50.870925925925924,{"$f":"'RWH Calculator'!$C$56","v":0},50.870925925925924,642.6663834946205,0,50.870925925925924,0,642.6663834946205,5728.8378279390563]
["2002-04-03",0,0,0,4,0.13,9.1812500000000005E-2,50.870925925925924,{"$f":"'RWH Calculator'!$C$56","v":0},50.870925925925924,591.79545756869459,0,50.870925925925924,0,591.79545756869459,5779.7087538649821]
["2002-04-04",0,0,0,4,0.13,9.1812500000000005E-2,50.870925925925924,{"$f":"'RWH Calculator'!$C$56","v":0},50.870925925925924,540.92453164276867,0,50.870925925925924,0,540.92453164276867,5830.5796797909079]
["2002-04-05",0,0,0,4,0.13,9.1812500000000005E-2,50.870925925925924,{"$f":"'RWH Calculator'!$C$56","v":0},50.870925925925924,490.05360571684275,0,50.870925925925924,0,490.05360571684275,5881.4506057168337]
["2002-04-06",0.01,6.3580000000000014,6.3580000000000014,4,0.13,9.1812500000000005E-2,45.330185185185186,{"$f":"'RWH Calculator'!$C$56","v":0},45.330185185185186,451.08142053165756,6.3580000000000014,45.330185185185186,0,451.08142053165756,5926.7807909020185]
["2002-04-07",0,0,0,4,0.13,9.1812500000000005E-2,50.870925925925924,{"$f":"'RWH Calculator'!$C$56","v":0},50.870925925925924,400.21049460573164,0,50.870925925925924,0,400.21049460573164,5977.6517168279443]
["2002-04-08",0,0,0,4,0.13,9.1812500000000005E-2,50.870925925925924,{"$f":"'RWH Calculator'!$C$56","v":0},50.870925925925924,349.33956867980572,0,50.870925925925924,0,349.33956867980572,6028.5226427538701]
["2002-04-09",0.04,25.432000000000006,25.432000000000006,4,0.13,9.1812500000000005E-2,28.70796296296297,{"$f":"'RWH Calculator'!$C$56","v":0},28.70796296296297,346.06360571684274,25.432000000000006,28.70796296296297,0,346.06360571684274,6057.2306057168335]
["2002-04-10",0,0,0,4,0.13,9.1812500000000005E-2,50.870925925925924,{"$f":"'RWH Calculator'!$C$56","v":0},50.870925925925924,295.19267979091683,0,50.870925925925924,0,295.19267979091683,6108.1015316427593]
["2002-04-11",0,0,0,4,0.13,9.1812500000000005E-2,50.870925925925924,{"$f":"'RWH Calculator'!$C$56","v":0},50.870925925925924,244.32175386499091,0,50.870925925925924,0,244.32175386499091,6158.9724575686851]
["2002-04-12",0,0,0,4,0.13,9.1812500000000005E-2,50.870925925925924,{"$f":"'RWH Calculator'!$C$56","v":0},50.870925925925924,193.45082793906499,0,50.870925925925924,0,193.45082793906499,6209.8433834946109]
["2002-04-13",0,0,0,4,0.13,9.1812500000000005E-2,50.870925925925924,{"$f":"'RWH Calculator'!$C$56","v":0},50.870925925925924,142.57990201313908,0,50.870925925925924,0,142.57990201313908,6260.7143094205367]
["2002-04-14",0,0,0,4,0.13,9.1812500000000005E-2,50.870925925925924,{"$f":"'RWH Calculator'!$C$56","v":0},50.870925925925924,91.708976087213159,0,50.870925925925924,0,91.708976087213159,6311.5852353464625]
["2002-04-15",0,0,0,4,0.13,9.1812500000000005E-2,50.870925925925924,{"$f":"'RWH Calculator'!$C$56","v":0},50.870925925925924,40.838050161287235,0,50.870925925925924,0,40.838050161287235,6362.4561612723883]
["2002-04-16",0.25,158.95000000000002,158.95000000000002,4,0.13,9.1812500000000005E-2,0,{"$f":"'RWH Calculator'!$C$56","v":0},0,199.78805016128726,158.95000000000002,0,0,199.78805016128726,6362.4561612723883]
["2002-04-17",0,0,0,4,0.13,9.1812500000000005E-2,50.870925925925924,{"$f":"'RWH Calculator'!$C$56","v":0},50.870925925925924,148.91712423536134,0,50.870925925925924,0,148.91712423536134,6413.3270871983141]
["2002-04-18",0,0,0,4,0.13,9.1812500000000005E-2,50.870925925925924,{"$f":"'RWH Calculator'!$C$56","v":0},50.870925925925924,98.046198309435425,0,50.870925925925924,0,98.046198309435425,6464.1980131242399]
["2002-04-19",0,0,0,4,0.13,9.1812500000000005E-2,50.870925925925924,{"$f":"'RWH Calculator'!$C$56","v":0},50.870925925925924,47.175272383509501,0,50.870925925925924,0,47.175272383509501,6515.0689390501657]
["2002-04-20",0,0,0,4,0.13,9.1812500000000005E-2,50.870925925925924,{"$f":"'RWH Calculator'!$C$56","v":0},50.870925925925924,0,0,47.175272383509501,0,-3.695653542416423,6562.2442114336754]
["2002-04-21",0,0,0,4,0.13,9.1812500000000005E-2,50.870925925925924,{"$f":"'RWH Calculator'!$C$56","v":0},50.870925925925924,0,0,0,0,-50.870925925925924,6562.2442114336754]
["2002-04-22",0,0,0,4,0.13,9.1812500000000005E-2,50.870925925925924,{"$f":"'RWH Calculator'!$C$56","v":0},50.870925925925924,0,0,0,0,-50.870925925925924,6562.2442114336754]
["2002-04-23",0,0,0,4,0.13,9.1812500000000005E-2,50.870925925925924,{"$f":"'RWH Calculator'!$C$56","v":0},50.870925925925924,0,0,0,0,-50.870925925925924,6562.2442114336754]
["2002-04-24",0,0,0,4,0.13,9.1812500000000005E-2,50.870925925925924,{"$f":"'RWH Calculator'!$C$56","v":0},50.870925925925924,0,0,0,0,-50.870925925925924,6562.2442114336754]
["2002-04-25",0,0,0,4,0.13,9.1812500000000005E-2,50.870925925925924,{"$f":"'RWH Calculator'!$C$56","v":0},50.870925925925924,0,0,0,0,-50.870925925925924,6562.2442114336754]
["2002-04-26",0,0,0,4,0.13,9.1812500000000005E-2,50.870925925925924,{"$f":"'RWH Calculator'!$C$56","v":0},50.870925925925924,0,0,0,0,-50.870925925925924,6562.2442114336754]
["2002-04-27",0,0,0,4,0.13,9.1812500000000005E-2,50.870925925925924,{"$f":"'RWH Calculator'!$C$56","v":0},50.870925925925924,0,0,0,0,-50.870925925925924,6562.2442114336754]
["2002-04-28",0,0,0,4,0.13,9.1812500000000005E-2,50.870925925925924,{"$f":"'RWH Calculator'!$C$56","v":0},50.870925925925924,0,0,0,0,-50.870925925925924,6562.2442114336754]
["2002-04-29",0.22,139.876,139.876,4,0.13,9.1812500000000005E-2,0,{"$f":"'RWH Calculator'!$C$56","v":0},0,139.876,139.876,0,0,139.876,6562.2442114336754]
["2002-04-30",0,0,0,4,0.13,9.1812500000000005E-2,50.870925925925924,{"$f":"'RWH Calculator'!$C$56","v":0},50.870925925925924,89.005074074074088,0,50.870925925925924,0,89.005074074074088,6613.1151373596012]
["2002-05-01",0,0,0,5,0.15000000000000002,0.10593750000000002,58.697222222222237,{"$f":"'RWH Calculator'!$C$56","v":0},58.697222222222237,30.307851851851851,0,58.697222222222237,0,30.307851851851851,6671.8123595818233]
["2002-05-02",0,0,0,5,0.15000000000000002,0.10593750000000002,58.697222222222237,{"$f":"'RWH Calculator'!$C$56","v":0},58.697222222222237,0,0,30.307851851851851,0,-28.389370370370386,6702.1202114336747]
["2002-05-03",0,0,0,5,0.15000000000000002,0.10593750000000002,58.697222222222237,{"$f":"'RWH Calculator'!$C$56","v":0},58.697222222222237,0,0,0,0,-58.697222222222237,6702.1202114336747]
["2002-05-04",0,0,0,5,0.15000000000000002,0.10593750000000002,58.697222222222237,{"$f":"'RWH Calculator'!$C$56","v":0},58.697222222222237,0,0,0,0,-58.697222222222237,6702.1202114336747]
["2002-05-05",0,0,0,5,0.15000000000000002,0.10593750000000002,58.697222222222237,{"$f":"'RWH Calculator'!$C$56","v":0},58.697222222222237,0,0,0,0,-58.697222222222237,6702.1202114336747]
["2002-05-06",0,0,0,5,0.15000000000000002,0.10593750000000002,58.697222222222237,{"$f":"'RWH Calculator'!$C$56","v":0},58.697222222222237,0,0,0,0,-58.697222222222237,6702.1202114336747]
["2002-05-07",0,0,0,5,0.15000000000000002,0.10593750000000002,58.697222222222237,{"$f":"'RWH Calculator'!$C$56","v":0},58.697222222222237,0,0,0,0,-58.697222222222237,6702.1202114336747]
["2002-05-08",0,0,0,5,0.15000000000000002,0.10593750000000002,58.697222222222237,{"$f":"'RWH Calculator'!$C$56","v":0},58.697222222222237,0,0,0,0,-58.697222222222237,6702.1202114336747]
["2002-05-09",0,0,0,5,0.15000000000000002,0.10593750000000002,58.697222222222237,{"$f":"'RWH Calculator'!$C$56","v":0},58.697222222222237,0,0,0,0,-58.697222222222237,6702.1202114336747]
["2002-05-10",0,0,0,5,0.15000000000000002,0.10593750000000002,58.697222222222237,{"$f":"'RWH Calculator'!$C$56","v":0},58.697222222222237,0,0,0,0,-58.697222222222237,6702.1202114336747]
["2002-05-11",0,0,0,5,0.15000000000000002,0.10593750000000002,58.697222222222237,{"$f":"'RWH Calculator'!$C$56","v":0},58.697222222222237,0,0,0,0,-58.697222222222237,6702.1202114336747]
["2002-05-12",0,0,0,5,0.15000000000000002,0.10593750000000002,58.697222222222237,{"$f":"'RWH Calculator'!$C$56","v":0},58.697222222222237,0,0,0,0,-58.697222222222237,6702.1202114336747]
["2002-05-13",0,0,0,5,0.15000000000000002,0.10593750000000002,58.697222222222237,{"$f":"'RWH Calculator'!$C$56","v":0},58.697222222222237,0,0,0,0,-58.697222222222237,6702.1202114336747]
["2002-05-14",0,0,0,5,0.15000000000000002,0.10593750000000002,58.697222222222237,{"$f":"'RWH Calculator'!$C$56","v":0},58.697222222222237,0,0,0,0,-58.697222222222237,6702.1202114336747]
["2002-05-15",0,0,0,5,0.15000000000000002,0.10593750000000002,58.697222222222237,{"$f":"'RWH Calculator'!$C$56","v":0},58.697222222222237,0,0,0,0,-58.697222222222237,6702.1202114336747]
["2002-05-16",0,0,0,5,0.15000000000000002,0.10593750000000002,58.697222222222237,{"$f":"'RWH Calculator'!$C$56","v":0},58.697222222222237,0,0,0,0,-58.697222222222237,6702.1202114336747]
["2002-05-17",0,0,0,5,0.15000000000000002,0.10593750000000002,58.697222222222237,{"$f":"'RWH Calculator'!$C$56","v":0},58.697222222222237,0,0,0,0,-58.697222222222237,6702.1202114336747]
["2002-05-18",0,0,0,5,0.15000000000000002,0.10593750000000002,58.697222222222237,{"$f":"'RWH Calculator'!$C$56","v":0},58.697222222222237,0,0,0,0,-58.697222222222237,6702.1202114336747]
["2002-05-19",0.43000000000000005,273.39400000000006,273.39400000000006,5,0.15000000000000002,0.10593750000000002,0,{"$f":"'RWH Calculator'!$C$56","v":0},0,273.39400000000006,273.39400000000006,0,0,273.39400000000006,6702.1202114336747]
["2002-05-20",0.25000000000000006,158.95000000000007,158.95000000000007,5,0.15000000000000002,0.10593750000000002,0,{"$f":"'RWH Calculator'!$C$56","v":0},0,432.34400000000016,158.9500000000001,0,-2.8421709430404007E-14,432.34400000000016,6702.1202114336747]
["2002-05-21",0.16,101.72800000000002,101.72800000000002,5,0.15000000000000002,0.10593750000000002,0,{"$f":"'RWH Calculator'!$C$56","v":0},0,534.07200000000023,101.72800000000007,0,-4.2632564145606011E-14,534.07200000000023,6702.1202114336747]
["2002-05-22",0,0,0,5,0.15000000000000002,0.10593750000000002,58.697222222222237,{"$f":"'RWH Calculator'!$C$56","v":0},58.697222222222237,475.37477777777798,0,58.697222222222237,0,475.37477777777798,6760.8174336558968]
["2002-05-23",0,0,0,5,0.15000000000000002,0.10593750000000002,58.697222222222237,{"$f":"'RWH Calculator'!$C$56","v":0},58.697222222222237,416.67755555555573,0,58.697222222222237,0,416.67755555555573,6819.5146558781189]
["2002-05-24",0,0,0,5,0.15000000000000002,0.10593750000000002,58.697222222222237,{"$f":"'RWH Calculator'!$C$56","v":0},58.697222222222237,357.98033333333348,0,58.697222222222237,0,357.98033333333348,6878.211878100341]
["2002-05-25",0,0,0,5,0.15000000000000002,0.10593750000000002,58.697222222222237,{"$f":"'RWH Calculator'!$C$56","v":0},58.697222222222237,299.28311111111123,0,58.697222222222237,0,299.28311111111123,6936.9091003225631]
["2002-05-26",0,0,0,5,0.15000000000000002,0.10593750000000002,58.697222222222237,{"$f":"'RWH Calculator'!$C$56","v":0},58.697222222222237,240.58588888888897,0,58.697222222222237,0,240.58588888888897,6995.6063225447851]
["2002-05-27",0,0,0,5,0.15000000000000002,0.10593750000000002,58.697222222222237,{"$f":"'RWH Calculator'!$C$56","v":0},58.697222222222237,181.88866666666672,0,58.697222222222237,0,181.88866666666672,7054.3035447670072]
["2002-05-28",0,0,0,5,{"$f":"IF($B$2=\"Western SF\", VLOOKUP(E523,$R$6:$U$17, 4),VLOOKUP(E523, $R$6:$V$17,5))","v":0.15000000000000002},0.10593750000000002,58.697222222222237,{"$f":"'RWH Calculator'!$C$56","v":0},58.697222222222237,123.19144444444449,0,58.697222222222237,0,123.19144444444449,7113.0007669892293]
["2002-05-29",0,0,0,{"$f":"MONTH(A524)","v":5},0.15000000000000002,{"$f":"F524*$B$6","v":0.10593750000000002},58.697222222222237,{"$f":"'RWH Calculator'!$C$56","v":0},{"$f":"H524+I524","v":58.697222222222237},64.494222222222248,0,58.697222222222237,0,64.494222222222248,7171.6979892114514]
["2002-05-30",0,{"$f":"$B$3*$B$4*(B525/12)*7.48","v":0},{"$f":"C525","v":0},5,0.15000000000000002,0.10593750000000002,{"$f":"(IF(G525-B525>0,(G525-B525)/$B$7,0)/12*7.48)*$B$8","v":58.697222222222237},{"$f":"'RWH Calculator'!$C$56","v":0},58.697222222222237,{"$f":"IF(O525<0, 0, IF(O525>$H$2, $H$2, O525))","v":5.7970000000000113},{"$f":"IF(J525>D525,D525, K525-K524+J525)","v":0},{"$f":"IF(D525+K524>J525,J525, D525+K524)","v":58.697222222222237},{"$f":"IF(C525>J525, C525-J525-(K525-K524),0)","v":0},{"$f":"K524+D525-J525","v":5.7970000000000113},{"$f":"M525+P524","v":7230.3952114336735}]
["2002-05-31",0,0,0,5,0.15000000000000002,0.10593750000000002,58.697222222222237,{"$f":"'RWH Calculator'!$C$56","v":0},58.697222222222237,0,0,5.7970000000000113,0,-52.900222222222226,7236.192211433673]
["2002-06-01",0,0,0,6,0.16999999999999998,0.1200625,66.523518518518514,{"$f":"'RWH Calculator'!$C$56","v":0},66.523518518518514,0,0,0,0,-66.523518518518514,7236.192211433673]
["2002-06-02",0,0,0,6,0.16999999999999998,0.1200625,66.523518518518514,{"$f":"'RWH Calculator'!$C$56","v":0},66.523518518518514,0,0,0,0,-66.523518518518514,7236.192211433673]
["2002-06-03",0,0,0,6,0.16999999999999998,0.1200625,66.523518518518514,{"$f":"'RWH Calculator'!$C$56","v":0},66.523518518518514,0,0,0,0,-66.523518518518514,7236.192211433673]
["2002-06-04",0,0,0,6,0.16999999999999998,0.1200625,66.523518518518514,{"$f":"'RWH Calculator'!$C$56","v":0},66.523518518518514,0,0,0,0,-66.523518518518514,7236.192211433673]
["2002-06-05",0,0,0,6,0.16999999999999998,0.1200625,66.523518518518514,{"$f":"'RWH Calculator'!$C$56","v":0},66.523518518518514,0,0,0,0,-66.523518518518514,7236.192211433673]
["2002-06-06",0,0,0,6,0.16999999999999998,0.1200625,66.523518518518514,{"$f":"'RWH Calculator'!$C$56","v":0},66.523518518518514,0,0,0,0,-66.523518518518514,7236.192211433673]
["2002-06-07",0,0,0,6,0.16999999999999998,0.1200625,66.523518518518514,{"$f":"'RWH Calculator'!$C$56","v":0},66.523518518518514,0,0,0,0,-66.523518518518514,7236.192211433673]
["2002-06-08",0,0,0,6,0.16999999999999998,0.1200625,66.523518518518514,{"$f":"'RWH Calculator'!$C$56","v":0},66.523518518518514,0,0,0,0,-66.523518518518514,7236.192211433673]
["2002-06-09",0,0,0,6,0.16999999999999998,0.1200625,66.523518518518514,{"$f":"'RWH Calculator'!$C$56","v":0},66.523518518518514,0,0,0,0,-66.523518518518514,7236.192211433673]
["2002-06-10",0,0,0,6,0.16999999999999998,0.1200625,66.523518518518514,{"$f":"'RWH Calculator'!$C$56","v":0},66.523518518518514,0,0,0,0,-66.523518518518514,7236.192211433673]
["2002-06-11",0,0,0,6,0.16999999999999998,0.1200625,66.523518518518514,{"$f":"'RWH Calculator'!$C$56","v":0},66.523518518518514,0,0,0,0,-66.523518518518514,7236.192211433673]
["2002-06-12",0,0,0,6,0.16999999999999998,0.1200625,66.523518518518514,{"$f":"'RWH Calculator'!$C$56","v":0},66.523518518518514,0,0,0,0,-66.523518518518514,7236.192211433673]
["2002-06-13",0,0,0,6,0.16999999999999998,0.1200625,66.523518518518514,{"$f":"'RWH Calculator'!$C$56","v":0},66.523518518518514,0,0,0,0,-66.523518518518514,7236.192211433673]
["2002-06-14",0,0,0,6,0.16999999999999998,0.1200625,66.523518518518514,{"$f":"'RWH Calculator'!$C$56","v":0},66.523518518518514,0,0,0,0,-66.523518518518514,7236.192211433673]
["2002-06-15",0,0,0,6,0.16999999999999998,0.1200625,66.523518518518514,{"$f":"'RWH Calculator'!$C$56","v":0},66.523518518518514,0,0,0,0,-66.523518518518514,7236.192211433673]
["2002-06-16",0,0,0,6,0.16999999999999998,0.1200625,66.523518518518514,{"$f":"'RWH Calculator'!$C$56","v":0},66.523518518518514,0,0,0,0,-66.523518518518514,7236.192211433673]
["2002-06-17",0,0,0,6,0.16999999999999998,0.1200625,66.523518518518514,{"$f":"'RWH Calculator'!$C$56","v":0},66.523518518518514,0,0,0,0,-66.523518518518514,7236.192211433673]
["2002-06-18",0,0,0,6,0.16999999999999998,0.1200625,66.523518518518514,{"$f":"'RWH Calculator'!$C$56","v":0},66.523518518518514,0,0,0,0,-66.523518518518514,7236.192211433673]
["2002-06-19",0,0,0,6,0.16999999999999998,0.1200625,66.523518518518514,{"$f":"'RWH Calculator'!$C$56","v":0},66.523518518518514,0,0,0,0,-66.523518518518514,7236.192211433673]
["2002-06-20",0,0,0,6,0.16999999999999998,0.1200625,66.523518518518514,{"$f":"'RWH Calculator'!$C$56","v":0},66.523518518518514,0,0,0,0,-66.523518518518514,7236.192211433673]
["2002-06-21",0,0,0,6,0.16999999999999998,0.1200625,66.523518518518514,{"$f":"'RWH Calculator'!$C$56","v":0},66.523518518518514,0,0,0,0,-66.523518518518514,7236.192211433673]
["2002-06-22",0.01,6.3580000000000014,6.3580000000000014,6,0.16999999999999998,0.1200625,60.982777777777784,{"$f":"'RWH Calculator'!$C$56","v":0},60.982777777777784,0,6.3580000000000014,6.3580000000000014,0,-54.62477777777778,7242.5502114336732]
["2002-06-23",0,0,0,6,0.16999999999999998,0.1200625,66.523518518518514,{"$f":"'RWH Calculator'!$C$56","v":0},66.523518518518514,0,0,0,0,-66.523518518518514,7242.5502114336732]
["2002-06-24",0,0,0,6,0.16999999999999998,0.1200625,66.523518518518514,{"$f":"'RWH Calculator'!$C$56","v":0},66.523518518518514,0,0,0,0,-66.523518518518514,7242.5502114336732]
["2002-06-25",0,0,0,6,0.16999999999999998,0.1200625,66.523518518518514,{"$f":"'RWH Calculator'!$C$56","v":0},66.523518518518514,0,0,0,0,-66.523518518518514,7242.5502114336732]
["2002-06-26",0,0,0,6,0.16999999999999998,0.1200625,66.523518518518514,{"$f":"'RWH Calculator'!$C$56","v":0},66.523518518518514,0,0,0,0,-66.523518518518514,7242.5502114336732]
["2002-06-27",0.02,12.716000000000003,12.716000000000003,6,0.16999999999999998,0.1200625,55.442037037037039,{"$f":"'RWH Calculator'!$C$56","v":0},55.442037037037039,0,12.716000000000003,12.716000000000003,0,-42.726037037037038,7255.2662114336736]
["2002-06-28",0,0,0,6,0.16999999999999998,0.1200625,66.523518518518514,{"$f":"'RWH Calculator'!$C$56","v":0},66.523518518518514,0,0,0,0,-66.523518518518514,7255.2662114336736]
["2002-06-29",0,0,0,6,0.16999999999999998,0.1200625,66.523518518518514,{"$f":"'RWH Calculator'!$C$56","v":0},66.523518518518514,0,0,0,0,-66.523518518518514,7255.2662114336736]
["2002-06-30",0,0,0,6,0.16999999999999998,0.1200625,66.523518518518514,{"$f":"'RWH Calculator'!$C$56","v":0},66.523518518518514,0,0,0,0,-66.523518518518514,7255.2662114336736]
["2002-07-01",0,0,0,7,0.16,0.113,62.610370370370383,{"$f":"'RWH Calculator'!$C$56","v":0},62.610370370370383,0,0,0,0,-62.610370370370383,7255.2662114336736]
["2002-07-02",0,0,0,7,0.16,0.113,62.610370370370383,{"$f":"'RWH Calculator'!$C$56","v":0},62.610370370370383,0,0,0,0,-62.610370370370383,7255.2662114336736]
["2002-07-03",0,0,0,7,0.16,0.113,62.610370370370383,{"$f":"'RWH Calculator'!$C$56","v":0},62.610370370370383,0,0,0,0,-62.610370370370383,7255.2662114336736]
["2002-07-04",0,0,0,7,0.16,0.113,62.610370370370383,{"$f":"'RWH Calculator'!$C$56","v":0},62.610370370370383,0,0,0,0,-62.610370370370383,7255.2662114336736]
["2002-07-05",0,0,0,7,0.16,0.113,62.610370370370383,{"$f":"'RWH Calculator'!$C$56","v":0},62.610370370370383,0,0,0,0,-62.610370370370383,7255.2662114336736]
["2002-07-06",0,0,0,7,0.16,0.113,62.610370370370383,{"$f":"'RWH Calculator'!$C$56","v":0},62.610370370370383,0,0,0,0,-62.610370370370383,7255.2662114336736]
["2002-07-07",0,0,0,7,0.16,0.113,62.610370370370383,{"$f":"'RWH Calculator'!$C$56","v":0},62.610370370370383,0,0,0,0,-62.610370370370383,7255.2662114336736]
["2002-07-08",0,0,0,7,0.16,0.113,62.610370370370383,{"$f":"'RWH Calculator'!$C$56","v":0},62.610370370370383,0,0,0,0,-62.610370370370383,7255.2662114336736]
["2002-07-09",0,0,0,7,0.16,0.113,62.610370370370383,{"$f":"'RWH Calculator'!$C$56","v":0},62.610370370370383,0,0,0,0,-62.610370370370383,7255.2662114336736]
["2002-07-10",0,0,0,7,0.16,0.113,62.610370370370383,{"$f":"'RWH Calculator'!$C$56","v":0},62.610370370370383,0,0,0,0,-62.610370370370383,7255.2662114336736]
["2002-07-11",0,0,0,7,0.16,0.113,62.610370370370383,{"$f":"'RWH Calculator'!$C$56","v":0},62.610370370370383,0,0,0,0,-62.610370370370383,7255.2662114336736]
["2002-07-12",0,0,0,7,0.16,0.113,62.610370370370383,{"$f":"'RWH Calculator'!$C$56","v":0},62.610370370370383,0,0,0,0,-62.610370370370383,7255.2662114336736]
["2002-07-13",0,0,0,7,0.16,0.113,62.610370370370383,{"$f":"'RWH Calculator'!$C$56","v":0},62.610370370370383,0,0,0,0,-62.610370370370383,7255.2662114336736]
["2002-07-14",0,0,0,7,0.16,0.113,62.610370370370383,{"$f":"'RWH Calculator'!$C$56","v":0},62.610370370370383,0,0,0,0,-62.610370370370383,7255.2662114336736]
["2002-07-15",0,0,0,7,0.16,0.113,62.610370370370383,{"$f":"'RWH Calculator'!$C$56","v":0},62.610370370370383,0,0,0,0,-62.610370370370383,7255.2662114336736]
["2002-07-16",0,0,0,7,0.16,0.113,62.610370370370383,{"$f":"'RWH Calculator'!$C$56","v":0},62.610370370370383,0,0,0,0,-62.610370370370383,7255.2662114336736]
["2002-07-17",0,0,0,7,0.16,0.113,62.610370370370383,{"$f":"'RWH Calculator'!$C$56","v":0},62.610370370370383,0,0,0,0,-62.610370370370383,7255.2662114336736]
["2002-07-18",0,0,0,7,0.16,0.113,62.610370370370383,{"$f":"'RWH Calculator'!$C$56","v":0},62.610370370370383,0,0,0,0,-62.610370370370383,7255.2662114336736]
["2002-07-19",0,0,0,7,0.16,0.113,62.610370370370383,{"$f":"'RWH Calculator'!$C$56","v":0},62.610370370370383,0,0,0,0,-62.610370370370383,7255.2662114336736]
["2002-07-20",0,0,0,7,0.16,0.113,62.610370370370383,{"$f":"'RWH Calculator'!$C$56","v":0},62.610370370370383,0,0,0,0,-62.610370370370383,7255.2662114336736]
["2002-07-21",0,0,0,7,0.16,0.113,62.610370370370383,{"$f":"'RWH Calculator'!$C$56","v":0},62.610370370370383,0,0,0,0,-62.610370370370383,7255.2662114336736]
["2002-07-22",0,0,0,7,0.16,0.113,62.610370370370383,{"$f":"'RWH Calculator'!$C$56","v":0},62.610370370370383,0,0,0,0,-62.610370370370383,7255.2662114336736]
["2002-07-23",0,0,0,7,0.16,0.113,62.610370370370383,{"$f":"'RWH Calculator'!$C$56","v":0},62.610370370370383,0,0,0,0,-62.610370370370383,7255.2662114336736]
["2002-07-24",0,0,0,7,0.16,0.113,62.610370370370383,{"$f":"'RWH Calculator'!$C$56","v":0},62.610370370370383,0,0,0,0,-62.610370370370383,7255.2662114336736]
["2002-07-25",0,0,0,7,0.16,0.113,62.610370370370383,{"$f":"'RWH Calculator'!$C$56","v":0},62.610370370370383,0,0,0,0,-62.610370370370383,7255.2662114336736]
["2002-07-26",0,0,0,7,0.16,0.113,62.610370370370383,{"$f":"'RWH Calculator'!$C$56","v":0},62.610370370370383,0,0,0,0,-62.610370370370383,7255.2662114336736]
["2002-07-27",0,0,0,7,0.16,0.113,62.610370370370383,{"$f":"'RWH Calculator'!$C$56","v":0},62.610370370370383,0,0,0,0,-62.610370370370383,7255.2662114336736]
["2002-07-28",0,0,0,7,0.16,0.113,62.610370370370383,{"$f":"'RWH Calculator'!$C$56","v":0},62.610370370370383,0,0,0,0,-62.610370370370383,7255.2662114336736]
["2002-07-29",0,0,0,7,0.16,0.113,62.610370370370383,{"$f":"'RWH Calculator'!$C$56","v":0},62.610370370370383,0,0,0,0,-62.610370370370383,7255.2662114336736]
["2002-07-30",0,0,0,7,0.16,0.113,62.610370370370383,{"$f":"'RWH Calculator'!$C$56","v":0},62.610370370370383,0,0,0,0,-62.610370370370383,7255.2662114336736]
["2002-07-31",0,0,0,7,{"$f":"IF($B$2=\"Western SF\", VLOOKUP(E587,$R$6:$U$17, 4),VLOOKUP(E587, $R$6:$V$17,5))","v":0.16},0.113,62.610370370370383,{"$f":"'RWH Calculator'!$C$56","v":0},62.610370370370383,0,0,0,0,-62.610370370370383,7255.2662114336736]
["2002-08-01",0,0,0,{"$f":"MONTH(A588)","v":8},0.15000000000000002,{"$f":"F588*$B$6","v":0.10593750000000002},58.697222222222237,{"$f":"'RWH Calculator'!$C$56","v":0},{"$f":"H588+I588","v":58.697222222222237},0,0,0,0,-58.697222222222237,7255.2662114336736]
["2002-08-02",0.02,{"$f":"$B$3*$B$4*(B589/12)*7.48","v":12.716000000000003},{"$f":"C589","v":12.716000000000003},8,0.15000000000000002,0.10593750000000002,{"$f":"(IF(G589-B589>0,(G589-B589)/$B$7,0)/12*7.48)*$B$8","v":47.615740740740748},{"$f":"'RWH Calculator'!$C$56","v":0},47.615740740740748,{"$f":"IF(O589<0, 0, IF(O589>$H$2, $H$2, O589))","v":0},{"$f":"IF(J589>D589,D589, K589-K588+J589)","v":12.716000000000003},{"$f":"IF(D589+K588>J589,J589, D589+K588)","v":12.716000000000003},{"$f":"IF(C589>J589, C589-J589-(K589-K588),0)","v":0},{"$f":"K588+D589-J589","v":-34.899740740740747},{"$f":"M589+P588","v":7267.9822114336739}]
["2002-08-03",0,0,0,8,0.15000000000000002,0.10593750000000002,58.697222222222237,{"$f":"'RWH Calculator'!$C$56","v":0},58.697222222222237,0,0,0,0,-58.697222222222237,7267.9822114336739]
["2002-08-04",0,0,0,8,0.15000000000000002,0.10593750000000002,58.697222222222237,{"$f":"'RWH Calculator'!$C$56","v":0},58.697222222222237,0,0,0,0,-58.697222222222237,7267.9822114336739]
["2002-08-05",0,0,0,8,0.15000000000000002,0.10593750000000002,58.697222222222237,{"$f":"'RWH Calculator'!$C$56","v":0},58.697222222222237,0,0,0,0,-58.697222222222237,7267.9822114336739]
["2002-08-06",0,0,0,8,0.15000000000000002,0.10593750000000002,58.697222222222237,{"$f":"'RWH Calculator'!$C$56","v":0},58.697222222222237,0,0,0,0,-58.697222222222237,7267.9822114336739]
["2002-08-07",0,0,0,8,0.15000000000000002,0.10593750000000002,58.697222222222237,{"$f":"'RWH Calculator'!$C$56","v":0},58.697222222222237,0,0,0,0,-58.697222222222237,7267.9822114336739]
["2002-08-08",0,0,0,8,0.15000000000000002,0.10593750000000002,58.697222222222237,{"$f":"'RWH Calculator'!$C$56","v":0},58.697222222222237,0,0,0,0,-58.697222222222237,7267.9822114336739]
["2002-08-09",0,0,0,8,0.15000000000000002,0.10593750000000002,58.697222222222237,{"$f":"'RWH Calculator'!$C$56","v":0},58.697222222222237,0,0,0,0,-58.697222222222237,7267.9822114336739]
["2002-08-10",0,0,0,8,0.15000000000000002,0.10593750000000002,58.697222222222237,{"$f":"'RWH Calculator'!$C$56","v":0},58.697222222222237,0,0,0,0,-58.697222222222237,7267.9822114336739]
["2002-08-11",0,0,0,8,0.15000000000000002,0.10593750000000002,58.697222222222237,{"$f":"'RWH Calculator'!$C$56","v":0},58.697222222222237,0,0,0,0,-58.697222222222237,7267.9822114336739]
["2002-08-12",0,0,0,8,0.15000000000000002,0.10593750000000002,58.697222222222237,{"$f":"'RWH Calculator'!$C$56","v":0},58.697222222222237,0,0,0,0,-58.697222222222237,7267.9822114336739]
["2002-08-13",0,0,0,8,0.15000000000000002,0.10593750000000002,58.697222222222237,{"$f":"'RWH Calculator'!$C$56","v":0},58.697222222222237,0,0,0,0,-58.697222222222237,7267.9822114336739]
["2002-08-14",0,0,0,8,0.15000000000000002,0.10593750000000002,58.697222222222237,{"$f":"'RWH Calculator'!$C$56","v":0},58.697222222222237,0,0,0,0,-58.697222222222237,7267.9822114336739]
["2002-08-15",0,0,0,8,0.15000000000000002,0.10593750000000002,58.697222222222237,{"$f":"'RWH Calculator'!$C$56","v":0},58.697222222222237,0,0,0,0,-58.697222222222237,7267.9822114336739]
["2002-08-16",0,0,0,8,0.15000000000000002,0.10593750000000002,58.697222222222237,{"$f":"'RWH Calculator'!$C$56","v":0},58.697222222222237,0,0,0,0,-58.697222222222237,7267.9822114336739]
["2002-08-17",0,0,0,8,0.15000000000000002,0.10593750000000002,58.697222222222237,{"$f":"'RWH Calculator'!$C$56","v":0},58.697222222222237,0,0,0,0,-58.697222222222237,7267.9822114336739]
["2002-08-18",0,0,0,8,0.15000000000000002,0.10593750000000002,58.697222222222237,{"$f":"'RWH Calculator'!$C$56","v":0},58.697222222222237,0,0,0,0,-58.697222222222237,7267.9822114336739]
["2002-08-19",0,0,0,8,0.15000000000000002,0.10593750000000002,58.697222222222237,{"$f":"'RWH Calculator'!$C$56","v":0},58.697222222222237,0,0,0,0,-58.697222222222237,7267.9822114336739]
["2002-08-20",0,0,0,8,0.15000000000000002,0.10593750000000002,58.697222222222237,{"$f":"'RWH Calculator'!$C$56","v":0},58.697222222222237,0,0,0,0,-58.697222222222237,7267.9822114336739]
["2002-08-21",0,0,0,8,0.15000000000000002,0.10593750000000002,58.697222222222237,{"$f":"'RWH Calculator'!$C$56","v":0},58.697222222222237,0,0,0,0,-58.697222222222237,7267.9822114336739]
["2002-08-22",0,0,0,8,0.15000000000000002,0.10593750000000002,58.697222222222237,{"$f":"'RWH Calculator'!$C$56","v":0},58.697222222222237,0,0,0,0,-58.697222222222237,7267.9822114336739]
["2002-08-23",0,0,0,8,0.15000000000000002,0.10593750000000002,58.697222222222237,{"$f":"'RWH Calculator'!$C$56","v":0},58.697222222222237,0,0,0,0,-58.697222222222237,7267.9822114336739]
["2002-08-24",0,0,0,8,0.15000000000000002,0.10593750000000002,58.697222222222237,{"$f":"'RWH Calculator'!$C$56","v":0},58.697222222222237,0,0,0,0,-58.697222222222237,7267.9822114336739]
["2002-08-25",0.01,6.3580000000000014,6.3580000000000014,8,0.15000000000000002,0.10593750000000002,53.156481481481499,{"$f":"'RWH Calculator'!$C$56","v":0},53.156481481481499,0,6.3580000000000014,6.3580000000000014,0,-46.798481481481495,7274.3402114336741]
["2002-08-26",0,0,0,8,0.15000000000000002,0.10593750000000002,58.697222222222237,{"$f":"'RWH Calculator'!$C$56","v":0},58.697222222222237,0,0,0,0,-58.697222222222237,7274.3402114336741]
["2002-08-27",0,0,0,8,0.15000000000000002,0.10593750000000002,58.697222222222237,{"$f":"'RWH Calculator'!$C$56","v":0},58.697222222222237,0,0,0,0,-58.697222222222237,7274.3402114336741]
["2002-08-28",0,0,0,8,0.15000000000000002,0.10593750000000002,58.697222222222237,{"$f":"'RWH Calculator'!$C$56","v":0},58.697222222222237,0,0,0,0,-58.697222222222237,7274.3402114336741]
["2002-08-29",0,0,0,8,0.15000000000000002,0.10593750000000002,58.697222222222237,{"$f":"'RWH Calculator'!$C$56","v":0},58.697222222222237,0,0,0,0,-58.697222222222237,7274.3402114336741]
["2002-08-30",0,0,0,8,0.15000000000000002,0.10593750000000002,58.697222222222237,{"$f":"'RWH Calculator'!$C$56","v":0},58.697222222222237,0,0,0,0,-58.697222222222237,7274.3402114336741]
["2002-08-31",0,0,0,8,0.15000000000000002,0.10593750000000002,58.697222222222237,{"$f":"'RWH Calculator'!$C$56","v":0},58.697222222222237,0,0,0,0,-58.697222222222237,7274.3402114336741]
["2002-09-01",0,0,0,9,0.13,9.1812500000000005E-2,50.870925925925924,{"$f":"'RWH Calculator'!$C$56","v":0},50.870925925925924,0,0,0,0,-50.870925925925924,7274.3402114336741]
["2002-09-02",0,0,0,9,0.13,9.1812500000000005E-2,50.870925925925924,{"$f":"'RWH Calculator'!$C$56","v":0},50.870925925925924,0,0,0,0,-50.870925925925924,7274.3402114336741]
["2002-09-03",0,0,0,9,0.13,9.1812500000000005E-2,50.870925925925924,{"$f":"'RWH Calculator'!$C$56","v":0},50.870925925925924,0,0,0,0,-50.870925925925924,7274.3402114336741]
["2002-09-04",0,0,0,9,0.13,9.1812500000000005E-2,50.870925925925924,{"$f":"'RWH Calculator'!$C$56","v":0},50.870925925925924,0,0,0,0,-50.870925925925924,7274.3402114336741]
["2002-09-05",0,0,0,9,0.13,9.1812500000000005E-2,50.870925925925924,{"$f":"'RWH Calculator'!$C$56","v":0},50.870925925925924,0,0,0,0,-50.870925925925924,7274.3402114336741]
["2002-09-06",0,0,0,9,0.13,9.1812500000000005E-2,50.870925925925924,{"$f":"'RWH Calculator'!$C$56","v":0},50.870925925925924,0,0,0,0,-50.870925925925924,7274.3402114336741]
["2002-09-07",0,0,0,9,0.13,9.1812500000000005E-2,50.870925925925924,{"$f":"'RWH Calculator'!$C$56","v":0},50.870925925925924,0,0,0,0,-50.870925925925924,7274.3402114336741]
["2002-09-08",0,0,0,9,0.13,9.1812500000000005E-2,50.870925925925924,{"$f":"'RWH Calculator'!$C$56","v":0},50.870925925925924,0,0,0,0,-50.870925925925924,7274.3402114336741]
["2002-09-09",0,0,0,9,0.13,9.1812500000000005E-2,50.870925925925924,{"$f":"'RWH Calculator'!$C$56","v":0},50.870925925925924,0,0,0,0,-50.870925925925924,7274.3402114336741]
["2002-09-10",0,0,0,9,0.13,9.1812500000000005E-2,50.870925925925924,{"$f":"'RWH Calculator'!$C$56","v":0},50.870925925925924,0,0,0,0,-50.870925925925924,7274.3402114336741]
["2002-09-11",0,0,0,9,0.13,9.1812500000000005E-2,50.870925925925924,{"$f":"'RWH Calculator'!$C$56","v":0},50.870925925925924,0,0,0,0,-50.870925925925924,7274.3402114336741]
["2002-09-12",0,0,0,9,0.13,9.1812500000000005E-2,50.870925925925924,{"$f":"'RWH Calculator'!$C$56","v":0},50.870925925925924,0,0,0,0,-50.870925925925924,7274.3402114336741]
["2002-09-13",0,0,0,9,0.13,9.1812500000000005E-2,50.870925925925924,{"$f":"'RWH Calculator'!$C$56","v":0},50.870925925925924,0,0,0,0,-50.870925925925924,7274.3402114336741]
["2002-09-14",0,0,0,9,0.13,9.1812500000000005E-2,50.870925925925924,{"$f":"'RWH Calculator'!$C$56","v":0},50.870925925925924,0,0,0,0,-50.870925925925924,7274.3402114336741]
["2002-09-15",0,0,0,9,0.13,9.1812500000000005E-2,50.870925925925924,{"$f":"'RWH Calculator'!$C$56","v":0},50.870925925925924,0,0,0,0,-50.870925925925924,7274.3402114336741]
["2002-09-16",0,0,0,9,0.13,9.1812500000000005E-2,50.870925925925924,{"$f":"'RWH Calculator'!$C$56","v":0},50.870925925925924,0,0,0,0,-50.870925925925924,7274.3402114336741]
["2002-09-17",0,0,0,9,0.13,9.1812500000000005E-2,50.870925925925924,{"$f":"'RWH Calculator'!$C$56","v":0},50.870925925925924,0,0,0,0,-50.870925925925924,7274.3402114336741]
["2002-09-18",0,0,0,9,0.13,9.1812500000000005E-2,50.870925925925924,{"$f":"'RWH Calculator'!$C$56","v":0},50.870925925925924,0,0,0,0,-50.870925925925924,7274.3402114336741]
["2002-09-19",0,0,0,9,0.13,9.1812500000000005E-2,50.870925925925924,{"$f":"'RWH Calculator'!$C$56","v":0},50.870925925925924,0,0,0,0,-50.870925925925924,7274.3402114336741]
["2002-09-20",0,0,0,9,0.13,9.1812500000000005E-2,50.870925925925924,{"$f":"'RWH Calculator'!$C$56","v":0},50.870925925925924,0,0,0,0,-50.870925925925924,7274.3402114336741]
["2002-09-21",0,0,0,9,0.13,9.1812500000000005E-2,50.870925925925924,{"$f":"'RWH Calculator'!$C$56","v":0},50.870925925925924,0,0,0,0,-50.870925925925924,7274.3402114336741]
["2002-09-22",0,0,0,9,0.13,9.1812500000000005E-2,50.870925925925924,{"$f":"'RWH Calculator'!$C$56","v":0},50.870925925925924,0,0,0,0,-50.870925925925924,7274.3402114336741]
["2002-09-23",0,0,0,9,0.13,9.1812500000000005E-2,50.870925925925924,{"$f":"'RWH Calculator'!$C$56","v":0},50.870925925925924,0,0,0,0,-50.870925925925924,7274.3402114336741]
["2002-09-24",0,0,0,9,0.13,9.1812500000000005E-2,50.870925925925924,{"$f":"'RWH Calculator'!$C$56","v":0},50.870925925925924,0,0,0,0,-50.870925925925924,7274.3402114336741]
["2002-09-25",0.01,6.3580000000000014,6.3580000000000014,9,0.13,9.1812500000000005E-2,45.330185185185186,{"$f":"'RWH Calculator'!$C$56","v":0},45.330185185185186,0,6.3580000000000014,6.3580000000000014,0,-38.972185185185182,7280.6982114336743]
["2002-09-26",0,0,0,9,0.13,9.1812500000000005E-2,50.870925925925924,{"$f":"'RWH Calculator'!$C$56","v":0},50.870925925925924,0,0,0,0,-50.870925925925924,7280.6982114336743]
["2002-09-27",0,0,0,9,0.13,9.1812500000000005E-2,50.870925925925924,{"$f":"'RWH Calculator'!$C$56","v":0},50.870925925925924,0,0,0,0,-50.870925925925924,7280.6982114336743]
["2002-09-28",0,0,0,9,0.13,9.1812500000000005E-2,50.870925925925924,{"$f":"'RWH Calculator'!$C$56","v":0},50.870925925925924,0,0,0,0,-50.870925925925924,7280.6982114336743]
["2002-09-29",0,0,0,9,0.13,9.1812500000000005E-2,50.870925925925924,{"$f":"'RWH Calculator'!$C$56","v":0},50.870925925925924,0,0,0,0,-50.870925925925924,7280.6982114336743]
["2002-09-30",0,0,0,9,0.13,9.1812500000000005E-2,50.870925925925924,{"$f":"'RWH Calculator'!$C$56","v":0},50.870925925925924,0,0,0,0,-50.870925925925924,7280.6982114336743]
["2002-10-01",0,0,0,10,0.09,6.3562500000000008E-2,35.218333333333341,{"$f":"'RWH Calculator'!$C$56","v":0},35.218333333333341,0,0,0,0,-35.218333333333341,7280.6982114336743]
["2002-10-02",0,0,0,10,0.09,6.3562500000000008E-2,35.218333333333341,{"$f":"'RWH Calculator'!$C$56","v":0},35.218333333333341,0,0,0,0,-35.218333333333341,7280.6982114336743]
["2002-10-03",0,0,0,10,{"$f":"IF($B$2=\"Western SF\", VLOOKUP(E651,$R$6:$U$17, 4),VLOOKUP(E651, $R$6:$V$17,5))","v":0.09},6.3562500000000008E-2,35.218333333333341,{"$f":"'RWH Calculator'!$C$56","v":0},35.218333333333341,0,0,0,0,-35.218333333333341,7280.6982114336743]
["2002-10-04",0,0,0,{"$f":"MONTH(A652)","v":10},0.09,{"$f":"F652*$B$6","v":6.3562500000000008E-2},35.218333333333341,{"$f":"'RWH Calculator'!$C$56","v":0},{"$f":"H652+I652","v":35.218333333333341},0,0,0,0,-35.218333333333341,7280.6982114336743]
["2002-10-05",0,{"$f":"$B$3*$B$4*(B653/12)*7.48","v":0},{"$f":"C653","v":0},10,0.09,6.3562500000000008E-2,{"$f":"(IF(G653-B653>0,(G653-B653)/$B$7,0)/12*7.48)*$B$8","v":35.218333333333341},{"$f":"'RWH Calculator'!$C$56","v":0},35.218333333333341,{"$f":"IF(O653<0, 0, IF(O653>$H$2, $H$2, O653))","v":0},{"$f":"IF(J653>D653,D653, K653-K652+J653)","v":0},{"$f":"IF(D653+K652>J653,J653, D653+K652)","v":0},{"$f":"IF(C653>J653, C653-J653-(K653-K652),0)","v":0},{"$f":"K652+D653-J653","v":-35.218333333333341},{"$f":"M653+P652","v":7280.6982114336743}]
["2002-10-06",0,0,0,10,0.09,6.3562500000000008E-2,35.218333333333341,{"$f":"'RWH Calculator'!$C$56","v":0},35.218333333333341,0,0,0,0,-35.218333333333341,7280.6982114336743]
["2002-10-07",0,0,0,10,0.09,6.3562500000000008E-2,35.218333333333341,{"$f":"'RWH Calculator'!$C$56","v":0},35.218333333333341,0,0,0,0,-35.218333333333341,7280.6982114336743]
["2002-10-08",0,0,0,10,0.09,6.3562500000000008E-2,35.218333333333341,{"$f":"'RWH Calculator'!$C$56","v":0},35.218333333333341,0,0,0,0,-35.218333333333341,7280.6982114336743]
["2002-10-09",0,0,0,10,0.09,6.3562500000000008E-2,35.218333333333341,{"$f":"'RWH Calculator'!$C$56","v":0},35.218333333333341,0,0,0,0,-35.218333333333341,7280.6982114336743]
["2002-10-10",0,0,0,10,0.09,6.3562500000000008E-2,35.218333333333341,{"$f":"'RWH Calculator'!$C$56","v":0},35.218333333333341,0,0,0,0,-35.218333333333341,7280.6982114336743]
["2002-10-11",0,0,0,10,0.09,6.3562500000000008E-2,35.218333333333341,{"$f":"'RWH Calculator'!$C$56","v":0},35.218333333333341,0,0,0,0,-35.218333333333341,7280.6982114336743]
["2002-10-12",0,0,0,10,0.09,6.3562500000000008E-2,35.218333333333341,{"$f":"'RWH Calculator'!$C$56","v":0},35.218333333333341,0,0,0,0,-35.218333333333341,7280.6982114336743]
["2002-10-13",0,0,0,10,0.09,6.3562500000000008E-2,35.218333333333341,{"$f":"'RWH Calculator'!$C$56","v":0},35.218333333333341,0,0,0,0,-35.218333333333341,7280.6982114336743]
["2002-10-14",0,0,0,10,0.09,6.3562500000000008E-2,35.218333333333341,{"$f":"'RWH Calculator'!$C$56","v":0},35.218333333333341,0,0,0,0,-35.218333333333341,7280.6982114336743]
["2002-10-15",0,0,0,10,0.09,6.3562500000000008E-2,35.218333333333341,{"$f":"'RWH Calculator'!$C$56","v":0},35.218333333333341,0,0,0,0,-35.218333333333341,7280.6982114336743]
["2002-10-16",0,0,0,10,0.09,6.3562500000000008E-2,35.218333333333341,{"$f":"'RWH Calculator'!$C$56","v":0},35.218333333333341,0,0,0,0,-35.218333333333341,7280.6982114336743]
["2002-10-17",0,0,0,10,0.09,6.3562500000000008E-2,35.218333333333341,{"$f":"'RWH Calculator'!$C$56","v":0},35.218333333333341,0,0,0,0,-35.218333333333341,7280.6982114336743]
["2002-10-18",0,0,0,10,0.09,6.3562500000000008E-2,35.218333333333341,{"$f":"'RWH Calculator'!$C$56","v":0},35.218333333333341,0,0,0,0,-35.218333333333341,7280.6982114336743]
["2002-10-19",0,0,0,10,0.09,6.3562500000000008E-2,35.218333333333341,{"$f":"'RWH Calculator'!$C$56","v":0},35.218333333333341,0,0,0,0,-35.218333333333341,7280.6982114336743]
["2002-10-20",0,0,0,10,0.09,6.3562500000000008E-2,35.218333333333341,{"$f":"'RWH Calculator'!$C$56","v":0},35.218333333333341,0,0,0,0,-35.218333333333341,7280.6982114336743]
["2002-10-21",0,0,0,10,0.09,6.3562500000000008E-2,35.218333333333341,{"$f":"'RWH Calculator'!$C$56","v":0},35.218333333333341,0,0,0,0,-35.218333333333341,7280.6982114336743]
["2002-10-22",0,0,0,10,0.09,6.3562500000000008E-2,35.218333333333341,{"$f":"'RWH Calculator'!$C$56","v":0},35.218333333333341,0,0,0,0,-35.218333333333341,7280.6982114336743]
["2002-10-23",0.01,6.3580000000000014,6.3580000000000014,10,0.09,6.3562500000000008E-2,29.677592592592596,{"$f":"'RWH Calculator'!$C$56","v":0},29.677592592592596,0,6.3580000000000014,6.3580000000000014,0,-23.319592592592596,7287.0562114336744]
["2002-10-24",0,0,0,10,0.09,6.3562500000000008E-2,35.218333333333341,{"$f":"'RWH Calculator'!$C$56","v":0},35.218333333333341,0,0,0,0,-35.218333333333341,7287.0562114336744]
["2002-10-25",0,0,0,10,0.09,6.3562500000000008E-2,35.218333333333341,{"$f":"'RWH Calculator'!$C$56","v":0},35.218333333333341,0,0,0,0,-35.218333333333341,7287.0562114336744]
["2002-10-26",0,0,0,10,0.09,6.3562500000000008E-2,35.218333333333341,{"$f":"'RWH Calculator'!$C$56","v":0},35.218333333333341,0,0,0,0,-35.218333333333341,7287.0562114336744]
["2002-10-27",0,0,0,10,0.09,6.3562500000000008E-2,35.218333333333341,{"$f":"'RWH Calculator'!$C$56","v":0},35.218333333333341,0,0,0,0,-35.218333333333341,7287.0562114336744]
["2002-10-28",0,0,0,10,0.09,6.3562500000000008E-2,35.218333333333341,{"$f":"'RWH Calculator'!$C$56","v":0},35.218333333333341,0,0,0,0,-35.218333333333341,7287.0562114336744]
["2002-10-29",0,0,0,10,0.09,6.3562500000000008E-2,35.218333333333341,{"$f":"'RWH Calculator'!$C$56","v":0},35.218333333333341,0,0,0,0,-35.218333333333341,7287.0562114336744]
["2002-10-30",0,0,0,10,0.09,6.3562500000000008E-2,35.218333333333341,{"$f":"'RWH Calculator'!$C$56","v":0},35.218333333333341,0,0,0,0,-35.218333333333341,7287.0562114336744]
["2002-10-31",0,0,0,10,0.09,6.3562500000000008E-2,35.218333333333341,{"$f":"'RWH Calculator'!$C$56","v":0},35.218333333333341,0,0,0,0,-35.218333333333341,7287.0562114336744]
["2002-11-01",0,0,0,11,6.0000000000000005E-2,4.2375000000000003E-2,23.478888888888889,{"$f":"'RWH Calculator'!$C$56","v":0},23.478888888888889,0,0,0,0,-23.478888888888889,7287.0562114336744]
["2002-11-02",0,0,0,11,6.0000000000000005E-2,4.2375000000000003E-2,23.478888888888889,{"$f":"'RWH Calculator'!$C$56","v":0},23.478888888888889,0,0,0,0,-23.478888888888889,7287.0562114336744]
["2002-11-03",0,0,0,11,6.0000000000000005E-2,4.2375000000000003E-2,23.478888888888889,{"$f":"'RWH Calculator'!$C$56","v":0},23.478888888888889,0,0,0,0,-23.478888888888889,7287.0562114336744]
["2002-11-04",0,0,0,11,6.0000000000000005E-2,4.2375000000000003E-2,23.478888888888889,{"$f":"'RWH Calculator'!$C$56","v":0},23.478888888888889,0,0,0,0,-23.478888888888889,7287.0562114336744]
["2002-11-05",0,0,0,11,6.0000000000000005E-2,4.2375000000000003E-2,23.478888888888889,{"$f":"'RWH Calculator'!$C$56","v":0},23.478888888888889,0,0,0,0,-23.478888888888889,7287.0562114336744]
["2002-11-06",0,0,0,11,6.0000000000000005E-2,4.2375000000000003E-2,23.478888888888889,{"$f":"'RWH Calculator'!$C$56","v":0},23.478888888888889,0,0,0,0,-23.478888888888889,7287.0562114336744]
["2002-11-07",0.83,527.71400000000006,527.71400000000006,11,6.0000000000000005E-2,4.2375000000000003E-2,0,{"$f":"'RWH Calculator'!$C$56","v":0},0,527.71400000000006,527.71400000000006,0,0,527.71400000000006,7287.0562114336744]
["2002-11-08",1.07,680.30600000000004,680.30600000000004,11,6.0000000000000005E-2,4.2375000000000003E-2,0,{"$f":"'RWH Calculator'!$C$56","v":0},0,1057.4600871983243,529.74608719832429,0,150.55991280167575,1208.02,7287.0562114336744]
["2002-11-09",0.01,6.3580000000000014,6.3580000000000014,11,6.0000000000000005E-2,4.2375000000000003E-2,17.938148148148152,{"$f":"'RWH Calculator'!$C$56","v":0},17.938148148148152,1045.8799390501761,6.3580000000000014,17.938148148148152,0,1045.8799390501761,7304.9943595818222]
["2002-11-10",0.05,31.790000000000003,31.790000000000003,11,6.0000000000000005E-2,4.2375000000000003E-2,0,{"$f":"'RWH Calculator'!$C$56","v":0},0,1057.4600871983243,11.580148148148282,0,20.20985185185172,1077.669939050176,7304.9943595818222]
["2002-11-11",0,0,0,11,6.0000000000000005E-2,4.2375000000000003E-2,23.478888888888889,{"$f":"'RWH Calculator'!$C$56","v":0},23.478888888888889,1033.9811983094355,0,23.478888888888889,0,1033.9811983094355,7328.473248470711]
["2002-11-12",0,0,0,11,6.0000000000000005E-2,4.2375000000000003E-2,23.478888888888889,{"$f":"'RWH Calculator'!$C$56","v":0},23.478888888888889,1010.5023094205467,0,23.478888888888889,0,1010.5023094205467,7351.9521373595999]
["2002-11-13",0.04,25.432000000000006,25.432000000000006,11,6.0000000000000005E-2,4.2375000000000003E-2,1.3159259259259271,{"$f":"'RWH Calculator'!$C$56","v":0},1.3159259259259271,1034.6183834946207,25.431999999999977,1.3159259259259271,2.8421709430404007E-14,1034.6183834946207,7353.2680632855254]
["2002-11-14",0,0,0,11,6.0000000000000005E-2,4.2375000000000003E-2,23.478888888888889,{"$f":"'RWH Calculator'!$C$56","v":0},23.478888888888889,1011.1394946057319,0,23.478888888888889,0,1011.1394946057319,7376.7469521744142]
["2002-11-15",0,0,0,11,6.0000000000000005E-2,4.2375000000000003E-2,23.478888888888889,{"$f":"'RWH Calculator'!$C$56","v":0},23.478888888888889,987.66060571684307,0,23.478888888888889,0,987.66060571684307,7400.2258410633031]
["2002-11-16",0,0,0,11,6.0000000000000005E-2,4.2375000000000003E-2,23.478888888888889,{"$f":"'RWH Calculator'!$C$56","v":0},23.478888888888889,964.18171682795423,0,23.478888888888889,0,964.18171682795423,7423.7047299521919]
["2002-11-17",0,0,0,11,6.0000000000000005E-2,4.2375000000000003E-2,23.478888888888889,{"$f":"'RWH Calculator'!$C$56","v":0},23.478888888888889,940.7028279390654,0,23.478888888888889,0,940.7028279390654,7447.1836188410807]
["2002-11-18",0,0,0,11,6.0000000000000005E-2,4.2375000000000003E-2,23.478888888888889,{"$f":"'RWH Calculator'!$C$56","v":0},23.478888888888889,917.22393905017657,0,23.478888888888889,0,917.22393905017657,7470.6625077299695]
["2002-11-19",0,0,0,11,6.0000000000000005E-2,4.2375000000000003E-2,23.478888888888889,{"$f":"'RWH Calculator'!$C$56","v":0},23.478888888888889,893.74505016128774,0,23.478888888888889,0,893.74505016128774,7494.1413966188584]
["2002-11-20",0,0,0,11,6.0000000000000005E-2,4.2375000000000003E-2,23.478888888888889,{"$f":"'RWH Calculator'!$C$56","v":0},23.478888888888889,870.2661612723989,0,23.478888888888889,0,870.2661612723989,7517.6202855077472]
["2002-11-21",0,0,0,11,6.0000000000000005E-2,4.2375000000000003E-2,23.478888888888889,{"$f":"'RWH Calculator'!$C$56","v":0},23.478888888888889,846.78727238351007,0,23.478888888888889,0,846.78727238351007,7541.099174396636]
["2002-11-22",0,0,0,11,6.0000000000000005E-2,4.2375000000000003E-2,23.478888888888889,{"$f":"'RWH Calculator'!$C$56","v":0},23.478888888888889,823.30838349462124,0,23.478888888888889,0,823.30838349462124,7564.5780632855249]
["2002-11-23",0,0,0,11,6.0000000000000005E-2,4.2375000000000003E-2,23.478888888888889,{"$f":"'RWH Calculator'!$C$56","v":0},23.478888888888889,799.82949460573241,0,23.478888888888889,0,799.82949460573241,7588.0569521744137]
["2002-11-24",0,0,0,11,6.0000000000000005E-2,4.2375000000000003E-2,23.478888888888889,{"$f":"'RWH Calculator'!$C$56","v":0},23.478888888888889,776.35060571684357,0,23.478888888888889,0,776.35060571684357,7611.5358410633025]
["2002-11-25",0,0,0,11,6.0000000000000005E-2,4.2375000000000003E-2,23.478888888888889,{"$f":"'RWH Calculator'!$C$56","v":0},23.478888888888889,752.87171682795474,0,23.478888888888889,0,752.87171682795474,7635.0147299521914]
["2002-11-26",0,0,0,11,6.0000000000000005E-2,4.2375000000000003E-2,23.478888888888889,{"$f":"'RWH Calculator'!$C$56","v":0},23.478888888888889,729.39282793906591,0,23.478888888888889,0,729.39282793906591,7658.4936188410802]
["2002-11-27",0,0,0,11,6.0000000000000005E-2,4.2375000000000003E-2,23.478888888888889,{"$f":"'RWH Calculator'!$C$56","v":0},23.478888888888889,705.91393905017708,0,23.478888888888889,0,705.91393905017708,7681.972507729969]
["2002-11-28",0,0,0,11,6.0000000000000005E-2,4.2375000000000003E-2,23.478888888888889,{"$f":"'RWH Calculator'!$C$56","v":0},23.478888888888889,682.43505016128825,0,23.478888888888889,0,682.43505016128825,7705.4513966188579]
["2002-11-29",0,0,0,11,6.0000000000000005E-2,4.2375000000000003E-2,23.478888888888889,{"$f":"'RWH Calculator'!$C$56","v":0},23.478888888888889,658.95616127239941,0,23.478888888888889,0,658.95616127239941,7728.9302855077467]
["2002-11-30",0,0,0,11,6.0000000000000005E-2,4.2375000000000003E-2,23.478888888888889,{"$f":"'RWH Calculator'!$C$56","v":0},23.478888888888889,635.47727238351058,0,23.478888888888889,0,635.47727238351058,7752.4091743966355]
["2002-12-01",0,0,0,12,0.04,2.8250000000000001E-2,15.652592592592596,{"$f":"'RWH Calculator'!$C$56","v":0},15.652592592592596,619.82467979091803,0,15.652592592592596,0,619.82467979091803,7768.0617669892281]
["2002-12-02",0,0,0,12,0.04,2.8250000000000001E-2,15.652592592592596,{"$f":"'RWH Calculator'!$C$56","v":0},15.652592592592596,604.17208719832547,0,15.652592592592596,0,604.17208719832547,7783.7143595818206]
["2002-12-03",0,0,0,12,0.04,2.8250000000000001E-2,15.652592592592596,{"$f":"'RWH Calculator'!$C$56","v":0},15.652592592592596,588.51949460573292,0,15.652592592592596,0,588.51949460573292,7799.3669521744132]
["2002-12-04",0,0,0,12,0.04,2.8250000000000001E-2,15.652592592592596,{"$f":"'RWH Calculator'!$C$56","v":0},15.652592592592596,572.86690201314036,0,15.652592592592596,0,572.86690201314036,7815.0195447670058]
["2002-12-05",0,0,0,12,0.04,2.8250000000000001E-2,15.652592592592596,{"$f":"'RWH Calculator'!$C$56","v":0},15.652592592592596,557.21430942054781,0,15.652592592592596,0,557.21430942054781,7830.6721373595983]
["2002-12-06",0,0,0,12,{"$f":"IF($B$2=\"Western SF\", VLOOKUP(E715,$R$6:$U$17, 4),VLOOKUP(E715, $R$6:$V$17,5))","v":0.04},2.8250000000000001E-2,15.652592592592596,{"$f":"'RWH Calculator'!$C$56","v":0},15.652592592592596,541.56171682795525,0,15.652592592592596,0,541.56171682795525,7846.3247299521909]
["2002-12-07",0,0,0,{"$f":"MONTH(A716)","v":12},0.04,{"$f":"F716*$B$6","v":2.8250000000000001E-2},15.652592592592596,{"$f":"'RWH Calculator'!$C$56","v":0},{"$f":"H716+I716","v":15.652592592592596},525.9091242353627,0,15.652592592592596,0,525.9091242353627,7861.9773225447834]
["2002-12-08",0,{"$f":"$B$3*$B$4*(B717/12)*7.48","v":0},{"$f":"C717","v":0},12,0.04,2.8250000000000001E-2,{"$f":"(IF(G717-B717>0,(G717-B717)/$B$7,0)/12*7.48)*$B$8","v":15.652592592592596},{"$f":"'RWH Calculator'!$C$56","v":0},15.652592592592596,{"$f":"IF(O717<0, 0, IF(O717>$H$2, $H$2, O717))","v":510.25653164277008},{"$f":"IF(J717>D717,D717, K717-K716+J717)","v":0},{"$f":"IF(D717+K716>J717,J717, D717+K716)","v":15.652592592592596},{"$f":"IF(C717>J717, C717-J717-(K717-K716),0)","v":0},{"$f":"K716+D717-J717","v":510.25653164277008},{"$f":"M717+P716","v":7877.629915137376}]
["2002-12-09",0.60000000000000009,381.48000000000008,381.48000000000008,12,0.04,2.8250000000000001E-2,0,{"$f":"'RWH Calculator'!$C$56","v":0},0,891.73653164277016,381.48000000000008,0,0,891.73653164277016,7877.629915137376]
["2002-12-10",0.17,108.08600000000001,108.08600000000001,12,0.04,2.8250000000000001E-2,0,{"$f":"'RWH Calculator'!$C$56","v":0},0,999.82253164277017,108.08600000000001,0,0,999.82253164277017,7877.629915137376]
["2002-12-11",0,0,0,12,0.04,2.8250000000000001E-2,15.652592592592596,{"$f":"'RWH Calculator'!$C$56","v":0},15.652592592592596,984.16993905017762,0,15.652592592592596,0,984.16993905017762,7893.2825077299685]
["2002-12-12",0,0,0,12,0.04,2.8250000000000001E-2,15.652592592592596,{"$f":"'RWH Calculator'!$C$56","v":0},15.652592592592596,968.51734645758506,0,15.652592592592596,0,968.51734645758506,7908.9351003225611]
["2002-12-13",2.99,1901.0420000000001,1901.0420000000001,12,0.04,2.8250000000000001E-2,0,{"$f":"'RWH Calculator'!$C$56","v":0},0,1057.4600871983243,88.942740740739282,0,1812.0992592592609,2869.559346457585,7908.9351003225611]
["2002-12-14",0.81,514.99800000000005,514.99800000000005,12,0.04,2.8250000000000001E-2,0,{"$f":"'RWH Calculator'!$C$56","v":0},0,1057.4600871983243,0,0,514.99800000000005,1572.4580871983244,7908.9351003225611]
["2002-12-15",0.32,203.45600000000005,203.45600000000005,12,0.04,2.8250000000000001E-2,0,{"$f":"'RWH Calculator'!$C$56","v":0},0,1057.4600871983243,0,0,203.45600000000005,1260.9160871983245,7908.9351003225611]
["2002-12-16",1.85,1176.23,1176.23,12,0.04,2.8250000000000001E-2,0,{"$f":"'RWH Calculator'!$C$56","v":0},0,1057.4600871983243,0,0,1176.23,2233.6900871983244,7908.9351003225611]
["2002-12-17",0.77000000000000013,489.56600000000014,489.56600000000014,12,0.04,2.8250000000000001E-2,0,{"$f":"'RWH Calculator'!$C$56","v":0},0,1057.4600871983243,0,0,489.56600000000014,1547.0260871983246,7908.9351003225611]
["2002-12-18",0.04,25.432000000000006,25.432000000000006,12,0.04,2.8250000000000001E-2,0,{"$f":"'RWH Calculator'!$C$56","v":0},0,1057.4600871983243,0,0,25.432000000000006,1082.8920871983244,7908.9351003225611]
["2002-12-19",1.4100000000000001,896.47800000000007,896.47800000000007,12,0.04,2.8250000000000001E-2,0,{"$f":"'RWH Calculator'!$C$56","v":0},0,1057.4600871983243,0,0,896.47800000000007,1953.9380871983244,7908.9351003225611]
["2002-12-20",0.74000000000000021,470.49200000000013,470.49200000000013,12,0.04,2.8250000000000001E-2,0,{"$f":"'RWH Calculator'!$C$56","v":0},0,1057.4600871983243,0,0,470.49200000000013,1527.9520871983245,7908.9351003225611]
["2002-12-21",0.13,82.654000000000011,82.654000000000011,12,0.04,2.8250000000000001E-2,0,{"$f":"'RWH Calculator'!$C$56","v":0},0,1057.4600871983243,0,0,82.654000000000011,1140.1140871983243,7908.9351003225611]
["2002-12-22",0,0,0,12,0.04,2.8250000000000001E-2,15.652592592592596,{"$f":"'RWH Calculator'!$C$56","v":0},15.652592592592596,1041.8074946057318,0,15.652592592592596,0,1041.8074946057318,7924.5876929151536]
["2002-12-23",0,0,0,12,0.04,2.8250000000000001E-2,15.652592592592596,{"$f":"'RWH Calculator'!$C$56","v":0},15.652592592592596,1026.1549020131392,0,15.652592592592596,0,1026.1549020131392,7940.2402855077462]
["2002-12-24",0,0,0,12,0.04,2.8250000000000001E-2,15.652592592592596,{"$f":"'RWH Calculator'!$C$56","v":0},15.652592592592596,1010.5023094205467,0,15.652592592592596,0,1010.5023094205467,7955.8928781003387]
["2002-12-25",0,0,0,12,0.04,2.8250000000000001E-2,15.652592592592596,{"$f":"'RWH Calculator'!$C$56","v":0},15.652592592592596,994.84971682795413,0,15.652592592592596,0,994.84971682795413,7971.5454706929313]
["2002-12-26",0.2,127.16000000000001,127.16000000000001,12,0.04,2.8250000000000001E-2,0,{"$f":"'RWH Calculator'!$C$56","v":0},0,1057.4600871983243,62.610370370370219,0,64.549629629629791,1122.0097168279542,7971.5454706929313]
["2002-12-27",9.9999999999999992E-2,63.580000000000005,63.580000000000005,12,0.04,2.8250000000000001E-2,0,{"$f":"'RWH Calculator'!$C$56","v":0},0,1057.4600871983243,0,0,63.580000000000005,1121.0400871983243,7971.5454706929313]
["2002-12-28",0.94,597.65199999999993,597.65199999999993,12,0.04,2.8250000000000001E-2,0,{"$f":"'RWH Calculator'!$C$56","v":0},0,1057.4600871983243,0,0,597.65199999999993,1655.1120871983244,7971.5454706929313]
["2002-12-29",0.22000000000000003,139.87600000000003,139.87600000000003,12,0.04,2.8250000000000001E-2,0,{"$f":"'RWH Calculator'!$C$56","v":0},0,1057.4600871983243,0,0,139.87600000000003,1197.3360871983243,7971.5454706929313]
["2002-12-30",0.04,25.432000000000006,25.432000000000006,12,0.04,2.8250000000000001E-2,0,{"$f":"'RWH Calculator'!$C$56","v":0},0,1057.4600871983243,0,0,25.432000000000006,1082.8920871983244,7971.5454706929313]
["2002-12-31",0.7,445.05999999999995,445.05999999999995,12,0.04,2.8250000000000001E-2,0,{"$f":"'RWH Calculator'!$C$56","v":0},0,1057.4600871983243,0,0,445.05999999999995,1502.5200871983243,7971.5454706929313]
["2003-01-01",0,0,0,1,0.04,2.8250000000000001E-2,15.652592592592596,{"$f":"'RWH Calculator'!$C$56","v":0},15.652592592592596,1041.8074946057318,0,15.652592592592596,0,1041.8074946057318,7987.1980632855239]
["2003-01-02",0,0,0,1,0.04,2.8250000000000001E-2,15.652592592592596,{"$f":"'RWH Calculator'!$C$56","v":0},15.652592592592596,1026.1549020131392,0,15.652592592592596,0,1026.1549020131392,8002.8506558781164]
["2003-01-03",0,0,0,1,0.04,2.8250000000000001E-2,15.652592592592596,{"$f":"'RWH Calculator'!$C$56","v":0},15.652592592592596,1010.5023094205467,0,15.652592592592596,0,1010.5023094205467,8018.503248470709]
["2003-01-04",0,0,0,1,0.04,2.8250000000000001E-2,15.652592592592596,{"$f":"'RWH Calculator'!$C$56","v":0},15.652592592592596,994.84971682795413,0,15.652592592592596,0,994.84971682795413,8034.1558410633015]
["2003-01-05",0,0,0,1,0.04,2.8250000000000001E-2,15.652592592592596,{"$f":"'RWH Calculator'!$C$56","v":0},15.652592592592596,979.19712423536157,0,15.652592592592596,0,979.19712423536157,8049.8084336558941]
["2003-01-06",0,0,0,1,0.04,2.8250000000000001E-2,15.652592592592596,{"$f":"'RWH Calculator'!$C$56","v":0},15.652592592592596,963.54453164276902,0,15.652592592592596,0,963.54453164276902,8065.4610262484866]
["2003-01-07",0,0,0,1,0.04,2.8250000000000001E-2,15.652592592592596,{"$f":"'RWH Calculator'!$C$56","v":0},15.652592592592596,947.89193905017646,0,15.652592592592596,0,947.89193905017646,8081.1136188410792]
["2003-01-08",0,0,0,1,0.04,2.8250000000000001E-2,15.652592592592596,{"$f":"'RWH Calculator'!$C$56","v":0},15.652592592592596,932.23934645758391,0,15.652592592592596,0,932.23934645758391,8096.7662114336717]
["2003-01-09",0.99,629.44200000000012,629.44200000000012,1,0.04,2.8250000000000001E-2,0,{"$f":"'RWH Calculator'!$C$56","v":0},0,1057.4600871983243,125.22074074074044,0,504.22125925925968,1561.6813464575839,8096.7662114336717]
["2003-01-10",0.13,82.654000000000011,82.654000000000011,1,0.04,2.8250000000000001E-2,0,{"$f":"'RWH Calculator'!$C$56","v":0},0,1057.4600871983243,0,0,82.654000000000011,1140.1140871983243,8096.7662114336717]
["2003-01-11",0,0,0,1,0.04,2.8250000000000001E-2,15.652592592592596,{"$f":"'RWH Calculator'!$C$56","v":0},15.652592592592596,1041.8074946057318,0,15.652592592592596,0,1041.8074946057318,8112.4188040262643]
["2003-01-12",6.0000000000000005E-2,38.148000000000003,38.148000000000003,1,0.04,2.8250000000000001E-2,0,{"$f":"'RWH Calculator'!$C$56","v":0},0,1057.4600871983243,15.652592592592555,0,22.495407407407448,1079.9554946057317,8112.4188040262643]
["2003-01-13",0,0,0,1,0.04,2.8250000000000001E-2,15.652592592592596,{"$f":"'RWH Calculator'!$C$56","v":0},15.652592592592596,1041.8074946057318,0,15.652592592592596,0,1041.8074946057318,8128.0713966188569]
["2003-01-14",0,0,0,1,0.04,2.8250000000000001E-2,15.652592592592596,{"$f":"'RWH Calculator'!$C$56","v":0},15.652592592592596,1026.1549020131392,0,15.652592592592596,0,1026.1549020131392,8143.7239892114494]
["2003-01-15",0,0,0,1,0.04,2.8250000000000001E-2,15.652592592592596,{"$f":"'RWH Calculator'!$C$56","v":0},15.652592592592596,1010.5023094205467,0,15.652592592592596,0,1010.5023094205467,8159.376581804042]
["2003-01-16",0,0,0,1,0.04,2.8250000000000001E-2,15.652592592592596,{"$f":"'RWH Calculator'!$C$56","v":0},15.652592592592596,994.84971682795413,0,15.652592592592596,0,994.84971682795413,8175.0291743966345]
["2003-01-17",0,0,0,1,0.04,2.8250000000000001E-2,15.652592592592596,{"$f":"'RWH Calculator'!$C$56","v":0},15.652592592592596,979.19712423536157,0,15.652592592592596,0,979.19712423536157,8190.6817669892271]
["2003-01-18",0,0,0,1,0.04,2.8250000000000001E-2,15.652592592592596,{"$f":"'RWH Calculator'!$C$56","v":0},15.652592592592596,963.54453164276902,0,15.652592592592596,0,963.54453164276902,8206.3343595818205]
["2003-01-19",0,0,0,1,0.04,2.8250000000000001E-2,15.652592592592596,{"$f":"'RWH Calculator'!$C$56","v":0},15.652592592592596,947.89193905017646,0,15.652592592592596,0,947.89193905017646,8221.9869521744131]
["2003-01-20",0.02,12.716000000000003,12.716000000000003,1,0.04,2.8250000000000001E-2,4.5711111111111116,{"$f":"'RWH Calculator'!$C$56","v":0},4.5711111111111116,956.03682793906535,12.715999999999998,4.5711111111111116,5.3290705182007514E-15,956.03682793906535,8226.5580632855235]
["2003-01-21",0.34,216.17200000000003,216.17200000000003,1,0.04,2.8250000000000001E-2,0,{"$f":"'RWH Calculator'!$C$56","v":0},0,1057.4600871983243,101.423259259259,0,114.74874074074103,1172.2088279390655,8226.5580632855235]
["2003-01-22",0.11,69.938000000000002,69.938000000000002,1,0.04,2.8250000000000001E-2,0,{"$f":"'RWH Calculator'!$C$56","v":0},0,1057.4600871983243,0,0,69.938000000000002,1127.3980871983244,8226.5580632855235]
["2003-01-23",0.1,63.580000000000005,63.580000000000005,1,0.04,2.8250000000000001E-2,0,{"$f":"'RWH Calculator'!$C$56","v":0},0,1057.4600871983243,0,0,63.580000000000005,1121.0400871983243,8226.5580632855235]
["2003-01-24",0,0,0,1,0.04,2.8250000000000001E-2,15.652592592592596,{"$f":"'RWH Calculator'!$C$56","v":0},15.652592592592596,1041.8074946057318,0,15.652592592592596,0,1041.8074946057318,8242.2106558781161]
["2003-01-25",0,0,0,1,0.04,2.8250000000000001E-2,15.652592592592596,{"$f":"'RWH Calculator'!$C$56","v":0},15.652592592592596,1026.1549020131392,0,15.652592592592596,0,1026.1549020131392,8257.8632484707086]
["2003-01-26",0,0,0,1,0.04,2.8250000000000001E-2,15.652592592592596,{"$f":"'RWH Calculator'!$C$56","v":0},15.652592592592596,1010.5023094205467,0,15.652592592592596,0,1010.5023094205467,8273.5158410633012]
["2003-01-27",0,0,0,1,0.04,2.8250000000000001E-2,15.652592592592596,{"$f":"'RWH Calculator'!$C$56","v":0},15.652592592592596,994.84971682795413,0,15.652592592592596,0,994.84971682795413,8289.1684336558938]
["2003-01-28",0,0,0,1,0.04,2.8250000000000001E-2,15.652592592592596,{"$f":"'RWH Calculator'!$C$56","v":0},15.652592592592596,979.19712423536157,0,15.652592592592596,0,979.19712423536157,8304.8210262484863]
["2003-01-29",0,0,0,1,0.04,2.8250000000000001E-2,15.652592592592596,{"$f":"'RWH Calculator'!$C$56","v":0},15.652592592592596,963.54453164276902,0,15.652592592592596,0,963.54453164276902,8320.4736188410789]
["2003-01-30",0,0,0,1,0.04,2.8250000000000001E-2,15.652592592592596,{"$f":"'RWH Calculator'!$C$56","v":0},15.652592592592596,947.89193905017646,0,15.652592592592596,0,947.89193905017646,8336.1262114336714]
["2003-01-31",0,0,0,1,0.04,2.8250000000000001E-2,15.652592592592596,{"$f":"'RWH Calculator'!$C$56","v":0},15.652592592592596,932.23934645758391,0,15.652592592592596,0,932.23934645758391,8351.778804026264]
["2003-02-01",0,0,0,2,0.06,4.2375000000000003E-2,23.478888888888889,{"$f":"'RWH Calculator'!$C$56","v":0},23.478888888888889,908.76045756869507,0,23.478888888888889,0,908.76045756869507,8375.2576929151528]
["2003-02-02",0,0,0,2,0.06,4.2375000000000003E-2,23.478888888888889,{"$f":"'RWH Calculator'!$C$56","v":0},23.478888888888889,885.28156867980624,0,23.478888888888889,0,885.28156867980624,8398.7365818040416]
["2003-02-03",0,0,0,2,0.06,4.2375000000000003E-2,23.478888888888889,{"$f":"'RWH Calculator'!$C$56","v":0},23.478888888888889,861.80267979091741,0,23.478888888888889,0,861.80267979091741,8422.2154706929305]
["2003-02-04",0,0,0,2,0.06,4.2375000000000003E-2,23.478888888888889,{"$f":"'RWH Calculator'!$C$56","v":0},23.478888888888889,838.32379090202858,0,23.478888888888889,0,838.32379090202858,8445.6943595818193]
["2003-02-05",0,0,0,2,0.06,4.2375000000000003E-2,23.478888888888889,{"$f":"'RWH Calculator'!$C$56","v":0},23.478888888888889,814.84490201313974,0,23.478888888888889,0,814.84490201313974,8469.1732484707081]
["2003-02-06",0,0,0,2,0.06,4.2375000000000003E-2,23.478888888888889,{"$f":"'RWH Calculator'!$C$56","v":0},23.478888888888889,791.36601312425091,0,23.478888888888889,0,791.36601312425091,8492.652137359597]
["2003-02-07",0,0,0,2,0.06,4.2375000000000003E-2,23.478888888888889,{"$f":"'RWH Calculator'!$C$56","v":0},23.478888888888889,767.88712423536208,0,23.478888888888889,0,767.88712423536208,8516.1310262484858]
["2003-02-08",0,0,0,2,{"$f":"IF($B$2=\"Western SF\", VLOOKUP(E779,$R$6:$U$17, 4),VLOOKUP(E779, $R$6:$V$17,5))","v":0.06},4.2375000000000003E-2,23.478888888888889,{"$f":"'RWH Calculator'!$C$56","v":0},23.478888888888889,744.40823534647325,0,23.478888888888889,0,744.40823534647325,8539.6099151373746]
["2003-02-09",0,0,0,{"$f":"MONTH(A780)","v":2},0.06,{"$f":"F780*$B$6","v":4.2375000000000003E-2},23.478888888888889,{"$f":"'RWH Calculator'!$C$56","v":0},{"$f":"H780+I780","v":23.478888888888889},720.92934645758442,0,23.478888888888889,0,720.92934645758442,8563.0888040262635]
["2003-02-10",0,{"$f":"$B$3*$B$4*(B781/12)*7.48","v":0},{"$f":"C781","v":0},2,0.06,4.2375000000000003E-2,{"$f":"(IF(G781-B781>0,(G781-B781)/$B$7,0)/12*7.48)*$B$8","v":23.478888888888889},{"$f":"'RWH Calculator'!$C$56","v":0},23.478888888888889,{"$f":"IF(O781<0, 0, IF(O781>$H$2, $H$2, O781))","v":697.45045756869558},{"$f":"IF(J781>D781,D781, K781-K780+J781)","v":0},{"$f":"IF(D781+K780>J781,J781, D781+K780)","v":23.478888888888889},{"$f":"IF(C781>J781, C781-J781-(K781-K780),0)","v":0},{"$f":"K780+D781-J781","v":697.45045756869558},{"$f":"M781+P780","v":8586.5676929151523}]
["2003-02-11",0,0,0,2,0.06,4.2375000000000003E-2,23.478888888888889,{"$f":"'RWH Calculator'!$C$56","v":0},23.478888888888889,673.97156867980675,0,23.478888888888889,0,673.97156867980675,8610.0465818040411]
["2003-02-12",0.36000000000000004,228.88800000000003,228.88800000000003,2,0.06,4.2375000000000003E-2,0,{"$f":"'RWH Calculator'!$C$56","v":0},0,902.85956867980678,228.88800000000003,0,0,902.85956867980678,8610.0465818040411]
["2003-02-13",0.29000000000000004,184.38200000000003,184.38200000000003,2,0.06,4.2375000000000003E-2,0,{"$f":"'RWH Calculator'!$C$56","v":0},0,1057.4600871983243,154.60051851851756,0,29.781481481482473,1087.2415686798067,8610.0465818040411]
["2003-02-14",0,0,0,2,0.06,4.2375000000000003E-2,23.478888888888889,{"$f":"'RWH Calculator'!$C$56","v":0},23.478888888888889,1033.9811983094355,0,23.478888888888889,0,1033.9811983094355,8633.52547069293]
["2003-02-15",0.36,228.88800000000001,228.88800000000001,2,0.06,4.2375000000000003E-2,0,{"$f":"'RWH Calculator'!$C$56","v":0},0,1057.4600871983243,23.478888888888832,0,205.40911111111117,1262.8691983094354,8633.52547069293]
["2003-02-16",0.41,260.678,260.678,2,0.06,4.2375000000000003E-2,0,{"$f":"'RWH Calculator'!$C$56","v":0},0,1057.4600871983243,0,0,260.678,1318.1380871983242,8633.52547069293]
["2003-02-17",0,0,0,2,0.06,4.2375000000000003E-2,23.478888888888889,{"$f":"'RWH Calculator'!$C$56","v":0},23.478888888888889,1033.9811983094355,0,23.478888888888889,0,1033.9811983094355,8657.0043595818188]
["2003-02-18",0,0,0,2,0.06,4.2375000000000003E-2,23.478888888888889,{"$f":"'RWH Calculator'!$C$56","v":0},23.478888888888889,1010.5023094205467,0,23.478888888888889,0,1010.5023094205467,8680.4832484707076]
["2003-02-19",0.03,19.074000000000002,19.074000000000002,2,0.06,4.2375000000000003E-2,6.8566666666666682,{"$f":"'RWH Calculator'!$C$56","v":0},6.8566666666666682,1022.7196427538801,19.074000000000055,6.8566666666666682,-5.3290705182007514E-14,1022.7196427538801,8687.3399151373742]
["2003-02-20",0,0,0,2,0.06,4.2375000000000003E-2,23.478888888888889,{"$f":"'RWH Calculator'!$C$56","v":0},23.478888888888889,999.24075386499112,0,23.478888888888889,0,999.24075386499112,8710.818804026263]
["2003-02-21",0,0,0,2,0.06,4.2375000000000003E-2,23.478888888888889,{"$f":"'RWH Calculator'!$C$56","v":0},23.478888888888889,975.76186497610229,0,23.478888888888889,0,975.76186497610229,8734.2976929151519]
["2003-02-22",0,0,0,2,0.06,4.2375000000000003E-2,23.478888888888889,{"$f":"'RWH Calculator'!$C$56","v":0},23.478888888888889,952.28297608721346,0,23.478888888888889,0,952.28297608721346,8757.7765818040407]
["2003-02-23",0,0,0,2,0.06,4.2375000000000003E-2,23.478888888888889,{"$f":"'RWH Calculator'!$C$56","v":0},23.478888888888889,928.80408719832462,0,23.478888888888889,0,928.80408719832462,8781.2554706929295]
["2003-02-24",0.04,25.432000000000006,25.432000000000006,2,0.06,4.2375000000000003E-2,1.3159259259259271,{"$f":"'RWH Calculator'!$C$56","v":0},1.3159259259259271,952.92016127239867,25.431999999999977,1.3159259259259271,2.8421709430404007E-14,952.92016127239867,8782.5713966188559]
["2003-02-25",0.02,12.716000000000003,12.716000000000003,2,0.06,4.2375000000000003E-2,12.397407407407409,{"$f":"'RWH Calculator'!$C$56","v":0},12.397407407407409,953.23875386499128,12.716000000000017,12.397407407407409,-1.4210854715202004E-14,953.23875386499128,8794.9688040262627]
["2003-02-26",0.22,139.876,139.876,2,0.06,4.2375000000000003E-2,0,{"$f":"'RWH Calculator'!$C$56","v":0},0,1057.4600871983243,104.22133333333306,0,35.654666666666941,1093.1147538649914,8794.9688040262627]
["2003-02-27",7.0000000000000007E-2,44.506000000000007,44.506000000000007,2,0.06,4.2375000000000003E-2,0,{"$f":"'RWH Calculator'!$C$56","v":0},0,1057.4600871983243,0,0,44.506000000000007,1101.9660871983244,8794.9688040262627]
["2003-02-28",0,0,0,2,0.06,4.2375000000000003E-2,23.478888888888889,{"$f":"'RWH Calculator'!$C$56","v":0},23.478888888888889,1033.9811983094355,0,23.478888888888889,0,1033.9811983094355,8818.4476929151515]
["2003-03-01",0,0,0,3,0.1,7.0625000000000007E-2,39.131481481481487,{"$f":"'RWH Calculator'!$C$56","v":0},39.131481481481487,994.84971682795401,0,39.131481481481487,0,994.84971682795401,8857.5791743966329]
["2003-03-02",0,0,0,3,0.1,7.0625000000000007E-2,39.131481481481487,{"$f":"'RWH Calculator'!$C$56","v":0},39.131481481481487,955.71823534647251,0,39.131481481481487,0,955.71823534647251,8896.7106558781143]
["2003-03-03",0,0,0,3,0.1,7.0625000000000007E-2,39.131481481481487,{"$f":"'RWH Calculator'!$C$56","v":0},39.131481481481487,916.58675386499101,0,39.131481481481487,0,916.58675386499101,8935.8421373595957]
["2003-03-04",0,0,0,3,0.1,7.0625000000000007E-2,39.131481481481487,{"$f":"'RWH Calculator'!$C$56","v":0},39.131481481481487,877.45527238350951,0,39.131481481481487,0,877.45527238350951,8974.973618841077]
["2003-03-05",0,0,0,3,0.1,7.0625000000000007E-2,39.131481481481487,{"$f":"'RWH Calculator'!$C$56","v":0},39.131481481481487,838.32379090202801,0,39.131481481481487,0,838.32379090202801,9014.1051003225584]
["2003-03-06",0,0,0,3,0.1,7.0625000000000007E-2,39.131481481481487,{"$f":"'RWH Calculator'!$C$56","v":0},39.131481481481487,799.19230942054651,0,39.131481481481487,0,799.19230942054651,9053.2365818040398]
["2003-03-07",0,0,0,3,0.1,7.0625000000000007E-2,39.131481481481487,{"$f":"'RWH Calculator'!$C$56","v":0},39.131481481481487,760.06082793906501,0,39.131481481481487,0,760.06082793906501,9092.3680632855212]
["2003-03-08",0,0,0,3,0.1,7.0625000000000007E-2,39.131481481481487,{"$f":"'RWH Calculator'!$C$56","v":0},39.131481481481487,720.92934645758351,0,39.131481481481487,0,720.92934645758351,9131.4995447670026]
["2003-03-09",0,0,0,3,0.1,7.0625000000000007E-2,39.131481481481487,{"$f":"'RWH Calculator'!$C$56","v":0},39.131481481481487,681.79786497610201,0,39.131481481481487,0,681.79786497610201,9170.631026248484]
["2003-03-10",0,0,0,3,0.1,7.0625000000000007E-2,39.131481481481487,{"$f":"'RWH Calculator'!$C$56","v":0},39.131481481481487,642.6663834946205,0,39.131481481481487,0,642.6663834946205,9209.7625077299654]
["2003-03-11",0,0,0,3,0.1,7.0625000000000007E-2,39.131481481481487,{"$f":"'RWH Calculator'!$C$56","v":0},39.131481481481487,603.534902013139,0,39.131481481481487,0,603.534902013139,9248.8939892114468]
["2003-03-12",0,0,0,3,0.1,7.0625000000000007E-2,39.131481481481487,{"$f":"'RWH Calculator'!$C$56","v":0},39.131481481481487,564.4034205316575,0,39.131481481481487,0,564.4034205316575,9288.0254706929281]
["2003-03-13",0,0,0,3,0.1,7.0625000000000007E-2,39.131481481481487,{"$f":"'RWH Calculator'!$C$56","v":0},39.131481481481487,525.271939050176,0,39.131481481481487,0,525.271939050176,9327.1569521744095]
["2003-03-14",0.24000000000000002,152.59200000000001,152.59200000000001,3,0.1,7.0625000000000007E-2,0,{"$f":"'RWH Calculator'!$C$56","v":0},0,677.86393905017599,152.59199999999998,0,2.8421709430404007E-14,677.86393905017599,9327.1569521744095]
["2003-03-15",0.58000000000000007,368.76400000000007,368.76400000000007,3,0.1,7.0625000000000007E-2,0,{"$f":"'RWH Calculator'!$C$56","v":0},0,1046.6279390501761,368.76400000000012,0,-5.6843418860808015E-14,1046.6279390501761,9327.1569521744095]
["2003-03-16",0.04,25.432000000000006,25.432000000000006,3,0.1,7.0625000000000007E-2,16.968518518518522,{"$f":"'RWH Calculator'!$C$56","v":0},16.968518518518522,1055.0914205316576,25.432000000000016,16.968518518518522,-1.0658141036401503E-14,1055.0914205316576,9344.1254706929285]
["2003-03-17",0,0,0,3,0.1,7.0625000000000007E-2,39.131481481481487,{"$f":"'RWH Calculator'!$C$56","v":0},39.131481481481487,1015.9599390501761,0,39.131481481481487,0,1015.9599390501761,9383.2569521744099]
["2003-03-18",0,0,0,3,0.1,7.0625000000000007E-2,39.131481481481487,{"$f":"'RWH Calculator'!$C$56","v":0},39.131481481481487,976.8284575686946,0,39.131481481481487,0,976.8284575686946,9422.3884336558913]
["2003-03-19",0,0,0,3,0.1,7.0625000000000007E-2,39.131481481481487,{"$f":"'RWH Calculator'!$C$56","v":0},39.131481481481487,937.6969760872131,0,39.131481481481487,0,937.6969760872131,9461.5199151373727]
["2003-03-20",0,0,0,3,0.1,7.0625000000000007E-2,39.131481481481487,{"$f":"'RWH Calculator'!$C$56","v":0},39.131481481481487,898.5654946057316,0,39.131481481481487,0,898.5654946057316,9500.6513966188541]
["2003-03-21",0,0,0,3,0.1,7.0625000000000007E-2,39.131481481481487,{"$f":"'RWH Calculator'!$C$56","v":0},39.131481481481487,859.4340131242501,0,39.131481481481487,0,859.4340131242501,9539.7828781003354]
["2003-03-22",0,0,0,3,0.1,7.0625000000000007E-2,39.131481481481487,{"$f":"'RWH Calculator'!$C$56","v":0},39.131481481481487,820.3025316427686,0,39.131481481481487,0,820.3025316427686,9578.9143595818168]
["2003-03-23",0,0,0,3,0.1,7.0625000000000007E-2,39.131481481481487,{"$f":"'RWH Calculator'!$C$56","v":0},39.131481481481487,781.1710501612871,0,39.131481481481487,0,781.1710501612871,9618.0458410632982]
["2003-03-24",0,0,0,3,0.1,7.0625000000000007E-2,39.131481481481487,{"$f":"'RWH Calculator'!$C$56","v":0},39.131481481481487,742.0395686798056,0,39.131481481481487,0,742.0395686798056,9657.1773225447796]
["2003-03-25",0,0,0,3,0.1,7.0625000000000007E-2,39.131481481481487,{"$f":"'RWH Calculator'!$C$56","v":0},39.131481481481487,702.9080871983241,0,39.131481481481487,0,702.9080871983241,9696.308804026261]
["2003-03-26",0,0,0,3,0.1,7.0625000000000007E-2,39.131481481481487,{"$f":"'RWH Calculator'!$C$56","v":0},39.131481481481487,663.7766057168426,0,39.131481481481487,0,663.7766057168426,9735.4402855077424]
["2003-03-27",0,0,0,3,0.1,7.0625000000000007E-2,39.131481481481487,{"$f":"'RWH Calculator'!$C$56","v":0},39.131481481481487,624.6451242353611,0,39.131481481481487,0,624.6451242353611,9774.5717669892238]
["2003-03-28",0,0,0,3,0.1,7.0625000000000007E-2,39.131481481481487,{"$f":"'RWH Calculator'!$C$56","v":0},39.131481481481487,585.51364275387959,0,39.131481481481487,0,585.51364275387959,9813.7032484707051]
["2003-03-29",0,0,0,3,0.1,7.0625000000000007E-2,39.131481481481487,{"$f":"'RWH Calculator'!$C$56","v":0},39.131481481481487,546.38216127239809,0,39.131481481481487,0,546.38216127239809,9852.8347299521865]
["2003-03-30",0,0,0,3,0.1,7.0625000000000007E-2,39.131481481481487,{"$f":"'RWH Calculator'!$C$56","v":0},39.131481481481487,507.25067979091659,0,39.131481481481487,0,507.25067979091659,9891.9662114336679]
["2003-03-31",0,0,0,3,0.1,7.0625000000000007E-2,39.131481481481487,{"$f":"'RWH Calculator'!$C$56","v":0},39.131481481481487,468.11919830943509,0,39.131481481481487,0,468.11919830943509,9931.0976929151493]
["2003-04-01",0,0,0,4,0.13,9.1812500000000005E-2,50.870925925925924,{"$f":"'RWH Calculator'!$C$56","v":0},50.870925925925924,417.24827238350917,0,50.870925925925924,0,417.24827238350917,9981.968618841076]
["2003-04-02",0,0,0,4,0.13,9.1812500000000005E-2,50.870925925925924,{"$f":"'RWH Calculator'!$C$56","v":0},50.870925925925924,366.37734645758326,0,50.870925925925924,0,366.37734645758326,10032.839544767003]
["2003-04-03",0,0,0,4,0.13,9.1812500000000005E-2,50.870925925925924,{"$f":"'RWH Calculator'!$C$56","v":0},50.870925925925924,315.50642053165734,0,50.870925925925924,0,315.50642053165734,10083.710470692929]
["2003-04-04",0,0,0,4,0.13,9.1812500000000005E-2,50.870925925925924,{"$f":"'RWH Calculator'!$C$56","v":0},50.870925925925924,264.63549460573142,0,50.870925925925924,0,264.63549460573142,10134.581396618856]
["2003-04-05",0,0,0,4,0.13,9.1812500000000005E-2,50.870925925925924,{"$f":"'RWH Calculator'!$C$56","v":0},50.870925925925924,213.76456867980551,0,50.870925925925924,0,213.76456867980551,10185.452322544783]
["2003-04-06",0,0,0,4,0.13,9.1812500000000005E-2,50.870925925925924,{"$f":"'RWH Calculator'!$C$56","v":0},50.870925925925924,162.89364275387959,0,50.870925925925924,0,162.89364275387959,10236.32324847071]
["2003-04-07",0,0,0,4,0.13,9.1812500000000005E-2,50.870925925925924,{"$f":"'RWH Calculator'!$C$56","v":0},50.870925925925924,112.02271682795367,0,50.870925925925924,0,112.02271682795367,10287.194174396636]
["2003-04-08",0,0,0,4,0.13,9.1812500000000005E-2,50.870925925925924,{"$f":"'RWH Calculator'!$C$56","v":0},50.870925925925924,61.151790902027749,0,50.870925925925924,0,61.151790902027749,10338.065100322563]
["2003-04-09",0,0,0,4,0.13,9.1812500000000005E-2,50.870925925925924,{"$f":"'RWH Calculator'!$C$56","v":0},50.870925925925924,10.280864976101824,0,50.870925925925924,0,10.280864976101824,10388.93602624849]
["2003-04-10",0,0,0,4,0.13,9.1812500000000005E-2,50.870925925925924,{"$f":"'RWH Calculator'!$C$56","v":0},50.870925925925924,0,0,10.280864976101824,0,-40.5900609498241,10399.216891224591]
["2003-04-11",0,0,0,4,0.13,9.1812500000000005E-2,50.870925925925924,{"$f":"'RWH Calculator'!$C$56","v":0},50.870925925925924,0,0,0,0,-50.870925925925924,10399.216891224591]
["2003-04-12",0,0,0,4,0.13,9.1812500000000005E-2,50.870925925925924,{"$f":"'RWH Calculator'!$C$56","v":0},50.870925925925924,0,0,0,0,-50.870925925925924,10399.216891224591]
["2003-04-13",0,0,0,4,{"$f":"IF($B$2=\"Western SF\", VLOOKUP(E843,$R$6:$U$17, 4),VLOOKUP(E843, $R$6:$V$17,5))","v":0.13},9.1812500000000005E-2,50.870925925925924,{"$f":"'RWH Calculator'!$C$56","v":0},50.870925925925924,0,0,0,0,-50.870925925925924,10399.216891224591]
["2003-04-14",0,0,0,{"$f":"MONTH(A844)","v":4},0.13,{"$f":"F844*$B$6","v":9.1812500000000005E-2},50.870925925925924,{"$f":"'RWH Calculator'!$C$56","v":0},{"$f":"H844+I844","v":50.870925925925924},0,0,0,0,-50.870925925925924,10399.216891224591]
["2003-04-15",0,{"$f":"$B$3*$B$4*(B845/12)*7.48","v":0},{"$f":"C845","v":0},4,0.13,9.1812500000000005E-2,{"$f":"(IF(G845-B845>0,(G845-B845)/$B$7,0)/12*7.48)*$B$8","v":50.870925925925924},{"$f":"'RWH Calculator'!$C$56","v":0},50.870925925925924,{"$f":"IF(O845<0, 0, IF(O845>$H$2, $H$2, O845))","v":0},{"$f":"IF(J845>D845,D845, K845-K844+J845)","v":0},{"$f":"IF(D845+K844>J845,J845, D845+K844)","v":0},{"$f":"IF(C845>J845, C845-J845-(K845-K844),0)","v":0},{"$f":"K844+D845-J845","v":-50.870925925925924},{"$f":"M845+P844","v":10399.216891224591}]
["2003-04-16",0,0,0,4,0.13,9.1812500000000005E-2,50.870925925925924,{"$f":"'RWH Calculator'!$C$56","v":0},50.870925925925924,0,0,0,0,-50.870925925925924,10399.216891224591]
["2003-04-17",0,0,0,4,0.13,9.1812500000000005E-2,50.870925925925924,{"$f":"'RWH Calculator'!$C$56","v":0},50.870925925925924,0,0,0,0,-50.870925925925924,10399.216891224591]
["2003-04-18",0,0,0,4,0.13,9.1812500000000005E-2,50.870925925925924,{"$f":"'RWH Calculator'!$C$56","v":0},50.870925925925924,0,0,0,0,-50.870925925925924,10399.216891224591]
["2003-04-19",0,0,0,4,0.13,9.1812500000000005E-2,50.870925925925924,{"$f":"'RWH Calculator'!$C$56","v":0},50.870925925925924,0,0,0,0,-50.870925925925924,10399.216891224591]
["2003-04-20",0,0,0,4,0.13,9.1812500000000005E-2,50.870925925925924,{"$f":"'RWH Calculator'!$C$56","v":0},50.870925925925924,0,0,0,0,-50.870925925925924,10399.216891224591]
["2003-04-21",0,0,0,4,0.13,9.1812500000000005E-2,50.870925925925924,{"$f":"'RWH Calculator'!$C$56","v":0},50.870925925925924,0,0,0,0,-50.870925925925924,10399.216891224591]
["2003-04-22",0,0,0,4,0.13,9.1812500000000005E-2,50.870925925925924,{"$f":"'RWH Calculator'!$C$56","v":0},50.870925925925924,0,0,0,0,-50.870925925925924,10399.216891224591]
["2003-04-23",0,0,0,4,0.13,9.1812500000000005E-2,50.870925925925924,{"$f":"'RWH Calculator'!$C$56","v":0},50.870925925925924,0,0,0,0,-50.870925925925924,10399.216891224591]
["2003-04-24",0,0,0,4,0.13,9.1812500000000005E-2,50.870925925925924,{"$f":"'RWH Calculator'!$C$56","v":0},50.870925925925924,0,0,0,0,-50.870925925925924,10399.216891224591]
["2003-04-25",0,0,0,4,0.13,9.1812500000000005E-2,50.870925925925924,{"$f":"'RWH Calculator'!$C$56","v":0},50.870925925925924,0,0,0,0,-50.870925925925924,10399.216891224591]
["2003-04-26",0,0,0,4,0.13,9.1812500000000005E-2,50.870925925925924,{"$f":"'RWH Calculator'!$C$56","v":0},50.870925925925924,0,0,0,0,-50.870925925925924,10399.216891224591]
["2003-04-27",0,0,0,4,0.13,9.1812500000000005E-2,50.870925925925924,{"$f":"'RWH Calculator'!$C$56","v":0},50.870925925925924,0,0,0,0,-50.870925925925924,10399.216891224591]
["2003-04-28",0,0,0,4,0.13,9.1812500000000005E-2,50.870925925925924,{"$f":"'RWH Calculator'!$C$56","v":0},50.870925925925924,0,0,0,0,-50.870925925925924,10399.216891224591]
["2003-04-29",0,0,0,4,0.13,9.1812500000000005E-2,50.870925925925924,{"$f":"'RWH Calculator'!$C$56","v":0},50.870925925925924,0,0,0,0,-50.870925925925924,10399.216891224591]
["2003-04-30",0,0,0,4,0.13,9.1812500000000005E-2,50.870925925925924,{"$f":"'RWH Calculator'!$C$56","v":0},50.870925925925924,0,0,0,0,-50.870925925925924,10399.216891224591]
["2003-05-01",0,0,0,5,0.15000000000000002,0.10593750000000002,58.697222222222237,{"$f":"'RWH Calculator'!$C$56","v":0},58.697222222222237,0,0,0,0,-58.697222222222237,10399.216891224591]
["2003-05-02",0,0,0,5,0.15000000000000002,0.10593750000000002,58.697222222222237,{"$f":"'RWH Calculator'!$C$56","v":0},58.697222222222237,0,0,0,0,-58.697222222222237,10399.216891224591]
["2003-05-03",0,0,0,5,0.15000000000000002,0.10593750000000002,58.697222222222237,{"$f":"'RWH Calculator'!$C$56","v":0},58.697222222222237,0,0,0,0,-58.697222222222237,10399.216891224591]
["2003-05-04",0,0,0,5,0.15000000000000002,0.10593750000000002,58.697222222222237,{"$f":"'RWH Calculator'!$C$56","v":0},58.697222222222237,0,0,0,0,-58.697222222222237,10399.216891224591]
["2003-05-05",0,0,0,5,0.15000000000000002,0.10593750000000002,58.697222222222237,{"$f":"'RWH Calculator'!$C$56","v":0},58.697222222222237,0,0,0,0,-58.697222222222237,10399.216891224591]
["2003-05-06",0,0,0,5,0.15000000000000002,0.10593750000000002,58.697222222222237,{"$f":"'RWH Calculator'!$C$56","v":0},58.697222222222237,0,0,0,0,-58.697222222222237,10399.216891224591]
["2003-05-07",0,0,0,5,0.15000000000000002,0.10593750000000002,58.697222222222237,{"$f":"'RWH Calculator'!$C$56","v":0},58.697222222222237,0,0,0,0,-58.697222222222237,10399.216891224591]
["2003-05-08",0,0,0,5,0.15000000000000002,0.10593750000000002,58.697222222222237,{"$f":"'RWH Calculator'!$C$56","v":0},58.697222222222237,0,0,0,0,-58.697222222222237,10399.216891224591]
["2003-05-09",0,0,0,5,0.15000000000000002,0.10593750000000002,58.697222222222237,{"$f":"'RWH Calculator'!$C$56","v":0},58.697222222222237,0,0,0,0,-58.697222222222237,10399.216891224591]
["2003-05-10",0,0,0,5,0.15000000000000002,0.10593750000000002,58.697222222222237,{"$f":"'RWH Calculator'!$C$56","v":0},58.697222222222237,0,0,0,0,-58.697222222222237,10399.216891224591]
["2003-05-11",0,0,0,5,0.15000000000000002,0.10593750000000002,58.697222222222237,{"$f":"'RWH Calculator'!$C$56","v":0},58.697222222222237,0,0,0,0,-58.697222222222237,10399.216891224591]
["2003-05-12",0,0,0,5,0.15000000000000002,0.10593750000000002,58.697222222222237,{"$f":"'RWH Calculator'!$C$56","v":0},58.697222222222237,0,0,0,0,-58.697222222222237,10399.216891224591]
["2003-05-13",0,0,0,5,0.15000000000000002,0.10593750000000002,58.697222222222237,{"$f":"'RWH Calculator'!$C$56","v":0},58.697222222222237,0,0,0,0,-58.697222222222237,10399.216891224591]
["2003-05-14",0,0,0,5,0.15000000000000002,0.10593750000000002,58.697222222222237,{"$f":"'RWH Calculator'!$C$56","v":0},58.697222222222237,0,0,0,0,-58.697222222222237,10399.216891224591]
["2003-05-15",0,0,0,5,0.15000000000000002,0.10593750000000002,58.697222222222237,{"$f":"'RWH Calculator'!$C$56","v":0},58.697222222222237,0,0,0,0,-58.697222222222237,10399.216891224591]
["2003-05-16",0,0,0,5,0.15000000000000002,0.10593750000000002,58.697222222222237,{"$f":"'RWH Calculator'!$C$56","v":0},58.697222222222237,0,0,0,0,-58.697222222222237,10399.216891224591]
["2003-05-17",0,0,0,5,0.15000000000000002,0.10593750000000002,58.697222222222237,{"$f":"'RWH Calculator'!$C$56","v":0},58.697222222222237,0,0,0,0,-58.697222222222237,10399.216891224591]
["2003-05-18",0,0,0,5,0.15000000000000002,0.10593750000000002,58.697222222222237,{"$f":"'RWH Calculator'!$C$56","v":0},58.697222222222237,0,0,0,0,-58.697222222222237,10399.216891224591]
["2003-05-19",0,0,0,5,0.15000000000000002,0.10593750000000002,58.697222222222237,{"$f":"'RWH Calculator'!$C$56","v":0},58.697222222222237,0,0,0,0,-58.697222222222237,10399.216891224591]
["2003-05-20",0,0,0,5,0.15000000000000002,0.10593750000000002,58.697222222222237,{"$f":"'RWH Calculator'!$C$56","v":0},58.697222222222237,0,0,0,0,-58.697222222222237,10399.216891224591]
["2003-05-21",0,0,0,5,0.15000000000000002,0.10593750000000002,58.697222222222237,{"$f":"'RWH Calculator'!$C$56","v":0},58.697222222222237,0,0,0,0,-58.697222222222237,10399.216891224591]
["2003-05-22",0,0,0,5,0.15000000000000002,0.10593750000000002,58.697222222222237,{"$f":"'RWH Calculator'!$C$56","v":0},58.697222222222237,0,0,0,0,-58.697222222222237,10399.216891224591]
["2003-05-23",0,0,0,5,0.15000000000000002,0.10593750000000002,58.697222222222237,{"$f":"'RWH Calculator'!$C$56","v":0},58.697222222222237,0,0,0,0,-58.697222222222237,10399.216891224591]
["2003-05-24",0,0,0,5,0.15000000000000002,0.10593750000000002,58.697222222222237,{"$f":"'RWH Calculator'!$C$56","v":0},58.697222222222237,0,0,0,0,-58.697222222222237,10399.216891224591]
["2003-05-25",0,0,0,5,0.15000000000000002,0.10593750000000002,58.697222222222237,{"$f":"'RWH Calculator'!$C$56","v":0},58.697222222222237,0,0,0,0,-58.697222222222237,10399.216891224591]
["2003-05-26",0,0,0,5,0.15000000000000002,0.10593750000000002,58.697222222222237,{"$f":"'RWH Calculator'!$C$56","v":0},58.697222222222237,0,0,0,0,-58.697222222222237,10399.216891224591]
["2003-05-27",0,0,0,5,0.15000000000000002,0.10593750000000002,58.697222222222237,{"$f":"'RWH Calculator'!$C$56","v":0},58.697222222222237,0,0,0,0,-58.697222222222237,10399.216891224591]
["2003-05-28",0,0,0,5,0.15000000000000002,0.10593750000000002,58.697222222222237,{"$f":"'RWH Calculator'!$C$56","v":0},58.697222222222237,0,0,0,0,-58.697222222222237,10399.216891224591]
["2003-05-29",0,0,0,5,0.15000000000000002,0.10593750000000002,58.697222222222237,{"$f":"'RWH Calculator'!$C$56","v":0},58.697222222222237,0,0,0,0,-58.697222222222237,10399.216891224591]
["2003-05-30",0,0,0,5,0.15000000000000002,0.10593750000000002,58.697222222222237,{"$f":"'RWH Calculator'!$C$56","v":0},58.697222222222237,0,0,0,0,-58.697222222222237,10399.216891224591]
["2003-05-31",0,0,0,5,0.15000000000000002,0.10593750000000002,58.697222222222237,{"$f":"'RWH Calculator'!$C$56","v":0},58.697222222222237,0,0,0,0,-58.697222222222237,10399.216891224591]
["2003-06-01",0,0,0,6,0.16999999999999998,0.1200625,66.523518518518514,{"$f":"'RWH Calculator'!$C$56","v":0},66.523518518518514,0,0,0,0,-66.523518518518514,10399.216891224591]
["2003-06-02",0,0,0,6,0.16999999999999998,0.1200625,66.523518518518514,{"$f":"'RWH Calculator'!$C$56","v":0},66.523518518518514,0,0,0,0,-66.523518518518514,10399.216891224591]
["2003-06-03",0,0,0,6,0.16999999999999998,0.1200625,66.523518518518514,{"$f":"'RWH Calculator'!$C$56","v":0},66.523518518518514,0,0,0,0,-66.523518518518514,10399.216891224591]
["2003-06-04",0,0,0,6,0.16999999999999998,0.1200625,66.523518518518514,{"$f":"'RWH Calculator'!$C$56","v":0},66.523518518518514,0,0,0,0,-66.523518518518514,10399.216891224591]
["2003-06-05",0,0,0,6,0.16999999999999998,0.1200625,66.523518518518514,{"$f":"'RWH Calculator'!$C$56","v":0},66.523518518518514,0,0,0,0,-66.523518518518514,10399.216891224591]
["2003-06-06",0,0,0,6,0.16999999999999998,0.1200625,66.523518518518514,{"$f":"'RWH Calculator'!$C$56","v":0},66.523518518518514,0,0,0,0,-66.523518518518514,10399.216891224591]
["2003-06-07",0,0,0,6,0.16999999999999998,0.1200625,66.523518518518514,{"$f":"'RWH Calculator'!$C$56","v":0},66.523518518518514,0,0,0,0,-66.523518518518514,10399.216891224591]
["2003-06-08",0,0,0,6,0.16999999999999998,0.1200625,66.523518518518514,{"$f":"'RWH Calculator'!$C$56","v":0},66.523518518518514,0,0,0,0,-66.523518518518514,10399.216891224591]
["2003-06-09",0,0,0,6,0.16999999999999998,0.1200625,66.523518518518514,{"$f":"'RWH Calculator'!$C$56","v":0},66.523518518518514,0,0,0,0,-66.523518518518514,10399.216891224591]
["2003-06-10",0,0,0,6,0.16999999999999998,0.1200625,66.523518518518514,{"$f":"'RWH Calculator'!$C$56","v":0},66.523518518518514,0,0,0,0,-66.523518518518514,10399.216891224591]
["2003-06-11",0,0,0,6,0.16999999999999998,0.1200625,66.523518518518514,{"$f":"'RWH Calculator'!$C$56","v":0},66.523518518518514,0,0,0,0,-66.523518518518514,10399.216891224591]
["2003-06-12",0,0,0,6,0.16999999999999998,0.1200625,66.523518518518514,{"$f":"'RWH Calculator'!$C$56","v":0},66.523518518518514,0,0,0,0,-66.523518518518514,10399.216891224591]
["2003-06-13",0,0,0,6,0.16999999999999998,0.1200625,66.523518518518514,{"$f":"'RWH Calculator'!$C$56","v":0},66.523518518518514,0,0,0,0,-66.523518518518514,10399.216891224591]
["2003-06-14",0,0,0,6,0.16999999999999998,0.1200625,66.523518518518514,{"$f":"'RWH Calculator'!$C$56","v":0},66.523518518518514,0,0,0,0,-66.523518518518514,10399.216891224591]
["2003-06-15",0,0,0,6,0.16999999999999998,0.1200625,66.523518518518514,{"$f":"'RWH Calculator'!$C$56","v":0},66.523518518518514,0,0,0,0,-66.523518518518514,10399.216891224591]
["2003-06-16",0,0,0,6,{"$f":"IF($B$2=\"Western SF\", VLOOKUP(E907,$R$6:$U$17, 4),VLOOKUP(E907, $R$6:$V$17,5))","v":0.16999999999999998},0.1200625,66.523518518518514,{"$f":"'RWH Calculator'!$C$56","v":0},66.523518518518514,0,0,0,0,-66.523518518518514,10399.216891224591]
["2003-06-17",0,0,0,{"$f":"MONTH(A908)","v":6},0.16999999999999998,{"$f":"F908*$B$6","v":0.1200625},66.523518518518514,{"$f":"'RWH Calculator'!$C$56","v":0},{"$f":"H908+I908","v":66.523518518518514},0,0,0,0,-66.523518518518514,10399.216891224591]
["2003-06-18",0,{"$f":"$B$3*$B$4*(B909/12)*7.48","v":0},{"$f":"C909","v":0},6,0.16999999999999998,0.1200625,{"$f":"(IF(G909-B909>0,(G909-B909)/$B$7,0)/12*7.48)*$B$8","v":66.523518518518514},{"$f":"'RWH Calculator'!$C$56","v":0},66.523518518518514,{"$f":"IF(O909<0, 0, IF(O909>$H$2, $H$2, O909))","v":0},{"$f":"IF(J909>D909,D909, K909-K908+J909)","v":0},{"$f":"IF(D909+K908>J909,J909, D909+K908)","v":0},{"$f":"IF(C909>J909, C909-J909-(K909-K908),0)","v":0},{"$f":"K908+D909-J909","v":-66.523518518518514},{"$f":"M909+P908","v":10399.216891224591}]
["2003-06-19",0,0,0,6,0.16999999999999998,0.1200625,66.523518518518514,{"$f":"'RWH Calculator'!$C$56","v":0},66.523518518518514,0,0,0,0,-66.523518518518514,10399.216891224591]
["2003-06-20",0,0,0,6,0.16999999999999998,0.1200625,66.523518518518514,{"$f":"'RWH Calculator'!$C$56","v":0},66.523518518518514,0,0,0,0,-66.523518518518514,10399.216891224591]
["2003-06-21",0,0,0,6,0.16999999999999998,0.1200625,66.523518518518514,{"$f":"'RWH Calculator'!$C$56","v":0},66.523518518518514,0,0,0,0,-66.523518518518514,10399.216891224591]
["2003-06-22",0,0,0,6,0.16999999999999998,0.1200625,66.523518518518514,{"$f":"'RWH Calculator'!$C$56","v":0},66.523518518518514,0,0,0,0,-66.523518518518514,10399.216891224591]
["2003-06-23",0,0,0,6,0.16999999999999998,0.1200625,66.523518518518514,{"$f":"'RWH Calculator'!$C$56","v":0},66.523518518518514,0,0,0,0,-66.523518518518514,10399.216891224591]
["2003-06-24",0,0,0,6,0.16999999999999998,0.1200625,66.523518518518514,{"$f":"'RWH Calculator'!$C$56","v":0},66.523518518518514,0,0,0,0,-66.523518518518514,10399.216891224591]
["2003-06-25",0,0,0,6,0.16999999999999998,0.1200625,66.523518518518514,{"$f":"'RWH Calculator'!$C$56","v":0},66.523518518518514,0,0,0,0,-66.523518518518514,10399.216891224591]
["2003-06-26",0,0,0,6,0.16999999999999998,0.1200625,66.523518518518514,{"$f":"'RWH Calculator'!$C$56","v":0},66.523518518518514,0,0,0,0,-66.523518518518514,10399.216891224591]
["2003-06-27",0,0,0,6,0.16999999999999998,0.1200625,66.523518518518514,{"$f":"'RWH Calculator'!$C$56","v":0},66.523518518518514,0,0,0,0,-66.523518518518514,10399.216891224591]
["2003-06-28",0,0,0,6,0.16999999999999998,0.1200625,66.523518518518514,{"$f":"'RWH Calculator'!$C$56","v":0},66.523518518518514,0,0,0,0,-66.523518518518514,10399.216891224591]
["2003-06-29",0,0,0,6,0.16999999999999998,0.1200625,66.523518518518514,{"$f":"'RWH Calculator'!$C$56","v":0},66.523518518518514,0,0,0,0,-66.523518518518514,10399.216891224591]
["2003-06-30",0,0,0,6,0.16999999999999998,0.1200625,66.523518518518514,{"$f":"'RWH Calculator'!$C$56","v":0},66.523518518518514,0,0,0,0,-66.523518518518514,10399.216891224591]
["2003-07-01",0,0,0,7,0.16,0.113,62.610370370370383,{"$f":"'RWH Calculator'!$C$56","v":0},62.610370370370383,0,0,0,0,-62.610370370370383,10399.216891224591]
["2003-07-02",0,0,0,7,0.16,0.113,62.610370370370383,{"$f":"'RWH Calculator'!$C$56","v":0},62.610370370370383,0,0,0,0,-62.610370370370383,10399.216891224591]
["2003-07-03",0,0,0,7,0.16,0.113,62.610370370370383,{"$f":"'RWH Calculator'!$C$56","v":0},62.610370370370383,0,0,0,0,-62.610370370370383,10399.216891224591]
["2003-07-04",0,0,0,7,0.16,0.113,62.610370370370383,{"$f":"'RWH Calculator'!$C$56","v":0},62.610370370370383,0,0,0,0,-62.610370370370383,10399.216891224591]
["2003-07-05",0,0,0,7,0.16,0.113,62.610370370370383,{"$f":"'RWH Calculator'!$C$56","v":0},62.610370370370383,0,0,0,0,-62.610370370370383,10399.216891224591]
["2003-07-06",0,0,0,7,0.16,0.113,62.610370370370383,{"$f":"'RWH Calculator'!$C$56","v":0},62.610370370370383,0,0,0,0,-62.610370370370383,10399.216891224591]
["2003-07-07",0,0,0,7,0.16,0.113,62.610370370370383,{"$f":"'RWH Calculator'!$C$56","v":0},62.610370370370383,0,0,0,0,-62.610370370370383,10399.216891224591]
["2003-07-08",0,0,0,7,0.16,0.113,62.610370370370383,{"$f":"'RWH Calculator'!$C$56","v":0},62.610370370370383,0,0,0,0,-62.610370370370383,10399.216891224591]
["2003-07-09",0,0,0,7,0.16,0.113,62.610370370370383,{"$f":"'RWH Calculator'!$C$56","v":0},62.610370370370383,0,0,0,0,-62.610370370370383,10399.216891224591]
["2003-07-10",0,0,0,7,0.16,0.113,62.610370370370383,{"$f":"'RWH Calculator'!$C$56","v":0},62.610370370370383,0,0,0,0,-62.610370370370383,10399.216891224591]
["2003-07-11",0,0,0,7,0.16,0.113,62.610370370370383,{"$f":"'RWH Calculator'!$C$56","v":0},62.610370370370383,0,0,0,0,-62.610370370370383,10399.216891224591]
["2003-07-12",0,0,0,7,0.16,0.113,62.610370370370383,{"$f":"'RWH Calculator'!$C$56","v":0},62.610370370370383,0,0,0,0,-62.610370370370383,10399.216891224591]
["2003-07-13",0,0,0,7,0.16,0.113,62.610370370370383,{"$f":"'RWH Calculator'!$C$56","v":0},62.610370370370383,0,0,0,0,-62.610370370370383,10399.216891224591]
["2003-07-14",0,0,0,7,0.16,0.113,62.610370370370383,{"$f":"'RWH Calculator'!$C$56","v":0},62.610370370370383,0,0,0,0,-62.610370370370383,10399.216891224591]
["2003-07-15",0,0,0,7,0.16,0.113,62.610370370370383,{"$f":"'RWH Calculator'!$C$56","v":0},62.610370370370383,0,0,0,0,-62.610370370370383,10399.216891224591]
["2003-07-16",0,0,0,7,0.16,0.113,62.610370370370383,{"$f":"'RWH Calculator'!$C$56","v":0},62.610370370370383,0,0,0,0,-62.610370370370383,10399.216891224591]
["2003-07-17",0,0,0,7,0.16,0.113,62.610370370370383,{"$f":"'RWH Calculator'!$C$56","v":0},62.610370370370383,0,0,0,0,-62.610370370370383,10399.216891224591]
["2003-07-18",0,0,0,7,0.16,0.113,62.610370370370383,{"$f":"'RWH Calculator'!$C$56","v":0},62.610370370370383,0,0,0,0,-62.610370370370383,10399.216891224591]
["2003-07-19",0,0,0,7,0.16,0.113,62.610370370370383,{"$f":"'RWH Calculator'!$C$56","v":0},62.610370370370383,0,0,0,0,-62.610370370370383,10399.216891224591]
["2003-07-20",0,0,0,7,0.16,0.113,62.610370370370383,{"$f":"'RWH Calculator'!$C$56","v":0},62.610370370370383,0,0,0,0,-62.610370370370383,10399.216891224591]
["2003-07-21",0,0,0,7,0.16,0.113,62.610370370370383,{"$f":"'RWH Calculator'!$C$56","v":0},62.610370370370383,0,0,0,0,-62.610370370370383,10399.216891224591]
["2003-07-22",0,0,0,7,0.16,0.113,62.610370370370383,{"$f":"'RWH Calculator'!$C$56","v":0},62.610370370370383,0,0,0,0,-62.610370370370383,10399.216891224591]
["2003-07-23",0,0,0,7,0.16,0.113,62.610370370370383,{"$f":"'RWH Calculator'!$C$56","v":0},62.610370370370383,0,0,0,0,-62.610370370370383,10399.216891224591]
["2003-07-24",0,0,0,7,0.16,0.113,62.610370370370383,{"$f":"'RWH Calculator'!$C$56","v":0},62.610370370370383,0,0,0,0,-62.610370370370383,10399.216891224591]
["2003-07-25",0,0,0,7,0.16,0.113,62.610370370370383,{"$f":"'RWH Calculator'!$C$56","v":0},62.610370370370383,0,0,0,0,-62.610370370370383,10399.216891224591]
["2003-07-26",0,0,0,7,0.16,0.113,62.610370370370383,{"$f":"'RWH Calculator'!$C$56","v":0},62.610370370370383,0,0,0,0,-62.610370370370383,10399.216891224591]
["2003-07-27",0,0,0,7,0.16,0.113,62.610370370370383,{"$f":"'RWH Calculator'!$C$56","v":0},62.610370370370383,0,0,0,0,-62.610370370370383,10399.216891224591]
["2003-07-28",0,0,0,7,0.16,0.113,62.610370370370383,{"$f":"'RWH Calculator'!$C$56","v":0},62.610370370370383,0,0,0,0,-62.610370370370383,10399.216891224591]
["2003-07-29",0,0,0,7,0.16,0.113,62.610370370370383,{"$f":"'RWH Calculator'!$C$56","v":0},62.610370370370383,0,0,0,0,-62.610370370370383,10399.216891224591]
["2003-07-30",0,0,0,7,0.16,0.113,62.610370370370383,{"$f":"'RWH Calculator'!$C$56","v":0},62.610370370370383,0,0,0,0,-62.610370370370383,10399.216891224591]
["2003-07-31",0,0,0,7,0.16,0.113,62.610370370370383,{"$f":"'RWH Calculator'!$C$56","v":0},62.610370370370383,0,0,0,0,-62.610370370370383,10399.216891224591]
["2003-08-01",0,0,0,8,0.15000000000000002,0.10593750000000002,58.697222222222237,{"$f":"'RWH Calculator'!$C$56","v":0},58.697222222222237,0,0,0,0,-58.697222222222237,10399.216891224591]
["2003-08-02",0,0,0,8,0.15000000000000002,0.10593750000000002,58.697222222222237,{"$f":"'RWH Calculator'!$C$56","v":0},58.697222222222237,0,0,0,0,-58.697222222222237,10399.216891224591]
["2003-08-03",0,0,0,8,0.15000000000000002,0.10593750000000002,58.697222222222237,{"$f":"'RWH Calculator'!$C$56","v":0},58.697222222222237,0,0,0,0,-58.697222222222237,10399.216891224591]
["2003-08-04",0,0,0,8,0.15000000000000002,0.10593750000000002,58.697222222222237,{"$f":"'RWH Calculator'!$C$56","v":0},58.697222222222237,0,0,0,0,-58.697222222222237,10399.216891224591]
["2003-08-05",0,0,0,8,0.15000000000000002,0.10593750000000002,58.697222222222237,{"$f":"'RWH Calculator'!$C$56","v":0},58.697222222222237,0,0,0,0,-58.697222222222237,10399.216891224591]
["2003-08-06",0,0,0,8,0.15000000000000002,0.10593750000000002,58.697222222222237,{"$f":"'RWH Calculator'!$C$56","v":0},58.697222222222237,0,0,0,0,-58.697222222222237,10399.216891224591]
["2003-08-07",0,0,0,8,0.15000000000000002,0.10593750000000002,58.697222222222237,{"$f":"'RWH Calculator'!$C$56","v":0},58.697222222222237,0,0,0,0,-58.697222222222237,10399.216891224591]
["2003-08-08",0,0,0,8,0.15000000000000002,0.10593750000000002,58.697222222222237,{"$f":"'RWH Calculator'!$C$56","v":0},58.697222222222237,0,0,0,0,-58.697222222222237,10399.216891224591]
["2003-08-09",0,0,0,8,0.15000000000000002,0.10593750000000002,58.697222222222237,{"$f":"'RWH Calculator'!$C$56","v":0},58.697222222222237,0,0,0,0,-58.697222222222237,10399.216891224591]
["2003-08-10",0,0,0,8,0.15000000000000002,0.10593750000000002,58.697222222222237,{"$f":"'RWH Calculator'!$C$56","v":0},58.697222222222237,0,0,0,0,-58.697222222222237,10399.216891224591]
["2003-08-11",0,0,0,8,0.15000000000000002,0.10593750000000002,58.697222222222237,{"$f":"'RWH Calculator'!$C$56","v":0},58.697222222222237,0,0,0,0,-58.697222222222237,10399.216891224591]
["2003-08-12",0,0,0,8,0.15000000000000002,0.10593750000000002,58.697222222222237,{"$f":"'RWH Calculator'!$C$56","v":0},58.697222222222237,0,0,0,0,-58.697222222222237,10399.216891224591]
["2003-08-13",0,0,0,8,0.15000000000000002,0.10593750000000002,58.697222222222237,{"$f":"'RWH Calculator'!$C$56","v":0},58.697222222222237,0,0,0,0,-58.697222222222237,10399.216891224591]
["2003-08-14",0,0,0,8,0.15000000000000002,0.10593750000000002,58.697222222222237,{"$f":"'RWH Calculator'!$C$56","v":0},58.697222222222237,0,0,0,0,-58.697222222222237,10399.216891224591]
["2003-08-15",0,0,0,8,0.15000000000000002,0.10593750000000002,58.697222222222237,{"$f":"'RWH Calculator'!$C$56","v":0},58.697222222222237,0,0,0,0,-58.697222222222237,10399.216891224591]
["2003-08-16",0,0,0,8,0.15000000000000002,0.10593750000000002,58.697222222222237,{"$f":"'RWH Calculator'!$C$56","v":0},58.697222222222237,0,0,0,0,-58.697222222222237,10399.216891224591]
["2003-08-17",0,0,0,8,0.15000000000000002,0.10593750000000002,58.697222222222237,{"$f":"'RWH Calculator'!$C$56","v":0},58.697222222222237,0,0,0,0,-58.697222222222237,10399.216891224591]
["2003-08-18",0,0,0,8,0.15000000000000002,0.10593750000000002,58.697222222222237,{"$f":"'RWH Calculator'!$C$56","v":0},58.697222222222237,0,0,0,0,-58.697222222222237,10399.216891224591]
["2003-08-19",0,0,0,8,{"$f":"IF($B$2=\"Western SF\", VLOOKUP(E971,$R$6:$U$17, 4),VLOOKUP(E971, $R$6:$V$17,5))","v":0.15000000000000002},0.10593750000000002,58.697222222222237,{"$f":"'RWH Calculator'!$C$56","v":0},58.697222222222237,0,0,0,0,-58.697222222222237,10399.216891224591]
["2003-08-20",0,0,0,{"$f":"MONTH(A972)","v":8},0.15000000000000002,{"$f":"F972*$B$6","v":0.10593750000000002},58.697222222222237,{"$f":"'RWH Calculator'!$C$56","v":0},{"$f":"H972+I972","v":58.697222222222237},0,0,0,0,-58.697222222222237,10399.216891224591]
["2003-08-21",0,{"$f":"$B$3*$B$4*(B973/12)*7.48","v":0},{"$f":"C973","v":0},8,0.15000000000000002,0.10593750000000002,{"$f":"(IF(G973-B973>0,(G973-B973)/$B$7,0)/12*7.48)*$B$8","v":58.697222222222237},{"$f":"'RWH Calculator'!$C$56","v":0},58.697222222222237,{"$f":"IF(O973<0, 0, IF(O973>$H$2, $H$2, O973))","v":0},{"$f":"IF(J973>D973,D973, K973-K972+J973)","v":0},{"$f":"IF(D973+K972>J973,J973, D973+K972)","v":0},{"$f":"IF(C973>J973, C973-J973-(K973-K972),0)","v":0},{"$f":"K972+D973-J973","v":-58.697222222222237},{"$f":"M973+P972","v":10399.216891224591}]
["2003-08-22",0,0,0,8,0.15000000000000002,0.10593750000000002,58.697222222222237,{"$f":"'RWH Calculator'!$C$56","v":0},58.697222222222237,0,0,0,0,-58.697222222222237,10399.216891224591]
["2003-08-23",0,0,0,8,0.15000000000000002,0.10593750000000002,58.697222222222237,{"$f":"'RWH Calculator'!$C$56","v":0},58.697222222222237,0,0,0,0,-58.697222222222237,10399.216891224591]
["2003-08-24",0,0,0,8,0.15000000000000002,0.10593750000000002,58.697222222222237,{"$f":"'RWH Calculator'!$C$56","v":0},58.697222222222237,0,0,0,0,-58.697222222222237,10399.216891224591]
["2003-08-25",0,0,0,8,0.15000000000000002,0.10593750000000002,58.697222222222237,{"$f":"'RWH Calculator'!$C$56","v":0},58.697222222222237,0,0,0,0,-58.697222222222237,10399.216891224591]
["2003-08-26",0,0,0,8,0.15000000000000002,0.10593750000000002,58.697222222222237,{"$f":"'RWH Calculator'!$C$56","v":0},58.697222222222237,0,0,0,0,-58.697222222222237,10399.216891224591]
["2003-08-27",0,0,0,8,0.15000000000000002,0.10593750000000002,58.697222222222237,{"$f":"'RWH Calculator'!$C$56","v":0},58.697222222222237,0,0,0,0,-58.697222222222237,10399.216891224591]
["2003-08-28",0,0,0,8,0.15000000000000002,0.10593750000000002,58.697222222222237,{"$f":"'RWH Calculator'!$C$56","v":0},58.697222222222237,0,0,0,0,-58.697222222222237,10399.216891224591]
["2003-08-29",0,0,0,8,0.15000000000000002,0.10593750000000002,58.697222222222237,{"$f":"'RWH Calculator'!$C$56","v":0},58.697222222222237,0,0,0,0,-58.697222222222237,10399.216891224591]
["2003-08-30",0,0,0,8,0.15000000000000002,0.10593750000000002,58.697222222222237,{"$f":"'RWH Calculator'!$C$56","v":0},58.697222222222237,0,0,0,0,-58.697222222222237,10399.216891224591]
["2003-08-31",0,0,0,8,0.15000000000000002,0.10593750000000002,58.697222222222237,{"$f":"'RWH Calculator'!$C$56","v":0},58.697222222222237,0,0,0,0,-58.697222222222237,10399.216891224591]
["2003-09-01",0,0,0,9,0.13,9.1812500000000005E-2,50.870925925925924,{"$f":"'RWH Calculator'!$C$56","v":0},50.870925925925924,0,0,0,0,-50.870925925925924,10399.216891224591]
["2003-09-02",0,0,0,9,0.13,9.1812500000000005E-2,50.870925925925924,{"$f":"'RWH Calculator'!$C$56","v":0},50.870925925925924,0,0,0,0,-50.870925925925924,10399.216891224591]
["2003-09-03",0,0,0,9,0.13,9.1812500000000005E-2,50.870925925925924,{"$f":"'RWH Calculator'!$C$56","v":0},50.870925925925924,0,0,0,0,-50.870925925925924,10399.216891224591]
["2003-09-04",0,0,0,9,0.13,9.1812500000000005E-2,50.870925925925924,{"$f":"'RWH Calculator'!$C$56","v":0},50.870925925925924,0,0,0,0,-50.870925925925924,10399.216891224591]
["2003-09-05",0,0,0,9,0.13,9.1812500000000005E-2,50.870925925925924,{"$f":"'RWH Calculator'!$C$56","v":0},50.870925925925924,0,0,0,0,-50.870925925925924,10399.216891224591]
["2003-09-06",0,0,0,9,0.13,9.1812500000000005E-2,50.870925925925924,{"$f":"'RWH Calculator'!$C$56","v":0},50.870925925925924,0,0,0,0,-50.870925925925924,10399.216891224591]
["2003-09-07",0,0,0,9,0.13,9.1812500000000005E-2,50.870925925925924,{"$f":"'RWH Calculator'!$C$56","v":0},50.870925925925924,0,0,0,0,-50.870925925925924,10399.216891224591]
["2003-09-08",0,0,0,9,0.13,9.1812500000000005E-2,50.870925925925924,{"$f":"'RWH Calculator'!$C$56","v":0},50.870925925925924,0,0,0,0,-50.870925925925924,10399.216891224591]
["2003-09-09",0,0,0,9,0.13,9.1812500000000005E-2,50.870925925925924,{"$f":"'RWH Calculator'!$C$56","v":0},50.870925925925924,0,0,0,0,-50.870925925925924,10399.216891224591]
["2003-09-10",0,0,0,9,0.13,9.1812500000000005E-2,50.870925925925924,{"$f":"'RWH Calculator'!$C$56","v":0},50.870925925925924,0,0,0,0,-50.870925925925924,10399.216891224591]
["2003-09-11",0,0,0,9,0.13,9.1812500000000005E-2,50.870925925925924,{"$f":"'RWH Calculator'!$C$56","v":0},50.870925925925924,0,0,0,0,-50.870925925925924,10399.216891224591]
["2003-09-12",0,0,0,9,0.13,9.1812500000000005E-2,50.870925925925924,{"$f":"'RWH Calculator'!$C$56","v":0},50.870925925925924,0,0,0,0,-50.870925925925924,10399.216891224591]
["2003-09-13",0,0,0,9,0.13,9.1812500000000005E-2,50.870925925925924,{"$f":"'RWH Calculator'!$C$56","v":0},50.870925925925924,0,0,0,0,-50.870925925925924,10399.216891224591]
["2003-09-14",0,0,0,9,0.13,9.1812500000000005E-2,50.870925925925924,{"$f":"'RWH Calculator'!$C$56","v":0},50.870925925925924,0,0,0,0,-50.870925925925924,10399.216891224591]
["2003-09-15",0,0,0,9,0.13,9.1812500000000005E-2,50.870925925925924,{"$f":"'RWH Calculator'!$C$56","v":0},50.870925925925924,0,0,0,0,-50.870925925925924,10399.216891224591]
["2003-09-16",0,0,0,9,0.13,9.1812500000000005E-2,50.870925925925924,{"$f":"'RWH Calculator'!$C$56","v":0},50.870925925925924,0,0,0,0,-50.870925925925924,10399.216891224591]
["2003-09-17",0,0,0,9,0.13,9.1812500000000005E-2,50.870925925925924,{"$f":"'RWH Calculator'!$C$56","v":0},50.870925925925924,0,0,0,0,-50.870925925925924,10399.216891224591]
["2003-09-18",0,0,0,9,0.13,9.1812500000000005E-2,50.870925925925924,{"$f":"'RWH Calculator'!$C$56","v":0},50.870925925925924,0,0,0,0,-50.870925925925924,10399.216891224591]
["2003-09-19",0,0,0,9,0.13,9.1812500000000005E-2,50.870925925925924,{"$f":"'RWH Calculator'!$C$56","v":0},50.870925925925924,0,0,0,0,-50.870925925925924,10399.216891224591]
["2003-09-20",0,0,0,9,0.13,9.1812500000000005E-2,50.870925925925924,{"$f":"'RWH Calculator'!$C$56","v":0},50.870925925925924,0,0,0,0,-50.870925925925924,10399.216891224591]
["2003-09-21",0,0,0,9,0.13,9.1812500000000005E-2,50.870925925925924,{"$f":"'RWH Calculator'!$C$56","v":0},50.870925925925924,0,0,0,0,-50.870925925925924,10399.216891224591]
["2003-09-22",0,0,0,9,0.13,9.1812500000000005E-2,50.870925925925924,{"$f":"'RWH Calculator'!$C$56","v":0},50.870925925925924,0,0,0,0,-50.870925925925924,10399.216891224591]
["2003-09-23",0,0,0,9,0.13,9.1812500000000005E-2,50.870925925925924,{"$f":"'RWH Calculator'!$C$56","v":0},50.870925925925924,0,0,0,0,-50.870925925925924,10399.216891224591]
["2003-09-24",0,0,0,9,0.13,9.1812500000000005E-2,50.870925925925924,{"$f":"'RWH Calculator'!$C$56","v":0},50.870925925925924,0,0,0,0,-50.870925925925924,10399.216891224591]
["2003-09-25",0,0,0,9,0.13,9.1812500000000005E-2,50.870925925925924,{"$f":"'RWH Calculator'!$C$56","v":0},50.870925925925924,0,0,0,0,-50.870925925925924,10399.216891224591]
["2003-09-26",0,0,0,9,0.13,9.1812500000000005E-2,50.870925925925924,{"$f":"'RWH Calculator'!$C$56","v":0},50.870925925925924,0,0,0,0,-50.870925925925924,10399.216891224591]
["2003-09-27",0,0,0,9,0.13,9.1812500000000005E-2,50.870925925925924,{"$f":"'RWH Calculator'!$C$56","v":0},50.870925925925924,0,0,0,0,-50.870925925925924,10399.216891224591]
["2003-09-28",0,0,0,9,0.13,9.1812500000000005E-2,50.870925925925924,{"$f":"'RWH Calculator'!$C$56","v":0},50.870925925925924,0,0,0,0,-50.870925925925924,10399.216891224591]
["2003-09-29",0,0,0,9,0.13,9.1812500000000005E-2,50.870925925925924,{"$f":"'RWH Calculator'!$C$56","v":0},50.870925925925924,0,0,0,0,-50.870925925925924,10399.216891224591]
["2003-09-30",0,0,0,9,0.13,9.1812500000000005E-2,50.870925925925924,{"$f":"'RWH Calculator'!$C$56","v":0},50.870925925925924,0,0,0,0,-50.870925925925924,10399.216891224591]
["2003-10-01",0,0,0,10,0.09,6.3562500000000008E-2,35.218333333333341,{"$f":"'RWH Calculator'!$C$56","v":0},35.218333333333341,0,0,0,0,-35.218333333333341,10399.216891224591]
["2003-10-02",0,0,0,10,0.09,6.3562500000000008E-2,35.218333333333341,{"$f":"'RWH Calculator'!$C$56","v":0},35.218333333333341,0,0,0,0,-35.218333333333341,10399.216891224591]
["2003-10-03",0,0,0,10,0.09,6.3562500000000008E-2,35.218333333333341,{"$f":"'RWH Calculator'!$C$56","v":0},35.218333333333341,0,0,0,0,-35.218333333333341,10399.216891224591]
["2003-10-04",0,0,0,10,0.09,6.3562500000000008E-2,35.218333333333341,{"$f":"'RWH Calculator'!$C$56","v":0},35.218333333333341,0,0,0,0,-35.218333333333341,10399.216891224591]
["2003-10-05",0,0,0,10,0.09,6.3562500000000008E-2,35.218333333333341,{"$f":"'RWH Calculator'!$C$56","v":0},35.218333333333341,0,0,0,0,-35.218333333333341,10399.216891224591]
["2003-10-06",0,0,0,10,0.09,6.3562500000000008E-2,35.218333333333341,{"$f":"'RWH Calculator'!$C$56","v":0},35.218333333333341,0,0,0,0,-35.218333333333341,10399.216891224591]
["2003-10-07",0,0,0,10,0.09,6.3562500000000008E-2,35.218333333333341,{"$f":"'RWH Calculator'!$C$56","v":0},35.218333333333341,0,0,0,0,-35.218333333333341,10399.216891224591]
["2003-10-08",0,0,0,10,0.09,6.3562500000000008E-2,35.218333333333341,{"$f":"'RWH Calculator'!$C$56","v":0},35.218333333333341,0,0,0,0,-35.218333333333341,10399.216891224591]
["2003-10-09",0,0,0,10,0.09,6.3562500000000008E-2,35.218333333333341,{"$f":"'RWH Calculator'!$C$56","v":0},35.218333333333341,0,0,0,0,-35.218333333333341,10399.216891224591]
["2003-10-10",0,0,0,10,0.09,6.3562500000000008E-2,35.218333333333341,{"$f":"'RWH Calculator'!$C$56","v":0},35.218333333333341,0,0,0,0,-35.218333333333341,10399.216891224591]
["2003-10-11",0,0,0,10,0.09,6.3562500000000008E-2,35.218333333333341,{"$f":"'RWH Calculator'!$C$56","v":0},35.218333333333341,0,0,0,0,-35.218333333333341,10399.216891224591]
["2003-10-12",0,0,0,10,0.09,6.3562500000000008E-2,35.218333333333341,{"$f":"'RWH Calculator'!$C$56","v":0},35.218333333333341,0,0,0,0,-35.218333333333341,10399.216891224591]
["2003-10-13",0,0,0,10,0.09,6.3562500000000008E-2,35.218333333333341,{"$f":"'RWH Calculator'!$C$56","v":0},35.218333333333341,0,0,0,0,-35.218333333333341,10399.216891224591]
["2003-10-14",0,0,0,10,0.09,6.3562500000000008E-2,35.218333333333341,{"$f":"'RWH Calculator'!$C$56","v":0},35.218333333333341,0,0,0,0,-35.218333333333341,10399.216891224591]
["2003-10-15",0,0,0,10,0.09,6.3562500000000008E-2,35.218333333333341,{"$f":"'RWH Calculator'!$C$56","v":0},35.218333333333341,0,0,0,0,-35.218333333333341,10399.216891224591]
["2003-10-16",0,0,0,10,0.09,6.3562500000000008E-2,35.218333333333341,{"$f":"'RWH Calculator'!$C$56","v":0},35.218333333333341,0,0,0,0,-35.218333333333341,10399.216891224591]
["2003-10-17",0,0,0,10,0.09,6.3562500000000008E-2,35.218333333333341,{"$f":"'RWH Calculator'!$C$56","v":0},35.218333333333341,0,0,0,0,-35.218333333333341,10399.216891224591]
["2003-10-18",0,0,0,10,0.09,6.3562500000000008E-2,35.218333333333341,{"$f":"'RWH Calculator'!$C$56","v":0},35.218333333333341,0,0,0,0,-35.218333333333341,10399.216891224591]
["2003-10-19",0,0,0,10,0.09,6.3562500000000008E-2,35.218333333333341,{"$f":"'RWH Calculator'!$C$56","v":0},35.218333333333341,0,0,0,0,-35.218333333333341,10399.216891224591]
["2003-10-20",0,0,0,10,0.09,6.3562500000000008E-2,35.218333333333341,{"$f":"'RWH Calculator'!$C$56","v":0},35.218333333333341,0,0,0,0,-35.218333333333341,10399.216891224591]
["2003-10-21",0,0,0,10,0.09,6.3562500000000008E-2,35.218333333333341,{"$f":"'RWH Calculator'!$C$56","v":0},35.218333333333341,0,0,0,0,-35.218333333333341,10399.216891224591]
["2003-10-22",0,0,0,10,{"$f":"IF($B$2=\"Western SF\", VLOOKUP(E1035,$R$6:$U$17, 4),VLOOKUP(E1035, $R$6:$V$17,5))","v":0.09},6.3562500000000008E-2,35.218333333333341,{"$f":"'RWH Calculator'!$C$56","v":0},35.218333333333341,0,0,0,0,-35.218333333333341,10399.216891224591]
["2003-10-23",0,0,0,{"$f":"MONTH(A1036)","v":10},0.09,{"$f":"F1036*$B$6","v":6.3562500000000008E-2},35.218333333333341,{"$f":"'RWH Calculator'!$C$56","v":0},{"$f":"H1036+I1036","v":35.218333333333341},0,0,0,0,-35.218333333333341,10399.216891224591]
["2003-10-24",0,{"$f":"$B$3*$B$4*(B1037/12)*7.48","v":0},{"$f":"C1037","v":0},10,0.09,6.3562500000000008E-2,{"$f":"(IF(G1037-B1037>0,(G1037-B1037)/$B$7,0)/12*7.48)*$B$8","v":35.218333333333341},{"$f":"'RWH Calculator'!$C$56","v":0},35.218333333333341,{"$f":"IF(O1037<0, 0, IF(O1037>$H$2, $H$2, O1037))","v":0},{"$f":"IF(J1037>D1037,D1037, K1037-K1036+J1037)","v":0},{"$f":"IF(D1037+K1036>J1037,J1037, D1037+K1036)","v":0},{"$f":"IF(C1037>J1037, C1037-J1037-(K1037-K1036),0)","v":0},{"$f":"K1036+D1037-J1037","v":-35.218333333333341},{"$f":"M1037+P1036","v":10399.216891224591}]
["2003-10-25",0,0,0,10,0.09,6.3562500000000008E-2,35.218333333333341,{"$f":"'RWH Calculator'!$C$56","v":0},35.218333333333341,0,0,0,0,-35.218333333333341,10399.216891224591]
["2003-10-26",0,0,0,10,0.09,6.3562500000000008E-2,35.218333333333341,{"$f":"'RWH Calculator'!$C$56","v":0},35.218333333333341,0,0,0,0,-35.218333333333341,10399.216891224591]
["2003-10-27",0,0,0,10,0.09,6.3562500000000008E-2,35.218333333333341,{"$f":"'RWH Calculator'!$C$56","v":0},35.218333333333341,0,0,0,0,-35.218333333333341,10399.216891224591]
["2003-10-28",0,0,0,10,0.09,6.3562500000000008E-2,35.218333333333341,{"$f":"'RWH Calculator'!$C$56","v":0},35.218333333333341,0,0,0,0,-35.218333333333341,10399.216891224591]
["2003-10-29",0,0,0,10,0.09,6.3562500000000008E-2,35.218333333333341,{"$f":"'RWH Calculator'!$C$56","v":0},35.218333333333341,0,0,0,0,-35.218333333333341,10399.216891224591]
["2003-10-30",0,0,0,10,0.09,6.3562500000000008E-2,35.218333333333341,{"$f":"'RWH Calculator'!$C$56","v":0},35.218333333333341,0,0,0,0,-35.218333333333341,10399.216891224591]
["2003-10-31",0,0,0,10,0.09,6.3562500000000008E-2,35.218333333333341,{"$f":"'RWH Calculator'!$C$56","v":0},35.218333333333341,0,0,0,0,-35.218333333333341,10399.216891224591]
["2003-11-01",0,0,0,11,6.0000000000000005E-2,4.2375000000000003E-2,23.478888888888889,{"$f":"'RWH Calculator'!$C$56","v":0},23.478888888888889,0,0,0,0,-23.478888888888889,10399.216891224591]
["2003-11-02",0.02,12.716000000000003,12.716000000000003,11,6.0000000000000005E-2,4.2375000000000003E-2,12.397407407407409,{"$f":"'RWH Calculator'!$C$56","v":0},12.397407407407409,0.31859259259259431,12.716000000000003,12.397407407407409,0,0.31859259259259431,10411.614298631997]
["2003-11-03",0.23,146.23400000000001,146.23400000000001,11,6.0000000000000005E-2,4.2375000000000003E-2,0,{"$f":"'RWH Calculator'!$C$56","v":0},0,146.55259259259259,146.23399999999998,0,2.8421709430404007E-14,146.55259259259259,10411.614298631997]
["2003-11-04",0,0,0,11,6.0000000000000005E-2,4.2375000000000003E-2,23.478888888888889,{"$f":"'RWH Calculator'!$C$56","v":0},23.478888888888889,123.0737037037037,0,23.478888888888889,0,123.0737037037037,10435.093187520886]
["2003-11-05",0.05,31.790000000000003,31.790000000000003,11,6.0000000000000005E-2,4.2375000000000003E-2,0,{"$f":"'RWH Calculator'!$C$56","v":0},0,154.86370370370369,31.789999999999992,0,1.0658141036401503E-14,154.86370370370369,10435.093187520886]
["2003-11-06",0.22000000000000003,139.87600000000003,139.87600000000003,11,6.0000000000000005E-2,4.2375000000000003E-2,0,{"$f":"'RWH Calculator'!$C$56","v":0},0,294.73970370370375,139.87600000000006,0,-2.8421709430404007E-14,294.73970370370375,10435.093187520886]
["2003-11-07",0.04,25.432000000000006,25.432000000000006,11,6.0000000000000005E-2,4.2375000000000003E-2,1.3159259259259271,{"$f":"'RWH Calculator'!$C$56","v":0},1.3159259259259271,318.85577777777786,25.432000000000034,1.3159259259259271,-2.8421709430404007E-14,318.85577777777786,10436.409113446813]
["2003-11-08",0.37,235.24600000000001,235.24600000000001,11,6.0000000000000005E-2,4.2375000000000003E-2,0,{"$f":"'RWH Calculator'!$C$56","v":0},0,554.1017777777779,235.24600000000004,0,-2.8421709430404007E-14,554.1017777777779,10436.409113446813]
["2003-11-09",0,0,0,11,6.0000000000000005E-2,4.2375000000000003E-2,23.478888888888889,{"$f":"'RWH Calculator'!$C$56","v":0},23.478888888888889,530.62288888888907,0,23.478888888888889,0,530.62288888888907,10459.888002335701]
["2003-11-10",0,0,0,11,6.0000000000000005E-2,4.2375000000000003E-2,23.478888888888889,{"$f":"'RWH Calculator'!$C$56","v":0},23.478888888888889,507.14400000000018,0,23.478888888888889,0,507.14400000000018,10483.36689122459]
["2003-11-11",0,0,0,11,6.0000000000000005E-2,4.2375000000000003E-2,23.478888888888889,{"$f":"'RWH Calculator'!$C$56","v":0},23.478888888888889,483.66511111111129,0,23.478888888888889,0,483.66511111111129,10506.845780113479]
["2003-11-12",0,0,0,11,6.0000000000000005E-2,4.2375000000000003E-2,23.478888888888889,{"$f":"'RWH Calculator'!$C$56","v":0},23.478888888888889,460.1862222222224,0,23.478888888888889,0,460.1862222222224,10530.324669002368]
["2003-11-13",0,0,0,11,6.0000000000000005E-2,4.2375000000000003E-2,23.478888888888889,{"$f":"'RWH Calculator'!$C$56","v":0},23.478888888888889,436.70733333333351,0,23.478888888888889,0,436.70733333333351,10553.803557891257]
["2003-11-14",0.16999999999999998,108.086,108.086,11,6.0000000000000005E-2,4.2375000000000003E-2,0,{"$f":"'RWH Calculator'!$C$56","v":0},0,544.79333333333352,108.08600000000001,0,-1.4210854715202004E-14,544.79333333333352,10553.803557891257]
["2003-11-15",0.11,69.938000000000002,69.938000000000002,11,6.0000000000000005E-2,4.2375000000000003E-2,0,{"$f":"'RWH Calculator'!$C$56","v":0},0,614.73133333333351,69.937999999999988,0,1.4210854715202004E-14,614.73133333333351,10553.803557891257]
["2003-11-16",0,0,0,11,6.0000000000000005E-2,4.2375000000000003E-2,23.478888888888889,{"$f":"'RWH Calculator'!$C$56","v":0},23.478888888888889,591.25244444444456,0,23.478888888888889,0,591.25244444444456,10577.282446780146]
["2003-11-17",0.13,82.654000000000011,82.654000000000011,11,6.0000000000000005E-2,4.2375000000000003E-2,0,{"$f":"'RWH Calculator'!$C$56","v":0},0,673.90644444444456,82.653999999999996,0,1.4210854715202004E-14,673.90644444444456,10577.282446780146]
["2003-11-18",0,0,0,11,6.0000000000000005E-2,4.2375000000000003E-2,23.478888888888889,{"$f":"'RWH Calculator'!$C$56","v":0},23.478888888888889,650.42755555555573,0,23.478888888888889,0,650.42755555555573,10600.761335669034]
["2003-11-19",0,0,0,11,6.0000000000000005E-2,4.2375000000000003E-2,23.478888888888889,{"$f":"'RWH Calculator'!$C$56","v":0},23.478888888888889,626.9486666666669,0,23.478888888888889,0,626.9486666666669,10624.240224557923]
["2003-11-20",0,0,0,11,6.0000000000000005E-2,4.2375000000000003E-2,23.478888888888889,{"$f":"'RWH Calculator'!$C$56","v":0},23.478888888888889,603.46977777777806,0,23.478888888888889,0,603.46977777777806,10647.719113446812]
["2003-11-21",0,0,0,11,6.0000000000000005E-2,4.2375000000000003E-2,23.478888888888889,{"$f":"'RWH Calculator'!$C$56","v":0},23.478888888888889,579.99088888888923,0,23.478888888888889,0,579.99088888888923,10671.198002335701]
["2003-11-22",0,0,0,11,6.0000000000000005E-2,4.2375000000000003E-2,23.478888888888889,{"$f":"'RWH Calculator'!$C$56","v":0},23.478888888888889,556.5120000000004,0,23.478888888888889,0,556.5120000000004,10694.67689122459]
["2003-11-23",0,0,0,11,6.0000000000000005E-2,4.2375000000000003E-2,23.478888888888889,{"$f":"'RWH Calculator'!$C$56","v":0},23.478888888888889,533.03311111111157,0,23.478888888888889,0,533.03311111111157,10718.155780113479]
["2003-11-24",0,0,0,11,6.0000000000000005E-2,4.2375000000000003E-2,23.478888888888889,{"$f":"'RWH Calculator'!$C$56","v":0},23.478888888888889,509.55422222222268,0,23.478888888888889,0,509.55422222222268,10741.634669002367]
["2003-11-25",0,0,0,11,6.0000000000000005E-2,4.2375000000000003E-2,23.478888888888889,{"$f":"'RWH Calculator'!$C$56","v":0},23.478888888888889,486.07533333333379,0,23.478888888888889,0,486.07533333333379,10765.113557891256]
["2003-11-26",0,0,0,11,6.0000000000000005E-2,4.2375000000000003E-2,23.478888888888889,{"$f":"'RWH Calculator'!$C$56","v":0},23.478888888888889,462.5964444444449,0,23.478888888888889,0,462.5964444444449,10788.592446780145]
["2003-11-27",0,0,0,11,6.0000000000000005E-2,4.2375000000000003E-2,23.478888888888889,{"$f":"'RWH Calculator'!$C$56","v":0},23.478888888888889,439.11755555555601,0,23.478888888888889,0,439.11755555555601,10812.071335669034]
["2003-11-28",0,0,0,11,6.0000000000000005E-2,4.2375000000000003E-2,23.478888888888889,{"$f":"'RWH Calculator'!$C$56","v":0},23.478888888888889,415.63866666666712,0,23.478888888888889,0,415.63866666666712,10835.550224557923]
["2003-11-29",0,0,0,11,6.0000000000000005E-2,4.2375000000000003E-2,23.478888888888889,{"$f":"'RWH Calculator'!$C$56","v":0},23.478888888888889,392.15977777777823,0,23.478888888888889,0,392.15977777777823,10859.029113446812]
["2003-11-30",0.88,559.50400000000002,559.50400000000002,11,6.0000000000000005E-2,4.2375000000000003E-2,0,{"$f":"'RWH Calculator'!$C$56","v":0},0,951.66377777777825,559.50400000000002,0,0,951.66377777777825,10859.029113446812]
["2003-12-01",0.22,139.876,139.876,12,0.04,2.8250000000000001E-2,0,{"$f":"'RWH Calculator'!$C$56","v":0},0,1057.4600871983243,105.79630942054609,0,34.07969057945391,1091.5397777777782,10859.029113446812]
["2003-12-02",0.11999999999999998,76.295999999999992,76.295999999999992,12,0.04,2.8250000000000001E-2,0,{"$f":"'RWH Calculator'!$C$56","v":0},0,1057.4600871983243,0,0,76.295999999999992,1133.7560871983244,10859.029113446812]
["2003-12-03",0,0,0,12,0.04,2.8250000000000001E-2,15.652592592592596,{"$f":"'RWH Calculator'!$C$56","v":0},15.652592592592596,1041.8074946057318,0,15.652592592592596,0,1041.8074946057318,10874.681706039404]
["2003-12-04",0.27,171.66600000000003,171.66600000000003,12,0.04,2.8250000000000001E-2,0,{"$f":"'RWH Calculator'!$C$56","v":0},0,1057.4600871983243,15.652592592592555,0,156.01340740740747,1213.4734946057317,10874.681706039404]
["2003-12-05",0.41,260.678,260.678,12,0.04,2.8250000000000001E-2,0,{"$f":"'RWH Calculator'!$C$56","v":0},0,1057.4600871983243,0,0,260.678,1318.1380871983242,10874.681706039404]
["2003-12-06",0.75,476.85,476.85,12,0.04,2.8250000000000001E-2,0,{"$f":"'RWH Calculator'!$C$56","v":0},0,1057.4600871983243,0,0,476.85,1534.3100871983243,10874.681706039404]
["2003-12-07",0.01,6.3580000000000014,6.3580000000000014,12,0.04,2.8250000000000001E-2,10.111851851851855,{"$f":"'RWH Calculator'!$C$56","v":0},10.111851851851855,1053.7062353464723,6.3580000000000014,10.111851851851855,0,1053.7062353464723,10884.793557891257]
["2003-12-08",0,0,0,12,0.04,2.8250000000000001E-2,15.652592592592596,{"$f":"'RWH Calculator'!$C$56","v":0},15.652592592592596,1038.0536427538798,0,15.652592592592596,0,1038.0536427538798,10900.446150483849]
["2003-12-09",0.31,197.09800000000001,197.09800000000001,12,0.04,2.8250000000000001E-2,0,{"$f":"'RWH Calculator'!$C$56","v":0},0,1057.4600871983243,19.40644444444456,0,177.69155555555545,1235.1516427538797,10900.446150483849]
["2003-12-10",0.55000000000000004,349.69000000000005,349.69000000000005,12,0.04,2.8250000000000001E-2,0,{"$f":"'RWH Calculator'!$C$56","v":0},0,1057.4600871983243,0,0,349.69000000000005,1407.1500871983244,10900.446150483849]
["2003-12-11",0,0,0,12,0.04,2.8250000000000001E-2,15.652592592592596,{"$f":"'RWH Calculator'!$C$56","v":0},15.652592592592596,1041.8074946057318,0,15.652592592592596,0,1041.8074946057318,10916.098743076442]
["2003-12-12",0.41,260.678,260.678,12,0.04,2.8250000000000001E-2,0,{"$f":"'RWH Calculator'!$C$56","v":0},0,1057.4600871983243,15.652592592592555,0,245.02540740740744,1302.4854946057317,10916.098743076442]
["2003-12-13",0.02,12.716000000000003,12.716000000000003,12,0.04,2.8250000000000001E-2,4.5711111111111116,{"$f":"'RWH Calculator'!$C$56","v":0},4.5711111111111116,1057.4600871983243,4.5711111111111116,4.5711111111111116,8.1448888888888913,1065.6049760872131,10920.669854187552]
["2003-12-14",0.72,457.77600000000001,457.77600000000001,12,0.04,2.8250000000000001E-2,0,{"$f":"'RWH Calculator'!$C$56","v":0},0,1057.4600871983243,0,0,457.77600000000001,1515.2360871983244,10920.669854187552]
["2003-12-15",0,0,0,12,0.04,2.8250000000000001E-2,15.652592592592596,{"$f":"'RWH Calculator'!$C$56","v":0},15.652592592592596,1041.8074946057318,0,15.652592592592596,0,1041.8074946057318,10936.322446780145]
["2003-12-16",0,0,0,12,0.04,2.8250000000000001E-2,15.652592592592596,{"$f":"'RWH Calculator'!$C$56","v":0},15.652592592592596,1026.1549020131392,0,15.652592592592596,0,1026.1549020131392,10951.975039372737]
["2003-12-17",0,0,0,12,0.04,2.8250000000000001E-2,15.652592592592596,{"$f":"'RWH Calculator'!$C$56","v":0},15.652592592592596,1010.5023094205467,0,15.652592592592596,0,1010.5023094205467,10967.62763196533]
["2003-12-18",0,0,0,12,0.04,2.8250000000000001E-2,15.652592592592596,{"$f":"'RWH Calculator'!$C$56","v":0},15.652592592592596,994.84971682795413,0,15.652592592592596,0,994.84971682795413,10983.280224557922]
["2003-12-19",0.46,292.46800000000002,292.46800000000002,12,0.04,2.8250000000000001E-2,0,{"$f":"'RWH Calculator'!$C$56","v":0},0,1057.4600871983243,62.610370370370219,0,229.8576296296298,1287.3177168279542,10983.280224557922]
["2003-12-20",0.49000000000000005,311.54200000000009,311.54200000000009,12,0.04,2.8250000000000001E-2,0,{"$f":"'RWH Calculator'!$C$56","v":0},0,1057.4600871983243,0,0,311.54200000000009,1369.0020871983245,10983.280224557922]
["2003-12-21",0,0,0,12,0.04,2.8250000000000001E-2,15.652592592592596,{"$f":"'RWH Calculator'!$C$56","v":0},15.652592592592596,1041.8074946057318,0,15.652592592592596,0,1041.8074946057318,10998.932817150515]
["2003-12-22",0,0,0,12,0.04,2.8250000000000001E-2,15.652592592592596,{"$f":"'RWH Calculator'!$C$56","v":0},15.652592592592596,1026.1549020131392,0,15.652592592592596,0,1026.1549020131392,11014.585409743107]
["2003-12-23",0.21000000000000002,133.51800000000003,133.51800000000003,12,0.04,2.8250000000000001E-2,0,{"$f":"'RWH Calculator'!$C$56","v":0},0,1057.4600871983243,31.30518518518511,0,102.21281481481492,1159.6729020131393,11014.585409743107]
["2003-12-24",0.54,343.33200000000005,343.33200000000005,12,0.04,2.8250000000000001E-2,0,{"$f":"'RWH Calculator'!$C$56","v":0},0,1057.4600871983243,0,0,343.33200000000005,1400.7920871983245,11014.585409743107]
["2003-12-25",0.01,6.3580000000000014,6.3580000000000014,12,{"$f":"IF($B$2=\"Western SF\", VLOOKUP(E1099,$R$6:$U$17, 4),VLOOKUP(E1099, $R$6:$V$17,5))","v":0.04},2.8250000000000001E-2,10.111851851851855,{"$f":"'RWH Calculator'!$C$56","v":0},10.111851851851855,1053.7062353464723,6.3580000000000014,10.111851851851855,0,1053.7062353464723,11024.69726159496]
["2003-12-26",0,0,0,{"$f":"MONTH(A1100)","v":12},0.04,{"$f":"F1100*$B$6","v":2.8250000000000001E-2},15.652592592592596,{"$f":"'RWH Calculator'!$C$56","v":0},{"$f":"H1100+I1100","v":15.652592592592596},1038.0536427538798,0,15.652592592592596,0,1038.0536427538798,11040.349854187552]
["2003-12-27",0,{"$f":"$B$3*$B$4*(B1101/12)*7.48","v":0},{"$f":"C1101","v":0},12,0.04,2.8250000000000001E-2,{"$f":"(IF(G1101-B1101>0,(G1101-B1101)/$B$7,0)/12*7.48)*$B$8","v":15.652592592592596},{"$f":"'RWH Calculator'!$C$56","v":0},15.652592592592596,{"$f":"IF(O1101<0, 0, IF(O1101>$H$2, $H$2, O1101))","v":1022.4010501612872},{"$f":"IF(J1101>D1101,D1101, K1101-K1100+J1101)","v":0},{"$f":"IF(D1101+K1100>J1101,J1101, D1101+K1100)","v":15.652592592592596},{"$f":"IF(C1101>J1101, C1101-J1101-(K1101-K1100),0)","v":0},{"$f":"K1100+D1101-J1101","v":1022.4010501612872},{"$f":"M1101+P1100","v":11056.002446780145}]
["2003-12-28",0.01,6.3580000000000014,6.3580000000000014,12,0.04,2.8250000000000001E-2,10.111851851851855,{"$f":"'RWH Calculator'!$C$56","v":0},10.111851851851855,1018.6471983094353,6.3580000000000014,10.111851851851855,0,1018.6471983094353,11066.114298631997]
["2003-12-29",2.1599999999999997,1373.3279999999997,1373.3279999999997,12,0.04,2.8250000000000001E-2,0,{"$f":"'RWH Calculator'!$C$56","v":0},0,1057.4600871983243,38.812888888889006,0,1334.5151111111109,2391.9751983094352,11066.114298631997]
["2003-12-30",0.02,12.716000000000003,12.716000000000003,12,0.04,2.8250000000000001E-2,4.5711111111111116,{"$f":"'RWH Calculator'!$C$56","v":0},4.5711111111111116,1057.4600871983243,4.5711111111111116,4.5711111111111116,8.1448888888888913,1065.6049760872131,11070.685409743108]
["2003-12-31",0,0,0,12,0.04,2.8250000000000001E-2,15.652592592592596,{"$f":"'RWH Calculator'!$C$56","v":0},15.652592592592596,1041.8074946057318,0,15.652592592592596,0,1041.8074946057318,11086.3380023357]
["2004-01-01",1.84,1169.8720000000001,1169.8720000000001,1,0.04,2.8250000000000001E-2,0,{"$f":"'RWH Calculator'!$C$56","v":0},0,1057.4600871983243,15.652592592592555,0,1154.2194074074075,2211.6794946057316,11086.3380023357]
["2004-01-02",0.44000000000000006,279.75200000000007,279.75200000000007,1,0.04,2.8250000000000001E-2,0,{"$f":"'RWH Calculator'!$C$56","v":0},0,1057.4600871983243,0,0,279.75200000000007,1337.2120871983243,11086.3380023357]
["2004-01-03",0,0,0,1,0.04,2.8250000000000001E-2,15.652592592592596,{"$f":"'RWH Calculator'!$C$56","v":0},15.652592592592596,1041.8074946057318,0,15.652592592592596,0,1041.8074946057318,11101.990594928293]
["2004-01-04",0,0,0,1,0.04,2.8250000000000001E-2,15.652592592592596,{"$f":"'RWH Calculator'!$C$56","v":0},15.652592592592596,1026.1549020131392,0,15.652592592592596,0,1026.1549020131392,11117.643187520885]
["2004-01-05",0,0,0,1,0.04,2.8250000000000001E-2,15.652592592592596,{"$f":"'RWH Calculator'!$C$56","v":0},15.652592592592596,1010.5023094205467,0,15.652592592592596,0,1010.5023094205467,11133.295780113478]
["2004-01-06",0.05,31.790000000000003,31.790000000000003,1,0.04,2.8250000000000001E-2,0,{"$f":"'RWH Calculator'!$C$56","v":0},0,1042.2923094205466,31.789999999999964,0,3.907985046680551E-14,1042.2923094205466,11133.295780113478]
["2004-01-07",0.06,38.148000000000003,38.148000000000003,1,0.04,2.8250000000000001E-2,0,{"$f":"'RWH Calculator'!$C$56","v":0},0,1057.4600871983243,15.167777777777701,0,22.980222222222302,1080.4403094205466,11133.295780113478]
["2004-01-08",0,0,0,1,0.04,2.8250000000000001E-2,15.652592592592596,{"$f":"'RWH Calculator'!$C$56","v":0},15.652592592592596,1041.8074946057318,0,15.652592592592596,0,1041.8074946057318,11148.948372706071]
["2004-01-09",0.38,241.60400000000004,241.60400000000004,1,0.04,2.8250000000000001E-2,0,{"$f":"'RWH Calculator'!$C$56","v":0},0,1057.4600871983243,15.652592592592555,0,225.95140740740749,1283.4114946057318,11148.948372706071]
["2004-01-10",0.02,12.716000000000003,12.716000000000003,1,0.04,2.8250000000000001E-2,4.5711111111111116,{"$f":"'RWH Calculator'!$C$56","v":0},4.5711111111111116,1057.4600871983243,4.5711111111111116,4.5711111111111116,8.1448888888888913,1065.6049760872131,11153.519483817181]
["2004-01-11",0,0,0,1,0.04,2.8250000000000001E-2,15.652592592592596,{"$f":"'RWH Calculator'!$C$56","v":0},15.652592592592596,1041.8074946057318,0,15.652592592592596,0,1041.8074946057318,11169.172076409774]
["2004-01-12",0,0,0,1,0.04,2.8250000000000001E-2,15.652592592592596,{"$f":"'RWH Calculator'!$C$56","v":0},15.652592592592596,1026.1549020131392,0,15.652592592592596,0,1026.1549020131392,11184.824669002366]
["2004-01-13",0,0,0,1,0.04,2.8250000000000001E-2,15.652592592592596,{"$f":"'RWH Calculator'!$C$56","v":0},15.652592592592596,1010.5023094205467,0,15.652592592592596,0,1010.5023094205467,11200.477261594959]
["2004-01-14",0.04,25.432000000000006,25.432000000000006,1,0.04,2.8250000000000001E-2,0,{"$f":"'RWH Calculator'!$C$56","v":0},0,1035.9343094205467,25.432000000000016,0,-1.0658141036401503E-14,1035.9343094205467,11200.477261594959]
["2004-01-15",0,0,0,1,0.04,2.8250000000000001E-2,15.652592592592596,{"$f":"'RWH Calculator'!$C$56","v":0},15.652592592592596,1020.2817168279541,0,15.652592592592596,0,1020.2817168279541,11216.129854187551]
["2004-01-16",0,0,0,1,0.04,2.8250000000000001E-2,15.652592592592596,{"$f":"'RWH Calculator'!$C$56","v":0},15.652592592592596,1004.6291242353616,0,15.652592592592596,0,1004.6291242353616,11231.782446780144]
["2004-01-17",0,0,0,1,0.04,2.8250000000000001E-2,15.652592592592596,{"$f":"'RWH Calculator'!$C$56","v":0},15.652592592592596,988.97653164276903,0,15.652592592592596,0,988.97653164276903,11247.435039372736]
["2004-01-18",0,0,0,1,0.04,2.8250000000000001E-2,15.652592592592596,{"$f":"'RWH Calculator'!$C$56","v":0},15.652592592592596,973.32393905017648,0,15.652592592592596,0,973.32393905017648,11263.087631965329]
["2004-01-19",0,0,0,1,0.04,2.8250000000000001E-2,15.652592592592596,{"$f":"'RWH Calculator'!$C$56","v":0},15.652592592592596,957.67134645758392,0,15.652592592592596,0,957.67134645758392,11278.740224557921]
["2004-01-20",0,0,0,1,0.04,2.8250000000000001E-2,15.652592592592596,{"$f":"'RWH Calculator'!$C$56","v":0},15.652592592592596,942.01875386499137,0,15.652592592592596,0,942.01875386499137,11294.392817150514]
["2004-01-21",0,0,0,1,0.04,2.8250000000000001E-2,15.652592592592596,{"$f":"'RWH Calculator'!$C$56","v":0},15.652592592592596,926.36616127239881,0,15.652592592592596,0,926.36616127239881,11310.045409743107]
["2004-01-22",0,0,0,1,0.04,2.8250000000000001E-2,15.652592592592596,{"$f":"'RWH Calculator'!$C$56","v":0},15.652592592592596,910.71356867980626,0,15.652592592592596,0,910.71356867980626,11325.698002335699]
["2004-01-23",0.03,19.074000000000002,19.074000000000002,1,0.04,2.8250000000000001E-2,0,{"$f":"'RWH Calculator'!$C$56","v":0},0,929.78756867980621,19.073999999999955,0,4.6185277824406512E-14,929.78756867980621,11325.698002335699]
["2004-01-24",0.17,108.08600000000001,108.08600000000001,1,0.04,2.8250000000000001E-2,0,{"$f":"'RWH Calculator'!$C$56","v":0},0,1037.8735686798063,108.08600000000013,0,-1.1368683772161603E-13,1037.8735686798063,11325.698002335699]
["2004-01-25",0,0,0,1,0.04,2.8250000000000001E-2,15.652592592592596,{"$f":"'RWH Calculator'!$C$56","v":0},15.652592592592596,1022.2209760872138,0,15.652592592592596,0,1022.2209760872138,11341.350594928292]
["2004-01-26",0,0,0,1,0.04,2.8250000000000001E-2,15.652592592592596,{"$f":"'RWH Calculator'!$C$56","v":0},15.652592592592596,1006.5683834946212,0,15.652592592592596,0,1006.5683834946212,11357.003187520884]
["2004-01-27",0.24000000000000002,152.59200000000001,152.59200000000001,1,0.04,2.8250000000000001E-2,0,{"$f":"'RWH Calculator'!$C$56","v":0},0,1057.4600871983243,50.891703703703115,0,101.7002962962969,1159.1603834946213,11357.003187520884]
["2004-01-28",0.01,6.3580000000000014,6.3580000000000014,1,0.04,2.8250000000000001E-2,10.111851851851855,{"$f":"'RWH Calculator'!$C$56","v":0},10.111851851851855,1053.7062353464723,6.3580000000000014,10.111851851851855,0,1053.7062353464723,11367.115039372737]
["2004-01-29",0,0,0,1,0.04,2.8250000000000001E-2,15.652592592592596,{"$f":"'RWH Calculator'!$C$56","v":0},15.652592592592596,1038.0536427538798,0,15.652592592592596,0,1038.0536427538798,11382.767631965329]
["2004-01-30",0.12000000000000001,76.296000000000006,76.296000000000006,1,0.04,2.8250000000000001E-2,0,{"$f":"'RWH Calculator'!$C$56","v":0},0,1057.4600871983243,19.40644444444456,0,56.889555555555447,1114.3496427538798,11382.767631965329]
["2004-01-31",0,0,0,1,0.04,2.8250000000000001E-2,15.652592592592596,{"$f":"'RWH Calculator'!$C$56","v":0},15.652592592592596,1041.8074946057318,0,15.652592592592596,0,1041.8074946057318,11398.420224557922]
["2004-02-01",9.9999999999999992E-2,63.580000000000005,63.580000000000005,2,0.06,4.2375000000000003E-2,0,{"$f":"'RWH Calculator'!$C$56","v":0},0,1057.4600871983243,15.652592592592555,0,47.927407407407451,1105.3874946057317,11398.420224557922]
["2004-02-02",1.1000000000000001,699.38000000000011,699.38000000000011,2,0.06,4.2375000000000003E-2,0,{"$f":"'RWH Calculator'!$C$56","v":0},0,1057.4600871983243,0,0,699.38000000000011,1756.8400871983245,11398.420224557922]
["2004-02-03",0.28999999999999998,184.38200000000001,184.38200000000001,2,0.06,4.2375000000000003E-2,0,{"$f":"'RWH Calculator'!$C$56","v":0},0,1057.4600871983243,0,0,184.38200000000001,1241.8420871983244,11398.420224557922]
["2004-02-04",0.01,6.3580000000000014,6.3580000000000014,2,0.06,4.2375000000000003E-2,17.938148148148152,{"$f":"'RWH Calculator'!$C$56","v":0},17.938148148148152,1045.8799390501761,6.3580000000000014,17.938148148148152,0,1045.8799390501761,11416.35837270607]
["2004-02-05",0,0,0,2,0.06,4.2375000000000003E-2,23.478888888888889,{"$f":"'RWH Calculator'!$C$56","v":0},23.478888888888889,1022.4010501612872,0,23.478888888888889,0,1022.4010501612872,11439.837261594959]
["2004-02-06",7.0000000000000007E-2,44.506000000000007,44.506000000000007,2,0.06,4.2375000000000003E-2,0,{"$f":"'RWH Calculator'!$C$56","v":0},0,1057.4600871983243,35.059037037037115,0,9.4469629629628926,1066.9070501612873,11439.837261594959]
["2004-02-07",0,0,0,2,0.06,4.2375000000000003E-2,23.478888888888889,{"$f":"'RWH Calculator'!$C$56","v":0},23.478888888888889,1033.9811983094355,0,23.478888888888889,0,1033.9811983094355,11463.316150483848]
["2004-02-08",0,0,0,2,0.06,4.2375000000000003E-2,23.478888888888889,{"$f":"'RWH Calculator'!$C$56","v":0},23.478888888888889,1010.5023094205467,0,23.478888888888889,0,1010.5023094205467,11486.795039372737]
["2004-02-09",0,0,0,2,0.06,4.2375000000000003E-2,23.478888888888889,{"$f":"'RWH Calculator'!$C$56","v":0},23.478888888888889,987.02342053165785,0,23.478888888888889,0,987.02342053165785,11510.273928261626]
["2004-02-10",0,0,0,2,0.06,4.2375000000000003E-2,23.478888888888889,{"$f":"'RWH Calculator'!$C$56","v":0},23.478888888888889,963.54453164276902,0,23.478888888888889,0,963.54453164276902,11533.752817150515]
["2004-02-11",0,0,0,2,0.06,4.2375000000000003E-2,23.478888888888889,{"$f":"'RWH Calculator'!$C$56","v":0},23.478888888888889,940.06564275388018,0,23.478888888888889,0,940.06564275388018,11557.231706039403]
["2004-02-12",0,0,0,2,0.06,4.2375000000000003E-2,23.478888888888889,{"$f":"'RWH Calculator'!$C$56","v":0},23.478888888888889,916.58675386499135,0,23.478888888888889,0,916.58675386499135,11580.710594928292]
["2004-02-13",0,0,0,2,0.06,4.2375000000000003E-2,23.478888888888889,{"$f":"'RWH Calculator'!$C$56","v":0},23.478888888888889,893.10786497610252,0,23.478888888888889,0,893.10786497610252,11604.189483817181]
["2004-02-14",0,0,0,2,0.06,4.2375000000000003E-2,23.478888888888889,{"$f":"'RWH Calculator'!$C$56","v":0},23.478888888888889,869.62897608721369,0,23.478888888888889,0,869.62897608721369,11627.66837270607]
["2004-02-15",0.03,19.074000000000002,19.074000000000002,2,0.06,4.2375000000000003E-2,6.8566666666666682,{"$f":"'RWH Calculator'!$C$56","v":0},6.8566666666666682,881.84630942054696,19.073999999999941,6.8566666666666682,6.0396132539608516E-14,881.84630942054696,11634.525039372737]
["2004-02-16",1.1400000000000003,724.81200000000035,724.81200000000035,2,0.06,4.2375000000000003E-2,0,{"$f":"'RWH Calculator'!$C$56","v":0},0,1057.4600871983243,175.61377777777739,0,549.19822222222297,1606.6583094205473,11634.525039372737]
["2004-02-17",0.29999999999999993,190.73999999999995,190.73999999999995,2,0.06,4.2375000000000003E-2,0,{"$f":"'RWH Calculator'!$C$56","v":0},0,1057.4600871983243,0,0,190.73999999999995,1248.2000871983244,11634.525039372737]
["2004-02-18",0.16,101.72800000000002,101.72800000000002,2,0.06,4.2375000000000003E-2,0,{"$f":"'RWH Calculator'!$C$56","v":0},0,1057.4600871983243,0,0,101.72800000000002,1159.1880871983244,11634.525039372737]
["2004-02-19",0,0,0,2,0.06,4.2375000000000003E-2,23.478888888888889,{"$f":"'RWH Calculator'!$C$56","v":0},23.478888888888889,1033.9811983094355,0,23.478888888888889,0,1033.9811983094355,11658.003928261625]
["2004-02-20",0,0,0,2,0.06,4.2375000000000003E-2,23.478888888888889,{"$f":"'RWH Calculator'!$C$56","v":0},23.478888888888889,1010.5023094205467,0,23.478888888888889,0,1010.5023094205467,11681.482817150514]
["2004-02-21",0.02,12.716000000000003,12.716000000000003,2,0.06,4.2375000000000003E-2,12.397407407407409,{"$f":"'RWH Calculator'!$C$56","v":0},12.397407407407409,1010.8209020131393,12.716000000000017,12.397407407407409,-1.4210854715202004E-14,1010.8209020131393,11693.880224557921]
["2004-02-22",0.11,69.938000000000002,69.938000000000002,2,0.06,4.2375000000000003E-2,0,{"$f":"'RWH Calculator'!$C$56","v":0},0,1057.4600871983243,46.639185185185056,0,23.298814814814946,1080.7589020131393,11693.880224557921]
["2004-02-23",0,0,0,2,0.06,4.2375000000000003E-2,23.478888888888889,{"$f":"'RWH Calculator'!$C$56","v":0},23.478888888888889,1033.9811983094355,0,23.478888888888889,0,1033.9811983094355,11717.35911344681]
["2004-02-24",0.12,76.296000000000006,76.296000000000006,2,0.06,4.2375000000000003E-2,0,{"$f":"'RWH Calculator'!$C$56","v":0},0,1057.4600871983243,23.478888888888832,0,52.817111111111174,1110.2771983094356,11717.35911344681]
["2004-02-25",2.0099999999999998,1277.9580000000001,1277.9580000000001,2,0.06,4.2375000000000003E-2,0,{"$f":"'RWH Calculator'!$C$56","v":0},0,1057.4600871983243,0,0,1277.9580000000001,2335.4180871983244,11717.35911344681]
["2004-02-26",0.16,101.72800000000002,101.72800000000002,2,0.06,4.2375000000000003E-2,0,{"$f":"'RWH Calculator'!$C$56","v":0},0,1057.4600871983243,0,0,101.72800000000002,1159.1880871983244,11717.35911344681]
["2004-02-27",0.05,31.790000000000003,31.790000000000003,2,{"$f":"IF($B$2=\"Western SF\", VLOOKUP(E1163,$R$6:$U$17, 4),VLOOKUP(E1163, $R$6:$V$17,5))","v":0.06},4.2375000000000003E-2,0,{"$f":"'RWH Calculator'!$C$56","v":0},0,1057.4600871983243,0,0,31.790000000000003,1089.2500871983243,11717.35911344681]
["2004-02-28",0,0,0,{"$f":"MONTH(A1164)","v":2},0.06,{"$f":"F1164*$B$6","v":4.2375000000000003E-2},23.478888888888889,{"$f":"'RWH Calculator'!$C$56","v":0},{"$f":"H1164+I1164","v":23.478888888888889},1033.9811983094355,0,23.478888888888889,0,1033.9811983094355,11740.838002335699]
["2004-02-29",0,{"$f":"$B$3*$B$4*(B1165/12)*7.48","v":0},{"$f":"C1165","v":0},2,0.06,4.2375000000000003E-2,{"$f":"(IF(G1165-B1165>0,(G1165-B1165)/$B$7,0)/12*7.48)*$B$8","v":23.478888888888889},{"$f":"'RWH Calculator'!$C$56","v":0},23.478888888888889,{"$f":"IF(O1165<0, 0, IF(O1165>$H$2, $H$2, O1165))","v":1010.5023094205467},{"$f":"IF(J1165>D1165,D1165, K1165-K1164+J1165)","v":0},{"$f":"IF(D1165+K1164>J1165,J1165, D1165+K1164)","v":23.478888888888889},{"$f":"IF(C1165>J1165, C1165-J1165-(K1165-K1164),0)","v":0},{"$f":"K1164+D1165-J1165","v":1010.5023094205467},{"$f":"M1165+P1164","v":11764.316891224587}]
["2004-03-01",0.28000000000000003,178.02400000000003,178.02400000000003,3,0.1,7.0625000000000007E-2,0,{"$f":"'RWH Calculator'!$C$56","v":0},0,1057.4600871983243,46.957777777777665,0,131.06622222222236,1188.5263094205468,11764.316891224587]
["2004-03-02",0,0,0,3,0.1,7.0625000000000007E-2,39.131481481481487,{"$f":"'RWH Calculator'!$C$56","v":0},39.131481481481487,1018.3286057168428,0,39.131481481481487,0,1018.3286057168428,11803.448372706069]
["2004-03-03",0,0,0,3,0.1,7.0625000000000007E-2,39.131481481481487,{"$f":"'RWH Calculator'!$C$56","v":0},39.131481481481487,979.19712423536134,0,39.131481481481487,0,979.19712423536134,11842.57985418755]
["2004-03-04",0,0,0,3,0.1,7.0625000000000007E-2,39.131481481481487,{"$f":"'RWH Calculator'!$C$56","v":0},39.131481481481487,940.06564275387984,0,39.131481481481487,0,940.06564275387984,11881.711335669032]
["2004-03-05",0,0,0,3,0.1,7.0625000000000007E-2,39.131481481481487,{"$f":"'RWH Calculator'!$C$56","v":0},39.131481481481487,900.93416127239834,0,39.131481481481487,0,900.93416127239834,11920.842817150513]
["2004-03-06",0,0,0,3,0.1,7.0625000000000007E-2,39.131481481481487,{"$f":"'RWH Calculator'!$C$56","v":0},39.131481481481487,861.80267979091684,0,39.131481481481487,0,861.80267979091684,11959.974298631994]
["2004-03-07",0,0,0,3,0.1,7.0625000000000007E-2,39.131481481481487,{"$f":"'RWH Calculator'!$C$56","v":0},39.131481481481487,822.67119830943534,0,39.131481481481487,0,822.67119830943534,11999.105780113476]
["2004-03-08",0,0,0,3,0.1,7.0625000000000007E-2,39.131481481481487,{"$f":"'RWH Calculator'!$C$56","v":0},39.131481481481487,783.53971682795384,0,39.131481481481487,0,783.53971682795384,12038.237261594957]
["2004-03-09",0,0,0,3,0.1,7.0625000000000007E-2,39.131481481481487,{"$f":"'RWH Calculator'!$C$56","v":0},39.131481481481487,744.40823534647234,0,39.131481481481487,0,744.40823534647234,12077.368743076438]
["2004-03-10",0,0,0,3,0.1,7.0625000000000007E-2,39.131481481481487,{"$f":"'RWH Calculator'!$C$56","v":0},39.131481481481487,705.27675386499084,0,39.131481481481487,0,705.27675386499084,12116.50022455792]
["2004-03-11",0,0,0,3,0.1,7.0625000000000007E-2,39.131481481481487,{"$f":"'RWH Calculator'!$C$56","v":0},39.131481481481487,666.14527238350934,0,39.131481481481487,0,666.14527238350934,12155.631706039401]
["2004-03-12",0,0,0,3,0.1,7.0625000000000007E-2,39.131481481481487,{"$f":"'RWH Calculator'!$C$56","v":0},39.131481481481487,627.01379090202784,0,39.131481481481487,0,627.01379090202784,12194.763187520883]
["2004-03-13",0,0,0,3,0.1,7.0625000000000007E-2,39.131481481481487,{"$f":"'RWH Calculator'!$C$56","v":0},39.131481481481487,587.88230942054633,0,39.131481481481487,0,587.88230942054633,12233.894669002364]
["2004-03-14",0,0,0,3,0.1,7.0625000000000007E-2,39.131481481481487,{"$f":"'RWH Calculator'!$C$56","v":0},39.131481481481487,548.75082793906483,0,39.131481481481487,0,548.75082793906483,12273.026150483845]
["2004-03-15",0,0,0,3,0.1,7.0625000000000007E-2,39.131481481481487,{"$f":"'RWH Calculator'!$C$56","v":0},39.131481481481487,509.61934645758333,0,39.131481481481487,0,509.61934645758333,12312.157631965327]
["2004-03-16",0,0,0,3,0.1,7.0625000000000007E-2,39.131481481481487,{"$f":"'RWH Calculator'!$C$56","v":0},39.131481481481487,470.48786497610183,0,39.131481481481487,0,470.48786497610183,12351.289113446808]
["2004-03-17",0,0,0,3,0.1,7.0625000000000007E-2,39.131481481481487,{"$f":"'RWH Calculator'!$C$56","v":0},39.131481481481487,431.35638349462033,0,39.131481481481487,0,431.35638349462033,12390.42059492829]
["2004-03-18",0,0,0,3,0.1,7.0625000000000007E-2,39.131481481481487,{"$f":"'RWH Calculator'!$C$56","v":0},39.131481481481487,392.22490201313883,0,39.131481481481487,0,392.22490201313883,12429.552076409771]
["2004-03-19",0,0,0,3,0.1,7.0625000000000007E-2,39.131481481481487,{"$f":"'RWH Calculator'!$C$56","v":0},39.131481481481487,353.09342053165733,0,39.131481481481487,0,353.09342053165733,12468.683557891252]
["2004-03-20",0,0,0,3,0.1,7.0625000000000007E-2,39.131481481481487,{"$f":"'RWH Calculator'!$C$56","v":0},39.131481481481487,313.96193905017583,0,39.131481481481487,0,313.96193905017583,12507.815039372734]
["2004-03-21",0,0,0,3,0.1,7.0625000000000007E-2,39.131481481481487,{"$f":"'RWH Calculator'!$C$56","v":0},39.131481481481487,274.83045756869433,0,39.131481481481487,0,274.83045756869433,12546.946520854215]
["2004-03-22",0,0,0,3,0.1,7.0625000000000007E-2,39.131481481481487,{"$f":"'RWH Calculator'!$C$56","v":0},39.131481481481487,235.69897608721283,0,39.131481481481487,0,235.69897608721283,12586.078002335697]
["2004-03-23",0,0,0,3,0.1,7.0625000000000007E-2,39.131481481481487,{"$f":"'RWH Calculator'!$C$56","v":0},39.131481481481487,196.56749460573133,0,39.131481481481487,0,196.56749460573133,12625.209483817178]
["2004-03-24",0,0,0,3,0.1,7.0625000000000007E-2,39.131481481481487,{"$f":"'RWH Calculator'!$C$56","v":0},39.131481481481487,157.43601312424983,0,39.131481481481487,0,157.43601312424983,12664.340965298659]
["2004-03-25",0.84000000000000008,534.07200000000012,534.07200000000012,3,0.1,7.0625000000000007E-2,0,{"$f":"'RWH Calculator'!$C$56","v":0},0,691.50801312424994,534.07200000000012,0,0,691.50801312424994,12664.340965298659]
["2004-03-26",0,0,0,3,0.1,7.0625000000000007E-2,39.131481481481487,{"$f":"'RWH Calculator'!$C$56","v":0},39.131481481481487,652.37653164276844,0,39.131481481481487,0,652.37653164276844,12703.472446780141]
["2004-03-27",0.03,19.074000000000002,19.074000000000002,3,0.1,7.0625000000000007E-2,22.509259259259267,{"$f":"'RWH Calculator'!$C$56","v":0},22.509259259259267,648.94127238350916,19.074000000000002,22.509259259259267,0,648.94127238350916,12725.9817060394]
["2004-03-28",0,0,0,3,0.1,7.0625000000000007E-2,39.131481481481487,{"$f":"'RWH Calculator'!$C$56","v":0},39.131481481481487,609.80979090202766,0,39.131481481481487,0,609.80979090202766,12765.113187520881]
["2004-03-29",0,0,0,3,0.1,7.0625000000000007E-2,39.131481481481487,{"$f":"'RWH Calculator'!$C$56","v":0},39.131481481481487,570.67830942054616,0,39.131481481481487,0,570.67830942054616,12804.244669002363]
["2004-03-30",0.01,6.3580000000000014,6.3580000000000014,3,0.1,7.0625000000000007E-2,33.590740740740749,{"$f":"'RWH Calculator'!$C$56","v":0},33.590740740740749,543.44556867980532,6.3580000000000014,33.590740740740749,0,543.44556867980532,12837.835409743104]
["2004-03-31",0,0,0,3,0.1,7.0625000000000007E-2,39.131481481481487,{"$f":"'RWH Calculator'!$C$56","v":0},39.131481481481487,504.31408719832382,0,39.131481481481487,0,504.31408719832382,12876.966891224585]
["2004-04-01",0,0,0,4,0.13,9.1812500000000005E-2,50.870925925925924,{"$f":"'RWH Calculator'!$C$56","v":0},50.870925925925924,453.4431612723979,0,50.870925925925924,0,453.4431612723979,12927.837817150512]
["2004-04-02",0,0,0,4,0.13,9.1812500000000005E-2,50.870925925925924,{"$f":"'RWH Calculator'!$C$56","v":0},50.870925925925924,402.57223534647198,0,50.870925925925924,0,402.57223534647198,12978.708743076439]
["2004-04-03",0,0,0,4,0.13,9.1812500000000005E-2,50.870925925925924,{"$f":"'RWH Calculator'!$C$56","v":0},50.870925925925924,351.70130942054607,0,50.870925925925924,0,351.70130942054607,13029.579669002365]
["2004-04-04",0,0,0,4,0.13,9.1812500000000005E-2,50.870925925925924,{"$f":"'RWH Calculator'!$C$56","v":0},50.870925925925924,300.83038349462015,0,50.870925925925924,0,300.83038349462015,13080.450594928292]
["2004-04-05",0,0,0,4,0.13,9.1812500000000005E-2,50.870925925925924,{"$f":"'RWH Calculator'!$C$56","v":0},50.870925925925924,249.95945756869423,0,50.870925925925924,0,249.95945756869423,13131.321520854219]
["2004-04-06",0,0,0,4,0.13,9.1812500000000005E-2,50.870925925925924,{"$f":"'RWH Calculator'!$C$56","v":0},50.870925925925924,199.08853164276832,0,50.870925925925924,0,199.08853164276832,13182.192446780145]
["2004-04-07",0,0,0,4,0.13,9.1812500000000005E-2,50.870925925925924,{"$f":"'RWH Calculator'!$C$56","v":0},50.870925925925924,148.2176057168424,0,50.870925925925924,0,148.2176057168424,13233.063372706072]
["2004-04-08",0,0,0,4,0.13,9.1812500000000005E-2,50.870925925925924,{"$f":"'RWH Calculator'!$C$56","v":0},50.870925925925924,97.346679790916482,0,50.870925925925924,0,97.346679790916482,13283.934298631999]
["2004-04-09",0,0,0,4,0.13,9.1812500000000005E-2,50.870925925925924,{"$f":"'RWH Calculator'!$C$56","v":0},50.870925925925924,46.475753864990558,0,50.870925925925924,0,46.475753864990558,13334.805224557926]
["2004-04-10",0,0,0,4,0.13,9.1812500000000005E-2,50.870925925925924,{"$f":"'RWH Calculator'!$C$56","v":0},50.870925925925924,0,0,46.475753864990558,0,-4.3951720609353657,13381.280978422916]
["2004-04-11",0,0,0,4,0.13,9.1812500000000005E-2,50.870925925925924,{"$f":"'RWH Calculator'!$C$56","v":0},50.870925925925924,0,0,0,0,-50.870925925925924,13381.280978422916]
["2004-04-12",0,0,0,4,0.13,9.1812500000000005E-2,50.870925925925924,{"$f":"'RWH Calculator'!$C$56","v":0},50.870925925925924,0,0,0,0,-50.870925925925924,13381.280978422916]
["2004-04-13",0,0,0,4,0.13,9.1812500000000005E-2,50.870925925925924,{"$f":"'RWH Calculator'!$C$56","v":0},50.870925925925924,0,0,0,0,-50.870925925925924,13381.280978422916]
["2004-04-14",0.01,6.3580000000000014,6.3580000000000014,4,0.13,9.1812500000000005E-2,45.330185185185186,{"$f":"'RWH Calculator'!$C$56","v":0},45.330185185185186,0,6.3580000000000014,6.3580000000000014,0,-38.972185185185182,13387.638978422916]
["2004-04-15",0,0,0,4,0.13,9.1812500000000005E-2,50.870925925925924,{"$f":"'RWH Calculator'!$C$56","v":0},50.870925925925924,0,0,0,0,-50.870925925925924,13387.638978422916]
["2004-04-16",0,0,0,4,0.13,9.1812500000000005E-2,50.870925925925924,{"$f":"'RWH Calculator'!$C$56","v":0},50.870925925925924,0,0,0,0,-50.870925925925924,13387.638978422916]
["2004-04-17",0,0,0,4,0.13,9.1812500000000005E-2,50.870925925925924,{"$f":"'RWH Calculator'!$C$56","v":0},50.870925925925924,0,0,0,0,-50.870925925925924,13387.638978422916]
["2004-04-18",0.01,6.3580000000000014,6.3580000000000014,4,0.13,9.1812500000000005E-2,45.330185185185186,{"$f":"'RWH Calculator'!$C$56","v":0},45.330185185185186,0,6.3580000000000014,6.3580000000000014,0,-38.972185185185182,13393.996978422916]
["2004-04-19",0,0,0,4,0.13,9.1812500000000005E-2,50.870925925925924,{"$f":"'RWH Calculator'!$C$56","v":0},50.870925925925924,0,0,0,0,-50.870925925925924,13393.996978422916]
["2004-04-20",0.06,38.148000000000003,38.148000000000003,4,0.13,9.1812500000000005E-2,17.626481481481488,{"$f":"'RWH Calculator'!$C$56","v":0},17.626481481481488,20.521518518518516,38.148000000000003,17.626481481481488,0,20.521518518518516,13411.623459904398]
["2004-04-21",0.04,25.432000000000006,25.432000000000006,4,0.13,9.1812500000000005E-2,28.70796296296297,{"$f":"'RWH Calculator'!$C$56","v":0},28.70796296296297,17.245555555555551,25.432000000000006,28.70796296296297,0,17.245555555555551,13440.331422867361]
["2004-04-22",0,0,0,4,0.13,9.1812500000000005E-2,50.870925925925924,{"$f":"'RWH Calculator'!$C$56","v":0},50.870925925925924,0,0,17.245555555555551,0,-33.625370370370376,13457.576978422916]
["2004-04-23",0,0,0,4,0.13,9.1812500000000005E-2,50.870925925925924,{"$f":"'RWH Calculator'!$C$56","v":0},50.870925925925924,0,0,0,0,-50.870925925925924,13457.576978422916]
["2004-04-24",0,0,0,4,0.13,9.1812500000000005E-2,50.870925925925924,{"$f":"'RWH Calculator'!$C$56","v":0},50.870925925925924,0,0,0,0,-50.870925925925924,13457.576978422916]
["2004-04-25",0,0,0,4,0.13,9.1812500000000005E-2,50.870925925925924,{"$f":"'RWH Calculator'!$C$56","v":0},50.870925925925924,0,0,0,0,-50.870925925925924,13457.576978422916]
["2004-04-26",0,0,0,4,0.13,9.1812500000000005E-2,50.870925925925924,{"$f":"'RWH Calculator'!$C$56","v":0},50.870925925925924,0,0,0,0,-50.870925925925924,13457.576978422916]
["2004-04-27",0,0,0,4,0.13,9.1812500000000005E-2,50.870925925925924,{"$f":"'RWH Calculator'!$C$56","v":0},50.870925925925924,0,0,0,0,-50.870925925925924,13457.576978422916]
["2004-04-28",0,0,0,4,0.13,9.1812500000000005E-2,50.870925925925924,{"$f":"'RWH Calculator'!$C$56","v":0},50.870925925925924,0,0,0,0,-50.870925925925924,13457.576978422916]
["2004-04-29",0,0,0,4,0.13,9.1812500000000005E-2,50.870925925925924,{"$f":"'RWH Calculator'!$C$56","v":0},50.870925925925924,0,0,0,0,-50.870925925925924,13457.576978422916]
["2004-04-30",0,0,0,4,0.13,9.1812500000000005E-2,50.870925925925924,{"$f":"'RWH Calculator'!$C$56","v":0},50.870925925925924,0,0,0,0,-50.870925925925924,13457.576978422916]
["2004-05-01",0,0,0,5,{"$f":"IF($B$2=\"Western SF\", VLOOKUP(E1227,$R$6:$U$17, 4),VLOOKUP(E1227, $R$6:$V$17,5))","v":0.15000000000000002},0.10593750000000002,58.697222222222237,{"$f":"'RWH Calculator'!$C$56","v":0},58.697222222222237,0,0,0,0,-58.697222222222237,13457.576978422916]
["2004-05-02",0,0,0,{"$f":"MONTH(A1228)","v":5},0.15000000000000002,{"$f":"F1228*$B$6","v":0.10593750000000002},58.697222222222237,{"$f":"'RWH Calculator'!$C$56","v":0},{"$f":"H1228+I1228","v":58.697222222222237},0,0,0,0,-58.697222222222237,13457.576978422916]
["2004-05-03",0,{"$f":"$B$3*$B$4*(B1229/12)*7.48","v":0},{"$f":"C1229","v":0},5,0.15000000000000002,0.10593750000000002,{"$f":"(IF(G1229-B1229>0,(G1229-B1229)/$B$7,0)/12*7.48)*$B$8","v":58.697222222222237},{"$f":"'RWH Calculator'!$C$56","v":0},58.697222222222237,{"$f":"IF(O1229<0, 0, IF(O1229>$H$2, $H$2, O1229))","v":0},{"$f":"IF(J1229>D1229,D1229, K1229-K1228+J1229)","v":0},{"$f":"IF(D1229+K1228>J1229,J1229, D1229+K1228)","v":0},{"$f":"IF(C1229>J1229, C1229-J1229-(K1229-K1228),0)","v":0},{"$f":"K1228+D1229-J1229","v":-58.697222222222237},{"$f":"M1229+P1228","v":13457.576978422916}]
["2004-05-04",0,0,0,5,0.15000000000000002,0.10593750000000002,58.697222222222237,{"$f":"'RWH Calculator'!$C$56","v":0},58.697222222222237,0,0,0,0,-58.697222222222237,13457.576978422916]
["2004-05-05",0,0,0,5,0.15000000000000002,0.10593750000000002,58.697222222222237,{"$f":"'RWH Calculator'!$C$56","v":0},58.697222222222237,0,0,0,0,-58.697222222222237,13457.576978422916]
["2004-05-06",0,0,0,5,0.15000000000000002,0.10593750000000002,58.697222222222237,{"$f":"'RWH Calculator'!$C$56","v":0},58.697222222222237,0,0,0,0,-58.697222222222237,13457.576978422916]
["2004-05-07",0,0,0,5,0.15000000000000002,0.10593750000000002,58.697222222222237,{"$f":"'RWH Calculator'!$C$56","v":0},58.697222222222237,0,0,0,0,-58.697222222222237,13457.576978422916]
["2004-05-08",0,0,0,5,0.15000000000000002,0.10593750000000002,58.697222222222237,{"$f":"'RWH Calculator'!$C$56","v":0},58.697222222222237,0,0,0,0,-58.697222222222237,13457.576978422916]
["2004-05-09",0,0,0,5,0.15000000000000002,0.10593750000000002,58.697222222222237,{"$f":"'RWH Calculator'!$C$56","v":0},58.697222222222237,0,0,0,0,-58.697222222222237,13457.576978422916]
["2004-05-10",0,0,0,5,0.15000000000000002,0.10593750000000002,58.697222222222237,{"$f":"'RWH Calculator'!$C$56","v":0},58.697222222222237,0,0,0,0,-58.697222222222237,13457.576978422916]
["2004-05-11",0,0,0,5,0.15000000000000002,0.10593750000000002,58.697222222222237,{"$f":"'RWH Calculator'!$C$56","v":0},58.697222222222237,0,0,0,0,-58.697222222222237,13457.576978422916]
["2004-05-12",0,0,0,5,0.15000000000000002,0.10593750000000002,58.697222222222237,{"$f":"'RWH Calculator'!$C$56","v":0},58.697222222222237,0,0,0,0,-58.697222222222237,13457.576978422916]
["2004-05-13",0,0,0,5,0.15000000000000002,0.10593750000000002,58.697222222222237,{"$f":"'RWH Calculator'!$C$56","v":0},58.697222222222237,0,0,0,0,-58.697222222222237,13457.576978422916]
["2004-05-14",0,0,0,5,0.15000000000000002,0.10593750000000002,58.697222222222237,{"$f":"'RWH Calculator'!$C$56","v":0},58.697222222222237,0,0,0,0,-58.697222222222237,13457.576978422916]
["2004-05-15",0,0,0,5,0.15000000000000002,0.10593750000000002,58.697222222222237,{"$f":"'RWH Calculator'!$C$56","v":0},58.697222222222237,0,0,0,0,-58.697222222222237,13457.576978422916]
["2004-05-16",0,0,0,5,0.15000000000000002,0.10593750000000002,58.697222222222237,{"$f":"'RWH Calculator'!$C$56","v":0},58.697222222222237,0,0,0,0,-58.697222222222237,13457.576978422916]
["2004-05-17",0,0,0,5,0.15000000000000002,0.10593750000000002,58.697222222222237,{"$f":"'RWH Calculator'!$C$56","v":0},58.697222222222237,0,0,0,0,-58.697222222222237,13457.576978422916]
["2004-05-18",0,0,0,5,0.15000000000000002,0.10593750000000002,58.697222222222237,{"$f":"'RWH Calculator'!$C$56","v":0},58.697222222222237,0,0,0,0,-58.697222222222237,13457.576978422916]
["2004-05-19",0,0,0,5,0.15000000000000002,0.10593750000000002,58.697222222222237,{"$f":"'RWH Calculator'!$C$56","v":0},58.697222222222237,0,0,0,0,-58.697222222222237,13457.576978422916]
["2004-05-20",0,0,0,5,0.15000000000000002,0.10593750000000002,58.697222222222237,{"$f":"'RWH Calculator'!$C$56","v":0},58.697222222222237,0,0,0,0,-58.697222222222237,13457.576978422916]
["2004-05-21",0,0,0,5,0.15000000000000002,0.10593750000000002,58.697222222222237,{"$f":"'RWH Calculator'!$C$56","v":0},58.697222222222237,0,0,0,0,-58.697222222222237,13457.576978422916]
["2004-05-22",0,0,0,5,0.15000000000000002,0.10593750000000002,58.697222222222237,{"$f":"'RWH Calculator'!$C$56","v":0},58.697222222222237,0,0,0,0,-58.697222222222237,13457.576978422916]
["2004-05-23",0,0,0,5,0.15000000000000002,0.10593750000000002,58.697222222222237,{"$f":"'RWH Calculator'!$C$56","v":0},58.697222222222237,0,0,0,0,-58.697222222222237,13457.576978422916]
["2004-05-24",0,0,0,5,0.15000000000000002,0.10593750000000002,58.697222222222237,{"$f":"'RWH Calculator'!$C$56","v":0},58.697222222222237,0,0,0,0,-58.697222222222237,13457.576978422916]
["2004-05-25",0,0,0,5,0.15000000000000002,0.10593750000000002,58.697222222222237,{"$f":"'RWH Calculator'!$C$56","v":0},58.697222222222237,0,0,0,0,-58.697222222222237,13457.576978422916]
["2004-05-26",0,0,0,5,0.15000000000000002,0.10593750000000002,58.697222222222237,{"$f":"'RWH Calculator'!$C$56","v":0},58.697222222222237,0,0,0,0,-58.697222222222237,13457.576978422916]
["2004-05-27",0,0,0,5,0.15000000000000002,0.10593750000000002,58.697222222222237,{"$f":"'RWH Calculator'!$C$56","v":0},58.697222222222237,0,0,0,0,-58.697222222222237,13457.576978422916]
["2004-05-28",0.12,76.296000000000006,76.296000000000006,5,0.15000000000000002,0.10593750000000002,0,{"$f":"'RWH Calculator'!$C$56","v":0},0,76.296000000000006,76.296000000000006,0,0,76.296000000000006,13457.576978422916]
["2004-05-29",0,0,0,5,0.15000000000000002,0.10593750000000002,58.697222222222237,{"$f":"'RWH Calculator'!$C$56","v":0},58.697222222222237,17.598777777777769,0,58.697222222222237,0,17.598777777777769,13516.274200645139]
["2004-05-30",0,0,0,5,0.15000000000000002,0.10593750000000002,58.697222222222237,{"$f":"'RWH Calculator'!$C$56","v":0},58.697222222222237,0,0,17.598777777777769,0,-41.098444444444468,13533.872978422916]
["2004-05-31",0,0,0,5,0.15000000000000002,0.10593750000000002,58.697222222222237,{"$f":"'RWH Calculator'!$C$56","v":0},58.697222222222237,0,0,0,0,-58.697222222222237,13533.872978422916]
["2004-06-01",0,0,0,6,0.16999999999999998,0.1200625,66.523518518518514,{"$f":"'RWH Calculator'!$C$56","v":0},66.523518518518514,0,0,0,0,-66.523518518518514,13533.872978422916]
["2004-06-02",0,0,0,6,0.16999999999999998,0.1200625,66.523518518518514,{"$f":"'RWH Calculator'!$C$56","v":0},66.523518518518514,0,0,0,0,-66.523518518518514,13533.872978422916]
["2004-06-03",0,0,0,6,0.16999999999999998,0.1200625,66.523518518518514,{"$f":"'RWH Calculator'!$C$56","v":0},66.523518518518514,0,0,0,0,-66.523518518518514,13533.872978422916]
["2004-06-04",0,0,0,6,0.16999999999999998,0.1200625,66.523518518518514,{"$f":"'RWH Calculator'!$C$56","v":0},66.523518518518514,0,0,0,0,-66.523518518518514,13533.872978422916]
["2004-06-05",0,0,0,6,0.16999999999999998,0.1200625,66.523518518518514,{"$f":"'RWH Calculator'!$C$56","v":0},66.523518518518514,0,0,0,0,-66.523518518518514,13533.872978422916]
["2004-06-06",0,0,0,6,0.16999999999999998,0.1200625,66.523518518518514,{"$f":"'RWH Calculator'!$C$56","v":0},66.523518518518514,0,0,0,0,-66.523518518518514,13533.872978422916]
["2004-06-07",0,0,0,6,0.16999999999999998,0.1200625,66.523518518518514,{"$f":"'RWH Calculator'!$C$56","v":0},66.523518518518514,0,0,0,0,-66.523518518518514,13533.872978422916]
["2004-06-08",0,0,0,6,0.16999999999999998,0.1200625,66.523518518518514,{"$f":"'RWH Calculator'!$C$56","v":0},66.523518518518514,0,0,0,0,-66.523518518518514,13533.872978422916]
["2004-06-09",0,0,0,6,0.16999999999999998,0.1200625,66.523518518518514,{"$f":"'RWH Calculator'!$C$56","v":0},66.523518518518514,0,0,0,0,-66.523518518518514,13533.872978422916]
["2004-06-10",0,0,0,6,0.16999999999999998,0.1200625,66.523518518518514,{"$f":"'RWH Calculator'!$C$56","v":0},66.523518518518514,0,0,0,0,-66.523518518518514,13533.872978422916]
["2004-06-11",0,0,0,6,0.16999999999999998,0.1200625,66.523518518518514,{"$f":"'RWH Calculator'!$C$56","v":0},66.523518518518514,0,0,0,0,-66.523518518518514,13533.872978422916]
["2004-06-12",0,0,0,6,0.16999999999999998,0.1200625,66.523518518518514,{"$f":"'RWH Calculator'!$C$56","v":0},66.523518518518514,0,0,0,0,-66.523518518518514,13533.872978422916]
["2004-06-13",0,0,0,6,0.16999999999999998,0.1200625,66.523518518518514,{"$f":"'RWH Calculator'!$C$56","v":0},66.523518518518514,0,0,0,0,-66.523518518518514,13533.872978422916]
["2004-06-14",0,0,0,6,0.16999999999999998,0.1200625,66.523518518518514,{"$f":"'RWH Calculator'!$C$56","v":0},66.523518518518514,0,0,0,0,-66.523518518518514,13533.872978422916]
["2004-06-15",0,0,0,6,0.16999999999999998,0.1200625,66.523518518518514,{"$f":"'RWH Calculator'!$C$56","v":0},66.523518518518514,0,0,0,0,-66.523518518518514,13533.872978422916]
["2004-06-16",0,0,0,6,0.16999999999999998,0.1200625,66.523518518518514,{"$f":"'RWH Calculator'!$C$56","v":0},66.523518518518514,0,0,0,0,-66.523518518518514,13533.872978422916]
["2004-06-17",0,0,0,6,0.16999999999999998,0.1200625,66.523518518518514,{"$f":"'RWH Calculator'!$C$56","v":0},66.523518518518514,0,0,0,0,-66.523518518518514,13533.872978422916]
["2004-06-18",0,0,0,6,0.16999999999999998,0.1200625,66.523518518518514,{"$f":"'RWH Calculator'!$C$56","v":0},66.523518518518514,0,0,0,0,-66.523518518518514,13533.872978422916]
["2004-06-19",0,0,0,6,0.16999999999999998,0.1200625,66.523518518518514,{"$f":"'RWH Calculator'!$C$56","v":0},66.523518518518514,0,0,0,0,-66.523518518518514,13533.872978422916]
["2004-06-20",0,0,0,6,0.16999999999999998,0.1200625,66.523518518518514,{"$f":"'RWH Calculator'!$C$56","v":0},66.523518518518514,0,0,0,0,-66.523518518518514,13533.872978422916]
["2004-06-21",0,0,0,6,0.16999999999999998,0.1200625,66.523518518518514,{"$f":"'RWH Calculator'!$C$56","v":0},66.523518518518514,0,0,0,0,-66.523518518518514,13533.872978422916]
["2004-06-22",0,0,0,6,0.16999999999999998,0.1200625,66.523518518518514,{"$f":"'RWH Calculator'!$C$56","v":0},66.523518518518514,0,0,0,0,-66.523518518518514,13533.872978422916]
["2004-06-23",0,0,0,6,0.16999999999999998,0.1200625,66.523518518518514,{"$f":"'RWH Calculator'!$C$56","v":0},66.523518518518514,0,0,0,0,-66.523518518518514,13533.872978422916]
["2004-06-24",0,0,0,6,0.16999999999999998,0.1200625,66.523518518518514,{"$f":"'RWH Calculator'!$C$56","v":0},66.523518518518514,0,0,0,0,-66.523518518518514,13533.872978422916]
["2004-06-25",0,0,0,6,0.16999999999999998,0.1200625,66.523518518518514,{"$f":"'RWH Calculator'!$C$56","v":0},66.523518518518514,0,0,0,0,-66.523518518518514,13533.872978422916]
["2004-06-26",0,0,0,6,0.16999999999999998,0.1200625,66.523518518518514,{"$f":"'RWH Calculator'!$C$56","v":0},66.523518518518514,0,0,0,0,-66.523518518518514,13533.872978422916]
["2004-06-27",0,0,0,6,0.16999999999999998,0.1200625,66.523518518518514,{"$f":"'RWH Calculator'!$C$56","v":0},66.523518518518514,0,0,0,0,-66.523518518518514,13533.872978422916]
["2004-06-28",0,0,0,6,0.16999999999999998,0.1200625,66.523518518518514,{"$f":"'RWH Calculator'!$C$56","v":0},66.523518518518514,0,0,0,0,-66.523518518518514,13533.872978422916]
["2004-06-29",0,0,0,6,0.16999999999999998,0.1200625,66.523518518518514,{"$f":"'RWH Calculator'!$C$56","v":0},66.523518518518514,0,0,0,0,-66.523518518518514,13533.872978422916]
["2004-06-30",0,0,0,6,0.16999999999999998,0.1200625,66.523518518518514,{"$f":"'RWH Calculator'!$C$56","v":0},66.523518518518514,0,0,0,0,-66.523518518518514,13533.872978422916]
["2004-07-01",0,0,0,7,0.16,0.113,62.610370370370383,{"$f":"'RWH Calculator'!$C$56","v":0},62.610370370370383,0,0,0,0,-62.610370370370383,13533.872978422916]
["2004-07-02",0,0,0,7,0.16,0.113,62.610370370370383,{"$f":"'RWH Calculator'!$C$56","v":0},62.610370370370383,0,0,0,0,-62.610370370370383,13533.872978422916]
["2004-07-03",0,0,0,7,0.16,0.113,62.610370370370383,{"$f":"'RWH Calculator'!$C$56","v":0},62.610370370370383,0,0,0,0,-62.610370370370383,13533.872978422916]
["2004-07-04",0,0,0,7,{"$f":"IF($B$2=\"Western SF\", VLOOKUP(E1291,$R$6:$U$17, 4),VLOOKUP(E1291, $R$6:$V$17,5))","v":0.16},0.113,62.610370370370383,{"$f":"'RWH Calculator'!$C$56","v":0},62.610370370370383,0,0,0,0,-62.610370370370383,13533.872978422916]
["2004-07-05",0,0,0,{"$f":"MONTH(A1292)","v":7},0.16,{"$f":"F1292*$B$6","v":0.113},62.610370370370383,{"$f":"'RWH Calculator'!$C$56","v":0},{"$f":"H1292+I1292","v":62.610370370370383},0,0,0,0,-62.610370370370383,13533.872978422916]
["2004-07-06",0,{"$f":"$B$3*$B$4*(B1293/12)*7.48","v":0},{"$f":"C1293","v":0},7,0.16,0.113,{"$f":"(IF(G1293-B1293>0,(G1293-B1293)/$B$7,0)/12*7.48)*$B$8","v":62.610370370370383},{"$f":"'RWH Calculator'!$C$56","v":0},62.610370370370383,{"$f":"IF(O1293<0, 0, IF(O1293>$H$2, $H$2, O1293))","v":0},{"$f":"IF(J1293>D1293,D1293, K1293-K1292+J1293)","v":0},{"$f":"IF(D1293+K1292>J1293,J1293, D1293+K1292)","v":0},{"$f":"IF(C1293>J1293, C1293-J1293-(K1293-K1292),0)","v":0},{"$f":"K1292+D1293-J1293","v":-62.610370370370383},{"$f":"M1293+P1292","v":13533.872978422916}]
["2004-07-07",0,0,0,7,0.16,0.113,62.610370370370383,{"$f":"'RWH Calculator'!$C$56","v":0},62.610370370370383,0,0,0,0,-62.610370370370383,13533.872978422916]
["2004-07-08",0,0,0,7,0.16,0.113,62.610370370370383,{"$f":"'RWH Calculator'!$C$56","v":0},62.610370370370383,0,0,0,0,-62.610370370370383,13533.872978422916]
["2004-07-09",0,0,0,7,0.16,0.113,62.610370370370383,{"$f":"'RWH Calculator'!$C$56","v":0},62.610370370370383,0,0,0,0,-62.610370370370383,13533.872978422916]
["2004-07-10",0,0,0,7,0.16,0.113,62.610370370370383,{"$f":"'RWH Calculator'!$C$56","v":0},62.610370370370383,0,0,0,0,-62.610370370370383,13533.872978422916]
["2004-07-11",0,0,0,7,0.16,0.113,62.610370370370383,{"$f":"'RWH Calculator'!$C$56","v":0},62.610370370370383,0,0,0,0,-62.610370370370383,13533.872978422916]
["2004-07-12",0,0,0,7,0.16,0.113,62.610370370370383,{"$f":"'RWH Calculator'!$C$56","v":0},62.610370370370383,0,0,0,0,-62.610370370370383,13533.872978422916]
["2004-07-13",0,0,0,7,0.16,0.113,62.610370370370383,{"$f":"'RWH Calculator'!$C$56","v":0},62.610370370370383,0,0,0,0,-62.610370370370383,13533.872978422916]
["2004-07-14",0,0,0,7,0.16,0.113,62.610370370370383,{"$f":"'RWH Calculator'!$C$56","v":0},62.610370370370383,0,0,0,0,-62.610370370370383,13533.872978422916]
["2004-07-15",0,0,0,7,0.16,0.113,62.610370370370383,{"$f":"'RWH Calculator'!$C$56","v":0},62.610370370370383,0,0,0,0,-62.610370370370383,13533.872978422916]
["2004-07-16",0,0,0,7,0.16,0.113,62.610370370370383,{"$f":"'RWH Calculator'!$C$56","v":0},62.610370370370383,0,0,0,0,-62.610370370370383,13533.872978422916]
["2004-07-17",0,0,0,7,0.16,0.113,62.610370370370383,{"$f":"'RWH Calculator'!$C$56","v":0},62.610370370370383,0,0,0,0,-62.610370370370383,13533.872978422916]
["2004-07-18",0,0,0,7,0.16,0.113,62.610370370370383,{"$f":"'RWH Calculator'!$C$56","v":0},62.610370370370383,0,0,0,0,-62.610370370370383,13533.872978422916]
["2004-07-19",0,0,0,7,0.16,0.113,62.610370370370383,{"$f":"'RWH Calculator'!$C$56","v":0},62.610370370370383,0,0,0,0,-62.610370370370383,13533.872978422916]
["2004-07-20",0,0,0,7,0.16,0.113,62.610370370370383,{"$f":"'RWH Calculator'!$C$56","v":0},62.610370370370383,0,0,0,0,-62.610370370370383,13533.872978422916]
["2004-07-21",0,0,0,7,0.16,0.113,62.610370370370383,{"$f":"'RWH Calculator'!$C$56","v":0},62.610370370370383,0,0,0,0,-62.610370370370383,13533.872978422916]
["2004-07-22",0,0,0,7,0.16,0.113,62.610370370370383,{"$f":"'RWH Calculator'!$C$56","v":0},62.610370370370383,0,0,0,0,-62.610370370370383,13533.872978422916]
["2004-07-23",0,0,0,7,0.16,0.113,62.610370370370383,{"$f":"'RWH Calculator'!$C$56","v":0},62.610370370370383,0,0,0,0,-62.610370370370383,13533.872978422916]
["2004-07-24",0,0,0,7,0.16,0.113,62.610370370370383,{"$f":"'RWH Calculator'!$C$56","v":0},62.610370370370383,0,0,0,0,-62.610370370370383,13533.872978422916]
["2004-07-25",0,0,0,7,0.16,0.113,62.610370370370383,{"$f":"'RWH Calculator'!$C$56","v":0},62.610370370370383,0,0,0,0,-62.610370370370383,13533.872978422916]
["2004-07-26",0,0,0,7,0.16,0.113,62.610370370370383,{"$f":"'RWH Calculator'!$C$56","v":0},62.610370370370383,0,0,0,0,-62.610370370370383,13533.872978422916]
["2004-07-27",0,0,0,7,0.16,0.113,62.610370370370383,{"$f":"'RWH Calculator'!$C$56","v":0},62.610370370370383,0,0,0,0,-62.610370370370383,13533.872978422916]
["2004-07-28",0,0,0,7,0.16,0.113,62.610370370370383,{"$f":"'RWH Calculator'!$C$56","v":0},62.610370370370383,0,0,0,0,-62.610370370370383,13533.872978422916]
["2004-07-29",0,0,0,7,0.16,0.113,62.610370370370383,{"$f":"'RWH Calculator'!$C$56","v":0},62.610370370370383,0,0,0,0,-62.610370370370383,13533.872978422916]
["2004-07-30",0,0,0,7,0.16,0.113,62.610370370370383,{"$f":"'RWH Calculator'!$C$56","v":0},62.610370370370383,0,0,0,0,-62.610370370370383,13533.872978422916]
["2004-07-31",0,0,0,7,0.16,0.113,62.610370370370383,{"$f":"'RWH Calculator'!$C$56","v":0},62.610370370370383,0,0,0,0,-62.610370370370383,13533.872978422916]
["2004-08-01",0.01,6.3580000000000014,6.3580000000000014,8,0.15000000000000002,0.10593750000000002,53.156481481481499,{"$f":"'RWH Calculator'!$C$56","v":0},53.156481481481499,0,6.3580000000000014,6.3580000000000014,0,-46.798481481481495,13540.230978422916]
["2004-08-02",0.02,12.716000000000003,12.716000000000003,8,0.15000000000000002,0.10593750000000002,47.615740740740748,{"$f":"'RWH Calculator'!$C$56","v":0},47.615740740740748,0,12.716000000000003,12.716000000000003,0,-34.899740740740747,13552.946978422917]
["2004-08-03",0,0,0,8,0.15000000000000002,0.10593750000000002,58.697222222222237,{"$f":"'RWH Calculator'!$C$56","v":0},58.697222222222237,0,0,0,0,-58.697222222222237,13552.946978422917]
["2004-08-04",0,0,0,8,0.15000000000000002,0.10593750000000002,58.697222222222237,{"$f":"'RWH Calculator'!$C$56","v":0},58.697222222222237,0,0,0,0,-58.697222222222237,13552.946978422917]
["2004-08-05",0,0,0,8,0.15000000000000002,0.10593750000000002,58.697222222222237,{"$f":"'RWH Calculator'!$C$56","v":0},58.697222222222237,0,0,0,0,-58.697222222222237,13552.946978422917]
["2004-08-06",0,0,0,8,0.15000000000000002,0.10593750000000002,58.697222222222237,{"$f":"'RWH Calculator'!$C$56","v":0},58.697222222222237,0,0,0,0,-58.697222222222237,13552.946978422917]
["2004-08-07",0,0,0,8,0.15000000000000002,0.10593750000000002,58.697222222222237,{"$f":"'RWH Calculator'!$C$56","v":0},58.697222222222237,0,0,0,0,-58.697222222222237,13552.946978422917]
["2004-08-08",0,0,0,8,0.15000000000000002,0.10593750000000002,58.697222222222237,{"$f":"'RWH Calculator'!$C$56","v":0},58.697222222222237,0,0,0,0,-58.697222222222237,13552.946978422917]
["2004-08-09",0,0,0,8,0.15000000000000002,0.10593750000000002,58.697222222222237,{"$f":"'RWH Calculator'!$C$56","v":0},58.697222222222237,0,0,0,0,-58.697222222222237,13552.946978422917]
["2004-08-10",0,0,0,8,0.15000000000000002,0.10593750000000002,58.697222222222237,{"$f":"'RWH Calculator'!$C$56","v":0},58.697222222222237,0,0,0,0,-58.697222222222237,13552.946978422917]
["2004-08-11",0,0,0,8,0.15000000000000002,0.10593750000000002,58.697222222222237,{"$f":"'RWH Calculator'!$C$56","v":0},58.697222222222237,0,0,0,0,-58.697222222222237,13552.946978422917]
["2004-08-12",0,0,0,8,0.15000000000000002,0.10593750000000002,58.697222222222237,{"$f":"'RWH Calculator'!$C$56","v":0},58.697222222222237,0,0,0,0,-58.697222222222237,13552.946978422917]
["2004-08-13",0,0,0,8,0.15000000000000002,0.10593750000000002,58.697222222222237,{"$f":"'RWH Calculator'!$C$56","v":0},58.697222222222237,0,0,0,0,-58.697222222222237,13552.946978422917]
["2004-08-14",0,0,0,8,0.15000000000000002,0.10593750000000002,58.697222222222237,{"$f":"'RWH Calculator'!$C$56","v":0},58.697222222222237,0,0,0,0,-58.697222222222237,13552.946978422917]
["2004-08-15",0,0,0,8,0.15000000000000002,0.10593750000000002,58.697222222222237,{"$f":"'RWH Calculator'!$C$56","v":0},58.697222222222237,0,0,0,0,-58.697222222222237,13552.946978422917]
["2004-08-16",0,0,0,8,0.15000000000000002,0.10593750000000002,58.697222222222237,{"$f":"'RWH Calculator'!$C$56","v":0},58.697222222222237,0,0,0,0,-58.697222222222237,13552.946978422917]
["2004-08-17",0,0,0,8,0.15000000000000002,0.10593750000000002,58.697222222222237,{"$f":"'RWH Calculator'!$C$56","v":0},58.697222222222237,0,0,0,0,-58.697222222222237,13552.946978422917]
["2004-08-18",0,0,0,8,0.15000000000000002,0.10593750000000002,58.697222222222237,{"$f":"'RWH Calculator'!$C$56","v":0},58.697222222222237,0,0,0,0,-58.697222222222237,13552.946978422917]
["2004-08-19",0,0,0,8,0.15000000000000002,0.10593750000000002,58.697222222222237,{"$f":"'RWH Calculator'!$C$56","v":0},58.697222222222237,0,0,0,0,-58.697222222222237,13552.946978422917]
["2004-08-20",0,0,0,8,0.15000000000000002,0.10593750000000002,58.697222222222237,{"$f":"'RWH Calculator'!$C$56","v":0},58.697222222222237,0,0,0,0,-58.697222222222237,13552.946978422917]
["2004-08-21",0,0,0,8,0.15000000000000002,0.10593750000000002,58.697222222222237,{"$f":"'RWH Calculator'!$C$56","v":0},58.697222222222237,0,0,0,0,-58.697222222222237,13552.946978422917]
["2004-08-22",0,0,0,8,0.15000000000000002,0.10593750000000002,58.697222222222237,{"$f":"'RWH Calculator'!$C$56","v":0},58.697222222222237,0,0,0,0,-58.697222222222237,13552.946978422917]
["2004-08-23",0.02,12.716000000000003,12.716000000000003,8,0.15000000000000002,0.10593750000000002,47.615740740740748,{"$f":"'RWH Calculator'!$C$56","v":0},47.615740740740748,0,12.716000000000003,12.716000000000003,0,-34.899740740740747,13565.662978422917]
["2004-08-24",0,0,0,8,0.15000000000000002,0.10593750000000002,58.697222222222237,{"$f":"'RWH Calculator'!$C$56","v":0},58.697222222222237,0,0,0,0,-58.697222222222237,13565.662978422917]
["2004-08-25",0,0,0,8,0.15000000000000002,0.10593750000000002,58.697222222222237,{"$f":"'RWH Calculator'!$C$56","v":0},58.697222222222237,0,0,0,0,-58.697222222222237,13565.662978422917]
["2004-08-26",0,0,0,8,0.15000000000000002,0.10593750000000002,58.697222222222237,{"$f":"'RWH Calculator'!$C$56","v":0},58.697222222222237,0,0,0,0,-58.697222222222237,13565.662978422917]
["2004-08-27",0,0,0,8,0.15000000000000002,0.10593750000000002,58.697222222222237,{"$f":"'RWH Calculator'!$C$56","v":0},58.697222222222237,0,0,0,0,-58.697222222222237,13565.662978422917]
["2004-08-28",0,0,0,8,0.15000000000000002,0.10593750000000002,58.697222222222237,{"$f":"'RWH Calculator'!$C$56","v":0},58.697222222222237,0,0,0,0,-58.697222222222237,13565.662978422917]
["2004-08-29",0,0,0,8,0.15000000000000002,0.10593750000000002,58.697222222222237,{"$f":"'RWH Calculator'!$C$56","v":0},58.697222222222237,0,0,0,0,-58.697222222222237,13565.662978422917]
["2004-08-30",0,0,0,8,0.15000000000000002,0.10593750000000002,58.697222222222237,{"$f":"'RWH Calculator'!$C$56","v":0},58.697222222222237,0,0,0,0,-58.697222222222237,13565.662978422917]
["2004-08-31",0,0,0,8,0.15000000000000002,0.10593750000000002,58.697222222222237,{"$f":"'RWH Calculator'!$C$56","v":0},58.697222222222237,0,0,0,0,-58.697222222222237,13565.662978422917]
["2004-09-01",0,0,0,9,0.13,9.1812500000000005E-2,50.870925925925924,{"$f":"'RWH Calculator'!$C$56","v":0},50.870925925925924,0,0,0,0,-50.870925925925924,13565.662978422917]
["2004-09-02",0,0,0,9,0.13,9.1812500000000005E-2,50.870925925925924,{"$f":"'RWH Calculator'!$C$56","v":0},50.870925925925924,0,0,0,0,-50.870925925925924,13565.662978422917]
["2004-09-03",0,0,0,9,0.13,9.1812500000000005E-2,50.870925925925924,{"$f":"'RWH Calculator'!$C$56","v":0},50.870925925925924,0,0,0,0,-50.870925925925924,13565.662978422917]
["2004-09-04",0,0,0,9,0.13,9.1812500000000005E-2,50.870925925925924,{"$f":"'RWH Calculator'!$C$56","v":0},50.870925925925924,0,0,0,0,-50.870925925925924,13565.662978422917]
["2004-09-05",0,0,0,9,0.13,9.1812500000000005E-2,50.870925925925924,{"$f":"'RWH Calculator'!$C$56","v":0},50.870925925925924,0,0,0,0,-50.870925925925924,13565.662978422917]
["2004-09-06",0,0,0,9,{"$f":"IF($B$2=\"Western SF\", VLOOKUP(E1355,$R$6:$U$17, 4),VLOOKUP(E1355, $R$6:$V$17,5))","v":0.13},9.1812500000000005E-2,50.870925925925924,{"$f":"'RWH Calculator'!$C$56","v":0},50.870925925925924,0,0,0,0,-50.870925925925924,13565.662978422917]
["2004-09-07",0,0,0,{"$f":"MONTH(A1356)","v":9},0.13,{"$f":"F1356*$B$6","v":9.1812500000000005E-2},50.870925925925924,{"$f":"'RWH Calculator'!$C$56","v":0},{"$f":"H1356+I1356","v":50.870925925925924},0,0,0,0,-50.870925925925924,13565.662978422917]
["2004-09-08",0,{"$f":"$B$3*$B$4*(B1357/12)*7.48","v":0},{"$f":"C1357","v":0},9,0.13,9.1812500000000005E-2,{"$f":"(IF(G1357-B1357>0,(G1357-B1357)/$B$7,0)/12*7.48)*$B$8","v":50.870925925925924},{"$f":"'RWH Calculator'!$C$56","v":0},50.870925925925924,{"$f":"IF(O1357<0, 0, IF(O1357>$H$2, $H$2, O1357))","v":0},{"$f":"IF(J1357>D1357,D1357, K1357-K1356+J1357)","v":0},{"$f":"IF(D1357+K1356>J1357,J1357, D1357+K1356)","v":0},{"$f":"IF(C1357>J1357, C1357-J1357-(K1357-K1356),0)","v":0},{"$f":"K1356+D1357-J1357","v":-50.870925925925924},{"$f":"M1357+P1356","v":13565.662978422917}]
["2004-09-09",0,0,0,9,0.13,9.1812500000000005E-2,50.870925925925924,{"$f":"'RWH Calculator'!$C$56","v":0},50.870925925925924,0,0,0,0,-50.870925925925924,13565.662978422917]
["2004-09-10",0,0,0,9,0.13,9.1812500000000005E-2,50.870925925925924,{"$f":"'RWH Calculator'!$C$56","v":0},50.870925925925924,0,0,0,0,-50.870925925925924,13565.662978422917]
["2004-09-11",0,0,0,9,0.13,9.1812500000000005E-2,50.870925925925924,{"$f":"'RWH Calculator'!$C$56","v":0},50.870925925925924,0,0,0,0,-50.870925925925924,13565.662978422917]
["2004-09-12",0,0,0,9,0.13,9.1812500000000005E-2,50.870925925925924,{"$f":"'RWH Calculator'!$C$56","v":0},50.870925925925924,0,0,0,0,-50.870925925925924,13565.662978422917]
["2004-09-13",0,0,0,9,0.13,9.1812500000000005E-2,50.870925925925924,{"$f":"'RWH Calculator'!$C$56","v":0},50.870925925925924,0,0,0,0,-50.870925925925924,13565.662978422917]
["2004-09-14",0,0,0,9,0.13,9.1812500000000005E-2,50.870925925925924,{"$f":"'RWH Calculator'!$C$56","v":0},50.870925925925924,0,0,0,0,-50.870925925925924,13565.662978422917]
["2004-09-15",0,0,0,9,0.13,9.1812500000000005E-2,50.870925925925924,{"$f":"'RWH Calculator'!$C$56","v":0},50.870925925925924,0,0,0,0,-50.870925925925924,13565.662978422917]
["2004-09-16",0,0,0,9,0.13,9.1812500000000005E-2,50.870925925925924,{"$f":"'RWH Calculator'!$C$56","v":0},50.870925925925924,0,0,0,0,-50.870925925925924,13565.662978422917]
["2004-09-17",0,0,0,9,0.13,9.1812500000000005E-2,50.870925925925924,{"$f":"'RWH Calculator'!$C$56","v":0},50.870925925925924,0,0,0,0,-50.870925925925924,13565.662978422917]
["2004-09-18",0,0,0,9,0.13,9.1812500000000005E-2,50.870925925925924,{"$f":"'RWH Calculator'!$C$56","v":0},50.870925925925924,0,0,0,0,-50.870925925925924,13565.662978422917]
["2004-09-19",0.04,25.432000000000006,25.432000000000006,9,0.13,9.1812500000000005E-2,28.70796296296297,{"$f":"'RWH Calculator'!$C$56","v":0},28.70796296296297,0,25.432000000000006,25.432000000000006,0,-3.2759629629629643,13591.094978422918]
["2004-09-20",0,0,0,9,0.13,9.1812500000000005E-2,50.870925925925924,{"$f":"'RWH Calculator'!$C$56","v":0},50.870925925925924,0,0,0,0,-50.870925925925924,13591.094978422918]
["2004-09-21",0,0,0,9,0.13,9.1812500000000005E-2,50.870925925925924,{"$f":"'RWH Calculator'!$C$56","v":0},50.870925925925924,0,0,0,0,-50.870925925925924,13591.094978422918]
["2004-09-22",0,0,0,9,0.13,9.1812500000000005E-2,50.870925925925924,{"$f":"'RWH Calculator'!$C$56","v":0},50.870925925925924,0,0,0,0,-50.870925925925924,13591.094978422918]
["2004-09-23",0,0,0,9,0.13,9.1812500000000005E-2,50.870925925925924,{"$f":"'RWH Calculator'!$C$56","v":0},50.870925925925924,0,0,0,0,-50.870925925925924,13591.094978422918]
["2004-09-24",0,0,0,9,0.13,9.1812500000000005E-2,50.870925925925924,{"$f":"'RWH Calculator'!$C$56","v":0},50.870925925925924,0,0,0,0,-50.870925925925924,13591.094978422918]
["2004-09-25",0,0,0,9,0.13,9.1812500000000005E-2,50.870925925925924,{"$f":"'RWH Calculator'!$C$56","v":0},50.870925925925924,0,0,0,0,-50.870925925925924,13591.094978422918]
["2004-09-26",0,0,0,9,0.13,9.1812500000000005E-2,50.870925925925924,{"$f":"'RWH Calculator'!$C$56","v":0},50.870925925925924,0,0,0,0,-50.870925925925924,13591.094978422918]
["2004-09-27",0,0,0,9,0.13,9.1812500000000005E-2,50.870925925925924,{"$f":"'RWH Calculator'!$C$56","v":0},50.870925925925924,0,0,0,0,-50.870925925925924,13591.094978422918]
["2004-09-28",0,0,0,9,0.13,9.1812500000000005E-2,50.870925925925924,{"$f":"'RWH Calculator'!$C$56","v":0},50.870925925925924,0,0,0,0,-50.870925925925924,13591.094978422918]
["2004-09-29",0,0,0,9,0.13,9.1812500000000005E-2,50.870925925925924,{"$f":"'RWH Calculator'!$C$56","v":0},50.870925925925924,0,0,0,0,-50.870925925925924,13591.094978422918]
["2004-09-30",0,0,0,9,0.13,9.1812500000000005E-2,50.870925925925924,{"$f":"'RWH Calculator'!$C$56","v":0},50.870925925925924,0,0,0,0,-50.870925925925924,13591.094978422918]
["2004-10-01",0,0,0,10,0.09,6.3562500000000008E-2,35.218333333333341,{"$f":"'RWH Calculator'!$C$56","v":0},35.218333333333341,0,0,0,0,-35.218333333333341,13591.094978422918]
["2004-10-02",0,0,0,10,0.09,6.3562500000000008E-2,35.218333333333341,{"$f":"'RWH Calculator'!$C$56","v":0},35.218333333333341,0,0,0,0,-35.218333333333341,13591.094978422918]
["2004-10-03",0,0,0,10,0.09,6.3562500000000008E-2,35.218333333333341,{"$f":"'RWH Calculator'!$C$56","v":0},35.218333333333341,0,0,0,0,-35.218333333333341,13591.094978422918]
["2004-10-04",0,0,0,10,0.09,6.3562500000000008E-2,35.218333333333341,{"$f":"'RWH Calculator'!$C$56","v":0},35.218333333333341,0,0,0,0,-35.218333333333341,13591.094978422918]
["2004-10-05",0,0,0,10,0.09,6.3562500000000008E-2,35.218333333333341,{"$f":"'RWH Calculator'!$C$56","v":0},35.218333333333341,0,0,0,0,-35.218333333333341,13591.094978422918]
["2004-10-06",0,0,0,10,0.09,6.3562500000000008E-2,35.218333333333341,{"$f":"'RWH Calculator'!$C$56","v":0},35.218333333333341,0,0,0,0,-35.218333333333341,13591.094978422918]
["2004-10-07",0,0,0,10,0.09,6.3562500000000008E-2,35.218333333333341,{"$f":"'RWH Calculator'!$C$56","v":0},35.218333333333341,0,0,0,0,-35.218333333333341,13591.094978422918]
["2004-10-08",0,0,0,10,0.09,6.3562500000000008E-2,35.218333333333341,{"$f":"'RWH Calculator'!$C$56","v":0},35.218333333333341,0,0,0,0,-35.218333333333341,13591.094978422918]
["2004-10-09",0,0,0,10,0.09,6.3562500000000008E-2,35.218333333333341,{"$f":"'RWH Calculator'!$C$56","v":0},35.218333333333341,0,0,0,0,-35.218333333333341,13591.094978422918]
["2004-10-10",0,0,0,10,0.09,6.3562500000000008E-2,35.218333333333341,{"$f":"'RWH Calculator'!$C$56","v":0},35.218333333333341,0,0,0,0,-35.218333333333341,13591.094978422918]
["2004-10-11",0,0,0,10,0.09,6.3562500000000008E-2,35.218333333333341,{"$f":"'RWH Calculator'!$C$56","v":0},35.218333333333341,0,0,0,0,-35.218333333333341,13591.094978422918]
["2004-10-12",0,0,0,10,0.09,6.3562500000000008E-2,35.218333333333341,{"$f":"'RWH Calculator'!$C$56","v":0},35.218333333333341,0,0,0,0,-35.218333333333341,13591.094978422918]
["2004-10-13",0,0,0,10,0.09,6.3562500000000008E-2,35.218333333333341,{"$f":"'RWH Calculator'!$C$56","v":0},35.218333333333341,0,0,0,0,-35.218333333333341,13591.094978422918]
["2004-10-14",0,0,0,10,0.09,6.3562500000000008E-2,35.218333333333341,{"$f":"'RWH Calculator'!$C$56","v":0},35.218333333333341,0,0,0,0,-35.218333333333341,13591.094978422918]
["2004-10-15",0,0,0,10,0.09,6.3562500000000008E-2,35.218333333333341,{"$f":"'RWH Calculator'!$C$56","v":0},35.218333333333341,0,0,0,0,-35.218333333333341,13591.094978422918]
["2004-10-16",0,0,0,10,0.09,6.3562500000000008E-2,35.218333333333341,{"$f":"'RWH Calculator'!$C$56","v":0},35.218333333333341,0,0,0,0,-35.218333333333341,13591.094978422918]
["2004-10-17",0.21,133.518,133.518,10,0.09,6.3562500000000008E-2,0,{"$f":"'RWH Calculator'!$C$56","v":0},0,133.518,133.518,0,0,133.518,13591.094978422918]
["2004-10-18",0,0,0,10,0.09,6.3562500000000008E-2,35.218333333333341,{"$f":"'RWH Calculator'!$C$56","v":0},35.218333333333341,98.299666666666667,0,35.218333333333341,0,98.299666666666667,13626.313311756252]
["2004-10-19",1.03,654.87400000000002,654.87400000000002,10,0.09,6.3562500000000008E-2,0,{"$f":"'RWH Calculator'!$C$56","v":0},0,753.17366666666669,654.87400000000002,0,0,753.17366666666669,13626.313311756252]
["2004-10-20",0.15,95.36999999999999,95.36999999999999,10,0.09,6.3562500000000008E-2,0,{"$f":"'RWH Calculator'!$C$56","v":0},0,848.5436666666667,95.37,0,-1.4210854715202004E-14,848.5436666666667,13626.313311756252]
["2004-10-21",0,0,0,10,0.09,6.3562500000000008E-2,35.218333333333341,{"$f":"'RWH Calculator'!$C$56","v":0},35.218333333333341,813.32533333333333,0,35.218333333333341,0,813.32533333333333,13661.531645089586]
["2004-10-22",0,0,0,10,0.09,6.3562500000000008E-2,35.218333333333341,{"$f":"'RWH Calculator'!$C$56","v":0},35.218333333333341,778.10699999999997,0,35.218333333333341,0,778.10699999999997,13696.74997842292]
["2004-10-23",0.16,101.72800000000002,101.72800000000002,10,0.09,6.3562500000000008E-2,0,{"$f":"'RWH Calculator'!$C$56","v":0},0,879.83500000000004,101.72800000000007,0,-4.2632564145606011E-14,879.83500000000004,13696.74997842292]
["2004-10-24",0,0,0,10,0.09,6.3562500000000008E-2,35.218333333333341,{"$f":"'RWH Calculator'!$C$56","v":0},35.218333333333341,844.61666666666667,0,35.218333333333341,0,844.61666666666667,13731.968311756254]
["2004-10-25",0.04,25.432000000000006,25.432000000000006,10,0.09,6.3562500000000008E-2,13.055370370370373,{"$f":"'RWH Calculator'!$C$56","v":0},13.055370370370373,856.99329629629631,25.432000000000006,13.055370370370373,0,856.99329629629631,13745.023682126624]
["2004-10-26",1.0299999999999998,654.87399999999991,654.87399999999991,10,0.09,6.3562500000000008E-2,0,{"$f":"'RWH Calculator'!$C$56","v":0},0,1057.4600871983243,200.46679090202804,0,454.40720909797187,1511.8672962962962,13745.023682126624]
["2004-10-27",0,0,0,10,0.09,6.3562500000000008E-2,35.218333333333341,{"$f":"'RWH Calculator'!$C$56","v":0},35.218333333333341,1022.241753864991,0,35.218333333333341,0,1022.241753864991,13780.242015459959]
["2004-10-28",0,0,0,10,0.09,6.3562500000000008E-2,35.218333333333341,{"$f":"'RWH Calculator'!$C$56","v":0},35.218333333333341,987.02342053165762,0,35.218333333333341,0,987.02342053165762,13815.460348793293]
["2004-10-29",0,0,0,10,0.09,6.3562500000000008E-2,35.218333333333341,{"$f":"'RWH Calculator'!$C$56","v":0},35.218333333333341,951.80508719832426,0,35.218333333333341,0,951.80508719832426,13850.678682126627]
["2004-10-30",0,0,0,10,0.09,6.3562500000000008E-2,35.218333333333341,{"$f":"'RWH Calculator'!$C$56","v":0},35.218333333333341,916.5867538649909,0,35.218333333333341,0,916.5867538649909,13885.897015459961]
["2004-10-31",0,0,0,10,0.09,6.3562500000000008E-2,35.218333333333341,{"$f":"'RWH Calculator'!$C$56","v":0},35.218333333333341,881.36842053165753,0,35.218333333333341,0,881.36842053165753,13921.115348793295]
["2004-11-01",0,0,0,11,6.0000000000000005E-2,4.2375000000000003E-2,23.478888888888889,{"$f":"'RWH Calculator'!$C$56","v":0},23.478888888888889,857.88953164276859,0,23.478888888888889,0,857.88953164276859,13944.594237682184]
["2004-11-02",0,0,0,11,6.0000000000000005E-2,4.2375000000000003E-2,23.478888888888889,{"$f":"'RWH Calculator'!$C$56","v":0},23.478888888888889,834.41064275387976,0,23.478888888888889,0,834.41064275387976,13968.073126571073]
["2004-11-03",0.05,31.790000000000003,31.790000000000003,11,6.0000000000000005E-2,4.2375000000000003E-2,0,{"$f":"'RWH Calculator'!$C$56","v":0},0,866.20064275387972,31.789999999999964,0,3.907985046680551E-14,866.20064275387972,13968.073126571073]
["2004-11-04",0.28999999999999998,184.38200000000001,184.38200000000001,11,6.0000000000000005E-2,4.2375000000000003E-2,0,{"$f":"'RWH Calculator'!$C$56","v":0},0,1050.5826427538798,184.38200000000006,0,-5.6843418860808015E-14,1050.5826427538798,13968.073126571073]
["2004-11-05",0,0,0,11,6.0000000000000005E-2,4.2375000000000003E-2,23.478888888888889,{"$f":"'RWH Calculator'!$C$56","v":0},23.478888888888889,1027.1037538649909,0,23.478888888888889,0,1027.1037538649909,13991.552015459962]
["2004-11-06",0,0,0,11,6.0000000000000005E-2,4.2375000000000003E-2,23.478888888888889,{"$f":"'RWH Calculator'!$C$56","v":0},23.478888888888889,1003.6248649761021,0,23.478888888888889,0,1003.6248649761021,14015.030904348851]
["2004-11-07",0,0,0,11,6.0000000000000005E-2,4.2375000000000003E-2,23.478888888888889,{"$f":"'RWH Calculator'!$C$56","v":0},23.478888888888889,980.14597608721328,0,23.478888888888889,0,980.14597608721328,14038.509793237739]
["2004-11-08",0,0,0,11,6.0000000000000005E-2,4.2375000000000003E-2,23.478888888888889,{"$f":"'RWH Calculator'!$C$56","v":0},23.478888888888889,956.66708719832445,0,23.478888888888889,0,956.66708719832445,14061.988682126628]
["2004-11-09",0,0,0,11,{"$f":"IF($B$2=\"Western SF\", VLOOKUP(E1419,$R$6:$U$17, 4),VLOOKUP(E1419, $R$6:$V$17,5))","v":6.0000000000000005E-2},4.2375000000000003E-2,23.478888888888889,{"$f":"'RWH Calculator'!$C$56","v":0},23.478888888888889,933.18819830943562,0,23.478888888888889,0,933.18819830943562,14085.467571015517]
["2004-11-10",0.47000000000000003,298.82600000000002,298.82600000000002,{"$f":"MONTH(A1420)","v":11},6.0000000000000005E-2,{"$f":"F1420*$B$6","v":4.2375000000000003E-2},0,{"$f":"'RWH Calculator'!$C$56","v":0},{"$f":"H1420+I1420","v":0},1057.4600871983243,124.27188888888872,0,174.5541111111113,1232.0141983094356,14085.467571015517]
["2004-11-11",0.79,{"$f":"$B$3*$B$4*(B1421/12)*7.48","v":502.2820000000001},{"$f":"C1421","v":502.2820000000001},11,6.0000000000000005E-2,4.2375000000000003E-2,{"$f":"(IF(G1421-B1421>0,(G1421-B1421)/$B$7,0)/12*7.48)*$B$8","v":0},{"$f":"'RWH Calculator'!$C$56","v":0},0,{"$f":"IF(O1421<0, 0, IF(O1421>$H$2, $H$2, O1421))","v":1057.4600871983243},{"$f":"IF(J1421>D1421,D1421, K1421-K1420+J1421)","v":0},{"$f":"IF(D1421+K1420>J1421,J1421, D1421+K1420)","v":0},{"$f":"IF(C1421>J1421, C1421-J1421-(K1421-K1420),0)","v":502.2820000000001},{"$f":"K1420+D1421-J1421","v":1559.7420871983245},{"$f":"M1421+P1420","v":14085.467571015517}]
["2004-11-12",0,0,0,11,6.0000000000000005E-2,4.2375000000000003E-2,23.478888888888889,{"$f":"'RWH Calculator'!$C$56","v":0},23.478888888888889,1033.9811983094355,0,23.478888888888889,0,1033.9811983094355,14108.946459904406]
["2004-11-13",0,0,0,11,6.0000000000000005E-2,4.2375000000000003E-2,23.478888888888889,{"$f":"'RWH Calculator'!$C$56","v":0},23.478888888888889,1010.5023094205467,0,23.478888888888889,0,1010.5023094205467,14132.425348793295]
["2004-11-14",0,0,0,11,6.0000000000000005E-2,4.2375000000000003E-2,23.478888888888889,{"$f":"'RWH Calculator'!$C$56","v":0},23.478888888888889,987.02342053165785,0,23.478888888888889,0,987.02342053165785,14155.904237682184]
["2004-11-15",0,0,0,11,6.0000000000000005E-2,4.2375000000000003E-2,23.478888888888889,{"$f":"'RWH Calculator'!$C$56","v":0},23.478888888888889,963.54453164276902,0,23.478888888888889,0,963.54453164276902,14179.383126571072]
["2004-11-16",0,0,0,11,6.0000000000000005E-2,4.2375000000000003E-2,23.478888888888889,{"$f":"'RWH Calculator'!$C$56","v":0},23.478888888888889,940.06564275388018,0,23.478888888888889,0,940.06564275388018,14202.862015459961]
["2004-11-17",0,0,0,11,6.0000000000000005E-2,4.2375000000000003E-2,23.478888888888889,{"$f":"'RWH Calculator'!$C$56","v":0},23.478888888888889,916.58675386499135,0,23.478888888888889,0,916.58675386499135,14226.34090434885]
["2004-11-18",0,0,0,11,6.0000000000000005E-2,4.2375000000000003E-2,23.478888888888889,{"$f":"'RWH Calculator'!$C$56","v":0},23.478888888888889,893.10786497610252,0,23.478888888888889,0,893.10786497610252,14249.819793237739]
["2004-11-19",0,0,0,11,6.0000000000000005E-2,4.2375000000000003E-2,23.478888888888889,{"$f":"'RWH Calculator'!$C$56","v":0},23.478888888888889,869.62897608721369,0,23.478888888888889,0,869.62897608721369,14273.298682126628]
["2004-11-20",0,0,0,11,6.0000000000000005E-2,4.2375000000000003E-2,23.478888888888889,{"$f":"'RWH Calculator'!$C$56","v":0},23.478888888888889,846.15008719832485,0,23.478888888888889,0,846.15008719832485,14296.777571015517]
["2004-11-21",0,0,0,11,6.0000000000000005E-2,4.2375000000000003E-2,23.478888888888889,{"$f":"'RWH Calculator'!$C$56","v":0},23.478888888888889,822.67119830943602,0,23.478888888888889,0,822.67119830943602,14320.256459904405]
["2004-11-22",0,0,0,11,6.0000000000000005E-2,4.2375000000000003E-2,23.478888888888889,{"$f":"'RWH Calculator'!$C$56","v":0},23.478888888888889,799.19230942054719,0,23.478888888888889,0,799.19230942054719,14343.735348793294]
["2004-11-23",0,0,0,11,6.0000000000000005E-2,4.2375000000000003E-2,23.478888888888889,{"$f":"'RWH Calculator'!$C$56","v":0},23.478888888888889,775.71342053165836,0,23.478888888888889,0,775.71342053165836,14367.214237682183]
["2004-11-24",0,0,0,11,6.0000000000000005E-2,4.2375000000000003E-2,23.478888888888889,{"$f":"'RWH Calculator'!$C$56","v":0},23.478888888888889,752.23453164276953,0,23.478888888888889,0,752.23453164276953,14390.693126571072]
["2004-11-25",0.02,12.716000000000003,12.716000000000003,11,6.0000000000000005E-2,4.2375000000000003E-2,12.397407407407409,{"$f":"'RWH Calculator'!$C$56","v":0},12.397407407407409,752.55312423536213,12.716000000000017,12.397407407407409,-1.4210854715202004E-14,752.55312423536213,14403.090533978479]
["2004-11-26",0.03,19.074000000000002,19.074000000000002,11,6.0000000000000005E-2,4.2375000000000003E-2,6.8566666666666682,{"$f":"'RWH Calculator'!$C$56","v":0},6.8566666666666682,764.77045756869541,19.073999999999941,6.8566666666666682,6.0396132539608516E-14,764.77045756869541,14409.947200645145]
["2004-11-27",0.42,267.036,267.036,11,6.0000000000000005E-2,4.2375000000000003E-2,0,{"$f":"'RWH Calculator'!$C$56","v":0},0,1031.8064575686954,267.03599999999994,0,5.6843418860808015E-14,1031.8064575686954,14409.947200645145]
["2004-11-28",0,0,0,11,6.0000000000000005E-2,4.2375000000000003E-2,23.478888888888889,{"$f":"'RWH Calculator'!$C$56","v":0},23.478888888888889,1008.3275686798065,0,23.478888888888889,0,1008.3275686798065,14433.426089534034]
["2004-11-29",0,0,0,11,6.0000000000000005E-2,4.2375000000000003E-2,23.478888888888889,{"$f":"'RWH Calculator'!$C$56","v":0},23.478888888888889,984.84867979091769,0,23.478888888888889,0,984.84867979091769,14456.904978422923]
["2004-11-30",0,0,0,11,6.0000000000000005E-2,4.2375000000000003E-2,23.478888888888889,{"$f":"'RWH Calculator'!$C$56","v":0},23.478888888888889,961.36979090202885,0,23.478888888888889,0,961.36979090202885,14480.383867311812]
["2004-12-01",0,0,0,12,0.04,2.8250000000000001E-2,15.652592592592596,{"$f":"'RWH Calculator'!$C$56","v":0},15.652592592592596,945.7171983094363,0,15.652592592592596,0,945.7171983094363,14496.036459904404]
["2004-12-02",0,0,0,12,0.04,2.8250000000000001E-2,15.652592592592596,{"$f":"'RWH Calculator'!$C$56","v":0},15.652592592592596,930.06460571684374,0,15.652592592592596,0,930.06460571684374,14511.689052496997]
["2004-12-03",0,0,0,12,0.04,2.8250000000000001E-2,15.652592592592596,{"$f":"'RWH Calculator'!$C$56","v":0},15.652592592592596,914.41201312425119,0,15.652592592592596,0,914.41201312425119,14527.341645089589]
["2004-12-04",0,0,0,12,0.04,2.8250000000000001E-2,15.652592592592596,{"$f":"'RWH Calculator'!$C$56","v":0},15.652592592592596,898.75942053165863,0,15.652592592592596,0,898.75942053165863,14542.994237682182]
["2004-12-05",0,0,0,12,0.04,2.8250000000000001E-2,15.652592592592596,{"$f":"'RWH Calculator'!$C$56","v":0},15.652592592592596,883.10682793906608,0,15.652592592592596,0,883.10682793906608,14558.646830274774]
["2004-12-06",0.16,101.72800000000002,101.72800000000002,12,0.04,2.8250000000000001E-2,0,{"$f":"'RWH Calculator'!$C$56","v":0},0,984.83482793906614,101.72800000000007,0,-4.2632564145606011E-14,984.83482793906614,14558.646830274774]
["2004-12-07",0.92000000000000015,584.93600000000004,584.93600000000004,12,0.04,2.8250000000000001E-2,0,{"$f":"'RWH Calculator'!$C$56","v":0},0,1057.4600871983243,72.6252592592582,0,512.31074074074183,1569.7708279390663,14558.646830274774]
["2004-12-08",1.4700000000000002,934.6260000000002,934.6260000000002,12,0.04,2.8250000000000001E-2,0,{"$f":"'RWH Calculator'!$C$56","v":0},0,1057.4600871983243,0,0,934.6260000000002,1992.0860871983245,14558.646830274774]
["2004-12-09",0,0,0,12,0.04,2.8250000000000001E-2,15.652592592592596,{"$f":"'RWH Calculator'!$C$56","v":0},15.652592592592596,1041.8074946057318,0,15.652592592592596,0,1041.8074946057318,14574.299422867367]
["2004-12-10",0,0,0,12,0.04,2.8250000000000001E-2,15.652592592592596,{"$f":"'RWH Calculator'!$C$56","v":0},15.652592592592596,1026.1549020131392,0,15.652592592592596,0,1026.1549020131392,14589.95201545996]
["2004-12-11",0,0,0,12,0.04,2.8250000000000001E-2,15.652592592592596,{"$f":"'RWH Calculator'!$C$56","v":0},15.652592592592596,1010.5023094205467,0,15.652592592592596,0,1010.5023094205467,14605.604608052552]
["2004-12-12",0,0,0,12,0.04,2.8250000000000001E-2,15.652592592592596,{"$f":"'RWH Calculator'!$C$56","v":0},15.652592592592596,994.84971682795413,0,15.652592592592596,0,994.84971682795413,14621.257200645145]
["2004-12-13",0,0,0,12,0.04,2.8250000000000001E-2,15.652592592592596,{"$f":"'RWH Calculator'!$C$56","v":0},15.652592592592596,979.19712423536157,0,15.652592592592596,0,979.19712423536157,14636.909793237737]
["2004-12-14",0,0,0,12,0.04,2.8250000000000001E-2,15.652592592592596,{"$f":"'RWH Calculator'!$C$56","v":0},15.652592592592596,963.54453164276902,0,15.652592592592596,0,963.54453164276902,14652.56238583033]
["2004-12-15",0,0,0,12,0.04,2.8250000000000001E-2,15.652592592592596,{"$f":"'RWH Calculator'!$C$56","v":0},15.652592592592596,947.89193905017646,0,15.652592592592596,0,947.89193905017646,14668.214978422922]
["2004-12-16",0,0,0,12,0.04,2.8250000000000001E-2,15.652592592592596,{"$f":"'RWH Calculator'!$C$56","v":0},15.652592592592596,932.23934645758391,0,15.652592592592596,0,932.23934645758391,14683.867571015515]
["2004-12-17",0,0,0,12,0.04,2.8250000000000001E-2,15.652592592592596,{"$f":"'RWH Calculator'!$C$56","v":0},15.652592592592596,916.58675386499135,0,15.652592592592596,0,916.58675386499135,14699.520163608107]
["2004-12-18",0,0,0,12,0.04,2.8250000000000001E-2,15.652592592592596,{"$f":"'RWH Calculator'!$C$56","v":0},15.652592592592596,900.9341612723988,0,15.652592592592596,0,900.9341612723988,14715.1727562007]
["2004-12-19",0,0,0,12,0.04,2.8250000000000001E-2,15.652592592592596,{"$f":"'RWH Calculator'!$C$56","v":0},15.652592592592596,885.28156867980624,0,15.652592592592596,0,885.28156867980624,14730.825348793293]
["2004-12-20",0,0,0,12,0.04,2.8250000000000001E-2,15.652592592592596,{"$f":"'RWH Calculator'!$C$56","v":0},15.652592592592596,869.62897608721369,0,15.652592592592596,0,869.62897608721369,14746.477941385885]
["2004-12-21",0,0,0,12,0.04,2.8250000000000001E-2,15.652592592592596,{"$f":"'RWH Calculator'!$C$56","v":0},15.652592592592596,853.97638349462113,0,15.652592592592596,0,853.97638349462113,14762.130533978478]
["2004-12-22",0,0,0,12,0.04,2.8250000000000001E-2,15.652592592592596,{"$f":"'RWH Calculator'!$C$56","v":0},15.652592592592596,838.32379090202858,0,15.652592592592596,0,838.32379090202858,14777.78312657107]
["2004-12-23",0,0,0,12,0.04,2.8250000000000001E-2,15.652592592592596,{"$f":"'RWH Calculator'!$C$56","v":0},15.652592592592596,822.67119830943602,0,15.652592592592596,0,822.67119830943602,14793.435719163663]
["2004-12-24",0,0,0,12,0.04,2.8250000000000001E-2,15.652592592592596,{"$f":"'RWH Calculator'!$C$56","v":0},15.652592592592596,807.01860571684347,0,15.652592592592596,0,807.01860571684347,14809.088311756255]
["2004-12-25",0,0,0,12,0.04,2.8250000000000001E-2,15.652592592592596,{"$f":"'RWH Calculator'!$C$56","v":0},15.652592592592596,791.36601312425091,0,15.652592592592596,0,791.36601312425091,14824.740904348848]
["2004-12-26",0.55000000000000004,349.69000000000005,349.69000000000005,12,0.04,2.8250000000000001E-2,0,{"$f":"'RWH Calculator'!$C$56","v":0},0,1057.4600871983243,266.09407407407343,0,83.595925925926622,1141.056013124251,14824.740904348848]
["2004-12-27",2.8799999999999994,1831.1039999999998,1831.1039999999998,12,0.04,2.8250000000000001E-2,0,{"$f":"'RWH Calculator'!$C$56","v":0},0,1057.4600871983243,0,0,1831.1039999999998,2888.5640871983242,14824.740904348848]
["2004-12-28",0.28000000000000003,178.02400000000003,178.02400000000003,12,0.04,2.8250000000000001E-2,0,{"$f":"'RWH Calculator'!$C$56","v":0},0,1057.4600871983243,0,0,178.02400000000003,1235.4840871983245,14824.740904348848]
["2004-12-29",0.57000000000000006,362.40600000000012,362.40600000000012,12,0.04,2.8250000000000001E-2,0,{"$f":"'RWH Calculator'!$C$56","v":0},0,1057.4600871983243,0,0,362.40600000000012,1419.8660871983245,14824.740904348848]
["2004-12-30",0.7300000000000002,464.13400000000019,464.13400000000019,12,0.04,2.8250000000000001E-2,0,{"$f":"'RWH Calculator'!$C$56","v":0},0,1057.4600871983243,0,0,464.13400000000019,1521.5940871983246,14824.740904348848]
["2004-12-31",0.38,241.60400000000004,241.60400000000004,12,0.04,2.8250000000000001E-2,0,{"$f":"'RWH Calculator'!$C$56","v":0},0,1057.4600871983243,0,0,241.60400000000004,1299.0640871983244,14824.740904348848]
["2005-01-01",0.36000000000000004,228.88800000000003,228.88800000000003,1,0.04,2.8250000000000001E-2,0,{"$f":"'RWH Calculator'!$C$56","v":0},0,1057.4600871983243,0,0,228.88800000000003,1286.3480871983243,14824.740904348848]
["2005-01-02",0.94,597.65199999999993,597.65199999999993,1,0.04,2.8250000000000001E-2,0,{"$f":"'RWH Calculator'!$C$56","v":0},0,1057.4600871983243,0,0,597.65199999999993,1655.1120871983244,14824.740904348848]
["2005-01-03",7.0000000000000007E-2,44.506000000000007,44.506000000000007,1,0.04,2.8250000000000001E-2,0,{"$f":"'RWH Calculator'!$C$56","v":0},0,1057.4600871983243,0,0,44.506000000000007,1101.9660871983244,14824.740904348848]
["2005-01-04",0.04,25.432000000000006,25.432000000000006,1,0.04,2.8250000000000001E-2,0,{"$f":"'RWH Calculator'!$C$56","v":0},0,1057.4600871983243,0,0,25.432000000000006,1082.8920871983244,14824.740904348848]
["2005-01-05",0.03,19.074000000000002,19.074000000000002,1,0.04,2.8250000000000001E-2,0,{"$f":"'RWH Calculator'!$C$56","v":0},0,1057.4600871983243,0,0,19.074000000000002,1076.5340871983244,14824.740904348848]
["2005-01-06",0,0,0,1,0.04,2.8250000000000001E-2,15.652592592592596,{"$f":"'RWH Calculator'!$C$56","v":0},15.652592592592596,1041.8074946057318,0,15.652592592592596,0,1041.8074946057318,14840.39349694144]
["2005-01-07",0.70000000000000018,445.06000000000012,445.06000000000012,1,0.04,2.8250000000000001E-2,0,{"$f":"'RWH Calculator'!$C$56","v":0},0,1057.4600871983243,15.652592592592555,0,429.40740740740756,1486.867494605732,14840.39349694144]
["2005-01-08",1.1300000000000001,718.45400000000018,718.45400000000018,1,0.04,2.8250000000000001E-2,0,{"$f":"'RWH Calculator'!$C$56","v":0},0,1057.4600871983243,0,0,718.45400000000018,1775.9140871983245,14840.39349694144]
["2005-01-09",0.01,6.3580000000000014,6.3580000000000014,1,0.04,2.8250000000000001E-2,10.111851851851855,{"$f":"'RWH Calculator'!$C$56","v":0},10.111851851851855,1053.7062353464723,6.3580000000000014,10.111851851851855,0,1053.7062353464723,14850.505348793293]
["2005-01-10",0.5,317.90000000000003,317.90000000000003,1,0.04,2.8250000000000001E-2,0,{"$f":"'RWH Calculator'!$C$56","v":0},0,1057.4600871983243,3.753851851852005,0,314.14614814814803,1371.6062353464724,14850.505348793293]
["2005-01-11",0.31,197.09800000000001,197.09800000000001,1,0.04,2.8250000000000001E-2,0,{"$f":"'RWH Calculator'!$C$56","v":0},0,1057.4600871983243,0,0,197.09800000000001,1254.5580871983243,14850.505348793293]
["2005-01-12",0,0,0,1,{"$f":"IF($B$2=\"Western SF\", VLOOKUP(E1483,$R$6:$U$17, 4),VLOOKUP(E1483, $R$6:$V$17,5))","v":0.04},2.8250000000000001E-2,15.652592592592596,{"$f":"'RWH Calculator'!$C$56","v":0},15.652592592592596,1041.8074946057318,0,15.652592592592596,0,1041.8074946057318,14866.157941385885]
["2005-01-13",0,0,0,{"$f":"MONTH(A1484)","v":1},0.04,{"$f":"F1484*$B$6","v":2.8250000000000001E-2},15.652592592592596,{"$f":"'RWH Calculator'!$C$56","v":0},{"$f":"H1484+I1484","v":15.652592592592596},1026.1549020131392,0,15.652592592592596,0,1026.1549020131392,14881.810533978478]
["2005-01-14",0,{"$f":"$B$3*$B$4*(B1485/12)*7.48","v":0},{"$f":"C1485","v":0},1,0.04,2.8250000000000001E-2,{"$f":"(IF(G1485-B1485>0,(G1485-B1485)/$B$7,0)/12*7.48)*$B$8","v":15.652592592592596},{"$f":"'RWH Calculator'!$C$56","v":0},15.652592592592596,{"$f":"IF(O1485<0, 0, IF(O1485>$H$2, $H$2, O1485))","v":1010.5023094205467},{"$f":"IF(J1485>D1485,D1485, K1485-K1484+J1485)","v":0},{"$f":"IF(D1485+K1484>J1485,J1485, D1485+K1484)","v":15.652592592592596},{"$f":"IF(C1485>J1485, C1485-J1485-(K1485-K1484),0)","v":0},{"$f":"K1484+D1485-J1485","v":1010.5023094205467},{"$f":"M1485+P1484","v":14897.46312657107}]
["2005-01-15",0,0,0,1,0.04,2.8250000000000001E-2,15.652592592592596,{"$f":"'RWH Calculator'!$C$56","v":0},15.652592592592596,994.84971682795413,0,15.652592592592596,0,994.84971682795413,14913.115719163663]
["2005-01-16",0,0,0,1,0.04,2.8250000000000001E-2,15.652592592592596,{"$f":"'RWH Calculator'!$C$56","v":0},15.652592592592596,979.19712423536157,0,15.652592592592596,0,979.19712423536157,14928.768311756256]
["2005-01-17",0,0,0,1,0.04,2.8250000000000001E-2,15.652592592592596,{"$f":"'RWH Calculator'!$C$56","v":0},15.652592592592596,963.54453164276902,0,15.652592592592596,0,963.54453164276902,14944.420904348848]
["2005-01-18",0,0,0,1,0.04,2.8250000000000001E-2,15.652592592592596,{"$f":"'RWH Calculator'!$C$56","v":0},15.652592592592596,947.89193905017646,0,15.652592592592596,0,947.89193905017646,14960.073496941441]
["2005-01-19",0,0,0,1,0.04,2.8250000000000001E-2,15.652592592592596,{"$f":"'RWH Calculator'!$C$56","v":0},15.652592592592596,932.23934645758391,0,15.652592592592596,0,932.23934645758391,14975.726089534033]
["2005-01-20",0,0,0,1,0.04,2.8250000000000001E-2,15.652592592592596,{"$f":"'RWH Calculator'!$C$56","v":0},15.652592592592596,916.58675386499135,0,15.652592592592596,0,916.58675386499135,14991.378682126626]
["2005-01-21",0,0,0,1,0.04,2.8250000000000001E-2,15.652592592592596,{"$f":"'RWH Calculator'!$C$56","v":0},15.652592592592596,900.9341612723988,0,15.652592592592596,0,900.9341612723988,15007.031274719218]
["2005-01-22",0,0,0,1,0.04,2.8250000000000001E-2,15.652592592592596,{"$f":"'RWH Calculator'!$C$56","v":0},15.652592592592596,885.28156867980624,0,15.652592592592596,0,885.28156867980624,15022.683867311811]
["2005-01-23",0,0,0,1,0.04,2.8250000000000001E-2,15.652592592592596,{"$f":"'RWH Calculator'!$C$56","v":0},15.652592592592596,869.62897608721369,0,15.652592592592596,0,869.62897608721369,15038.336459904403]
["2005-01-24",0,0,0,1,0.04,2.8250000000000001E-2,15.652592592592596,{"$f":"'RWH Calculator'!$C$56","v":0},15.652592592592596,853.97638349462113,0,15.652592592592596,0,853.97638349462113,15053.989052496996]
["2005-01-25",0,0,0,1,0.04,2.8250000000000001E-2,15.652592592592596,{"$f":"'RWH Calculator'!$C$56","v":0},15.652592592592596,838.32379090202858,0,15.652592592592596,0,838.32379090202858,15069.641645089589]
["2005-01-26",0.35,222.52999999999997,222.52999999999997,1,0.04,2.8250000000000001E-2,0,{"$f":"'RWH Calculator'!$C$56","v":0},0,1057.4600871983243,219.13629629629577,0,3.3937037037042046,1060.8537909020285,15069.641645089589]
["2005-01-27",0.15,95.36999999999999,95.36999999999999,1,0.04,2.8250000000000001E-2,0,{"$f":"'RWH Calculator'!$C$56","v":0},0,1057.4600871983243,0,0,95.36999999999999,1152.8300871983242,15069.641645089589]
["2005-01-28",0.27,171.66600000000003,171.66600000000003,1,0.04,2.8250000000000001E-2,0,{"$f":"'RWH Calculator'!$C$56","v":0},0,1057.4600871983243,0,0,171.66600000000003,1229.1260871983243,15069.641645089589]
["2005-01-29",0,0,0,1,0.04,2.8250000000000001E-2,15.652592592592596,{"$f":"'RWH Calculator'!$C$56","v":0},15.652592592592596,1041.8074946057318,0,15.652592592592596,0,1041.8074946057318,15085.294237682181]
["2005-01-30",0,0,0,1,0.04,2.8250000000000001E-2,15.652592592592596,{"$f":"'RWH Calculator'!$C$56","v":0},15.652592592592596,1026.1549020131392,0,15.652592592592596,0,1026.1549020131392,15100.946830274774]
["2005-01-31",0,0,0,1,0.04,2.8250000000000001E-2,15.652592592592596,{"$f":"'RWH Calculator'!$C$56","v":0},15.652592592592596,1010.5023094205467,0,15.652592592592596,0,1010.5023094205467,15116.599422867366]
["2005-02-01",0,0,0,2,0.06,4.2375000000000003E-2,23.478888888888889,{"$f":"'RWH Calculator'!$C$56","v":0},23.478888888888889,987.02342053165785,0,23.478888888888889,0,987.02342053165785,15140.078311756255]
["2005-02-02",0,0,0,2,0.06,4.2375000000000003E-2,23.478888888888889,{"$f":"'RWH Calculator'!$C$56","v":0},23.478888888888889,963.54453164276902,0,23.478888888888889,0,963.54453164276902,15163.557200645144]
["2005-02-03",0,0,0,2,0.06,4.2375000000000003E-2,23.478888888888889,{"$f":"'RWH Calculator'!$C$56","v":0},23.478888888888889,940.06564275388018,0,23.478888888888889,0,940.06564275388018,15187.036089534033]
["2005-02-04",0,0,0,2,0.06,4.2375000000000003E-2,23.478888888888889,{"$f":"'RWH Calculator'!$C$56","v":0},23.478888888888889,916.58675386499135,0,23.478888888888889,0,916.58675386499135,15210.514978422922]
["2005-02-05",0,0,0,2,0.06,4.2375000000000003E-2,23.478888888888889,{"$f":"'RWH Calculator'!$C$56","v":0},23.478888888888889,893.10786497610252,0,23.478888888888889,0,893.10786497610252,15233.99386731181]
["2005-02-06",0,0,0,2,0.06,4.2375000000000003E-2,23.478888888888889,{"$f":"'RWH Calculator'!$C$56","v":0},23.478888888888889,869.62897608721369,0,23.478888888888889,0,869.62897608721369,15257.472756200699]
["2005-02-07",0.17,108.08600000000001,108.08600000000001,2,0.06,4.2375000000000003E-2,0,{"$f":"'RWH Calculator'!$C$56","v":0},0,977.7149760872137,108.08600000000001,0,0,977.7149760872137,15257.472756200699]
["2005-02-08",0,0,0,2,0.06,4.2375000000000003E-2,23.478888888888889,{"$f":"'RWH Calculator'!$C$56","v":0},23.478888888888889,954.23608719832487,0,23.478888888888889,0,954.23608719832487,15280.951645089588]
["2005-02-09",0,0,0,2,0.06,4.2375000000000003E-2,23.478888888888889,{"$f":"'RWH Calculator'!$C$56","v":0},23.478888888888889,930.75719830943603,0,23.478888888888889,0,930.75719830943603,15304.430533978477]
["2005-02-10",0,0,0,2,0.06,4.2375000000000003E-2,23.478888888888889,{"$f":"'RWH Calculator'!$C$56","v":0},23.478888888888889,907.2783094205472,0,23.478888888888889,0,907.2783094205472,15327.909422867366]
["2005-02-11",0,0,0,2,0.06,4.2375000000000003E-2,23.478888888888889,{"$f":"'RWH Calculator'!$C$56","v":0},23.478888888888889,883.79942053165837,0,23.478888888888889,0,883.79942053165837,15351.388311756255]
["2005-02-12",0,0,0,2,0.06,4.2375000000000003E-2,23.478888888888889,{"$f":"'RWH Calculator'!$C$56","v":0},23.478888888888889,860.32053164276954,0,23.478888888888889,0,860.32053164276954,15374.867200645143]
["2005-02-13",0,0,0,2,0.06,4.2375000000000003E-2,23.478888888888889,{"$f":"'RWH Calculator'!$C$56","v":0},23.478888888888889,836.84164275388071,0,23.478888888888889,0,836.84164275388071,15398.346089534032]
["2005-02-14",0.48000000000000004,305.18400000000003,305.18400000000003,2,0.06,4.2375000000000003E-2,0,{"$f":"'RWH Calculator'!$C$56","v":0},0,1057.4600871983243,220.61844444444364,0,84.565555555556386,1142.0256427538807,15398.346089534032]
["2005-02-15",1.5000000000000002,953.70000000000027,953.70000000000027,2,0.06,4.2375000000000003E-2,0,{"$f":"'RWH Calculator'!$C$56","v":0},0,1057.4600871983243,0,0,953.70000000000027,2011.1600871983246,15398.346089534032]
["2005-02-16",0,0,0,2,0.06,4.2375000000000003E-2,23.478888888888889,{"$f":"'RWH Calculator'!$C$56","v":0},23.478888888888889,1033.9811983094355,0,23.478888888888889,0,1033.9811983094355,15421.824978422921]
["2005-02-17",0.13,82.654000000000011,82.654000000000011,2,0.06,4.2375000000000003E-2,0,{"$f":"'RWH Calculator'!$C$56","v":0},0,1057.4600871983243,23.478888888888832,0,59.175111111111178,1116.6351983094355,15421.824978422921]
["2005-02-18",0.83000000000000007,527.71400000000006,527.71400000000006,2,0.06,4.2375000000000003E-2,0,{"$f":"'RWH Calculator'!$C$56","v":0},0,1057.4600871983243,0,0,527.71400000000006,1585.1740871983243,15421.824978422921]
["2005-02-19",0.51,324.25800000000004,324.25800000000004,2,0.06,4.2375000000000003E-2,0,{"$f":"'RWH Calculator'!$C$56","v":0},0,1057.4600871983243,0,0,324.25800000000004,1381.7180871983244,15421.824978422921]
["2005-02-20",0.36000000000000004,228.88800000000003,228.88800000000003,2,0.06,4.2375000000000003E-2,0,{"$f":"'RWH Calculator'!$C$56","v":0},0,1057.4600871983243,0,0,228.88800000000003,1286.3480871983243,15421.824978422921]
["2005-02-21",0.29000000000000004,184.38200000000003,184.38200000000003,2,0.06,4.2375000000000003E-2,0,{"$f":"'RWH Calculator'!$C$56","v":0},0,1057.4600871983243,0,0,184.38200000000003,1241.8420871983244,15421.824978422921]
["2005-02-22",0,0,0,2,0.06,4.2375000000000003E-2,23.478888888888889,{"$f":"'RWH Calculator'!$C$56","v":0},23.478888888888889,1033.9811983094355,0,23.478888888888889,0,1033.9811983094355,15445.30386731181]
["2005-02-23",0,0,0,2,0.06,4.2375000000000003E-2,23.478888888888889,{"$f":"'RWH Calculator'!$C$56","v":0},23.478888888888889,1010.5023094205467,0,23.478888888888889,0,1010.5023094205467,15468.782756200699]
["2005-02-24",0,0,0,2,0.06,4.2375000000000003E-2,23.478888888888889,{"$f":"'RWH Calculator'!$C$56","v":0},23.478888888888889,987.02342053165785,0,23.478888888888889,0,987.02342053165785,15492.261645089588]
["2005-02-25",0,0,0,2,0.06,4.2375000000000003E-2,23.478888888888889,{"$f":"'RWH Calculator'!$C$56","v":0},23.478888888888889,963.54453164276902,0,23.478888888888889,0,963.54453164276902,15515.740533978476]
["2005-02-26",0,0,0,2,0.06,4.2375000000000003E-2,23.478888888888889,{"$f":"'RWH Calculator'!$C$56","v":0},23.478888888888889,940.06564275388018,0,23.478888888888889,0,940.06564275388018,15539.219422867365]
["2005-02-27",0.90000000000000013,572.22000000000014,572.22000000000014,2,0.06,4.2375000000000003E-2,0,{"$f":"'RWH Calculator'!$C$56","v":0},0,1057.4600871983243,117.39444444444416,0,454.82555555555598,1512.2856427538804,15539.219422867365]
["2005-02-28",0.02,12.716000000000003,12.716000000000003,2,0.06,4.2375000000000003E-2,12.397407407407409,{"$f":"'RWH Calculator'!$C$56","v":0},12.397407407407409,1057.4600871983243,12.397407407407409,12.397407407407409,0.31859259259259431,1057.7786797909168,15551.616830274772]
["2005-03-01",0.31,197.09800000000001,197.09800000000001,3,0.1,7.0625000000000007E-2,0,{"$f":"'RWH Calculator'!$C$56","v":0},0,1057.4600871983243,0,0,197.09800000000001,1254.5580871983243,15551.616830274772]
["2005-03-02",7.9999999999999988E-2,50.863999999999997,50.863999999999997,3,0.1,7.0625000000000007E-2,0,{"$f":"'RWH Calculator'!$C$56","v":0},0,1057.4600871983243,0,0,50.863999999999997,1108.3240871983244,15551.616830274772]
["2005-03-03",0.19,120.80200000000002,120.80200000000002,3,0.1,7.0625000000000007E-2,0,{"$f":"'RWH Calculator'!$C$56","v":0},0,1057.4600871983243,0,0,120.80200000000002,1178.2620871983245,15551.616830274772]
["2005-03-04",0.25,158.95000000000002,158.95000000000002,3,0.1,7.0625000000000007E-2,0,{"$f":"'RWH Calculator'!$C$56","v":0},0,1057.4600871983243,0,0,158.95000000000002,1216.4100871983244,15551.616830274772]
["2005-03-05",0,0,0,3,0.1,7.0625000000000007E-2,39.131481481481487,{"$f":"'RWH Calculator'!$C$56","v":0},39.131481481481487,1018.3286057168428,0,39.131481481481487,0,1018.3286057168428,15590.748311756253]
["2005-03-06",0,0,0,3,0.1,7.0625000000000007E-2,39.131481481481487,{"$f":"'RWH Calculator'!$C$56","v":0},39.131481481481487,979.19712423536134,0,39.131481481481487,0,979.19712423536134,15629.879793237735]
["2005-03-07",0,0,0,3,0.1,7.0625000000000007E-2,39.131481481481487,{"$f":"'RWH Calculator'!$C$56","v":0},39.131481481481487,940.06564275387984,0,39.131481481481487,0,940.06564275387984,15669.011274719216]
["2005-03-08",0,0,0,3,0.1,7.0625000000000007E-2,39.131481481481487,{"$f":"'RWH Calculator'!$C$56","v":0},39.131481481481487,900.93416127239834,0,39.131481481481487,0,900.93416127239834,15708.142756200697]
["2005-03-09",0,0,0,3,0.1,7.0625000000000007E-2,39.131481481481487,{"$f":"'RWH Calculator'!$C$56","v":0},39.131481481481487,861.80267979091684,0,39.131481481481487,0,861.80267979091684,15747.274237682179]
["2005-03-10",0,0,0,3,0.1,7.0625000000000007E-2,39.131481481481487,{"$f":"'RWH Calculator'!$C$56","v":0},39.131481481481487,822.67119830943534,0,39.131481481481487,0,822.67119830943534,15786.40571916366]
["2005-03-11",0,0,0,3,0.1,7.0625000000000007E-2,39.131481481481487,{"$f":"'RWH Calculator'!$C$56","v":0},39.131481481481487,783.53971682795384,0,39.131481481481487,0,783.53971682795384,15825.537200645142]
["2005-03-12",0,0,0,3,0.1,7.0625000000000007E-2,39.131481481481487,{"$f":"'RWH Calculator'!$C$56","v":0},39.131481481481487,744.40823534647234,0,39.131481481481487,0,744.40823534647234,15864.668682126623]
["2005-03-13",0,0,0,3,0.1,7.0625000000000007E-2,39.131481481481487,{"$f":"'RWH Calculator'!$C$56","v":0},39.131481481481487,705.27675386499084,0,39.131481481481487,0,705.27675386499084,15903.800163608104]
["2005-03-14",0,0,0,3,0.1,7.0625000000000007E-2,39.131481481481487,{"$f":"'RWH Calculator'!$C$56","v":0},39.131481481481487,666.14527238350934,0,39.131481481481487,0,666.14527238350934,15942.931645089586]
["2005-03-15",0,0,0,3,0.1,7.0625000000000007E-2,39.131481481481487,{"$f":"'RWH Calculator'!$C$56","v":0},39.131481481481487,627.01379090202784,0,39.131481481481487,0,627.01379090202784,15982.063126571067]
["2005-03-16",0,0,0,3,0.1,7.0625000000000007E-2,39.131481481481487,{"$f":"'RWH Calculator'!$C$56","v":0},39.131481481481487,587.88230942054633,0,39.131481481481487,0,587.88230942054633,16021.194608052549]
["2005-03-17",0,0,0,3,{"$f":"IF($B$2=\"Western SF\", VLOOKUP(E1547,$R$6:$U$17, 4),VLOOKUP(E1547, $R$6:$V$17,5))","v":0.1},7.0625000000000007E-2,39.131481481481487,{"$f":"'RWH Calculator'!$C$56","v":0},39.131481481481487,548.75082793906483,0,39.131481481481487,0,548.75082793906483,16060.32608953403]
["2005-03-18",0.48000000000000004,305.18400000000003,305.18400000000003,{"$f":"MONTH(A1548)","v":3},0.1,{"$f":"F1548*$B$6","v":7.0625000000000007E-2},0,{"$f":"'RWH Calculator'!$C$56","v":0},{"$f":"H1548+I1548","v":0},853.93482793906492,305.18400000000008,0,-5.6843418860808015E-14,853.93482793906492,16060.32608953403]
["2005-03-19",0.3,{"$f":"$B$3*$B$4*(B1549/12)*7.48","v":190.73999999999998},{"$f":"C1549","v":190.73999999999998},3,0.1,7.0625000000000007E-2,{"$f":"(IF(G1549-B1549>0,(G1549-B1549)/$B$7,0)/12*7.48)*$B$8","v":0},{"$f":"'RWH Calculator'!$C$56","v":0},0,{"$f":"IF(O1549<0, 0, IF(O1549>$H$2, $H$2, O1549))","v":1044.6748279390649},{"$f":"IF(J1549>D1549,D1549, K1549-K1548+J1549)","v":190.74},{"$f":"IF(D1549+K1548>J1549,J1549, D1549+K1548)","v":0},{"$f":"IF(C1549>J1549, C1549-J1549-(K1549-K1548),0)","v":-2.8421709430404007E-14},{"$f":"K1548+D1549-J1549","v":1044.6748279390649},{"$f":"M1549+P1548","v":16060.32608953403}]
["2005-03-20",0.02,12.716000000000003,12.716000000000003,3,0.1,7.0625000000000007E-2,28.050000000000004,{"$f":"'RWH Calculator'!$C$56","v":0},28.050000000000004,1029.3408279390649,12.716000000000003,28.050000000000004,0,1029.3408279390649,16088.376089534029]
["2005-03-21",0.55000000000000004,349.69000000000005,349.69000000000005,3,0.1,7.0625000000000007E-2,0,{"$f":"'RWH Calculator'!$C$56","v":0},0,1057.4600871983243,28.119259259259479,0,321.57074074074058,1379.0308279390649,16088.376089534029]
["2005-03-22",1.1900000000000004,756.60200000000032,756.60200000000032,3,0.1,7.0625000000000007E-2,0,{"$f":"'RWH Calculator'!$C$56","v":0},0,1057.4600871983243,0,0,756.60200000000032,1814.0620871983247,16088.376089534029]
["2005-03-23",0.48000000000000004,305.18400000000003,305.18400000000003,3,0.1,7.0625000000000007E-2,0,{"$f":"'RWH Calculator'!$C$56","v":0},0,1057.4600871983243,0,0,305.18400000000003,1362.6440871983243,16088.376089534029]
["2005-03-24",0.03,19.074000000000002,19.074000000000002,3,0.1,7.0625000000000007E-2,22.509259259259267,{"$f":"'RWH Calculator'!$C$56","v":0},22.509259259259267,1054.0248279390651,19.074000000000002,22.509259259259267,0,1054.0248279390651,16110.885348793288]
["2005-03-25",0,0,0,3,0.1,7.0625000000000007E-2,39.131481481481487,{"$f":"'RWH Calculator'!$C$56","v":0},39.131481481481487,1014.8933464575836,0,39.131481481481487,0,1014.8933464575836,16150.01683027477]
["2005-03-26",0,0,0,3,0.1,7.0625000000000007E-2,39.131481481481487,{"$f":"'RWH Calculator'!$C$56","v":0},39.131481481481487,975.76186497610206,0,39.131481481481487,0,975.76186497610206,16189.148311756251]
["2005-03-27",0.46000000000000008,292.46800000000002,292.46800000000002,3,0.1,7.0625000000000007E-2,0,{"$f":"'RWH Calculator'!$C$56","v":0},0,1057.4600871983243,81.698222222222284,0,210.76977777777773,1268.2298649761021,16189.148311756251]
["2005-03-28",9.9999999999999992E-2,63.580000000000005,63.580000000000005,3,0.1,7.0625000000000007E-2,0,{"$f":"'RWH Calculator'!$C$56","v":0},0,1057.4600871983243,0,0,63.580000000000005,1121.0400871983243,16189.148311756251]
["2005-03-29",0.23,146.23400000000001,146.23400000000001,3,0.1,7.0625000000000007E-2,0,{"$f":"'RWH Calculator'!$C$56","v":0},0,1057.4600871983243,0,0,146.23400000000001,1203.6940871983243,16189.148311756251]
["2005-03-30",0,0,0,3,0.1,7.0625000000000007E-2,39.131481481481487,{"$f":"'RWH Calculator'!$C$56","v":0},39.131481481481487,1018.3286057168428,0,39.131481481481487,0,1018.3286057168428,16228.279793237733]
["2005-03-31",0,0,0,3,0.1,7.0625000000000007E-2,39.131481481481487,{"$f":"'RWH Calculator'!$C$56","v":0},39.131481481481487,979.19712423536134,0,39.131481481481487,0,979.19712423536134,16267.411274719214]
["2005-04-01",0,0,0,4,0.13,9.1812500000000005E-2,50.870925925925924,{"$f":"'RWH Calculator'!$C$56","v":0},50.870925925925924,928.32619830943543,0,50.870925925925924,0,928.32619830943543,16318.282200645141]
["2005-04-02",0,0,0,4,0.13,9.1812500000000005E-2,50.870925925925924,{"$f":"'RWH Calculator'!$C$56","v":0},50.870925925925924,877.45527238350951,0,50.870925925925924,0,877.45527238350951,16369.153126571067]
["2005-04-03",0.6100000000000001,387.83800000000008,387.83800000000008,4,0.13,9.1812500000000005E-2,0,{"$f":"'RWH Calculator'!$C$56","v":0},0,1057.4600871983243,180.00481481481484,0,207.83318518518524,1265.2932723835097,16369.153126571067]
["2005-04-04",0.01,6.3580000000000014,6.3580000000000014,4,0.13,9.1812500000000005E-2,45.330185185185186,{"$f":"'RWH Calculator'!$C$56","v":0},45.330185185185186,1018.4879020131391,6.3580000000000014,45.330185185185186,0,1018.4879020131391,16414.483311756252]
["2005-04-05",0,0,0,4,0.13,9.1812500000000005E-2,50.870925925925924,{"$f":"'RWH Calculator'!$C$56","v":0},50.870925925925924,967.61697608721317,0,50.870925925925924,0,967.61697608721317,16465.354237682179]
["2005-04-06",0,0,0,4,0.13,9.1812500000000005E-2,50.870925925925924,{"$f":"'RWH Calculator'!$C$56","v":0},50.870925925925924,916.74605016128726,0,50.870925925925924,0,916.74605016128726,16516.225163608106]
["2005-04-07",0.27,171.66600000000003,171.66600000000003,4,0.13,9.1812500000000005E-2,0,{"$f":"'RWH Calculator'!$C$56","v":0},0,1057.4600871983243,140.71403703703709,0,30.951962962962938,1088.4120501612872,16516.225163608106]
["2005-04-08",0,0,0,4,0.13,9.1812500000000005E-2,50.870925925925924,{"$f":"'RWH Calculator'!$C$56","v":0},50.870925925925924,1006.5891612723984,0,50.870925925925924,0,1006.5891612723984,16567.096089534032]
["2005-04-09",0,0,0,4,0.13,9.1812500000000005E-2,50.870925925925924,{"$f":"'RWH Calculator'!$C$56","v":0},50.870925925925924,955.71823534647251,0,50.870925925925924,0,955.71823534647251,16617.967015459959]
["2005-04-10",0,0,0,4,0.13,9.1812500000000005E-2,50.870925925925924,{"$f":"'RWH Calculator'!$C$56","v":0},50.870925925925924,904.84730942054659,0,50.870925925925924,0,904.84730942054659,16668.837941385886]
["2005-04-11",0,0,0,4,0.13,9.1812500000000005E-2,50.870925925925924,{"$f":"'RWH Calculator'!$C$56","v":0},50.870925925925924,853.97638349462068,0,50.870925925925924,0,853.97638349462068,16719.708867311812]
["2005-04-12",0,0,0,4,0.13,9.1812500000000005E-2,50.870925925925924,{"$f":"'RWH Calculator'!$C$56","v":0},50.870925925925924,803.10545756869476,0,50.870925925925924,0,803.10545756869476,16770.579793237739]
["2005-04-13",0,0,0,4,0.13,9.1812500000000005E-2,50.870925925925924,{"$f":"'RWH Calculator'!$C$56","v":0},50.870925925925924,752.23453164276884,0,50.870925925925924,0,752.23453164276884,16821.450719163666]
["2005-04-14",0,0,0,4,0.13,9.1812500000000005E-2,50.870925925925924,{"$f":"'RWH Calculator'!$C$56","v":0},50.870925925925924,701.36360571684293,0,50.870925925925924,0,701.36360571684293,16872.321645089592]
["2005-04-15",0,0,0,4,0.13,9.1812500000000005E-2,50.870925925925924,{"$f":"'RWH Calculator'!$C$56","v":0},50.870925925925924,650.49267979091701,0,50.870925925925924,0,650.49267979091701,16923.192571015519]
["2005-04-16",0,0,0,4,0.13,9.1812500000000005E-2,50.870925925925924,{"$f":"'RWH Calculator'!$C$56","v":0},50.870925925925924,599.62175386499109,0,50.870925925925924,0,599.62175386499109,16974.063496941446]
["2005-04-17",0,0,0,4,0.13,9.1812500000000005E-2,50.870925925925924,{"$f":"'RWH Calculator'!$C$56","v":0},50.870925925925924,548.75082793906518,0,50.870925925925924,0,548.75082793906518,17024.934422867373]
["2005-04-18",0,0,0,4,0.13,9.1812500000000005E-2,50.870925925925924,{"$f":"'RWH Calculator'!$C$56","v":0},50.870925925925924,497.87990201313926,0,50.870925925925924,0,497.87990201313926,17075.805348793299]
["2005-04-19",0,0,0,4,0.13,9.1812500000000005E-2,50.870925925925924,{"$f":"'RWH Calculator'!$C$56","v":0},50.870925925925924,447.00897608721334,0,50.870925925925924,0,447.00897608721334,17126.676274719226]
["2005-04-20",0,0,0,4,0.13,9.1812500000000005E-2,50.870925925925924,{"$f":"'RWH Calculator'!$C$56","v":0},50.870925925925924,396.13805016128742,0,50.870925925925924,0,396.13805016128742,17177.547200645153]
["2005-04-21",0,0,0,4,0.13,9.1812500000000005E-2,50.870925925925924,{"$f":"'RWH Calculator'!$C$56","v":0},50.870925925925924,345.26712423536151,0,50.870925925925924,0,345.26712423536151,17228.418126571079]
["2005-04-22",0,0,0,4,0.13,9.1812500000000005E-2,50.870925925925924,{"$f":"'RWH Calculator'!$C$56","v":0},50.870925925925924,294.39619830943559,0,50.870925925925924,0,294.39619830943559,17279.289052497006]
["2005-04-23",0.01,6.3580000000000014,6.3580000000000014,4,0.13,9.1812500000000005E-2,45.330185185185186,{"$f":"'RWH Calculator'!$C$56","v":0},45.330185185185186,255.42401312425039,6.3580000000000014,45.330185185185186,0,255.42401312425039,17324.619237682193]
["2005-04-24",0,0,0,4,0.13,9.1812500000000005E-2,50.870925925925924,{"$f":"'RWH Calculator'!$C$56","v":0},50.870925925925924,204.55308719832448,0,50.870925925925924,0,204.55308719832448,17375.490163608119]
["2005-04-25",0,0,0,4,0.13,9.1812500000000005E-2,50.870925925925924,{"$f":"'RWH Calculator'!$C$56","v":0},50.870925925925924,153.68216127239856,0,50.870925925925924,0,153.68216127239856,17426.361089534046]
["2005-04-26",0,0,0,4,0.13,9.1812500000000005E-2,50.870925925925924,{"$f":"'RWH Calculator'!$C$56","v":0},50.870925925925924,102.81123534647264,0,50.870925925925924,0,102.81123534647264,17477.232015459973]
["2005-04-27",0.05,31.790000000000003,31.790000000000003,4,0.13,9.1812500000000005E-2,23.167222222222225,{"$f":"'RWH Calculator'!$C$56","v":0},23.167222222222225,111.43401312425041,31.789999999999996,23.167222222222225,7.1054273576010019E-15,111.43401312425041,17500.399237682195]
["2005-04-28",0,0,0,4,0.13,9.1812500000000005E-2,50.870925925925924,{"$f":"'RWH Calculator'!$C$56","v":0},50.870925925925924,60.563087198324489,0,50.870925925925924,0,60.563087198324489,17551.270163608122]
["2005-04-29",0.45,286.11,286.11,4,0.13,9.1812500000000005E-2,0,{"$f":"'RWH Calculator'!$C$56","v":0},0,346.67308719832448,286.11,0,0,346.67308719832448,17551.270163608122]
["2005-04-30",0,0,0,4,0.13,9.1812500000000005E-2,50.870925925925924,{"$f":"'RWH Calculator'!$C$56","v":0},50.870925925925924,295.80216127239856,0,50.870925925925924,0,295.80216127239856,17602.141089534049]
["2005-05-01",0,0,0,5,0.15000000000000002,0.10593750000000002,58.697222222222237,{"$f":"'RWH Calculator'!$C$56","v":0},58.697222222222237,237.10493905017631,0,58.697222222222237,0,237.10493905017631,17660.83831175627]
["2005-05-02",0,0,0,5,0.15000000000000002,0.10593750000000002,58.697222222222237,{"$f":"'RWH Calculator'!$C$56","v":0},58.697222222222237,178.40771682795406,0,58.697222222222237,0,178.40771682795406,17719.535533978491]
["2005-05-03",0,0,0,5,0.15000000000000002,0.10593750000000002,58.697222222222237,{"$f":"'RWH Calculator'!$C$56","v":0},58.697222222222237,119.71049460573182,0,58.697222222222237,0,119.71049460573182,17778.232756200712]
["2005-05-04",0.34,216.17200000000003,216.17200000000003,5,0.15000000000000002,0.10593750000000002,0,{"$f":"'RWH Calculator'!$C$56","v":0},0,335.88249460573184,216.17200000000003,0,0,335.88249460573184,17778.232756200712]
["2005-05-05",0.18000000000000002,114.44400000000002,114.44400000000002,5,0.15000000000000002,0.10593750000000002,0,{"$f":"'RWH Calculator'!$C$56","v":0},0,450.32649460573185,114.44400000000002,0,0,450.32649460573185,17778.232756200712]
["2005-05-06",0,0,0,5,0.15000000000000002,0.10593750000000002,58.697222222222237,{"$f":"'RWH Calculator'!$C$56","v":0},58.697222222222237,391.6292723835096,0,58.697222222222237,0,391.6292723835096,17836.929978422933]
["2005-05-07",0,0,0,5,0.15000000000000002,0.10593750000000002,58.697222222222237,{"$f":"'RWH Calculator'!$C$56","v":0},58.697222222222237,332.93205016128735,0,58.697222222222237,0,332.93205016128735,17895.627200645155]
["2005-05-08",0.34,216.17200000000003,216.17200000000003,5,0.15000000000000002,0.10593750000000002,0,{"$f":"'RWH Calculator'!$C$56","v":0},0,549.10405016128743,216.17200000000008,0,-5.6843418860808015E-14,549.10405016128743,17895.627200645155]
["2005-05-09",0,0,0,5,0.15000000000000002,0.10593750000000002,58.697222222222237,{"$f":"'RWH Calculator'!$C$56","v":0},58.697222222222237,490.40682793906518,0,58.697222222222237,0,490.40682793906518,17954.324422867376]
["2005-05-10",0,0,0,5,0.15000000000000002,0.10593750000000002,58.697222222222237,{"$f":"'RWH Calculator'!$C$56","v":0},58.697222222222237,431.70960571684293,0,58.697222222222237,0,431.70960571684293,18013.021645089597]
["2005-05-11",0,0,0,5,0.15000000000000002,0.10593750000000002,58.697222222222237,{"$f":"'RWH Calculator'!$C$56","v":0},58.697222222222237,373.01238349462068,0,58.697222222222237,0,373.01238349462068,18071.718867311818]
["2005-05-12",0,0,0,5,0.15000000000000002,0.10593750000000002,58.697222222222237,{"$f":"'RWH Calculator'!$C$56","v":0},58.697222222222237,314.31516127239843,0,58.697222222222237,0,314.31516127239843,18130.416089534039]
["2005-05-13",0,0,0,5,0.15000000000000002,0.10593750000000002,58.697222222222237,{"$f":"'RWH Calculator'!$C$56","v":0},58.697222222222237,255.61793905017618,0,58.697222222222237,0,255.61793905017618,18189.11331175626]
["2005-05-14",0,0,0,5,0.15000000000000002,0.10593750000000002,58.697222222222237,{"$f":"'RWH Calculator'!$C$56","v":0},58.697222222222237,196.92071682795392,0,58.697222222222237,0,196.92071682795392,18247.810533978482]
["2005-05-15",0.02,12.716000000000003,12.716000000000003,5,0.15000000000000002,0.10593750000000002,47.615740740740748,{"$f":"'RWH Calculator'!$C$56","v":0},47.615740740740748,162.02097608721317,12.716000000000003,47.615740740740748,0,162.02097608721317,18295.426274719222]
["2005-05-16",0,0,0,5,0.15000000000000002,0.10593750000000002,58.697222222222237,{"$f":"'RWH Calculator'!$C$56","v":0},58.697222222222237,103.32375386499093,0,58.697222222222237,0,103.32375386499093,18354.123496941444]
["2005-05-17",0,0,0,5,0.15000000000000002,0.10593750000000002,58.697222222222237,{"$f":"'RWH Calculator'!$C$56","v":0},58.697222222222237,44.626531642768697,0,58.697222222222237,0,44.626531642768697,18412.820719163665]
["2005-05-18",0.28999999999999998,184.38200000000001,184.38200000000001,5,0.15000000000000002,0.10593750000000002,0,{"$f":"'RWH Calculator'!$C$56","v":0},0,229.0085316427687,184.38200000000001,0,0,229.0085316427687,18412.820719163665]
["2005-05-19",0.15,95.36999999999999,95.36999999999999,5,0.15000000000000002,0.10593750000000002,0,{"$f":"'RWH Calculator'!$C$56","v":0},0,324.37853164276868,95.369999999999976,0,1.4210854715202004E-14,324.37853164276868,18412.820719163665]
["2005-05-20",0,0,0,5,{"$f":"IF($B$2=\"Western SF\", VLOOKUP(E1611,$R$6:$U$17, 4),VLOOKUP(E1611, $R$6:$V$17,5))","v":0.15000000000000002},0.10593750000000002,58.697222222222237,{"$f":"'RWH Calculator'!$C$56","v":0},58.697222222222237,265.68130942054643,0,58.697222222222237,0,265.68130942054643,18471.517941385886]
["2005-05-21",0,0,0,{"$f":"MONTH(A1612)","v":5},0.15000000000000002,{"$f":"F1612*$B$6","v":0.10593750000000002},58.697222222222237,{"$f":"'RWH Calculator'!$C$56","v":0},{"$f":"H1612+I1612","v":58.697222222222237},206.98408719832418,0,58.697222222222237,0,206.98408719832418,18530.215163608107]
["2005-05-22",0,{"$f":"$B$3*$B$4*(B1613/12)*7.48","v":0},{"$f":"C1613","v":0},5,0.15000000000000002,0.10593750000000002,{"$f":"(IF(G1613-B1613>0,(G1613-B1613)/$B$7,0)/12*7.48)*$B$8","v":58.697222222222237},{"$f":"'RWH Calculator'!$C$56","v":0},58.697222222222237,{"$f":"IF(O1613<0, 0, IF(O1613>$H$2, $H$2, O1613))","v":148.28686497610192},{"$f":"IF(J1613>D1613,D1613, K1613-K1612+J1613)","v":0},{"$f":"IF(D1613+K1612>J1613,J1613, D1613+K1612)","v":58.697222222222237},{"$f":"IF(C1613>J1613, C1613-J1613-(K1613-K1612),0)","v":0},{"$f":"K1612+D1613-J1613","v":148.28686497610192},{"$f":"M1613+P1612","v":18588.912385830328}]
["2005-05-23",0,0,0,5,0.15000000000000002,0.10593750000000002,58.697222222222237,{"$f":"'RWH Calculator'!$C$56","v":0},58.697222222222237,89.589642753879687,0,58.697222222222237,0,89.589642753879687,18647.609608052549]
["2005-05-24",0,0,0,5,0.15000000000000002,0.10593750000000002,58.697222222222237,{"$f":"'RWH Calculator'!$C$56","v":0},58.697222222222237,30.89242053165745,0,58.697222222222237,0,30.89242053165745,18706.306830274771]
["2005-05-25",0,0,0,5,0.15000000000000002,0.10593750000000002,58.697222222222237,{"$f":"'RWH Calculator'!$C$56","v":0},58.697222222222237,0,0,30.89242053165745,0,-27.804801690564787,18737.199250806429]
["2005-05-26",0,0,0,5,0.15000000000000002,0.10593750000000002,58.697222222222237,{"$f":"'RWH Calculator'!$C$56","v":0},58.697222222222237,0,0,0,0,-58.697222222222237,18737.199250806429]
["2005-05-27",0,0,0,5,0.15000000000000002,0.10593750000000002,58.697222222222237,{"$f":"'RWH Calculator'!$C$56","v":0},58.697222222222237,0,0,0,0,-58.697222222222237,18737.199250806429]
["2005-05-28",0,0,0,5,0.15000000000000002,0.10593750000000002,58.697222222222237,{"$f":"'RWH Calculator'!$C$56","v":0},58.697222222222237,0,0,0,0,-58.697222222222237,18737.199250806429]
["2005-05-29",0,0,0,5,0.15000000000000002,0.10593750000000002,58.697222222222237,{"$f":"'RWH Calculator'!$C$56","v":0},58.697222222222237,0,0,0,0,-58.697222222222237,18737.199250806429]
["2005-05-30",0,0,0,5,0.15000000000000002,0.10593750000000002,58.697222222222237,{"$f":"'RWH Calculator'!$C$56","v":0},58.697222222222237,0,0,0,0,-58.697222222222237,18737.199250806429]
["2005-05-31",0,0,0,5,0.15000000000000002,0.10593750000000002,58.697222222222237,{"$f":"'RWH Calculator'!$C$56","v":0},58.697222222222237,0,0,0,0,-58.697222222222237,18737.199250806429]
["2005-06-01",0,0,0,6,0.16999999999999998,0.1200625,66.523518518518514,{"$f":"'RWH Calculator'!$C$56","v":0},66.523518518518514,0,0,0,0,-66.523518518518514,18737.199250806429]
["2005-06-02",0,0,0,6,0.16999999999999998,0.1200625,66.523518518518514,{"$f":"'RWH Calculator'!$C$56","v":0},66.523518518518514,0,0,0,0,-66.523518518518514,18737.199250806429]
["2005-06-03",0,0,0,6,0.16999999999999998,0.1200625,66.523518518518514,{"$f":"'RWH Calculator'!$C$56","v":0},66.523518518518514,0,0,0,0,-66.523518518518514,18737.199250806429]
["2005-06-04",0,0,0,6,0.16999999999999998,0.1200625,66.523518518518514,{"$f":"'RWH Calculator'!$C$56","v":0},66.523518518518514,0,0,0,0,-66.523518518518514,18737.199250806429]
["2005-06-05",0,0,0,6,0.16999999999999998,0.1200625,66.523518518518514,{"$f":"'RWH Calculator'!$C$56","v":0},66.523518518518514,0,0,0,0,-66.523518518518514,18737.199250806429]
["2005-06-06",0,0,0,6,0.16999999999999998,0.1200625,66.523518518518514,{"$f":"'RWH Calculator'!$C$56","v":0},66.523518518518514,0,0,0,0,-66.523518518518514,18737.199250806429]
["2005-06-07",0,0,0,6,0.16999999999999998,0.1200625,66.523518518518514,{"$f":"'RWH Calculator'!$C$56","v":0},66.523518518518514,0,0,0,0,-66.523518518518514,18737.199250806429]
["2005-06-08",0.54,343.33200000000005,343.33200000000005,6,0.16999999999999998,0.1200625,0,{"$f":"'RWH Calculator'!$C$56","v":0},0,343.33200000000005,343.33200000000005,0,0,343.33200000000005,18737.199250806429]
["2005-06-09",0.23,146.23400000000001,146.23400000000001,6,0.16999999999999998,0.1200625,0,{"$f":"'RWH Calculator'!$C$56","v":0},0,489.56600000000003,146.23399999999998,0,2.8421709430404007E-14,489.56600000000003,18737.199250806429]
["2005-06-10",0,0,0,6,0.16999999999999998,0.1200625,66.523518518518514,{"$f":"'RWH Calculator'!$C$56","v":0},66.523518518518514,423.0424814814815,0,66.523518518518514,0,423.0424814814815,18803.722769324948]
["2005-06-11",0,0,0,6,0.16999999999999998,0.1200625,66.523518518518514,{"$f":"'RWH Calculator'!$C$56","v":0},66.523518518518514,356.51896296296297,0,66.523518518518514,0,356.51896296296297,18870.246287843467]
["2005-06-12",0,0,0,6,0.16999999999999998,0.1200625,66.523518518518514,{"$f":"'RWH Calculator'!$C$56","v":0},66.523518518518514,289.99544444444444,0,66.523518518518514,0,289.99544444444444,18936.769806361986]
["2005-06-13",0,0,0,6,0.16999999999999998,0.1200625,66.523518518518514,{"$f":"'RWH Calculator'!$C$56","v":0},66.523518518518514,223.47192592592592,0,66.523518518518514,0,223.47192592592592,19003.293324880506]
["2005-06-14",0,0,0,6,0.16999999999999998,0.1200625,66.523518518518514,{"$f":"'RWH Calculator'!$C$56","v":0},66.523518518518514,156.94840740740739,0,66.523518518518514,0,156.94840740740739,19069.816843399025]
["2005-06-15",0,0,0,6,0.16999999999999998,0.1200625,66.523518518518514,{"$f":"'RWH Calculator'!$C$56","v":0},66.523518518518514,90.424888888888873,0,66.523518518518514,0,90.424888888888873,19136.340361917544]
["2005-06-16",0.15000000000000002,95.370000000000019,95.370000000000019,6,0.16999999999999998,0.1200625,0,{"$f":"'RWH Calculator'!$C$56","v":0},0,185.79488888888889,95.370000000000019,0,0,185.79488888888889,19136.340361917544]
["2005-06-17",0,0,0,6,0.16999999999999998,0.1200625,66.523518518518514,{"$f":"'RWH Calculator'!$C$56","v":0},66.523518518518514,119.27137037037038,0,66.523518518518514,0,119.27137037037038,19202.863880436063]
["2005-06-18",0,0,0,6,0.16999999999999998,0.1200625,66.523518518518514,{"$f":"'RWH Calculator'!$C$56","v":0},66.523518518518514,52.747851851851863,0,66.523518518518514,0,52.747851851851863,19269.387398954583]
["2005-06-19",0,0,0,6,0.16999999999999998,0.1200625,66.523518518518514,{"$f":"'RWH Calculator'!$C$56","v":0},66.523518518518514,0,0,52.747851851851863,0,-13.775666666666652,19322.135250806434]
["2005-06-20",0,0,0,6,0.16999999999999998,0.1200625,66.523518518518514,{"$f":"'RWH Calculator'!$C$56","v":0},66.523518518518514,0,0,0,0,-66.523518518518514,19322.135250806434]
["2005-06-21",0,0,0,6,0.16999999999999998,0.1200625,66.523518518518514,{"$f":"'RWH Calculator'!$C$56","v":0},66.523518518518514,0,0,0,0,-66.523518518518514,19322.135250806434]
["2005-06-22",0,0,0,6,0.16999999999999998,0.1200625,66.523518518518514,{"$f":"'RWH Calculator'!$C$56","v":0},66.523518518518514,0,0,0,0,-66.523518518518514,19322.135250806434]
["2005-06-23",0,0,0,6,0.16999999999999998,0.1200625,66.523518518518514,{"$f":"'RWH Calculator'!$C$56","v":0},66.523518518518514,0,0,0,0,-66.523518518518514,19322.135250806434]
["2005-06-24",0,0,0,6,0.16999999999999998,0.1200625,66.523518518518514,{"$f":"'RWH Calculator'!$C$56","v":0},66.523518518518514,0,0,0,0,-66.523518518518514,19322.135250806434]
["2005-06-25",0,0,0,6,0.16999999999999998,0.1200625,66.523518518518514,{"$f":"'RWH Calculator'!$C$56","v":0},66.523518518518514,0,0,0,0,-66.523518518518514,19322.135250806434]
["2005-06-26",0.01,6.3580000000000014,6.3580000000000014,6,0.16999999999999998,0.1200625,60.982777777777784,{"$f":"'RWH Calculator'!$C$56","v":0},60.982777777777784,0,6.3580000000000014,6.3580000000000014,0,-54.62477777777778,19328.493250806434]
["2005-06-27",0,0,0,6,0.16999999999999998,0.1200625,66.523518518518514,{"$f":"'RWH Calculator'!$C$56","v":0},66.523518518518514,0,0,0,0,-66.523518518518514,19328.493250806434]
["2005-06-28",0,0,0,6,0.16999999999999998,0.1200625,66.523518518518514,{"$f":"'RWH Calculator'!$C$56","v":0},66.523518518518514,0,0,0,0,-66.523518518518514,19328.493250806434]
["2005-06-29",0.01,6.3580000000000014,6.3580000000000014,6,0.16999999999999998,0.1200625,60.982777777777784,{"$f":"'RWH Calculator'!$C$56","v":0},60.982777777777784,0,6.3580000000000014,6.3580000000000014,0,-54.62477777777778,19334.851250806434]
["2005-06-30",0,0,0,6,0.16999999999999998,0.1200625,66.523518518518514,{"$f":"'RWH Calculator'!$C$56","v":0},66.523518518518514,0,0,0,0,-66.523518518518514,19334.851250806434]
["2005-07-01",0,0,0,7,0.16,0.113,62.610370370370383,{"$f":"'RWH Calculator'!$C$56","v":0},62.610370370370383,0,0,0,0,-62.610370370370383,19334.851250806434]
["2005-07-02",0,0,0,7,0.16,0.113,62.610370370370383,{"$f":"'RWH Calculator'!$C$56","v":0},62.610370370370383,0,0,0,0,-62.610370370370383,19334.851250806434]
["2005-07-03",0,0,0,7,0.16,0.113,62.610370370370383,{"$f":"'RWH Calculator'!$C$56","v":0},62.610370370370383,0,0,0,0,-62.610370370370383,19334.851250806434]
["2005-07-04",0,0,0,7,0.16,0.113,62.610370370370383,{"$f":"'RWH Calculator'!$C$56","v":0},62.610370370370383,0,0,0,0,-62.610370370370383,19334.851250806434]
["2005-07-05",0,0,0,7,0.16,0.113,62.610370370370383,{"$f":"'RWH Calculator'!$C$56","v":0},62.610370370370383,0,0,0,0,-62.610370370370383,19334.851250806434]
["2005-07-06",0.01,6.3580000000000014,6.3580000000000014,7,0.16,0.113,57.069629629629624,{"$f":"'RWH Calculator'!$C$56","v":0},57.069629629629624,0,6.3580000000000014,6.3580000000000014,0,-50.71162962962962,19341.209250806434]
["2005-07-07",0,0,0,7,0.16,0.113,62.610370370370383,{"$f":"'RWH Calculator'!$C$56","v":0},62.610370370370383,0,0,0,0,-62.610370370370383,19341.209250806434]
["2005-07-08",0,0,0,7,0.16,0.113,62.610370370370383,{"$f":"'RWH Calculator'!$C$56","v":0},62.610370370370383,0,0,0,0,-62.610370370370383,19341.209250806434]
["2005-07-09",0.01,6.3580000000000014,6.3580000000000014,7,0.16,0.113,57.069629629629624,{"$f":"'RWH Calculator'!$C$56","v":0},57.069629629629624,0,6.3580000000000014,6.3580000000000014,0,-50.71162962962962,19347.567250806434]
["2005-07-10",0,0,0,7,0.16,0.113,62.610370370370383,{"$f":"'RWH Calculator'!$C$56","v":0},62.610370370370383,0,0,0,0,-62.610370370370383,19347.567250806434]
["2005-07-11",0,0,0,7,0.16,0.113,62.610370370370383,{"$f":"'RWH Calculator'!$C$56","v":0},62.610370370370383,0,0,0,0,-62.610370370370383,19347.567250806434]
["2005-07-12",0,0,0,7,0.16,0.113,62.610370370370383,{"$f":"'RWH Calculator'!$C$56","v":0},62.610370370370383,0,0,0,0,-62.610370370370383,19347.567250806434]
["2005-07-13",0,0,0,7,0.16,0.113,62.610370370370383,{"$f":"'RWH Calculator'!$C$56","v":0},62.610370370370383,0,0,0,0,-62.610370370370383,19347.567250806434]
["2005-07-14",0,0,0,7,0.16,0.113,62.610370370370383,{"$f":"'RWH Calculator'!$C$56","v":0},62.610370370370383,0,0,0,0,-62.610370370370383,19347.567250806434]
["2005-07-15",0,0,0,7,0.16,0.113,62.610370370370383,{"$f":"'RWH Calculator'!$C$56","v":0},62.610370370370383,0,0,0,0,-62.610370370370383,19347.567250806434]
["2005-07-16",0,0,0,7,0.16,0.113,62.610370370370383,{"$f":"'RWH Calculator'!$C$56","v":0},62.610370370370383,0,0,0,0,-62.610370370370383,19347.567250806434]
["2005-07-17",0,0,0,7,0.16,0.113,62.610370370370383,{"$f":"'RWH Calculator'!$C$56","v":0},62.610370370370383,0,0,0,0,-62.610370370370383,19347.567250806434]
["2005-07-18",0,0,0,7,0.16,0.113,62.610370370370383,{"$f":"'RWH Calculator'!$C$56","v":0},62.610370370370383,0,0,0,0,-62.610370370370383,19347.567250806434]
["2005-07-19",0,0,0,7,0.16,0.113,62.610370370370383,{"$f":"'RWH Calculator'!$C$56","v":0},62.610370370370383,0,0,0,0,-62.610370370370383,19347.567250806434]
["2005-07-20",0,0,0,7,0.16,0.113,62.610370370370383,{"$f":"'RWH Calculator'!$C$56","v":0},62.610370370370383,0,0,0,0,-62.610370370370383,19347.567250806434]
["2005-07-21",0,0,0,7,0.16,0.113,62.610370370370383,{"$f":"'RWH Calculator'!$C$56","v":0},62.610370370370383,0,0,0,0,-62.610370370370383,19347.567250806434]
["2005-07-22",0,0,0,7,0.16,0.113,62.610370370370383,{"$f":"'RWH Calculator'!$C$56","v":0},62.610370370370383,0,0,0,0,-62.610370370370383,19347.567250806434]
["2005-07-23",0,0,0,7,{"$f":"IF($B$2=\"Western SF\", VLOOKUP(E1675,$R$6:$U$17, 4),VLOOKUP(E1675, $R$6:$V$17,5))","v":0.16},0.113,62.610370370370383,{"$f":"'RWH Calculator'!$C$56","v":0},62.610370370370383,0,0,0,0,-62.610370370370383,19347.567250806434]
["2005-07-24",0,0,0,{"$f":"MONTH(A1676)","v":7},0.16,{"$f":"F1676*$B$6","v":0.113},62.610370370370383,{"$f":"'RWH Calculator'!$C$56","v":0},{"$f":"H1676+I1676","v":62.610370370370383},0,0,0,0,-62.610370370370383,19347.567250806434]
["2005-07-25",0,{"$f":"$B$3*$B$4*(B1677/12)*7.48","v":0},{"$f":"C1677","v":0},7,0.16,0.113,{"$f":"(IF(G1677-B1677>0,(G1677-B1677)/$B$7,0)/12*7.48)*$B$8","v":62.610370370370383},{"$f":"'RWH Calculator'!$C$56","v":0},62.610370370370383,{"$f":"IF(O1677<0, 0, IF(O1677>$H$2, $H$2, O1677))","v":0},{"$f":"IF(J1677>D1677,D1677, K1677-K1676+J1677)","v":0},{"$f":"IF(D1677+K1676>J1677,J1677, D1677+K1676)","v":0},{"$f":"IF(C1677>J1677, C1677-J1677-(K1677-K1676),0)","v":0},{"$f":"K1676+D1677-J1677","v":-62.610370370370383},{"$f":"M1677+P1676","v":19347.567250806434}]
["2005-07-26",0,0,0,7,0.16,0.113,62.610370370370383,{"$f":"'RWH Calculator'!$C$56","v":0},62.610370370370383,0,0,0,0,-62.610370370370383,19347.567250806434]
["2005-07-27",0,0,0,7,0.16,0.113,62.610370370370383,{"$f":"'RWH Calculator'!$C$56","v":0},62.610370370370383,0,0,0,0,-62.610370370370383,19347.567250806434]
["2005-07-28",0,0,0,7,0.16,0.113,62.610370370370383,{"$f":"'RWH Calculator'!$C$56","v":0},62.610370370370383,0,0,0,0,-62.610370370370383,19347.567250806434]
["2005-07-29",0,0,0,7,0.16,0.113,62.610370370370383,{"$f":"'RWH Calculator'!$C$56","v":0},62.610370370370383,0,0,0,0,-62.610370370370383,19347.567250806434]
["2005-07-30",0,0,0,7,0.16,0.113,62.610370370370383,{"$f":"'RWH Calculator'!$C$56","v":0},62.610370370370383,0,0,0,0,-62.610370370370383,19347.567250806434]
["2005-07-31",0,0,0,7,0.16,0.113,62.610370370370383,{"$f":"'RWH Calculator'!$C$56","v":0},62.610370370370383,0,0,0,0,-62.610370370370383,19347.567250806434]
["2005-08-01",0,0,0,8,0.15000000000000002,0.10593750000000002,58.697222222222237,{"$f":"'RWH Calculator'!$C$56","v":0},58.697222222222237,0,0,0,0,-58.697222222222237,19347.567250806434]
["2005-08-02",0,0,0,8,0.15000000000000002,0.10593750000000002,58.697222222222237,{"$f":"'RWH Calculator'!$C$56","v":0},58.697222222222237,0,0,0,0,-58.697222222222237,19347.567250806434]
["2005-08-03",0,0,0,8,0.15000000000000002,0.10593750000000002,58.697222222222237,{"$f":"'RWH Calculator'!$C$56","v":0},58.697222222222237,0,0,0,0,-58.697222222222237,19347.567250806434]
["2005-08-04",0,0,0,8,0.15000000000000002,0.10593750000000002,58.697222222222237,{"$f":"'RWH Calculator'!$C$56","v":0},58.697222222222237,0,0,0,0,-58.697222222222237,19347.567250806434]
["2005-08-05",0,0,0,8,0.15000000000000002,0.10593750000000002,58.697222222222237,{"$f":"'RWH Calculator'!$C$56","v":0},58.697222222222237,0,0,0,0,-58.697222222222237,19347.567250806434]
["2005-08-06",0,0,0,8,0.15000000000000002,0.10593750000000002,58.697222222222237,{"$f":"'RWH Calculator'!$C$56","v":0},58.697222222222237,0,0,0,0,-58.697222222222237,19347.567250806434]
["2005-08-07",0,0,0,8,0.15000000000000002,0.10593750000000002,58.697222222222237,{"$f":"'RWH Calculator'!$C$56","v":0},58.697222222222237,0,0,0,0,-58.697222222222237,19347.567250806434]
["2005-08-08",0,0,0,8,0.15000000000000002,0.10593750000000002,58.697222222222237,{"$f":"'RWH Calculator'!$C$56","v":0},58.697222222222237,0,0,0,0,-58.697222222222237,19347.567250806434]
["2005-08-09",0,0,0,8,0.15000000000000002,0.10593750000000002,58.697222222222237,{"$f":"'RWH Calculator'!$C$56","v":0},58.697222222222237,0,0,0,0,-58.697222222222237,19347.567250806434]
["2005-08-10",0,0,0,8,0.15000000000000002,0.10593750000000002,58.697222222222237,{"$f":"'RWH Calculator'!$C$56","v":0},58.697222222222237,0,0,0,0,-58.697222222222237,19347.567250806434]
["2005-08-11",0,0,0,8,0.15000000000000002,0.10593750000000002,58.697222222222237,{"$f":"'RWH Calculator'!$C$56","v":0},58.697222222222237,0,0,0,0,-58.697222222222237,19347.567250806434]
["2005-08-12",0,0,0,8,0.15000000000000002,0.10593750000000002,58.697222222222237,{"$f":"'RWH Calculator'!$C$56","v":0},58.697222222222237,0,0,0,0,-58.697222222222237,19347.567250806434]
["2005-08-13",0,0,0,8,0.15000000000000002,0.10593750000000002,58.697222222222237,{"$f":"'RWH Calculator'!$C$56","v":0},58.697222222222237,0,0,0,0,-58.697222222222237,19347.567250806434]
["2005-08-14",0,0,0,8,0.15000000000000002,0.10593750000000002,58.697222222222237,{"$f":"'RWH Calculator'!$C$56","v":0},58.697222222222237,0,0,0,0,-58.697222222222237,19347.567250806434]
["2005-08-15",0.01,6.3580000000000014,6.3580000000000014,8,0.15000000000000002,0.10593750000000002,53.156481481481499,{"$f":"'RWH Calculator'!$C$56","v":0},53.156481481481499,0,6.3580000000000014,6.3580000000000014,0,-46.798481481481495,19353.925250806435]
["2005-08-16",0,0,0,8,0.15000000000000002,0.10593750000000002,58.697222222222237,{"$f":"'RWH Calculator'!$C$56","v":0},58.697222222222237,0,0,0,0,-58.697222222222237,19353.925250806435]
["2005-08-17",0,0,0,8,0.15000000000000002,0.10593750000000002,58.697222222222237,{"$f":"'RWH Calculator'!$C$56","v":0},58.697222222222237,0,0,0,0,-58.697222222222237,19353.925250806435]
["2005-08-18",0,0,0,8,0.15000000000000002,0.10593750000000002,58.697222222222237,{"$f":"'RWH Calculator'!$C$56","v":0},58.697222222222237,0,0,0,0,-58.697222222222237,19353.925250806435]
["2005-08-19",0,0,0,8,0.15000000000000002,0.10593750000000002,58.697222222222237,{"$f":"'RWH Calculator'!$C$56","v":0},58.697222222222237,0,0,0,0,-58.697222222222237,19353.925250806435]
["2005-08-20",0,0,0,8,0.15000000000000002,0.10593750000000002,58.697222222222237,{"$f":"'RWH Calculator'!$C$56","v":0},58.697222222222237,0,0,0,0,-58.697222222222237,19353.925250806435]
["2005-08-21",0,0,0,8,0.15000000000000002,0.10593750000000002,58.697222222222237,{"$f":"'RWH Calculator'!$C$56","v":0},58.697222222222237,0,0,0,0,-58.697222222222237,19353.925250806435]
["2005-08-22",0,0,0,8,0.15000000000000002,0.10593750000000002,58.697222222222237,{"$f":"'RWH Calculator'!$C$56","v":0},58.697222222222237,0,0,0,0,-58.697222222222237,19353.925250806435]
["2005-08-23",0,0,0,8,0.15000000000000002,0.10593750000000002,58.697222222222237,{"$f":"'RWH Calculator'!$C$56","v":0},58.697222222222237,0,0,0,0,-58.697222222222237,19353.925250806435]
["2005-08-24",0,0,0,8,0.15000000000000002,0.10593750000000002,58.697222222222237,{"$f":"'RWH Calculator'!$C$56","v":0},58.697222222222237,0,0,0,0,-58.697222222222237,19353.925250806435]
["2005-08-25",0,0,0,8,0.15000000000000002,0.10593750000000002,58.697222222222237,{"$f":"'RWH Calculator'!$C$56","v":0},58.697222222222237,0,0,0,0,-58.697222222222237,19353.925250806435]
["2005-08-26",0,0,0,8,0.15000000000000002,0.10593750000000002,58.697222222222237,{"$f":"'RWH Calculator'!$C$56","v":0},58.697222222222237,0,0,0,0,-58.697222222222237,19353.925250806435]
["2005-08-27",0,0,0,8,0.15000000000000002,0.10593750000000002,58.697222222222237,{"$f":"'RWH Calculator'!$C$56","v":0},58.697222222222237,0,0,0,0,-58.697222222222237,19353.925250806435]
["2005-08-28",0,0,0,8,0.15000000000000002,0.10593750000000002,58.697222222222237,{"$f":"'RWH Calculator'!$C$56","v":0},58.697222222222237,0,0,0,0,-58.697222222222237,19353.925250806435]
["2005-08-29",0,0,0,8,0.15000000000000002,0.10593750000000002,58.697222222222237,{"$f":"'RWH Calculator'!$C$56","v":0},58.697222222222237,0,0,0,0,-58.697222222222237,19353.925250806435]
["2005-08-30",0,0,0,8,0.15000000000000002,0.10593750000000002,58.697222222222237,{"$f":"'RWH Calculator'!$C$56","v":0},58.697222222222237,0,0,0,0,-58.697222222222237,19353.925250806435]
["2005-08-31",0,0,0,8,0.15000000000000002,0.10593750000000002,58.697222222222237,{"$f":"'RWH Calculator'!$C$56","v":0},58.697222222222237,0,0,0,0,-58.697222222222237,19353.925250806435]
["2005-09-01",0,0,0,9,0.13,9.1812500000000005E-2,50.870925925925924,{"$f":"'RWH Calculator'!$C$56","v":0},50.870925925925924,0,0,0,0,-50.870925925925924,19353.925250806435]
["2005-09-02",0,0,0,9,0.13,9.1812500000000005E-2,50.870925925925924,{"$f":"'RWH Calculator'!$C$56","v":0},50.870925925925924,0,0,0,0,-50.870925925925924,19353.925250806435]
["2005-09-03",0,0,0,9,0.13,9.1812500000000005E-2,50.870925925925924,{"$f":"'RWH Calculator'!$C$56","v":0},50.870925925925924,0,0,0,0,-50.870925925925924,19353.925250806435]
["2005-09-04",0,0,0,9,0.13,9.1812500000000005E-2,50.870925925925924,{"$f":"'RWH Calculator'!$C$56","v":0},50.870925925925924,0,0,0,0,-50.870925925925924,19353.925250806435]
["2005-09-05",0,0,0,9,0.13,9.1812500000000005E-2,50.870925925925924,{"$f":"'RWH Calculator'!$C$56","v":0},50.870925925925924,0,0,0,0,-50.870925925925924,19353.925250806435]
["2005-09-06",0,0,0,9,0.13,9.1812500000000005E-2,50.870925925925924,{"$f":"'RWH Calculator'!$C$56","v":0},50.870925925925924,0,0,0,0,-50.870925925925924,19353.925250806435]
["2005-09-07",0,0,0,9,0.13,9.1812500000000005E-2,50.870925925925924,{"$f":"'RWH Calculator'!$C$56","v":0},50.870925925925924,0,0,0,0,-50.870925925925924,19353.925250806435]
["2005-09-08",0,0,0,9,0.13,9.1812500000000005E-2,50.870925925925924,{"$f":"'RWH Calculator'!$C$56","v":0},50.870925925925924,0,0,0,0,-50.870925925925924,19353.925250806435]
["2005-09-09",0,0,0,9,0.13,9.1812500000000005E-2,50.870925925925924,{"$f":"'RWH Calculator'!$C$56","v":0},50.870925925925924,0,0,0,0,-50.870925925925924,19353.925250806435]
["2005-09-10",0,0,0,9,0.13,9.1812500000000005E-2,50.870925925925924,{"$f":"'RWH Calculator'!$C$56","v":0},50.870925925925924,0,0,0,0,-50.870925925925924,19353.925250806435]
["2005-09-11",0,0,0,9,0.13,9.1812500000000005E-2,50.870925925925924,{"$f":"'RWH Calculator'!$C$56","v":0},50.870925925925924,0,0,0,0,-50.870925925925924,19353.925250806435]
["2005-09-12",0,0,0,9,0.13,9.1812500000000005E-2,50.870925925925924,{"$f":"'RWH Calculator'!$C$56","v":0},50.870925925925924,0,0,0,0,-50.870925925925924,19353.925250806435]
["2005-09-13",0,0,0,9,0.13,9.1812500000000005E-2,50.870925925925924,{"$f":"'RWH Calculator'!$C$56","v":0},50.870925925925924,0,0,0,0,-50.870925925925924,19353.925250806435]
["2005-09-14",0,0,0,9,0.13,9.1812500000000005E-2,50.870925925925924,{"$f":"'RWH Calculator'!$C$56","v":0},50.870925925925924,0,0,0,0,-50.870925925925924,19353.925250806435]
["2005-09-15",0,0,0,9,0.13,9.1812500000000005E-2,50.870925925925924,{"$f":"'RWH Calculator'!$C$56","v":0},50.870925925925924,0,0,0,0,-50.870925925925924,19353.925250806435]
["2005-09-16",0,0,0,9,0.13,9.1812500000000005E-2,50.870925925925924,{"$f":"'RWH Calculator'!$C$56","v":0},50.870925925925924,0,0,0,0,-50.870925925925924,19353.925250806435]
["2005-09-17",0,0,0,9,0.13,9.1812500000000005E-2,50.870925925925924,{"$f":"'RWH Calculator'!$C$56","v":0},50.870925925925924,0,0,0,0,-50.870925925925924,19353.925250806435]
["2005-09-18",0,0,0,9,0.13,9.1812500000000005E-2,50.870925925925924,{"$f":"'RWH Calculator'!$C$56","v":0},50.870925925925924,0,0,0,0,-50.870925925925924,19353.925250806435]
["2005-09-19",0,0,0,9,0.13,9.1812500000000005E-2,50.870925925925924,{"$f":"'RWH Calculator'!$C$56","v":0},50.870925925925924,0,0,0,0,-50.870925925925924,19353.925250806435]
["2005-09-20",0,0,0,9,0.13,9.1812500000000005E-2,50.870925925925924,{"$f":"'RWH Calculator'!$C$56","v":0},50.870925925925924,0,0,0,0,-50.870925925925924,19353.925250806435]
["2005-09-21",0,0,0,9,0.13,9.1812500000000005E-2,50.870925925925924,{"$f":"'RWH Calculator'!$C$56","v":0},50.870925925925924,0,0,0,0,-50.870925925925924,19353.925250806435]
["2005-09-22",0,0,0,9,0.13,9.1812500000000005E-2,50.870925925925924,{"$f":"'RWH Calculator'!$C$56","v":0},50.870925925925924,0,0,0,0,-50.870925925925924,19353.925250806435]
["2005-09-23",0,0,0,9,0.13,9.1812500000000005E-2,50.870925925925924,{"$f":"'RWH Calculator'!$C$56","v":0},50.870925925925924,0,0,0,0,-50.870925925925924,19353.925250806435]
["2005-09-24",0,0,0,9,0.13,9.1812500000000005E-2,50.870925925925924,{"$f":"'RWH Calculator'!$C$56","v":0},50.870925925925924,0,0,0,0,-50.870925925925924,19353.925250806435]
["2005-09-25",0,0,0,9,{"$f":"IF($B$2=\"Western SF\", VLOOKUP(E1739,$R$6:$U$17, 4),VLOOKUP(E1739, $R$6:$V$17,5))","v":0.13},9.1812500000000005E-2,50.870925925925924,{"$f":"'RWH Calculator'!$C$56","v":0},50.870925925925924,0,0,0,0,-50.870925925925924,19353.925250806435]
["2005-09-26",0,0,0,{"$f":"MONTH(A1740)","v":9},0.13,{"$f":"F1740*$B$6","v":9.1812500000000005E-2},50.870925925925924,{"$f":"'RWH Calculator'!$C$56","v":0},{"$f":"H1740+I1740","v":50.870925925925924},0,0,0,0,-50.870925925925924,19353.925250806435]
["2005-09-27",0,{"$f":"$B$3*$B$4*(B1741/12)*7.48","v":0},{"$f":"C1741","v":0},9,0.13,9.1812500000000005E-2,{"$f":"(IF(G1741-B1741>0,(G1741-B1741)/$B$7,0)/12*7.48)*$B$8","v":50.870925925925924},{"$f":"'RWH Calculator'!$C$56","v":0},50.870925925925924,{"$f":"IF(O1741<0, 0, IF(O1741>$H$2, $H$2, O1741))","v":0},{"$f":"IF(J1741>D1741,D1741, K1741-K1740+J1741)","v":0},{"$f":"IF(D1741+K1740>J1741,J1741, D1741+K1740)","v":0},{"$f":"IF(C1741>J1741, C1741-J1741-(K1741-K1740),0)","v":0},{"$f":"K1740+D1741-J1741","v":-50.870925925925924},{"$f":"M1741+P1740","v":19353.925250806435}]
["2005-09-28",0,0,0,9,0.13,9.1812500000000005E-2,50.870925925925924,{"$f":"'RWH Calculator'!$C$56","v":0},50.870925925925924,0,0,0,0,-50.870925925925924,19353.925250806435]
["2005-09-29",0,0,0,9,0.13,9.1812500000000005E-2,50.870925925925924,{"$f":"'RWH Calculator'!$C$56","v":0},50.870925925925924,0,0,0,0,-50.870925925925924,19353.925250806435]
["2005-09-30",0,0,0,9,0.13,9.1812500000000005E-2,50.870925925925924,{"$f":"'RWH Calculator'!$C$56","v":0},50.870925925925924,0,0,0,0,-50.870925925925924,19353.925250806435]
["2005-10-01",0,0,0,10,0.09,6.3562500000000008E-2,35.218333333333341,{"$f":"'RWH Calculator'!$C$56","v":0},35.218333333333341,0,0,0,0,-35.218333333333341,19353.925250806435]
["2005-10-02",0,0,0,10,0.09,6.3562500000000008E-2,35.218333333333341,{"$f":"'RWH Calculator'!$C$56","v":0},35.218333333333341,0,0,0,0,-35.218333333333341,19353.925250806435]
["2005-10-03",0,0,0,10,0.09,6.3562500000000008E-2,35.218333333333341,{"$f":"'RWH Calculator'!$C$56","v":0},35.218333333333341,0,0,0,0,-35.218333333333341,19353.925250806435]
["2005-10-04",0,0,0,10,0.09,6.3562500000000008E-2,35.218333333333341,{"$f":"'RWH Calculator'!$C$56","v":0},35.218333333333341,0,0,0,0,-35.218333333333341,19353.925250806435]
["2005-10-05",0,0,0,10,0.09,6.3562500000000008E-2,35.218333333333341,{"$f":"'RWH Calculator'!$C$56","v":0},35.218333333333341,0,0,0,0,-35.218333333333341,19353.925250806435]
["2005-10-06",0,0,0,10,0.09,6.3562500000000008E-2,35.218333333333341,{"$f":"'RWH Calculator'!$C$56","v":0},35.218333333333341,0,0,0,0,-35.218333333333341,19353.925250806435]
["2005-10-07",0,0,0,10,0.09,6.3562500000000008E-2,35.218333333333341,{"$f":"'RWH Calculator'!$C$56","v":0},35.218333333333341,0,0,0,0,-35.218333333333341,19353.925250806435]
["2005-10-08",0,0,0,10,0.09,6.3562500000000008E-2,35.218333333333341,{"$f":"'RWH Calculator'!$C$56","v":0},35.218333333333341,0,0,0,0,-35.218333333333341,19353.925250806435]
["2005-10-09",0,0,0,10,0.09,6.3562500000000008E-2,35.218333333333341,{"$f":"'RWH Calculator'!$C$56","v":0},35.218333333333341,0,0,0,0,-35.218333333333341,19353.925250806435]
["2005-10-10",0,0,0,10,0.09,6.3562500000000008E-2,35.218333333333341,{"$f":"'RWH Calculator'!$C$56","v":0},35.218333333333341,0,0,0,0,-35.218333333333341,19353.925250806435]
["2005-10-11",0,0,0,10,0.09,6.3562500000000008E-2,35.218333333333341,{"$f":"'RWH Calculator'!$C$56","v":0},35.218333333333341,0,0,0,0,-35.218333333333341,19353.925250806435]
["2005-10-12",0,0,0,10,0.09,6.3562500000000008E-2,35.218333333333341,{"$f":"'RWH Calculator'!$C$56","v":0},35.218333333333341,0,0,0,0,-35.218333333333341,19353.925250806435]
["2005-10-13",0,0,0,10,0.09,6.3562500000000008E-2,35.218333333333341,{"$f":"'RWH Calculator'!$C$56","v":0},35.218333333333341,0,0,0,0,-35.218333333333341,19353.925250806435]
["2005-10-14",0,0,0,10,0.09,6.3562500000000008E-2,35.218333333333341,{"$f":"'RWH Calculator'!$C$56","v":0},35.218333333333341,0,0,0,0,-35.218333333333341,19353.925250806435]
["2005-10-15",0.12,76.296000000000006,76.296000000000006,10,0.09,6.3562500000000008E-2,0,{"$f":"'RWH Calculator'!$C$56","v":0},0,76.296000000000006,76.296000000000006,0,0,76.296000000000006,19353.925250806435]
["2005-10-16",0,0,0,10,0.09,6.3562500000000008E-2,35.218333333333341,{"$f":"'RWH Calculator'!$C$56","v":0},35.218333333333341,41.077666666666666,0,35.218333333333341,0,41.077666666666666,19389.143584139769]
["2005-10-17",0,0,0,10,0.09,6.3562500000000008E-2,35.218333333333341,{"$f":"'RWH Calculator'!$C$56","v":0},35.218333333333341,5.8593333333333248,0,35.218333333333341,0,5.8593333333333248,19424.361917473103]
["2005-10-18",0,0,0,10,0.09,6.3562500000000008E-2,35.218333333333341,{"$f":"'RWH Calculator'!$C$56","v":0},35.218333333333341,0,0,5.8593333333333248,0,-29.359000000000016,19430.221250806437]
["2005-10-19",0,0,0,10,0.09,6.3562500000000008E-2,35.218333333333341,{"$f":"'RWH Calculator'!$C$56","v":0},35.218333333333341,0,0,0,0,-35.218333333333341,19430.221250806437]
["2005-10-20",0,0,0,10,0.09,6.3562500000000008E-2,35.218333333333341,{"$f":"'RWH Calculator'!$C$56","v":0},35.218333333333341,0,0,0,0,-35.218333333333341,19430.221250806437]
["2005-10-21",0,0,0,10,0.09,6.3562500000000008E-2,35.218333333333341,{"$f":"'RWH Calculator'!$C$56","v":0},35.218333333333341,0,0,0,0,-35.218333333333341,19430.221250806437]
["2005-10-22",0,0,0,10,0.09,6.3562500000000008E-2,35.218333333333341,{"$f":"'RWH Calculator'!$C$56","v":0},35.218333333333341,0,0,0,0,-35.218333333333341,19430.221250806437]
["2005-10-23",0,0,0,10,0.09,6.3562500000000008E-2,35.218333333333341,{"$f":"'RWH Calculator'!$C$56","v":0},35.218333333333341,0,0,0,0,-35.218333333333341,19430.221250806437]
["2005-10-24",0.01,6.3580000000000014,6.3580000000000014,10,0.09,6.3562500000000008E-2,29.677592592592596,{"$f":"'RWH Calculator'!$C$56","v":0},29.677592592592596,0,6.3580000000000014,6.3580000000000014,0,-23.319592592592596,19436.579250806437]
["2005-10-25",0.02,12.716000000000003,12.716000000000003,10,0.09,6.3562500000000008E-2,24.136851851851855,{"$f":"'RWH Calculator'!$C$56","v":0},24.136851851851855,0,12.716000000000003,12.716000000000003,0,-11.420851851851852,19449.295250806437]
["2005-10-26",0.18,114.444,114.444,10,0.09,6.3562500000000008E-2,0,{"$f":"'RWH Calculator'!$C$56","v":0},0,114.444,114.444,0,0,114.444,19449.295250806437]
["2005-10-27",0,0,0,10,0.09,6.3562500000000008E-2,35.218333333333341,{"$f":"'RWH Calculator'!$C$56","v":0},35.218333333333341,79.225666666666655,0,35.218333333333341,0,79.225666666666655,19484.513584139771]
["2005-10-28",0.03,19.074000000000002,19.074000000000002,10,0.09,6.3562500000000008E-2,18.596111111111117,{"$f":"'RWH Calculator'!$C$56","v":0},18.596111111111117,79.703555555555539,19.074000000000002,18.596111111111117,0,79.703555555555539,19503.109695250881]
["2005-10-29",0.15,95.36999999999999,95.36999999999999,10,0.09,6.3562500000000008E-2,0,{"$f":"'RWH Calculator'!$C$56","v":0},0,175.07355555555552,95.369999999999976,0,1.4210854715202004E-14,175.07355555555552,19503.109695250881]
["2005-10-30",0,0,0,10,0.09,6.3562500000000008E-2,35.218333333333341,{"$f":"'RWH Calculator'!$C$56","v":0},35.218333333333341,139.85522222222218,0,35.218333333333341,0,139.85522222222218,19538.328028584216]
["2005-10-31",0,0,0,10,0.09,6.3562500000000008E-2,35.218333333333341,{"$f":"'RWH Calculator'!$C$56","v":0},35.218333333333341,104.63688888888885,0,35.218333333333341,0,104.63688888888885,19573.54636191755]
["2005-11-01",0,0,0,11,6.0000000000000005E-2,4.2375000000000003E-2,23.478888888888889,{"$f":"'RWH Calculator'!$C$56","v":0},23.478888888888889,81.157999999999959,0,23.478888888888889,0,81.157999999999959,19597.02525080644]
["2005-11-02",0,0,0,11,6.0000000000000005E-2,4.2375000000000003E-2,23.478888888888889,{"$f":"'RWH Calculator'!$C$56","v":0},23.478888888888889,57.679111111111069,0,23.478888888888889,0,57.679111111111069,19620.504139695331]
["2005-11-03",9.0000000000000011E-2,57.222000000000008,57.222000000000008,11,6.0000000000000005E-2,4.2375000000000003E-2,0,{"$f":"'RWH Calculator'!$C$56","v":0},0,114.90111111111108,57.222000000000008,0,0,114.90111111111108,19620.504139695331]
["2005-11-04",0.1,63.580000000000005,63.580000000000005,11,6.0000000000000005E-2,4.2375000000000003E-2,0,{"$f":"'RWH Calculator'!$C$56","v":0},0,178.48111111111109,63.580000000000013,0,-7.1054273576010019E-15,178.48111111111109,19620.504139695331]
["2005-11-05",0,0,0,11,6.0000000000000005E-2,4.2375000000000003E-2,23.478888888888889,{"$f":"'RWH Calculator'!$C$56","v":0},23.478888888888889,155.0022222222222,0,23.478888888888889,0,155.0022222222222,19643.983028584222]
["2005-11-06",0.01,6.3580000000000014,6.3580000000000014,11,6.0000000000000005E-2,4.2375000000000003E-2,17.938148148148152,{"$f":"'RWH Calculator'!$C$56","v":0},17.938148148148152,143.42207407407406,6.3580000000000014,17.938148148148152,0,143.42207407407406,19661.921176732369]
["2005-11-07",0.29000000000000004,184.38200000000003,184.38200000000003,11,6.0000000000000005E-2,4.2375000000000003E-2,0,{"$f":"'RWH Calculator'!$C$56","v":0},0,327.80407407407409,184.38200000000003,0,0,327.80407407407409,19661.921176732369]
["2005-11-08",0.22,139.876,139.876,11,6.0000000000000005E-2,4.2375000000000003E-2,0,{"$f":"'RWH Calculator'!$C$56","v":0},0,467.68007407407413,139.87600000000003,0,-2.8421709430404007E-14,467.68007407407413,19661.921176732369]
["2005-11-09",0.02,12.716000000000003,12.716000000000003,11,6.0000000000000005E-2,4.2375000000000003E-2,12.397407407407409,{"$f":"'RWH Calculator'!$C$56","v":0},12.397407407407409,467.99866666666674,12.716000000000017,12.397407407407409,-1.4210854715202004E-14,467.99866666666674,19674.318584139775]
["2005-11-10",0,0,0,11,6.0000000000000005E-2,4.2375000000000003E-2,23.478888888888889,{"$f":"'RWH Calculator'!$C$56","v":0},23.478888888888889,444.51977777777785,0,23.478888888888889,0,444.51977777777785,19697.797473028666]
["2005-11-11",0,0,0,11,6.0000000000000005E-2,4.2375000000000003E-2,23.478888888888889,{"$f":"'RWH Calculator'!$C$56","v":0},23.478888888888889,421.04088888888896,0,23.478888888888889,0,421.04088888888896,19721.276361917557]
["2005-11-12",0,0,0,11,6.0000000000000005E-2,4.2375000000000003E-2,23.478888888888889,{"$f":"'RWH Calculator'!$C$56","v":0},23.478888888888889,397.56200000000007,0,23.478888888888889,0,397.56200000000007,19744.755250806447]
["2005-11-13",0,0,0,11,6.0000000000000005E-2,4.2375000000000003E-2,23.478888888888889,{"$f":"'RWH Calculator'!$C$56","v":0},23.478888888888889,374.08311111111118,0,23.478888888888889,0,374.08311111111118,19768.234139695338]
["2005-11-14",0,0,0,11,6.0000000000000005E-2,4.2375000000000003E-2,23.478888888888889,{"$f":"'RWH Calculator'!$C$56","v":0},23.478888888888889,350.60422222222229,0,23.478888888888889,0,350.60422222222229,19791.713028584229]
["2005-11-15",0,0,0,11,6.0000000000000005E-2,4.2375000000000003E-2,23.478888888888889,{"$f":"'RWH Calculator'!$C$56","v":0},23.478888888888889,327.1253333333334,0,23.478888888888889,0,327.1253333333334,19815.191917473119]
["2005-11-16",0,0,0,11,6.0000000000000005E-2,4.2375000000000003E-2,23.478888888888889,{"$f":"'RWH Calculator'!$C$56","v":0},23.478888888888889,303.64644444444451,0,23.478888888888889,0,303.64644444444451,19838.67080636201]
["2005-11-17",0,0,0,11,6.0000000000000005E-2,4.2375000000000003E-2,23.478888888888889,{"$f":"'RWH Calculator'!$C$56","v":0},23.478888888888889,280.16755555555562,0,23.478888888888889,0,280.16755555555562,19862.149695250901]
["2005-11-18",0,0,0,11,6.0000000000000005E-2,4.2375000000000003E-2,23.478888888888889,{"$f":"'RWH Calculator'!$C$56","v":0},23.478888888888889,256.68866666666673,0,23.478888888888889,0,256.68866666666673,19885.628584139791]
["2005-11-19",0,0,0,11,6.0000000000000005E-2,4.2375000000000003E-2,23.478888888888889,{"$f":"'RWH Calculator'!$C$56","v":0},23.478888888888889,233.20977777777784,0,23.478888888888889,0,233.20977777777784,19909.107473028682]
["2005-11-20",0,0,0,11,6.0000000000000005E-2,4.2375000000000003E-2,23.478888888888889,{"$f":"'RWH Calculator'!$C$56","v":0},23.478888888888889,209.73088888888896,0,23.478888888888889,0,209.73088888888896,19932.586361917573]
["2005-11-21",0,0,0,11,6.0000000000000005E-2,4.2375000000000003E-2,23.478888888888889,{"$f":"'RWH Calculator'!$C$56","v":0},23.478888888888889,186.25200000000007,0,23.478888888888889,0,186.25200000000007,19956.065250806463]
["2005-11-22",0,0,0,11,6.0000000000000005E-2,4.2375000000000003E-2,23.478888888888889,{"$f":"'RWH Calculator'!$C$56","v":0},23.478888888888889,162.77311111111118,0,23.478888888888889,0,162.77311111111118,19979.544139695354]
["2005-11-23",0,0,0,11,6.0000000000000005E-2,4.2375000000000003E-2,23.478888888888889,{"$f":"'RWH Calculator'!$C$56","v":0},23.478888888888889,139.29422222222229,0,23.478888888888889,0,139.29422222222229,20003.023028584244]
["2005-11-24",0,0,0,11,6.0000000000000005E-2,4.2375000000000003E-2,23.478888888888889,{"$f":"'RWH Calculator'!$C$56","v":0},23.478888888888889,115.8153333333334,0,23.478888888888889,0,115.8153333333334,20026.501917473135]
["2005-11-25",0.31,197.09800000000001,197.09800000000001,11,6.0000000000000005E-2,4.2375000000000003E-2,0,{"$f":"'RWH Calculator'!$C$56","v":0},0,312.91333333333341,197.09800000000001,0,0,312.91333333333341,20026.501917473135]
["2005-11-26",0,0,0,11,6.0000000000000005E-2,4.2375000000000003E-2,23.478888888888889,{"$f":"'RWH Calculator'!$C$56","v":0},23.478888888888889,289.43444444444452,0,23.478888888888889,0,289.43444444444452,20049.980806362026]
["2005-11-27",0,0,0,11,6.0000000000000005E-2,4.2375000000000003E-2,23.478888888888889,{"$f":"'RWH Calculator'!$C$56","v":0},23.478888888888889,265.95555555555563,0,23.478888888888889,0,265.95555555555563,20073.459695250916]
["2005-11-28",0.73000000000000009,464.13400000000013,464.13400000000013,11,{"$f":"IF($B$2=\"Western SF\", VLOOKUP(E1803,$R$6:$U$17, 4),VLOOKUP(E1803, $R$6:$V$17,5))","v":6.0000000000000005E-2},4.2375000000000003E-2,0,{"$f":"'RWH Calculator'!$C$56","v":0},0,730.08955555555576,464.13400000000013,0,0,730.08955555555576,20073.459695250916]
["2005-11-29",0.43000000000000005,273.39400000000006,273.39400000000006,{"$f":"MONTH(A1804)","v":11},6.0000000000000005E-2,{"$f":"F1804*$B$6","v":4.2375000000000003E-2},0,{"$f":"'RWH Calculator'!$C$56","v":0},{"$f":"H1804+I1804","v":0},1003.4835555555558,273.39400000000001,0,5.6843418860808015E-14,1003.4835555555558,20073.459695250916]
["2005-11-30",0,{"$f":"$B$3*$B$4*(B1805/12)*7.48","v":0},{"$f":"C1805","v":0},11,6.0000000000000005E-2,4.2375000000000003E-2,{"$f":"(IF(G1805-B1805>0,(G1805-B1805)/$B$7,0)/12*7.48)*$B$8","v":23.478888888888889},{"$f":"'RWH Calculator'!$C$56","v":0},23.478888888888889,{"$f":"IF(O1805<0, 0, IF(O1805>$H$2, $H$2, O1805))","v":980.00466666666694},{"$f":"IF(J1805>D1805,D1805, K1805-K1804+J1805)","v":0},{"$f":"IF(D1805+K1804>J1805,J1805, D1805+K1804)","v":23.478888888888889},{"$f":"IF(C1805>J1805, C1805-J1805-(K1805-K1804),0)","v":0},{"$f":"K1804+D1805-J1805","v":980.00466666666694},{"$f":"M1805+P1804","v":20096.938584139807}]
["2005-12-01",1.1900000000000004,756.60200000000032,756.60200000000032,12,0.04,2.8250000000000001E-2,0,{"$f":"'RWH Calculator'!$C$56","v":0},0,1057.4600871983243,77.45542053165741,0,679.14657946834291,1736.6066666666673,20096.938584139807]
["2005-12-02",0.02,12.716000000000003,12.716000000000003,12,0.04,2.8250000000000001E-2,4.5711111111111116,{"$f":"'RWH Calculator'!$C$56","v":0},4.5711111111111116,1057.4600871983243,4.5711111111111116,4.5711111111111116,8.1448888888888913,1065.6049760872131,20101.509695250919]
["2005-12-03",0,0,0,12,0.04,2.8250000000000001E-2,15.652592592592596,{"$f":"'RWH Calculator'!$C$56","v":0},15.652592592592596,1041.8074946057318,0,15.652592592592596,0,1041.8074946057318,20117.162287843512]
["2005-12-04",0,0,0,12,0.04,2.8250000000000001E-2,15.652592592592596,{"$f":"'RWH Calculator'!$C$56","v":0},15.652592592592596,1026.1549020131392,0,15.652592592592596,0,1026.1549020131392,20132.814880436104]
["2005-12-05",0,0,0,12,0.04,2.8250000000000001E-2,15.652592592592596,{"$f":"'RWH Calculator'!$C$56","v":0},15.652592592592596,1010.5023094205467,0,15.652592592592596,0,1010.5023094205467,20148.467473028697]
["2005-12-06",0,0,0,12,0.04,2.8250000000000001E-2,15.652592592592596,{"$f":"'RWH Calculator'!$C$56","v":0},15.652592592592596,994.84971682795413,0,15.652592592592596,0,994.84971682795413,20164.12006562129]
["2005-12-07",0.03,19.074000000000002,19.074000000000002,12,0.04,2.8250000000000001E-2,0,{"$f":"'RWH Calculator'!$C$56","v":0},0,1013.9237168279541,19.073999999999955,0,4.6185277824406512E-14,1013.9237168279541,20164.12006562129]
["2005-12-08",0,0,0,12,0.04,2.8250000000000001E-2,15.652592592592596,{"$f":"'RWH Calculator'!$C$56","v":0},15.652592592592596,998.27112423536153,0,15.652592592592596,0,998.27112423536153,20179.772658213882]
["2005-12-09",0,0,0,12,0.04,2.8250000000000001E-2,15.652592592592596,{"$f":"'RWH Calculator'!$C$56","v":0},15.652592592592596,982.61853164276897,0,15.652592592592596,0,982.61853164276897,20195.425250806475]
["2005-12-10",0,0,0,12,0.04,2.8250000000000001E-2,15.652592592592596,{"$f":"'RWH Calculator'!$C$56","v":0},15.652592592592596,966.96593905017642,0,15.652592592592596,0,966.96593905017642,20211.077843399067]
["2005-12-11",0,0,0,12,0.04,2.8250000000000001E-2,15.652592592592596,{"$f":"'RWH Calculator'!$C$56","v":0},15.652592592592596,951.31334645758386,0,15.652592592592596,0,951.31334645758386,20226.73043599166]
["2005-12-12",0,0,0,12,0.04,2.8250000000000001E-2,15.652592592592596,{"$f":"'RWH Calculator'!$C$56","v":0},15.652592592592596,935.66075386499131,0,15.652592592592596,0,935.66075386499131,20242.383028584252]
["2005-12-13",0,0,0,12,0.04,2.8250000000000001E-2,15.652592592592596,{"$f":"'RWH Calculator'!$C$56","v":0},15.652592592592596,920.00816127239875,0,15.652592592592596,0,920.00816127239875,20258.035621176845]
["2005-12-14",0,0,0,12,0.04,2.8250000000000001E-2,15.652592592592596,{"$f":"'RWH Calculator'!$C$56","v":0},15.652592592592596,904.3555686798062,0,15.652592592592596,0,904.3555686798062,20273.688213769437]
["2005-12-15",0,0,0,12,0.04,2.8250000000000001E-2,15.652592592592596,{"$f":"'RWH Calculator'!$C$56","v":0},15.652592592592596,888.70297608721364,0,15.652592592592596,0,888.70297608721364,20289.34080636203]
["2005-12-16",0,0,0,12,0.04,2.8250000000000001E-2,15.652592592592596,{"$f":"'RWH Calculator'!$C$56","v":0},15.652592592592596,873.05038349462109,0,15.652592592592596,0,873.05038349462109,20304.993398954623]
["2005-12-17",0.86000000000000021,546.78800000000024,546.78800000000024,12,0.04,2.8250000000000001E-2,0,{"$f":"'RWH Calculator'!$C$56","v":0},0,1057.4600871983243,184.40970370370326,0,362.37829629629698,1419.8383834946212,20304.993398954623]
["2005-12-18",2.41,1532.278,1532.278,12,0.04,2.8250000000000001E-2,0,{"$f":"'RWH Calculator'!$C$56","v":0},0,1057.4600871983243,0,0,1532.278,2589.7380871983241,20304.993398954623]
["2005-12-19",0.22,139.876,139.876,12,0.04,2.8250000000000001E-2,0,{"$f":"'RWH Calculator'!$C$56","v":0},0,1057.4600871983243,0,0,139.876,1197.3360871983243,20304.993398954623]
["2005-12-20",0.14000000000000001,89.012000000000015,89.012000000000015,12,0.04,2.8250000000000001E-2,0,{"$f":"'RWH Calculator'!$C$56","v":0},0,1057.4600871983243,0,0,89.012000000000015,1146.4720871983243,20304.993398954623]
["2005-12-21",0.73000000000000009,464.13400000000013,464.13400000000013,12,0.04,2.8250000000000001E-2,0,{"$f":"'RWH Calculator'!$C$56","v":0},0,1057.4600871983243,0,0,464.13400000000013,1521.5940871983244,20304.993398954623]
["2005-12-22",1.02,648.51600000000008,648.51600000000008,12,0.04,2.8250000000000001E-2,0,{"$f":"'RWH Calculator'!$C$56","v":0},0,1057.4600871983243,0,0,648.51600000000008,1705.9760871983244,20304.993398954623]
["2005-12-23",0,0,0,12,0.04,2.8250000000000001E-2,15.652592592592596,{"$f":"'RWH Calculator'!$C$56","v":0},15.652592592592596,1041.8074946057318,0,15.652592592592596,0,1041.8074946057318,20320.645991547215]
["2005-12-24",0,0,0,12,0.04,2.8250000000000001E-2,15.652592592592596,{"$f":"'RWH Calculator'!$C$56","v":0},15.652592592592596,1026.1549020131392,0,15.652592592592596,0,1026.1549020131392,20336.298584139808]
["2005-12-25",0.51,324.25800000000004,324.25800000000004,12,0.04,2.8250000000000001E-2,0,{"$f":"'RWH Calculator'!$C$56","v":0},0,1057.4600871983243,31.30518518518511,0,292.95281481481493,1350.4129020131393,20336.298584139808]
["2005-12-26",0.34,216.17200000000003,216.17200000000003,12,0.04,2.8250000000000001E-2,0,{"$f":"'RWH Calculator'!$C$56","v":0},0,1057.4600871983243,0,0,216.17200000000003,1273.6320871983244,20336.298584139808]
["2005-12-27",9.0000000000000011E-2,57.222000000000008,57.222000000000008,12,0.04,2.8250000000000001E-2,0,{"$f":"'RWH Calculator'!$C$56","v":0},0,1057.4600871983243,0,0,57.222000000000008,1114.6820871983243,20336.298584139808]
["2005-12-28",0.68,432.34400000000005,432.34400000000005,12,0.04,2.8250000000000001E-2,0,{"$f":"'RWH Calculator'!$C$56","v":0},0,1057.4600871983243,0,0,432.34400000000005,1489.8040871983244,20336.298584139808]
["2005-12-29",0.01,6.3580000000000014,6.3580000000000014,12,0.04,2.8250000000000001E-2,10.111851851851855,{"$f":"'RWH Calculator'!$C$56","v":0},10.111851851851855,1053.7062353464723,6.3580000000000014,10.111851851851855,0,1053.7062353464723,20346.41043599166]
["2005-12-30",0.73,464.13400000000001,464.13400000000001,12,0.04,2.8250000000000001E-2,0,{"$f":"'RWH Calculator'!$C$56","v":0},0,1057.4600871983243,3.753851851852005,0,460.38014814814801,1517.8402353464724,20346.41043599166]
["2005-12-31",2.2199999999999998,1411.4759999999999,1411.4759999999999,12,0.04,2.8250000000000001E-2,0,{"$f":"'RWH Calculator'!$C$56","v":0},0,1057.4600871983243,0,0,1411.4759999999999,2468.9360871983245,20346.41043599166]
["2006-01-01",0.13,82.654000000000011,82.654000000000011,1,0.04,2.8250000000000001E-2,0,{"$f":"'RWH Calculator'!$C$56","v":0},0,1057.4600871983243,0,0,82.654000000000011,1140.1140871983243,20346.41043599166]
["2006-01-02",0.77000000000000013,489.56600000000014,489.56600000000014,1,0.04,2.8250000000000001E-2,0,{"$f":"'RWH Calculator'!$C$56","v":0},0,1057.4600871983243,0,0,489.56600000000014,1547.0260871983246,20346.41043599166]
["2006-01-03",0.19,120.80200000000002,120.80200000000002,1,0.04,2.8250000000000001E-2,0,{"$f":"'RWH Calculator'!$C$56","v":0},0,1057.4600871983243,0,0,120.80200000000002,1178.2620871983245,20346.41043599166]
["2006-01-04",0.03,19.074000000000002,19.074000000000002,1,0.04,2.8250000000000001E-2,0,{"$f":"'RWH Calculator'!$C$56","v":0},0,1057.4600871983243,0,0,19.074000000000002,1076.5340871983244,20346.41043599166]
["2006-01-05",0,0,0,1,0.04,2.8250000000000001E-2,15.652592592592596,{"$f":"'RWH Calculator'!$C$56","v":0},15.652592592592596,1041.8074946057318,0,15.652592592592596,0,1041.8074946057318,20362.063028584253]
["2006-01-06",0,0,0,1,0.04,2.8250000000000001E-2,15.652592592592596,{"$f":"'RWH Calculator'!$C$56","v":0},15.652592592592596,1026.1549020131392,0,15.652592592592596,0,1026.1549020131392,20377.715621176845]
["2006-01-07",0.14000000000000001,89.012000000000015,89.012000000000015,1,0.04,2.8250000000000001E-2,0,{"$f":"'RWH Calculator'!$C$56","v":0},0,1057.4600871983243,31.30518518518511,0,57.706814814814905,1115.1669020131392,20377.715621176845]
["2006-01-08",0.02,12.716000000000003,12.716000000000003,1,0.04,2.8250000000000001E-2,4.5711111111111116,{"$f":"'RWH Calculator'!$C$56","v":0},4.5711111111111116,1057.4600871983243,4.5711111111111116,4.5711111111111116,8.1448888888888913,1065.6049760872131,20382.286732287957]
["2006-01-09",0,0,0,1,0.04,2.8250000000000001E-2,15.652592592592596,{"$f":"'RWH Calculator'!$C$56","v":0},15.652592592592596,1041.8074946057318,0,15.652592592592596,0,1041.8074946057318,20397.93932488055]
["2006-01-10",0,0,0,1,0.04,2.8250000000000001E-2,15.652592592592596,{"$f":"'RWH Calculator'!$C$56","v":0},15.652592592592596,1026.1549020131392,0,15.652592592592596,0,1026.1549020131392,20413.591917473143]
["2006-01-11",0.15000000000000002,95.370000000000019,95.370000000000019,1,0.04,2.8250000000000001E-2,0,{"$f":"'RWH Calculator'!$C$56","v":0},0,1057.4600871983243,31.30518518518511,0,64.064814814814909,1121.5249020131394,20413.591917473143]
["2006-01-12",0,0,0,1,0.04,2.8250000000000001E-2,15.652592592592596,{"$f":"'RWH Calculator'!$C$56","v":0},15.652592592592596,1041.8074946057318,0,15.652592592592596,0,1041.8074946057318,20429.244510065735]
["2006-01-13",0.01,6.3580000000000014,6.3580000000000014,1,0.04,2.8250000000000001E-2,10.111851851851855,{"$f":"'RWH Calculator'!$C$56","v":0},10.111851851851855,1038.0536427538798,6.3580000000000014,10.111851851851855,0,1038.0536427538798,20439.356361917587]
["2006-01-14",0.47,298.82599999999996,298.82599999999996,1,0.04,2.8250000000000001E-2,0,{"$f":"'RWH Calculator'!$C$56","v":0},0,1057.4600871983243,19.40644444444456,0,279.41955555555541,1336.8796427538798,20439.356361917587]
["2006-01-15",0,0,0,1,0.04,2.8250000000000001E-2,15.652592592592596,{"$f":"'RWH Calculator'!$C$56","v":0},15.652592592592596,1041.8074946057318,0,15.652592592592596,0,1041.8074946057318,20455.00895451018]
["2006-01-16",0,0,0,1,0.04,2.8250000000000001E-2,15.652592592592596,{"$f":"'RWH Calculator'!$C$56","v":0},15.652592592592596,1026.1549020131392,0,15.652592592592596,0,1026.1549020131392,20470.661547102773]
["2006-01-17",0.33999999999999997,216.172,216.172,1,0.04,2.8250000000000001E-2,0,{"$f":"'RWH Calculator'!$C$56","v":0},0,1057.4600871983243,31.30518518518511,0,184.86681481481489,1242.3269020131393,20470.661547102773]
["2006-01-18",0.15,95.36999999999999,95.36999999999999,1,0.04,2.8250000000000001E-2,0,{"$f":"'RWH Calculator'!$C$56","v":0},0,1057.4600871983243,0,0,95.36999999999999,1152.8300871983242,20470.661547102773]
["2006-01-19",0.01,6.3580000000000014,6.3580000000000014,1,0.04,2.8250000000000001E-2,10.111851851851855,{"$f":"'RWH Calculator'!$C$56","v":0},10.111851851851855,1053.7062353464723,6.3580000000000014,10.111851851851855,0,1053.7062353464723,20480.773398954625]
["2006-01-20",0,0,0,1,0.04,2.8250000000000001E-2,15.652592592592596,{"$f":"'RWH Calculator'!$C$56","v":0},15.652592592592596,1038.0536427538798,0,15.652592592592596,0,1038.0536427538798,20496.425991547218]
["2006-01-21",0.24000000000000002,152.59200000000001,152.59200000000001,1,0.04,2.8250000000000001E-2,0,{"$f":"'RWH Calculator'!$C$56","v":0},0,1057.4600871983243,19.40644444444456,0,133.18555555555545,1190.6456427538799,20496.425991547218]
["2006-01-22",0,0,0,1,0.04,2.8250000000000001E-2,15.652592592592596,{"$f":"'RWH Calculator'!$C$56","v":0},15.652592592592596,1041.8074946057318,0,15.652592592592596,0,1041.8074946057318,20512.07858413981]
["2006-01-23",0,0,0,1,0.04,2.8250000000000001E-2,15.652592592592596,{"$f":"'RWH Calculator'!$C$56","v":0},15.652592592592596,1026.1549020131392,0,15.652592592592596,0,1026.1549020131392,20527.731176732403]
["2006-01-24",0,0,0,1,0.04,2.8250000000000001E-2,15.652592592592596,{"$f":"'RWH Calculator'!$C$56","v":0},15.652592592592596,1010.5023094205467,0,15.652592592592596,0,1010.5023094205467,20543.383769324995]
["2006-01-25",0.04,25.432000000000006,25.432000000000006,1,0.04,2.8250000000000001E-2,0,{"$f":"'RWH Calculator'!$C$56","v":0},0,1035.9343094205467,25.432000000000016,0,-1.0658141036401503E-14,1035.9343094205467,20543.383769324995]
["2006-01-26",0,0,0,1,0.04,2.8250000000000001E-2,15.652592592592596,{"$f":"'RWH Calculator'!$C$56","v":0},15.652592592592596,1020.2817168279541,0,15.652592592592596,0,1020.2817168279541,20559.036361917588]
["2006-01-27",0.09,57.222000000000001,57.222000000000001,1,0.04,2.8250000000000001E-2,0,{"$f":"'RWH Calculator'!$C$56","v":0},0,1057.4600871983243,37.178370370370203,0,20.043629629629798,1077.5037168279541,20559.036361917588]
["2006-01-28",0.51,324.25800000000004,324.25800000000004,1,0.04,2.8250000000000001E-2,0,{"$f":"'RWH Calculator'!$C$56","v":0},0,1057.4600871983243,0,0,324.25800000000004,1381.7180871983244,20559.036361917588]
["2006-01-29",0,0,0,1,0.04,2.8250000000000001E-2,15.652592592592596,{"$f":"'RWH Calculator'!$C$56","v":0},15.652592592592596,1041.8074946057318,0,15.652592592592596,0,1041.8074946057318,20574.68895451018]
["2006-01-30",0.22999999999999998,146.23399999999998,146.23399999999998,1,0.04,2.8250000000000001E-2,0,{"$f":"'RWH Calculator'!$C$56","v":0},0,1057.4600871983243,15.652592592592555,0,130.58140740740743,1188.0414946057317,20574.68895451018]
["2006-01-31",0,0,0,1,{"$f":"IF($B$2=\"Western SF\", VLOOKUP(E1867,$R$6:$U$17, 4),VLOOKUP(E1867, $R$6:$V$17,5))","v":0.04},2.8250000000000001E-2,15.652592592592596,{"$f":"'RWH Calculator'!$C$56","v":0},15.652592592592596,1041.8074946057318,0,15.652592592592596,0,1041.8074946057318,20590.341547102773]
["2006-02-01",0.56000000000000005,356.04800000000006,356.04800000000006,{"$f":"MONTH(A1868)","v":2},0.06,{"$f":"F1868*$B$6","v":4.2375000000000003E-2},0,{"$f":"'RWH Calculator'!$C$56","v":0},{"$f":"H1868+I1868","v":0},1057.4600871983243,15.652592592592555,0,340.3954074074075,1397.8554946057318,20590.341547102773]
["2006-02-02",0.19000000000000003,{"$f":"$B$3*$B$4*(B1869/12)*7.48","v":120.80200000000002},{"$f":"C1869","v":120.80200000000002},2,0.06,4.2375000000000003E-2,{"$f":"(IF(G1869-B1869>0,(G1869-B1869)/$B$7,0)/12*7.48)*$B$8","v":0},{"$f":"'RWH Calculator'!$C$56","v":0},0,{"$f":"IF(O1869<0, 0, IF(O1869>$H$2, $H$2, O1869))","v":1057.4600871983243},{"$f":"IF(J1869>D1869,D1869, K1869-K1868+J1869)","v":0},{"$f":"IF(D1869+K1868>J1869,J1869, D1869+K1868)","v":0},{"$f":"IF(C1869>J1869, C1869-J1869-(K1869-K1868),0)","v":120.80200000000002},{"$f":"K1868+D1869-J1869","v":1178.2620871983245},{"$f":"M1869+P1868","v":20590.341547102773}]
["2006-02-03",0,0,0,2,0.06,4.2375000000000003E-2,23.478888888888889,{"$f":"'RWH Calculator'!$C$56","v":0},23.478888888888889,1033.9811983094355,0,23.478888888888889,0,1033.9811983094355,20613.820435991664]
["2006-02-04",0.15,95.36999999999999,95.36999999999999,2,0.06,4.2375000000000003E-2,0,{"$f":"'RWH Calculator'!$C$56","v":0},0,1057.4600871983243,23.478888888888832,0,71.891111111111158,1129.3511983094354,20613.820435991664]
["2006-02-05",0,0,0,2,0.06,4.2375000000000003E-2,23.478888888888889,{"$f":"'RWH Calculator'!$C$56","v":0},23.478888888888889,1033.9811983094355,0,23.478888888888889,0,1033.9811983094355,20637.299324880554]
["2006-02-06",0,0,0,2,0.06,4.2375000000000003E-2,23.478888888888889,{"$f":"'RWH Calculator'!$C$56","v":0},23.478888888888889,1010.5023094205467,0,23.478888888888889,0,1010.5023094205467,20660.778213769445]
["2006-02-07",0,0,0,2,0.06,4.2375000000000003E-2,23.478888888888889,{"$f":"'RWH Calculator'!$C$56","v":0},23.478888888888889,987.02342053165785,0,23.478888888888889,0,987.02342053165785,20684.257102658335]
["2006-02-08",0,0,0,2,0.06,4.2375000000000003E-2,23.478888888888889,{"$f":"'RWH Calculator'!$C$56","v":0},23.478888888888889,963.54453164276902,0,23.478888888888889,0,963.54453164276902,20707.735991547226]
["2006-02-09",0,0,0,2,0.06,4.2375000000000003E-2,23.478888888888889,{"$f":"'RWH Calculator'!$C$56","v":0},23.478888888888889,940.06564275388018,0,23.478888888888889,0,940.06564275388018,20731.214880436117]
["2006-02-10",0,0,0,2,0.06,4.2375000000000003E-2,23.478888888888889,{"$f":"'RWH Calculator'!$C$56","v":0},23.478888888888889,916.58675386499135,0,23.478888888888889,0,916.58675386499135,20754.693769325007]
["2006-02-11",0,0,0,2,0.06,4.2375000000000003E-2,23.478888888888889,{"$f":"'RWH Calculator'!$C$56","v":0},23.478888888888889,893.10786497610252,0,23.478888888888889,0,893.10786497610252,20778.172658213898]
["2006-02-12",0,0,0,2,0.06,4.2375000000000003E-2,23.478888888888889,{"$f":"'RWH Calculator'!$C$56","v":0},23.478888888888889,869.62897608721369,0,23.478888888888889,0,869.62897608721369,20801.651547102789]
["2006-02-13",0,0,0,2,0.06,4.2375000000000003E-2,23.478888888888889,{"$f":"'RWH Calculator'!$C$56","v":0},23.478888888888889,846.15008719832485,0,23.478888888888889,0,846.15008719832485,20825.130435991679]
["2006-02-14",0,0,0,2,0.06,4.2375000000000003E-2,23.478888888888889,{"$f":"'RWH Calculator'!$C$56","v":0},23.478888888888889,822.67119830943602,0,23.478888888888889,0,822.67119830943602,20848.60932488057]
["2006-02-15",0,0,0,2,0.06,4.2375000000000003E-2,23.478888888888889,{"$f":"'RWH Calculator'!$C$56","v":0},23.478888888888889,799.19230942054719,0,23.478888888888889,0,799.19230942054719,20872.088213769461]
["2006-02-16",0,0,0,2,0.06,4.2375000000000003E-2,23.478888888888889,{"$f":"'RWH Calculator'!$C$56","v":0},23.478888888888889,775.71342053165836,0,23.478888888888889,0,775.71342053165836,20895.567102658351]
["2006-02-17",7.9999999999999988E-2,50.863999999999997,50.863999999999997,2,0.06,4.2375000000000003E-2,0,{"$f":"'RWH Calculator'!$C$56","v":0},0,826.57742053165839,50.864000000000033,0,-3.5527136788005009E-14,826.57742053165839,20895.567102658351]
["2006-02-18",0.09,57.222000000000001,57.222000000000001,2,0.06,4.2375000000000003E-2,0,{"$f":"'RWH Calculator'!$C$56","v":0},0,883.79942053165837,57.22199999999998,0,2.1316282072803006E-14,883.79942053165837,20895.567102658351]
["2006-02-19",0.01,6.3580000000000014,6.3580000000000014,2,0.06,4.2375000000000003E-2,17.938148148148152,{"$f":"'RWH Calculator'!$C$56","v":0},17.938148148148152,872.2192723835102,6.3580000000000014,17.938148148148152,0,872.2192723835102,20913.505250806498]
["2006-02-20",0,0,0,2,0.06,4.2375000000000003E-2,23.478888888888889,{"$f":"'RWH Calculator'!$C$56","v":0},23.478888888888889,848.74038349462126,0,23.478888888888889,0,848.74038349462126,20936.984139695389]
["2006-02-21",0,0,0,2,0.06,4.2375000000000003E-2,23.478888888888889,{"$f":"'RWH Calculator'!$C$56","v":0},23.478888888888889,825.26149460573242,0,23.478888888888889,0,825.26149460573242,20960.46302858428]
["2006-02-22",0,0,0,2,0.06,4.2375000000000003E-2,23.478888888888889,{"$f":"'RWH Calculator'!$C$56","v":0},23.478888888888889,801.78260571684359,0,23.478888888888889,0,801.78260571684359,20983.94191747317]
["2006-02-23",0,0,0,2,0.06,4.2375000000000003E-2,23.478888888888889,{"$f":"'RWH Calculator'!$C$56","v":0},23.478888888888889,778.30371682795476,0,23.478888888888889,0,778.30371682795476,21007.420806362061]
["2006-02-24",0,0,0,2,0.06,4.2375000000000003E-2,23.478888888888889,{"$f":"'RWH Calculator'!$C$56","v":0},23.478888888888889,754.82482793906593,0,23.478888888888889,0,754.82482793906593,21030.899695250951]
["2006-02-25",0,0,0,2,0.06,4.2375000000000003E-2,23.478888888888889,{"$f":"'RWH Calculator'!$C$56","v":0},23.478888888888889,731.34593905017709,0,23.478888888888889,0,731.34593905017709,21054.378584139842]
["2006-02-26",0.3899999999999999,247.96199999999996,247.96199999999996,2,0.06,4.2375000000000003E-2,0,{"$f":"'RWH Calculator'!$C$56","v":0},0,979.30793905017708,247.96199999999999,0,-2.8421709430404007E-14,979.30793905017708,21054.378584139842]
["2006-02-27",1.2,762.95999999999992,762.95999999999992,2,0.06,4.2375000000000003E-2,0,{"$f":"'RWH Calculator'!$C$56","v":0},0,1057.4600871983243,78.152148148147262,0,684.80785185185266,1742.2679390501771,21054.378584139842]
["2006-02-28",0.13999999999999999,89.012,89.012,2,0.06,4.2375000000000003E-2,0,{"$f":"'RWH Calculator'!$C$56","v":0},0,1057.4600871983243,0,0,89.012,1146.4720871983243,21054.378584139842]
["2006-03-01",0,0,0,3,0.1,7.0625000000000007E-2,39.131481481481487,{"$f":"'RWH Calculator'!$C$56","v":0},39.131481481481487,1018.3286057168428,0,39.131481481481487,0,1018.3286057168428,21093.510065621325]
["2006-03-02",0.48,305.18400000000003,305.18400000000003,3,0.1,7.0625000000000007E-2,0,{"$f":"'RWH Calculator'!$C$56","v":0},0,1057.4600871983243,39.131481481481501,0,266.05251851851853,1323.5126057168429,21093.510065621325]
["2006-03-03",0.75000000000000011,476.85000000000014,476.85000000000014,3,0.1,7.0625000000000007E-2,0,{"$f":"'RWH Calculator'!$C$56","v":0},0,1057.4600871983243,0,0,476.85000000000014,1534.3100871983245,21093.510065621325]
["2006-03-04",0.02,12.716000000000003,12.716000000000003,3,0.1,7.0625000000000007E-2,28.050000000000004,{"$f":"'RWH Calculator'!$C$56","v":0},28.050000000000004,1042.1260871983243,12.716000000000003,28.050000000000004,0,1042.1260871983243,21121.560065621325]
["2006-03-05",0.88,559.50400000000002,559.50400000000002,3,0.1,7.0625000000000007E-2,0,{"$f":"'RWH Calculator'!$C$56","v":0},0,1057.4600871983243,15.33400000000006,0,544.16999999999996,1601.6300871983244,21121.560065621325]
["2006-03-06",0.89,565.86200000000008,565.86200000000008,3,0.1,7.0625000000000007E-2,0,{"$f":"'RWH Calculator'!$C$56","v":0},0,1057.4600871983243,0,0,565.86200000000008,1623.3220871983244,21121.560065621325]
["2006-03-07",0.12,76.296000000000006,76.296000000000006,3,0.1,7.0625000000000007E-2,0,{"$f":"'RWH Calculator'!$C$56","v":0},0,1057.4600871983243,0,0,76.296000000000006,1133.7560871983244,21121.560065621325]
["2006-03-08",0,0,0,3,0.1,7.0625000000000007E-2,39.131481481481487,{"$f":"'RWH Calculator'!$C$56","v":0},39.131481481481487,1018.3286057168428,0,39.131481481481487,0,1018.3286057168428,21160.691547102808]
["2006-03-09",0.13,82.654000000000011,82.654000000000011,3,0.1,7.0625000000000007E-2,0,{"$f":"'RWH Calculator'!$C$56","v":0},0,1057.4600871983243,39.131481481481501,0,43.52251851851851,1100.982605716843,21160.691547102808]
["2006-03-10",0.06,38.148000000000003,38.148000000000003,3,0.1,7.0625000000000007E-2,5.8870370370370422,{"$f":"'RWH Calculator'!$C$56","v":0},5.8870370370370422,1057.4600871983243,5.8870370370370422,5.8870370370370422,32.260962962962964,1089.7210501612872,21166.578584139846]
["2006-03-11",0.1,63.580000000000005,63.580000000000005,3,0.1,7.0625000000000007E-2,0,{"$f":"'RWH Calculator'!$C$56","v":0},0,1057.4600871983243,0,0,63.580000000000005,1121.0400871983243,21166.578584139846]
["2006-03-12",0.22000000000000003,139.87600000000003,139.87600000000003,3,0.1,7.0625000000000007E-2,0,{"$f":"'RWH Calculator'!$C$56","v":0},0,1057.4600871983243,0,0,139.87600000000003,1197.3360871983243,21166.578584139846]
["2006-03-13",0.04,25.432000000000006,25.432000000000006,3,0.1,7.0625000000000007E-2,16.968518518518522,{"$f":"'RWH Calculator'!$C$56","v":0},16.968518518518522,1057.4600871983243,16.968518518518522,16.968518518518522,8.4634814814814838,1065.9235686798058,21183.547102658365]
["2006-03-14",0.91000000000000014,578.5780000000002,578.5780000000002,3,0.1,7.0625000000000007E-2,0,{"$f":"'RWH Calculator'!$C$56","v":0},0,1057.4600871983243,0,0,578.5780000000002,1636.0380871983245,21183.547102658365]
["2006-03-15",0.01,6.3580000000000014,6.3580000000000014,3,0.1,7.0625000000000007E-2,33.590740740740749,{"$f":"'RWH Calculator'!$C$56","v":0},33.590740740740749,1030.2273464575835,6.3580000000000014,33.590740740740749,0,1030.2273464575835,21217.137843399105]
["2006-03-16",0.73,464.13400000000001,464.13400000000001,3,0.1,7.0625000000000007E-2,0,{"$f":"'RWH Calculator'!$C$56","v":0},0,1057.4600871983243,27.232740740740837,0,436.90125925925918,1494.3613464575835,21217.137843399105]
["2006-03-17",0.09,57.222000000000001,57.222000000000001,3,0.1,7.0625000000000007E-2,0,{"$f":"'RWH Calculator'!$C$56","v":0},0,1057.4600871983243,0,0,57.222000000000001,1114.6820871983243,21217.137843399105]
["2006-03-18",0,0,0,3,0.1,7.0625000000000007E-2,39.131481481481487,{"$f":"'RWH Calculator'!$C$56","v":0},39.131481481481487,1018.3286057168428,0,39.131481481481487,0,1018.3286057168428,21256.269324880588]
["2006-03-19",0,0,0,3,0.1,7.0625000000000007E-2,39.131481481481487,{"$f":"'RWH Calculator'!$C$56","v":0},39.131481481481487,979.19712423536134,0,39.131481481481487,0,979.19712423536134,21295.400806362071]
["2006-03-20",0.48000000000000009,305.18400000000008,305.18400000000008,3,0.1,7.0625000000000007E-2,0,{"$f":"'RWH Calculator'!$C$56","v":0},0,1057.4600871983243,78.262962962963002,0,226.92103703703708,1284.3811242353613,21295.400806362071]
["2006-03-21",0.10999999999999999,69.937999999999988,69.937999999999988,3,0.1,7.0625000000000007E-2,0,{"$f":"'RWH Calculator'!$C$56","v":0},0,1057.4600871983243,0,0,69.937999999999988,1127.3980871983244,21295.400806362071]
["2006-03-22",0,0,0,3,0.1,7.0625000000000007E-2,39.131481481481487,{"$f":"'RWH Calculator'!$C$56","v":0},39.131481481481487,1018.3286057168428,0,39.131481481481487,0,1018.3286057168428,21334.532287843555]
["2006-03-23",0,0,0,3,0.1,7.0625000000000007E-2,39.131481481481487,{"$f":"'RWH Calculator'!$C$56","v":0},39.131481481481487,979.19712423536134,0,39.131481481481487,0,979.19712423536134,21373.663769325038]
["2006-03-24",0.45000000000000007,286.11000000000007,286.11000000000007,3,0.1,7.0625000000000007E-2,0,{"$f":"'RWH Calculator'!$C$56","v":0},0,1057.4600871983243,78.262962962963002,0,207.84703703703707,1265.3071242353615,21373.663769325038]
["2006-03-25",0.99,629.44200000000012,629.44200000000012,3,0.1,7.0625000000000007E-2,0,{"$f":"'RWH Calculator'!$C$56","v":0},0,1057.4600871983243,0,0,629.44200000000012,1686.9020871983244,21373.663769325038]
["2006-03-26",0,0,0,3,0.1,7.0625000000000007E-2,39.131481481481487,{"$f":"'RWH Calculator'!$C$56","v":0},39.131481481481487,1018.3286057168428,0,39.131481481481487,0,1018.3286057168428,21412.795250806521]
["2006-03-27",0.22000000000000003,139.87600000000003,139.87600000000003,3,0.1,7.0625000000000007E-2,0,{"$f":"'RWH Calculator'!$C$56","v":0},0,1057.4600871983243,39.131481481481501,0,100.74451851851853,1158.2046057168429,21412.795250806521]
["2006-03-28",0.24000000000000002,152.59200000000001,152.59200000000001,3,0.1,7.0625000000000007E-2,0,{"$f":"'RWH Calculator'!$C$56","v":0},0,1057.4600871983243,0,0,152.59200000000001,1210.0520871983244,21412.795250806521]
["2006-03-29",0.41000000000000003,260.67800000000005,260.67800000000005,3,0.1,7.0625000000000007E-2,0,{"$f":"'RWH Calculator'!$C$56","v":0},0,1057.4600871983243,0,0,260.67800000000005,1318.1380871983245,21412.795250806521]
["2006-03-30",0.04,25.432000000000006,25.432000000000006,3,0.1,7.0625000000000007E-2,16.968518518518522,{"$f":"'RWH Calculator'!$C$56","v":0},16.968518518518522,1057.4600871983243,16.968518518518522,16.968518518518522,8.4634814814814838,1065.9235686798058,21429.76376932504]
["2006-03-31",0.37,235.24600000000001,235.24600000000001,3,0.1,7.0625000000000007E-2,0,{"$f":"'RWH Calculator'!$C$56","v":0},0,1057.4600871983243,0,0,235.24600000000001,1292.7060871983244,21429.76376932504]
["2006-04-01",0.21000000000000002,133.51800000000003,133.51800000000003,4,0.13,9.1812500000000005E-2,0,{"$f":"'RWH Calculator'!$C$56","v":0},0,1057.4600871983243,0,0,133.51800000000003,1190.9780871983244,21429.76376932504]
["2006-04-02",0.69000000000000006,438.70200000000006,438.70200000000006,4,0.13,9.1812500000000005E-2,0,{"$f":"'RWH Calculator'!$C$56","v":0},0,1057.4600871983243,0,0,438.70200000000006,1496.1620871983243,21429.76376932504]
["2006-04-03",0.24,152.59200000000001,152.59200000000001,4,0.13,9.1812500000000005E-2,0,{"$f":"'RWH Calculator'!$C$56","v":0},0,1057.4600871983243,0,0,152.59200000000001,1210.0520871983244,21429.76376932504]
["2006-04-04",0.71,451.41800000000006,451.41800000000006,4,0.13,9.1812500000000005E-2,0,{"$f":"'RWH Calculator'!$C$56","v":0},0,1057.4600871983243,0,0,451.41800000000006,1508.8780871983245,21429.76376932504]
["2006-04-05",0.12,76.296000000000006,76.296000000000006,4,{"$f":"IF($B$2=\"Western SF\", VLOOKUP(E1931,$R$6:$U$17, 4),VLOOKUP(E1931, $R$6:$V$17,5))","v":0.13},9.1812500000000005E-2,0,{"$f":"'RWH Calculator'!$C$56","v":0},0,1057.4600871983243,0,0,76.296000000000006,1133.7560871983244,21429.76376932504]
["2006-04-06",0,0,0,{"$f":"MONTH(A1932)","v":4},0.13,{"$f":"F1932*$B$6","v":9.1812500000000005E-2},50.870925925925924,{"$f":"'RWH Calculator'!$C$56","v":0},{"$f":"H1932+I1932","v":50.870925925925924},1006.5891612723984,0,50.870925925925924,0,1006.5891612723984,21480.634695250967]
["2006-04-07",0.55000000000000004,{"$f":"$B$3*$B$4*(B1933/12)*7.48","v":349.69000000000005},{"$f":"C1933","v":349.69000000000005},4,0.13,9.1812500000000005E-2,{"$f":"(IF(G1933-B1933>0,(G1933-B1933)/$B$7,0)/12*7.48)*$B$8","v":0},{"$f":"'RWH Calculator'!$C$56","v":0},0,{"$f":"IF(O1933<0, 0, IF(O1933>$H$2, $H$2, O1933))","v":1057.4600871983243},{"$f":"IF(J1933>D1933,D1933, K1933-K1932+J1933)","v":50.870925925925917},{"$f":"IF(D1933+K1932>J1933,J1933, D1933+K1932)","v":0},{"$f":"IF(C1933>J1933, C1933-J1933-(K1933-K1932),0)","v":298.81907407407414},{"$f":"K1932+D1933-J1933","v":1356.2791612723986},{"$f":"M1933+P1932","v":21480.634695250967}]
["2006-04-08",0.17,108.08600000000001,108.08600000000001,4,0.13,9.1812500000000005E-2,0,{"$f":"'RWH Calculator'!$C$56","v":0},0,1057.4600871983243,0,0,108.08600000000001,1165.5460871983244,21480.634695250967]
["2006-04-09",0.02,12.716000000000003,12.716000000000003,4,0.13,9.1812500000000005E-2,39.789444444444442,{"$f":"'RWH Calculator'!$C$56","v":0},39.789444444444442,1030.3866427538799,12.716000000000003,39.789444444444442,0,1030.3866427538799,21520.424139695409]
["2006-04-10",0.01,6.3580000000000014,6.3580000000000014,4,0.13,9.1812500000000005E-2,45.330185185185186,{"$f":"'RWH Calculator'!$C$56","v":0},45.330185185185186,991.41445756869462,6.3580000000000014,45.330185185185186,0,991.41445756869462,21565.754324880596]
["2006-04-11",0.88000000000000012,559.50400000000013,559.50400000000013,4,0.13,9.1812500000000005E-2,0,{"$f":"'RWH Calculator'!$C$56","v":0},0,1057.4600871983243,66.04562962962973,0,493.4583703703704,1550.9184575686947,21565.754324880596]
["2006-04-12",0.51,324.25800000000004,324.25800000000004,4,0.13,9.1812500000000005E-2,0,{"$f":"'RWH Calculator'!$C$56","v":0},0,1057.4600871983243,0,0,324.25800000000004,1381.7180871983244,21565.754324880596]
["2006-04-13",0.02,12.716000000000003,12.716000000000003,4,0.13,9.1812500000000005E-2,39.789444444444442,{"$f":"'RWH Calculator'!$C$56","v":0},39.789444444444442,1030.3866427538799,12.716000000000003,39.789444444444442,0,1030.3866427538799,21605.543769325039]
["2006-04-14",0,0,0,4,0.13,9.1812500000000005E-2,50.870925925925924,{"$f":"'RWH Calculator'!$C$56","v":0},50.870925925925924,979.51571682795395,0,50.870925925925924,0,979.51571682795395,21656.414695250965]
["2006-04-15",0.10999999999999999,69.937999999999988,69.937999999999988,4,0.13,9.1812500000000005E-2,0,{"$f":"'RWH Calculator'!$C$56","v":0},0,1049.4537168279539,69.937999999999988,0,0,1049.4537168279539,21656.414695250965]
["2006-04-16",0.67000000000000015,425.9860000000001,425.9860000000001,4,0.13,9.1812500000000005E-2,0,{"$f":"'RWH Calculator'!$C$56","v":0},0,1057.4600871983243,8.006370370370405,0,417.9796296296297,1475.439716827954,21656.414695250965]
["2006-04-17",0.11,69.938000000000002,69.938000000000002,4,0.13,9.1812500000000005E-2,0,{"$f":"'RWH Calculator'!$C$56","v":0},0,1057.4600871983243,0,0,69.938000000000002,1127.3980871983244,21656.414695250965]
["2006-04-18",0,0,0,4,0.13,9.1812500000000005E-2,50.870925925925924,{"$f":"'RWH Calculator'!$C$56","v":0},50.870925925925924,1006.5891612723984,0,50.870925925925924,0,1006.5891612723984,21707.285621176892]
["2006-04-19",0,0,0,4,0.13,9.1812500000000005E-2,50.870925925925924,{"$f":"'RWH Calculator'!$C$56","v":0},50.870925925925924,955.71823534647251,0,50.870925925925924,0,955.71823534647251,21758.156547102819]
["2006-04-20",0,0,0,4,0.13,9.1812500000000005E-2,50.870925925925924,{"$f":"'RWH Calculator'!$C$56","v":0},50.870925925925924,904.84730942054659,0,50.870925925925924,0,904.84730942054659,21809.027473028746]
["2006-04-21",0,0,0,4,0.13,9.1812500000000005E-2,50.870925925925924,{"$f":"'RWH Calculator'!$C$56","v":0},50.870925925925924,853.97638349462068,0,50.870925925925924,0,853.97638349462068,21859.898398954672]
["2006-04-22",0,0,0,4,0.13,9.1812500000000005E-2,50.870925925925924,{"$f":"'RWH Calculator'!$C$56","v":0},50.870925925925924,803.10545756869476,0,50.870925925925924,0,803.10545756869476,21910.769324880599]
["2006-04-23",0,0,0,4,0.13,9.1812500000000005E-2,50.870925925925924,{"$f":"'RWH Calculator'!$C$56","v":0},50.870925925925924,752.23453164276884,0,50.870925925925924,0,752.23453164276884,21961.640250806526]
["2006-04-24",0,0,0,4,0.13,9.1812500000000005E-2,50.870925925925924,{"$f":"'RWH Calculator'!$C$56","v":0},50.870925925925924,701.36360571684293,0,50.870925925925924,0,701.36360571684293,22012.511176732452]
["2006-04-25",0,0,0,4,0.13,9.1812500000000005E-2,50.870925925925924,{"$f":"'RWH Calculator'!$C$56","v":0},50.870925925925924,650.49267979091701,0,50.870925925925924,0,650.49267979091701,22063.382102658379]
["2006-04-26",0,0,0,4,0.13,9.1812500000000005E-2,50.870925925925924,{"$f":"'RWH Calculator'!$C$56","v":0},50.870925925925924,599.62175386499109,0,50.870925925925924,0,599.62175386499109,22114.253028584306]
["2006-04-27",0,0,0,4,0.13,9.1812500000000005E-2,50.870925925925924,{"$f":"'RWH Calculator'!$C$56","v":0},50.870925925925924,548.75082793906518,0,50.870925925925924,0,548.75082793906518,22165.123954510233]
["2006-04-28",0,0,0,4,0.13,9.1812500000000005E-2,50.870925925925924,{"$f":"'RWH Calculator'!$C$56","v":0},50.870925925925924,497.87990201313926,0,50.870925925925924,0,497.87990201313926,22215.994880436159]
["2006-04-29",0,0,0,4,0.13,9.1812500000000005E-2,50.870925925925924,{"$f":"'RWH Calculator'!$C$56","v":0},50.870925925925924,447.00897608721334,0,50.870925925925924,0,447.00897608721334,22266.865806362086]
["2006-04-30",0,0,0,4,0.13,9.1812500000000005E-2,50.870925925925924,{"$f":"'RWH Calculator'!$C$56","v":0},50.870925925925924,396.13805016128742,0,50.870925925925924,0,396.13805016128742,22317.736732288013]
["2006-05-01",0,0,0,5,0.15000000000000002,0.10593750000000002,58.697222222222237,{"$f":"'RWH Calculator'!$C$56","v":0},58.697222222222237,337.44082793906517,0,58.697222222222237,0,337.44082793906517,22376.433954510234]
["2006-05-02",0,0,0,5,0.15000000000000002,0.10593750000000002,58.697222222222237,{"$f":"'RWH Calculator'!$C$56","v":0},58.697222222222237,278.74360571684292,0,58.697222222222237,0,278.74360571684292,22435.131176732455]
["2006-05-03",0,0,0,5,0.15000000000000002,0.10593750000000002,58.697222222222237,{"$f":"'RWH Calculator'!$C$56","v":0},58.697222222222237,220.04638349462067,0,58.697222222222237,0,220.04638349462067,22493.828398954676]
["2006-05-04",0,0,0,5,0.15000000000000002,0.10593750000000002,58.697222222222237,{"$f":"'RWH Calculator'!$C$56","v":0},58.697222222222237,161.34916127239842,0,58.697222222222237,0,161.34916127239842,22552.525621176897]
["2006-05-05",0,0,0,5,0.15000000000000002,0.10593750000000002,58.697222222222237,{"$f":"'RWH Calculator'!$C$56","v":0},58.697222222222237,102.65193905017618,0,58.697222222222237,0,102.65193905017618,22611.222843399119]
["2006-05-06",0,0,0,5,0.15000000000000002,0.10593750000000002,58.697222222222237,{"$f":"'RWH Calculator'!$C$56","v":0},58.697222222222237,43.954716827953945,0,58.697222222222237,0,43.954716827953945,22669.92006562134]
["2006-05-07",0,0,0,5,0.15000000000000002,0.10593750000000002,58.697222222222237,{"$f":"'RWH Calculator'!$C$56","v":0},58.697222222222237,0,0,43.954716827953945,0,-14.742505394268292,22713.874782449293]
["2006-05-08",0,0,0,5,0.15000000000000002,0.10593750000000002,58.697222222222237,{"$f":"'RWH Calculator'!$C$56","v":0},58.697222222222237,0,0,0,0,-58.697222222222237,22713.874782449293]
["2006-05-09",0,0,0,5,0.15000000000000002,0.10593750000000002,58.697222222222237,{"$f":"'RWH Calculator'!$C$56","v":0},58.697222222222237,0,0,0,0,-58.697222222222237,22713.874782449293]
["2006-05-10",0,0,0,5,0.15000000000000002,0.10593750000000002,58.697222222222237,{"$f":"'RWH Calculator'!$C$56","v":0},58.697222222222237,0,0,0,0,-58.697222222222237,22713.874782449293]
["2006-05-11",0,0,0,5,0.15000000000000002,0.10593750000000002,58.697222222222237,{"$f":"'RWH Calculator'!$C$56","v":0},58.697222222222237,0,0,0,0,-58.697222222222237,22713.874782449293]
["2006-05-12",0,0,0,5,0.15000000000000002,0.10593750000000002,58.697222222222237,{"$f":"'RWH Calculator'!$C$56","v":0},58.697222222222237,0,0,0,0,-58.697222222222237,22713.874782449293]
["2006-05-13",0,0,0,5,0.15000000000000002,0.10593750000000002,58.697222222222237,{"$f":"'RWH Calculator'!$C$56","v":0},58.697222222222237,0,0,0,0,-58.697222222222237,22713.874782449293]
["2006-05-14",0,0,0,5,0.15000000000000002,0.10593750000000002,58.697222222222237,{"$f":"'RWH Calculator'!$C$56","v":0},58.697222222222237,0,0,0,0,-58.697222222222237,22713.874782449293]
["2006-05-15",0,0,0,5,0.15000000000000002,0.10593750000000002,58.697222222222237,{"$f":"'RWH Calculator'!$C$56","v":0},58.697222222222237,0,0,0,0,-58.697222222222237,22713.874782449293]
["2006-05-16",0,0,0,5,0.15000000000000002,0.10593750000000002,58.697222222222237,{"$f":"'RWH Calculator'!$C$56","v":0},58.697222222222237,0,0,0,0,-58.697222222222237,22713.874782449293]
["2006-05-17",0,0,0,5,0.15000000000000002,0.10593750000000002,58.697222222222237,{"$f":"'RWH Calculator'!$C$56","v":0},58.697222222222237,0,0,0,0,-58.697222222222237,22713.874782449293]
["2006-05-18",0,0,0,5,0.15000000000000002,0.10593750000000002,58.697222222222237,{"$f":"'RWH Calculator'!$C$56","v":0},58.697222222222237,0,0,0,0,-58.697222222222237,22713.874782449293]
["2006-05-19",0.13999999999999999,89.012,89.012,5,0.15000000000000002,0.10593750000000002,0,{"$f":"'RWH Calculator'!$C$56","v":0},0,89.012,89.012,0,0,89.012,22713.874782449293]
["2006-05-20",0,0,0,5,0.15000000000000002,0.10593750000000002,58.697222222222237,{"$f":"'RWH Calculator'!$C$56","v":0},58.697222222222237,30.314777777777763,0,58.697222222222237,0,30.314777777777763,22772.572004671514]
["2006-05-21",0.26000000000000006,165.30800000000005,165.30800000000005,5,0.15000000000000002,0.10593750000000002,0,{"$f":"'RWH Calculator'!$C$56","v":0},0,195.6227777777778,165.30800000000005,0,0,195.6227777777778,22772.572004671514]
["2006-05-22",0,0,0,5,0.15000000000000002,0.10593750000000002,58.697222222222237,{"$f":"'RWH Calculator'!$C$56","v":0},58.697222222222237,136.92555555555555,0,58.697222222222237,0,136.92555555555555,22831.269226893735]
["2006-05-23",0,0,0,5,0.15000000000000002,0.10593750000000002,58.697222222222237,{"$f":"'RWH Calculator'!$C$56","v":0},58.697222222222237,78.22833333333331,0,58.697222222222237,0,78.22833333333331,22889.966449115956]
["2006-05-24",0.01,6.3580000000000014,6.3580000000000014,5,0.15000000000000002,0.10593750000000002,53.156481481481499,{"$f":"'RWH Calculator'!$C$56","v":0},53.156481481481499,31.429851851851815,6.3580000000000014,53.156481481481499,0,31.429851851851815,22943.122930597438]
["2006-05-25",0,0,0,5,0.15000000000000002,0.10593750000000002,58.697222222222237,{"$f":"'RWH Calculator'!$C$56","v":0},58.697222222222237,0,0,31.429851851851815,0,-27.267370370370422,22974.552782449289]
["2006-05-26",0,0,0,5,0.15000000000000002,0.10593750000000002,58.697222222222237,{"$f":"'RWH Calculator'!$C$56","v":0},58.697222222222237,0,0,0,0,-58.697222222222237,22974.552782449289]
["2006-05-27",0,0,0,5,0.15000000000000002,0.10593750000000002,58.697222222222237,{"$f":"'RWH Calculator'!$C$56","v":0},58.697222222222237,0,0,0,0,-58.697222222222237,22974.552782449289]
["2006-05-28",0,0,0,5,0.15000000000000002,0.10593750000000002,58.697222222222237,{"$f":"'RWH Calculator'!$C$56","v":0},58.697222222222237,0,0,0,0,-58.697222222222237,22974.552782449289]
["2006-05-29",0,0,0,5,0.15000000000000002,0.10593750000000002,58.697222222222237,{"$f":"'RWH Calculator'!$C$56","v":0},58.697222222222237,0,0,0,0,-58.697222222222237,22974.552782449289]
["2006-05-30",0,0,0,5,0.15000000000000002,0.10593750000000002,58.697222222222237,{"$f":"'RWH Calculator'!$C$56","v":0},58.697222222222237,0,0,0,0,-58.697222222222237,22974.552782449289]
["2006-05-31",0,0,0,5,0.15000000000000002,0.10593750000000002,58.697222222222237,{"$f":"'RWH Calculator'!$C$56","v":0},58.697222222222237,0,0,0,0,-58.697222222222237,22974.552782449289]
["2006-06-01",0,0,0,6,0.16999999999999998,0.1200625,66.523518518518514,{"$f":"'RWH Calculator'!$C$56","v":0},66.523518518518514,0,0,0,0,-66.523518518518514,22974.552782449289]
["2006-06-02",0,0,0,6,0.16999999999999998,0.1200625,66.523518518518514,{"$f":"'RWH Calculator'!$C$56","v":0},66.523518518518514,0,0,0,0,-66.523518518518514,22974.552782449289]
["2006-06-03",0,0,0,6,0.16999999999999998,0.1200625,66.523518518518514,{"$f":"'RWH Calculator'!$C$56","v":0},66.523518518518514,0,0,0,0,-66.523518518518514,22974.552782449289]
["2006-06-04",0,0,0,6,0.16999999999999998,0.1200625,66.523518518518514,{"$f":"'RWH Calculator'!$C$56","v":0},66.523518518518514,0,0,0,0,-66.523518518518514,22974.552782449289]
["2006-06-05",0,0,0,6,0.16999999999999998,0.1200625,66.523518518518514,{"$f":"'RWH Calculator'!$C$56","v":0},66.523518518518514,0,0,0,0,-66.523518518518514,22974.552782449289]
["2006-06-06",0,0,0,6,0.16999999999999998,0.1200625,66.523518518518514,{"$f":"'RWH Calculator'!$C$56","v":0},66.523518518518514,0,0,0,0,-66.523518518518514,22974.552782449289]
["2006-06-07",0,0,0,6,0.16999999999999998,0.1200625,66.523518518518514,{"$f":"'RWH Calculator'!$C$56","v":0},66.523518518518514,0,0,0,0,-66.523518518518514,22974.552782449289]
["2006-06-08",0,0,0,6,{"$f":"IF($B$2=\"Western SF\", VLOOKUP(E1995,$R$6:$U$17, 4),VLOOKUP(E1995, $R$6:$V$17,5))","v":0.16999999999999998},0.1200625,66.523518518518514,{"$f":"'RWH Calculator'!$C$56","v":0},66.523518518518514,0,0,0,0,-66.523518518518514,22974.552782449289]
["2006-06-09",0,0,0,{"$f":"MONTH(A1996)","v":6},0.16999999999999998,{"$f":"F1996*$B$6","v":0.1200625},66.523518518518514,{"$f":"'RWH Calculator'!$C$56","v":0},{"$f":"H1996+I1996","v":66.523518518518514},0,0,0,0,-66.523518518518514,22974.552782449289]
["2006-06-10",0,{"$f":"$B$3*$B$4*(B1997/12)*7.48","v":0},{"$f":"C1997","v":0},6,0.16999999999999998,0.1200625,{"$f":"(IF(G1997-B1997>0,(G1997-B1997)/$B$7,0)/12*7.48)*$B$8","v":66.523518518518514},{"$f":"'RWH Calculator'!$C$56","v":0},66.523518518518514,{"$f":"IF(O1997<0, 0, IF(O1997>$H$2, $H$2, O1997))","v":0},{"$f":"IF(J1997>D1997,D1997, K1997-K1996+J1997)","v":0},{"$f":"IF(D1997+K1996>J1997,J1997, D1997+K1996)","v":0},{"$f":"IF(C1997>J1997, C1997-J1997-(K1997-K1996),0)","v":0},{"$f":"K1996+D1997-J1997","v":-66.523518518518514},{"$f":"M1997+P1996","v":22974.552782449289}]
["2006-06-11",0,0,0,6,0.16999999999999998,0.1200625,66.523518518518514,{"$f":"'RWH Calculator'!$C$56","v":0},66.523518518518514,0,0,0,0,-66.523518518518514,22974.552782449289]
["2006-06-12",0,0,0,6,0.16999999999999998,0.1200625,66.523518518518514,{"$f":"'RWH Calculator'!$C$56","v":0},66.523518518518514,0,0,0,0,-66.523518518518514,22974.552782449289]
["2006-06-13",0,0,0,6,0.16999999999999998,0.1200625,66.523518518518514,{"$f":"'RWH Calculator'!$C$56","v":0},66.523518518518514,0,0,0,0,-66.523518518518514,22974.552782449289]
["2006-06-14",0,0,0,6,0.16999999999999998,0.1200625,66.523518518518514,{"$f":"'RWH Calculator'!$C$56","v":0},66.523518518518514,0,0,0,0,-66.523518518518514,22974.552782449289]
["2006-06-15",0,0,0,6,0.16999999999999998,0.1200625,66.523518518518514,{"$f":"'RWH Calculator'!$C$56","v":0},66.523518518518514,0,0,0,0,-66.523518518518514,22974.552782449289]
["2006-06-16",0,0,0,6,0.16999999999999998,0.1200625,66.523518518518514,{"$f":"'RWH Calculator'!$C$56","v":0},66.523518518518514,0,0,0,0,-66.523518518518514,22974.552782449289]
["2006-06-17",0,0,0,6,0.16999999999999998,0.1200625,66.523518518518514,{"$f":"'RWH Calculator'!$C$56","v":0},66.523518518518514,0,0,0,0,-66.523518518518514,22974.552782449289]
["2006-06-18",0,0,0,6,0.16999999999999998,0.1200625,66.523518518518514,{"$f":"'RWH Calculator'!$C$56","v":0},66.523518518518514,0,0,0,0,-66.523518518518514,22974.552782449289]
["2006-06-19",0,0,0,6,0.16999999999999998,0.1200625,66.523518518518514,{"$f":"'RWH Calculator'!$C$56","v":0},66.523518518518514,0,0,0,0,-66.523518518518514,22974.552782449289]
["2006-06-20",0,0,0,6,0.16999999999999998,0.1200625,66.523518518518514,{"$f":"'RWH Calculator'!$C$56","v":0},66.523518518518514,0,0,0,0,-66.523518518518514,22974.552782449289]
["2006-06-21",0,0,0,6,0.16999999999999998,0.1200625,66.523518518518514,{"$f":"'RWH Calculator'!$C$56","v":0},66.523518518518514,0,0,0,0,-66.523518518518514,22974.552782449289]
["2006-06-22",0,0,0,6,0.16999999999999998,0.1200625,66.523518518518514,{"$f":"'RWH Calculator'!$C$56","v":0},66.523518518518514,0,0,0,0,-66.523518518518514,22974.552782449289]
["2006-06-23",0,0,0,6,0.16999999999999998,0.1200625,66.523518518518514,{"$f":"'RWH Calculator'!$C$56","v":0},66.523518518518514,0,0,0,0,-66.523518518518514,22974.552782449289]
["2006-06-24",0,0,0,6,0.16999999999999998,0.1200625,66.523518518518514,{"$f":"'RWH Calculator'!$C$56","v":0},66.523518518518514,0,0,0,0,-66.523518518518514,22974.552782449289]
["2006-06-25",0,0,0,6,0.16999999999999998,0.1200625,66.523518518518514,{"$f":"'RWH Calculator'!$C$56","v":0},66.523518518518514,0,0,0,0,-66.523518518518514,22974.552782449289]
["2006-06-26",0,0,0,6,0.16999999999999998,0.1200625,66.523518518518514,{"$f":"'RWH Calculator'!$C$56","v":0},66.523518518518514,0,0,0,0,-66.523518518518514,22974.552782449289]
["2006-06-27",0,0,0,6,0.16999999999999998,0.1200625,66.523518518518514,{"$f":"'RWH Calculator'!$C$56","v":0},66.523518518518514,0,0,0,0,-66.523518518518514,22974.552782449289]
["2006-06-28",0,0,0,6,0.16999999999999998,0.1200625,66.523518518518514,{"$f":"'RWH Calculator'!$C$56","v":0},66.523518518518514,0,0,0,0,-66.523518518518514,22974.552782449289]
["2006-06-29",0,0,0,6,0.16999999999999998,0.1200625,66.523518518518514,{"$f":"'RWH Calculator'!$C$56","v":0},66.523518518518514,0,0,0,0,-66.523518518518514,22974.552782449289]
["2006-06-30",0,0,0,6,0.16999999999999998,0.1200625,66.523518518518514,{"$f":"'RWH Calculator'!$C$56","v":0},66.523518518518514,0,0,0,0,-66.523518518518514,22974.552782449289]
["2006-07-01",0,0,0,7,0.16,0.113,62.610370370370383,{"$f":"'RWH Calculator'!$C$56","v":0},62.610370370370383,0,0,0,0,-62.610370370370383,22974.552782449289]
["2006-07-02",0,0,0,7,0.16,0.113,62.610370370370383,{"$f":"'RWH Calculator'!$C$56","v":0},62.610370370370383,0,0,0,0,-62.610370370370383,22974.552782449289]
["2006-07-03",0,0,0,7,0.16,0.113,62.610370370370383,{"$f":"'RWH Calculator'!$C$56","v":0},62.610370370370383,0,0,0,0,-62.610370370370383,22974.552782449289]
["2006-07-04",0,0,0,7,0.16,0.113,62.610370370370383,{"$f":"'RWH Calculator'!$C$56","v":0},62.610370370370383,0,0,0,0,-62.610370370370383,22974.552782449289]
["2006-07-05",0,0,0,7,0.16,0.113,62.610370370370383,{"$f":"'RWH Calculator'!$C$56","v":0},62.610370370370383,0,0,0,0,-62.610370370370383,22974.552782449289]
["2006-07-06",0,0,0,7,0.16,0.113,62.610370370370383,{"$f":"'RWH Calculator'!$C$56","v":0},62.610370370370383,0,0,0,0,-62.610370370370383,22974.552782449289]
["2006-07-07",0,0,0,7,0.16,0.113,62.610370370370383,{"$f":"'RWH Calculator'!$C$56","v":0},62.610370370370383,0,0,0,0,-62.610370370370383,22974.552782449289]
["2006-07-08",0,0,0,7,0.16,0.113,62.610370370370383,{"$f":"'RWH Calculator'!$C$56","v":0},62.610370370370383,0,0,0,0,-62.610370370370383,22974.552782449289]
["2006-07-09",0,0,0,7,0.16,0.113,62.610370370370383,{"$f":"'RWH Calculator'!$C$56","v":0},62.610370370370383,0,0,0,0,-62.610370370370383,22974.552782449289]
["2006-07-10",0,0,0,7,0.16,0.113,62.610370370370383,{"$f":"'RWH Calculator'!$C$56","v":0},62.610370370370383,0,0,0,0,-62.610370370370383,22974.552782449289]
["2006-07-11",0,0,0,7,0.16,0.113,62.610370370370383,{"$f":"'RWH Calculator'!$C$56","v":0},62.610370370370383,0,0,0,0,-62.610370370370383,22974.552782449289]
["2006-07-12",0,0,0,7,0.16,0.113,62.610370370370383,{"$f":"'RWH Calculator'!$C$56","v":0},62.610370370370383,0,0,0,0,-62.610370370370383,22974.552782449289]
["2006-07-13",0,0,0,7,0.16,0.113,62.610370370370383,{"$f":"'RWH Calculator'!$C$56","v":0},62.610370370370383,0,0,0,0,-62.610370370370383,22974.552782449289]
["2006-07-14",0,0,0,7,0.16,0.113,62.610370370370383,{"$f":"'RWH Calculator'!$C$56","v":0},62.610370370370383,0,0,0,0,-62.610370370370383,22974.552782449289]
["2006-07-15",0,0,0,7,0.16,0.113,62.610370370370383,{"$f":"'RWH Calculator'!$C$56","v":0},62.610370370370383,0,0,0,0,-62.610370370370383,22974.552782449289]
["2006-07-16",0,0,0,7,0.16,0.113,62.610370370370383,{"$f":"'RWH Calculator'!$C$56","v":0},62.610370370370383,0,0,0,0,-62.610370370370383,22974.552782449289]
["2006-07-17",0,0,0,7,0.16,0.113,62.610370370370383,{"$f":"'RWH Calculator'!$C$56","v":0},62.610370370370383,0,0,0,0,-62.610370370370383,22974.552782449289]
["2006-07-18",0,0,0,7,0.16,0.113,62.610370370370383,{"$f":"'RWH Calculator'!$C$56","v":0},62.610370370370383,0,0,0,0,-62.610370370370383,22974.552782449289]
["2006-07-19",0,0,0,7,0.16,0.113,62.610370370370383,{"$f":"'RWH Calculator'!$C$56","v":0},62.610370370370383,0,0,0,0,-62.610370370370383,22974.552782449289]
["2006-07-20",0,0,0,7,0.16,0.113,62.610370370370383,{"$f":"'RWH Calculator'!$C$56","v":0},62.610370370370383,0,0,0,0,-62.610370370370383,22974.552782449289]
["2006-07-21",0,0,0,7,0.16,0.113,62.610370370370383,{"$f":"'RWH Calculator'!$C$56","v":0},62.610370370370383,0,0,0,0,-62.610370370370383,22974.552782449289]
["2006-07-22",0,0,0,7,0.16,0.113,62.610370370370383,{"$f":"'RWH Calculator'!$C$56","v":0},62.610370370370383,0,0,0,0,-62.610370370370383,22974.552782449289]
["2006-07-23",0,0,0,7,0.16,0.113,62.610370370370383,{"$f":"'RWH Calculator'!$C$56","v":0},62.610370370370383,0,0,0,0,-62.610370370370383,22974.552782449289]
["2006-07-24",0,0,0,7,0.16,0.113,62.610370370370383,{"$f":"'RWH Calculator'!$C$56","v":0},62.610370370370383,0,0,0,0,-62.610370370370383,22974.552782449289]
["2006-07-25",0,0,0,7,0.16,0.113,62.610370370370383,{"$f":"'RWH Calculator'!$C$56","v":0},62.610370370370383,0,0,0,0,-62.610370370370383,22974.552782449289]
["2006-07-26",0,0,0,7,0.16,0.113,62.610370370370383,{"$f":"'RWH Calculator'!$C$56","v":0},62.610370370370383,0,0,0,0,-62.610370370370383,22974.552782449289]
["2006-07-27",0,0,0,7,0.16,0.113,62.610370370370383,{"$f":"'RWH Calculator'!$C$56","v":0},62.610370370370383,0,0,0,0,-62.610370370370383,22974.552782449289]
["2006-07-28",0,0,0,7,0.16,0.113,62.610370370370383,{"$f":"'RWH Calculator'!$C$56","v":0},62.610370370370383,0,0,0,0,-62.610370370370383,22974.552782449289]
["2006-07-29",0,0,0,7,0.16,0.113,62.610370370370383,{"$f":"'RWH Calculator'!$C$56","v":0},62.610370370370383,0,0,0,0,-62.610370370370383,22974.552782449289]
["2006-07-30",0,0,0,7,0.16,0.113,62.610370370370383,{"$f":"'RWH Calculator'!$C$56","v":0},62.610370370370383,0,0,0,0,-62.610370370370383,22974.552782449289]
["2006-07-31",0,0,0,7,0.16,0.113,62.610370370370383,{"$f":"'RWH Calculator'!$C$56","v":0},62.610370370370383,0,0,0,0,-62.610370370370383,22974.552782449289]
["2006-08-01",0,0,0,8,0.15000000000000002,0.10593750000000002,58.697222222222237,{"$f":"'RWH Calculator'!$C$56","v":0},58.697222222222237,0,0,0,0,-58.697222222222237,22974.552782449289]
["2006-08-02",0,0,0,8,0.15000000000000002,0.10593750000000002,58.697222222222237,{"$f":"'RWH Calculator'!$C$56","v":0},58.697222222222237,0,0,0,0,-58.697222222222237,22974.552782449289]
["2006-08-03",0,0,0,8,0.15000000000000002,0.10593750000000002,58.697222222222237,{"$f":"'RWH Calculator'!$C$56","v":0},58.697222222222237,0,0,0,0,-58.697222222222237,22974.552782449289]
["2006-08-04",0,0,0,8,0.15000000000000002,0.10593750000000002,58.697222222222237,{"$f":"'RWH Calculator'!$C$56","v":0},58.697222222222237,0,0,0,0,-58.697222222222237,22974.552782449289]
["2006-08-05",0,0,0,8,0.15000000000000002,0.10593750000000002,58.697222222222237,{"$f":"'RWH Calculator'!$C$56","v":0},58.697222222222237,0,0,0,0,-58.697222222222237,22974.552782449289]
["2006-08-06",0,0,0,8,0.15000000000000002,0.10593750000000002,58.697222222222237,{"$f":"'RWH Calculator'!$C$56","v":0},58.697222222222237,0,0,0,0,-58.697222222222237,22974.552782449289]
["2006-08-07",0,0,0,8,0.15000000000000002,0.10593750000000002,58.697222222222237,{"$f":"'RWH Calculator'!$C$56","v":0},58.697222222222237,0,0,0,0,-58.697222222222237,22974.552782449289]
["2006-08-08",0,0,0,8,0.15000000000000002,0.10593750000000002,58.697222222222237,{"$f":"'RWH Calculator'!$C$56","v":0},58.697222222222237,0,0,0,0,-58.697222222222237,22974.552782449289]
["2006-08-09",0,0,0,8,0.15000000000000002,0.10593750000000002,58.697222222222237,{"$f":"'RWH Calculator'!$C$56","v":0},58.697222222222237,0,0,0,0,-58.697222222222237,22974.552782449289]
["2006-08-10",0,0,0,8,0.15000000000000002,0.10593750000000002,58.697222222222237,{"$f":"'RWH Calculator'!$C$56","v":0},58.697222222222237,0,0,0,0,-58.697222222222237,22974.552782449289]
["2006-08-11",0,0,0,8,{"$f":"IF($B$2=\"Western SF\", VLOOKUP(E2059,$R$6:$U$17, 4),VLOOKUP(E2059, $R$6:$V$17,5))","v":0.15000000000000002},0.10593750000000002,58.697222222222237,{"$f":"'RWH Calculator'!$C$56","v":0},58.697222222222237,0,0,0,0,-58.697222222222237,22974.552782449289]
["2006-08-12",0,0,0,{"$f":"MONTH(A2060)","v":8},0.15000000000000002,{"$f":"F2060*$B$6","v":0.10593750000000002},58.697222222222237,{"$f":"'RWH Calculator'!$C$56","v":0},{"$f":"H2060+I2060","v":58.697222222222237},0,0,0,0,-58.697222222222237,22974.552782449289]
["2006-08-13",0,{"$f":"$B$3*$B$4*(B2061/12)*7.48","v":0},{"$f":"C2061","v":0},8,0.15000000000000002,0.10593750000000002,{"$f":"(IF(G2061-B2061>0,(G2061-B2061)/$B$7,0)/12*7.48)*$B$8","v":58.697222222222237},{"$f":"'RWH Calculator'!$C$56","v":0},58.697222222222237,{"$f":"IF(O2061<0, 0, IF(O2061>$H$2, $H$2, O2061))","v":0},{"$f":"IF(J2061>D2061,D2061, K2061-K2060+J2061)","v":0},{"$f":"IF(D2061+K2060>J2061,J2061, D2061+K2060)","v":0},{"$f":"IF(C2061>J2061, C2061-J2061-(K2061-K2060),0)","v":0},{"$f":"K2060+D2061-J2061","v":-58.697222222222237},{"$f":"M2061+P2060","v":22974.552782449289}]
["2006-08-14",0,0,0,8,0.15000000000000002,0.10593750000000002,58.697222222222237,{"$f":"'RWH Calculator'!$C$56","v":0},58.697222222222237,0,0,0,0,-58.697222222222237,22974.552782449289]
["2006-08-15",0,0,0,8,0.15000000000000002,0.10593750000000002,58.697222222222237,{"$f":"'RWH Calculator'!$C$56","v":0},58.697222222222237,0,0,0,0,-58.697222222222237,22974.552782449289]
["2006-08-16",0,0,0,8,0.15000000000000002,0.10593750000000002,58.697222222222237,{"$f":"'RWH Calculator'!$C$56","v":0},58.697222222222237,0,0,0,0,-58.697222222222237,22974.552782449289]
["2006-08-17",0,0,0,8,0.15000000000000002,0.10593750000000002,58.697222222222237,{"$f":"'RWH Calculator'!$C$56","v":0},58.697222222222237,0,0,0,0,-58.697222222222237,22974.552782449289]
["2006-08-18",0,0,0,8,0.15000000000000002,0.10593750000000002,58.697222222222237,{"$f":"'RWH Calculator'!$C$56","v":0},58.697222222222237,0,0,0,0,-58.697222222222237,22974.552782449289]
["2006-08-19",0,0,0,8,0.15000000000000002,0.10593750000000002,58.697222222222237,{"$f":"'RWH Calculator'!$C$56","v":0},58.697222222222237,0,0,0,0,-58.697222222222237,22974.552782449289]
["2006-08-20",0,0,0,8,0.15000000000000002,0.10593750000000002,58.697222222222237,{"$f":"'RWH Calculator'!$C$56","v":0},58.697222222222237,0,0,0,0,-58.697222222222237,22974.552782449289]
["2006-08-21",0,0,0,8,0.15000000000000002,0.10593750000000002,58.697222222222237,{"$f":"'RWH Calculator'!$C$56","v":0},58.697222222222237,0,0,0,0,-58.697222222222237,22974.552782449289]
["2006-08-22",0,0,0,8,0.15000000000000002,0.10593750000000002,58.697222222222237,{"$f":"'RWH Calculator'!$C$56","v":0},58.697222222222237,0,0,0,0,-58.697222222222237,22974.552782449289]
["2006-08-23",0,0,0,8,0.15000000000000002,0.10593750000000002,58.697222222222237,{"$f":"'RWH Calculator'!$C$56","v":0},58.697222222222237,0,0,0,0,-58.697222222222237,22974.552782449289]
["2006-08-24",0,0,0,8,0.15000000000000002,0.10593750000000002,58.697222222222237,{"$f":"'RWH Calculator'!$C$56","v":0},58.697222222222237,0,0,0,0,-58.697222222222237,22974.552782449289]
["2006-08-25",0,0,0,8,0.15000000000000002,0.10593750000000002,58.697222222222237,{"$f":"'RWH Calculator'!$C$56","v":0},58.697222222222237,0,0,0,0,-58.697222222222237,22974.552782449289]
["2006-08-26",0,0,0,8,0.15000000000000002,0.10593750000000002,58.697222222222237,{"$f":"'RWH Calculator'!$C$56","v":0},58.697222222222237,0,0,0,0,-58.697222222222237,22974.552782449289]
["2006-08-27",0,0,0,8,0.15000000000000002,0.10593750000000002,58.697222222222237,{"$f":"'RWH Calculator'!$C$56","v":0},58.697222222222237,0,0,0,0,-58.697222222222237,22974.552782449289]
["2006-08-28",0,0,0,8,0.15000000000000002,0.10593750000000002,58.697222222222237,{"$f":"'RWH Calculator'!$C$56","v":0},58.697222222222237,0,0,0,0,-58.697222222222237,22974.552782449289]
["2006-08-29",0,0,0,8,0.15000000000000002,0.10593750000000002,58.697222222222237,{"$f":"'RWH Calculator'!$C$56","v":0},58.697222222222237,0,0,0,0,-58.697222222222237,22974.552782449289]
["2006-08-30",0,0,0,8,0.15000000000000002,0.10593750000000002,58.697222222222237,{"$f":"'RWH Calculator'!$C$56","v":0},58.697222222222237,0,0,0,0,-58.697222222222237,22974.552782449289]
["2006-08-31",0,0,0,8,0.15000000000000002,0.10593750000000002,58.697222222222237,{"$f":"'RWH Calculator'!$C$56","v":0},58.697222222222237,0,0,0,0,-58.697222222222237,22974.552782449289]
["2006-09-01",0,0,0,9,0.13,9.1812500000000005E-2,50.870925925925924,{"$f":"'RWH Calculator'!$C$56","v":0},50.870925925925924,0,0,0,0,-50.870925925925924,22974.552782449289]
["2006-09-02",0,0,0,9,0.13,9.1812500000000005E-2,50.870925925925924,{"$f":"'RWH Calculator'!$C$56","v":0},50.870925925925924,0,0,0,0,-50.870925925925924,22974.552782449289]
["2006-09-03",0,0,0,9,0.13,9.1812500000000005E-2,50.870925925925924,{"$f":"'RWH Calculator'!$C$56","v":0},50.870925925925924,0,0,0,0,-50.870925925925924,22974.552782449289]
["2006-09-04",0,0,0,9,0.13,9.1812500000000005E-2,50.870925925925924,{"$f":"'RWH Calculator'!$C$56","v":0},50.870925925925924,0,0,0,0,-50.870925925925924,22974.552782449289]
["2006-09-05",0,0,0,9,0.13,9.1812500000000005E-2,50.870925925925924,{"$f":"'RWH Calculator'!$C$56","v":0},50.870925925925924,0,0,0,0,-50.870925925925924,22974.552782449289]
["2006-09-06",0,0,0,9,0.13,9.1812500000000005E-2,50.870925925925924,{"$f":"'RWH Calculator'!$C$56","v":0},50.870925925925924,0,0,0,0,-50.870925925925924,22974.552782449289]
["2006-09-07",0,0,0,9,0.13,9.1812500000000005E-2,50.870925925925924,{"$f":"'RWH Calculator'!$C$56","v":0},50.870925925925924,0,0,0,0,-50.870925925925924,22974.552782449289]
["2006-09-08",0,0,0,9,0.13,9.1812500000000005E-2,50.870925925925924,{"$f":"'RWH Calculator'!$C$56","v":0},50.870925925925924,0,0,0,0,-50.870925925925924,22974.552782449289]
["2006-09-09",0,0,0,9,0.13,9.1812500000000005E-2,50.870925925925924,{"$f":"'RWH Calculator'!$C$56","v":0},50.870925925925924,0,0,0,0,-50.870925925925924,22974.552782449289]
["2006-09-10",0,0,0,9,0.13,9.1812500000000005E-2,50.870925925925924,{"$f":"'RWH Calculator'!$C$56","v":0},50.870925925925924,0,0,0,0,-50.870925925925924,22974.552782449289]
["2006-09-11",0,0,0,9,0.13,9.1812500000000005E-2,50.870925925925924,{"$f":"'RWH Calculator'!$C$56","v":0},50.870925925925924,0,0,0,0,-50.870925925925924,22974.552782449289]
["2006-09-12",0,0,0,9,0.13,9.1812500000000005E-2,50.870925925925924,{"$f":"'RWH Calculator'!$C$56","v":0},50.870925925925924,0,0,0,0,-50.870925925925924,22974.552782449289]
["2006-09-13",0,0,0,9,0.13,9.1812500000000005E-2,50.870925925925924,{"$f":"'RWH Calculator'!$C$56","v":0},50.870925925925924,0,0,0,0,-50.870925925925924,22974.552782449289]
["2006-09-14",0,0,0,9,0.13,9.1812500000000005E-2,50.870925925925924,{"$f":"'RWH Calculator'!$C$56","v":0},50.870925925925924,0,0,0,0,-50.870925925925924,22974.552782449289]
["2006-09-15",0,0,0,9,0.13,9.1812500000000005E-2,50.870925925925924,{"$f":"'RWH Calculator'!$C$56","v":0},50.870925925925924,0,0,0,0,-50.870925925925924,22974.552782449289]
["2006-09-16",0,0,0,9,0.13,9.1812500000000005E-2,50.870925925925924,{"$f":"'RWH Calculator'!$C$56","v":0},50.870925925925924,0,0,0,0,-50.870925925925924,22974.552782449289]
["2006-09-17",0,0,0,9,0.13,9.1812500000000005E-2,50.870925925925924,{"$f":"'RWH Calculator'!$C$56","v":0},50.870925925925924,0,0,0,0,-50.870925925925924,22974.552782449289]
["2006-09-18",0,0,0,9,0.13,9.1812500000000005E-2,50.870925925925924,{"$f":"'RWH Calculator'!$C$56","v":0},50.870925925925924,0,0,0,0,-50.870925925925924,22974.552782449289]
["2006-09-19",0,0,0,9,0.13,9.1812500000000005E-2,50.870925925925924,{"$f":"'RWH Calculator'!$C$56","v":0},50.870925925925924,0,0,0,0,-50.870925925925924,22974.552782449289]
["2006-09-20",0,0,0,9,0.13,9.1812500000000005E-2,50.870925925925924,{"$f":"'RWH Calculator'!$C$56","v":0},50.870925925925924,0,0,0,0,-50.870925925925924,22974.552782449289]
["2006-09-21",0,0,0,9,0.13,9.1812500000000005E-2,50.870925925925924,{"$f":"'RWH Calculator'!$C$56","v":0},50.870925925925924,0,0,0,0,-50.870925925925924,22974.552782449289]
["2006-09-22",0,0,0,9,0.13,9.1812500000000005E-2,50.870925925925924,{"$f":"'RWH Calculator'!$C$56","v":0},50.870925925925924,0,0,0,0,-50.870925925925924,22974.552782449289]
["2006-09-23",0,0,0,9,0.13,9.1812500000000005E-2,50.870925925925924,{"$f":"'RWH Calculator'!$C$56","v":0},50.870925925925924,0,0,0,0,-50.870925925925924,22974.552782449289]
["2006-09-24",0,0,0,9,0.13,9.1812500000000005E-2,50.870925925925924,{"$f":"'RWH Calculator'!$C$56","v":0},50.870925925925924,0,0,0,0,-50.870925925925924,22974.552782449289]
["2006-09-25",0,0,0,9,0.13,9.1812500000000005E-2,50.870925925925924,{"$f":"'RWH Calculator'!$C$56","v":0},50.870925925925924,0,0,0,0,-50.870925925925924,22974.552782449289]
["2006-09-26",0,0,0,9,0.13,9.1812500000000005E-2,50.870925925925924,{"$f":"'RWH Calculator'!$C$56","v":0},50.870925925925924,0,0,0,0,-50.870925925925924,22974.552782449289]
["2006-09-27",0,0,0,9,0.13,9.1812500000000005E-2,50.870925925925924,{"$f":"'RWH Calculator'!$C$56","v":0},50.870925925925924,0,0,0,0,-50.870925925925924,22974.552782449289]
["2006-09-28",0,0,0,9,0.13,9.1812500000000005E-2,50.870925925925924,{"$f":"'RWH Calculator'!$C$56","v":0},50.870925925925924,0,0,0,0,-50.870925925925924,22974.552782449289]
["2006-09-29",0,0,0,9,0.13,9.1812500000000005E-2,50.870925925925924,{"$f":"'RWH Calculator'!$C$56","v":0},50.870925925925924,0,0,0,0,-50.870925925925924,22974.552782449289]
["2006-09-30",0,0,0,9,0.13,9.1812500000000005E-2,50.870925925925924,{"$f":"'RWH Calculator'!$C$56","v":0},50.870925925925924,0,0,0,0,-50.870925925925924,22974.552782449289]
["2006-10-01",0,0,0,10,0.09,6.3562500000000008E-2,35.218333333333341,{"$f":"'RWH Calculator'!$C$56","v":0},35.218333333333341,0,0,0,0,-35.218333333333341,22974.552782449289]
["2006-10-02",0,0,0,10,0.09,6.3562500000000008E-2,35.218333333333341,{"$f":"'RWH Calculator'!$C$56","v":0},35.218333333333341,0,0,0,0,-35.218333333333341,22974.552782449289]
["2006-10-03",0,0,0,10,0.09,6.3562500000000008E-2,35.218333333333341,{"$f":"'RWH Calculator'!$C$56","v":0},35.218333333333341,0,0,0,0,-35.218333333333341,22974.552782449289]
["2006-10-04",0.24000000000000005,152.59200000000004,152.59200000000004,10,0.09,6.3562500000000008E-2,0,{"$f":"'RWH Calculator'!$C$56","v":0},0,152.59200000000004,152.59200000000004,0,0,152.59200000000004,22974.552782449289]
["2006-10-05",0.37,235.24600000000001,235.24600000000001,10,0.09,6.3562500000000008E-2,0,{"$f":"'RWH Calculator'!$C$56","v":0},0,387.83800000000008,235.24600000000004,0,-2.8421709430404007E-14,387.83800000000008,22974.552782449289]
["2006-10-06",0,0,0,10,0.09,6.3562500000000008E-2,35.218333333333341,{"$f":"'RWH Calculator'!$C$56","v":0},35.218333333333341,352.61966666666672,0,35.218333333333341,0,352.61966666666672,23009.771115782623]
["2006-10-07",0,0,0,10,0.09,6.3562500000000008E-2,35.218333333333341,{"$f":"'RWH Calculator'!$C$56","v":0},35.218333333333341,317.40133333333335,0,35.218333333333341,0,317.40133333333335,23044.989449115958]
["2006-10-08",0,0,0,10,0.09,6.3562500000000008E-2,35.218333333333341,{"$f":"'RWH Calculator'!$C$56","v":0},35.218333333333341,282.18299999999999,0,35.218333333333341,0,282.18299999999999,23080.207782449292]
["2006-10-09",0,0,0,10,0.09,6.3562500000000008E-2,35.218333333333341,{"$f":"'RWH Calculator'!$C$56","v":0},35.218333333333341,246.96466666666666,0,35.218333333333341,0,246.96466666666666,23115.426115782626]
["2006-10-10",0,0,0,10,0.09,6.3562500000000008E-2,35.218333333333341,{"$f":"'RWH Calculator'!$C$56","v":0},35.218333333333341,211.74633333333333,0,35.218333333333341,0,211.74633333333333,23150.64444911596]
["2006-10-11",0,0,0,10,0.09,6.3562500000000008E-2,35.218333333333341,{"$f":"'RWH Calculator'!$C$56","v":0},35.218333333333341,176.52799999999999,0,35.218333333333341,0,176.52799999999999,23185.862782449294]
["2006-10-12",0,0,0,10,0.09,6.3562500000000008E-2,35.218333333333341,{"$f":"'RWH Calculator'!$C$56","v":0},35.218333333333341,141.30966666666666,0,35.218333333333341,0,141.30966666666666,23221.081115782628]
["2006-10-13",0,0,0,10,0.09,6.3562500000000008E-2,35.218333333333341,{"$f":"'RWH Calculator'!$C$56","v":0},35.218333333333341,106.09133333333332,0,35.218333333333341,0,106.09133333333332,23256.299449115962]
["2006-10-14",0,0,0,10,{"$f":"IF($B$2=\"Western SF\", VLOOKUP(E2123,$R$6:$U$17, 4),VLOOKUP(E2123, $R$6:$V$17,5))","v":0.09},6.3562500000000008E-2,35.218333333333341,{"$f":"'RWH Calculator'!$C$56","v":0},35.218333333333341,70.87299999999999,0,35.218333333333341,0,70.87299999999999,23291.517782449297]
["2006-10-15",0,0,0,{"$f":"MONTH(A2124)","v":10},0.09,{"$f":"F2124*$B$6","v":6.3562500000000008E-2},35.218333333333341,{"$f":"'RWH Calculator'!$C$56","v":0},{"$f":"H2124+I2124","v":35.218333333333341},35.65466666666665,0,35.218333333333341,0,35.65466666666665,23326.736115782631]
["2006-10-16",0.02,{"$f":"$B$3*$B$4*(B2125/12)*7.48","v":12.716000000000003},{"$f":"C2125","v":12.716000000000003},10,0.09,6.3562500000000008E-2,{"$f":"(IF(G2125-B2125>0,(G2125-B2125)/$B$7,0)/12*7.48)*$B$8","v":24.136851851851855},{"$f":"'RWH Calculator'!$C$56","v":0},24.136851851851855,{"$f":"IF(O2125<0, 0, IF(O2125>$H$2, $H$2, O2125))","v":24.233814814814796},{"$f":"IF(J2125>D2125,D2125, K2125-K2124+J2125)","v":12.716000000000003},{"$f":"IF(D2125+K2124>J2125,J2125, D2125+K2124)","v":24.136851851851855},{"$f":"IF(C2125>J2125, C2125-J2125-(K2125-K2124),0)","v":0},{"$f":"K2124+D2125-J2125","v":24.233814814814796},{"$f":"M2125+P2124","v":23350.872967634481}]
["2006-10-17",0,0,0,10,0.09,6.3562500000000008E-2,35.218333333333341,{"$f":"'RWH Calculator'!$C$56","v":0},35.218333333333341,0,0,24.233814814814796,0,-10.984518518518545,23375.106782449297]
["2006-10-18",0,0,0,10,0.09,6.3562500000000008E-2,35.218333333333341,{"$f":"'RWH Calculator'!$C$56","v":0},35.218333333333341,0,0,0,0,-35.218333333333341,23375.106782449297]
["2006-10-19",0,0,0,10,0.09,6.3562500000000008E-2,35.218333333333341,{"$f":"'RWH Calculator'!$C$56","v":0},35.218333333333341,0,0,0,0,-35.218333333333341,23375.106782449297]
["2006-10-20",0,0,0,10,0.09,6.3562500000000008E-2,35.218333333333341,{"$f":"'RWH Calculator'!$C$56","v":0},35.218333333333341,0,0,0,0,-35.218333333333341,23375.106782449297]
["2006-10-21",0,0,0,10,0.09,6.3562500000000008E-2,35.218333333333341,{"$f":"'RWH Calculator'!$C$56","v":0},35.218333333333341,0,0,0,0,-35.218333333333341,23375.106782449297]
["2006-10-22",0,0,0,10,0.09,6.3562500000000008E-2,35.218333333333341,{"$f":"'RWH Calculator'!$C$56","v":0},35.218333333333341,0,0,0,0,-35.218333333333341,23375.106782449297]
["2006-10-23",0,0,0,10,0.09,6.3562500000000008E-2,35.218333333333341,{"$f":"'RWH Calculator'!$C$56","v":0},35.218333333333341,0,0,0,0,-35.218333333333341,23375.106782449297]
["2006-10-24",0,0,0,10,0.09,6.3562500000000008E-2,35.218333333333341,{"$f":"'RWH Calculator'!$C$56","v":0},35.218333333333341,0,0,0,0,-35.218333333333341,23375.106782449297]
["2006-10-25",0,0,0,10,0.09,6.3562500000000008E-2,35.218333333333341,{"$f":"'RWH Calculator'!$C$56","v":0},35.218333333333341,0,0,0,0,-35.218333333333341,23375.106782449297]
["2006-10-26",0,0,0,10,0.09,6.3562500000000008E-2,35.218333333333341,{"$f":"'RWH Calculator'!$C$56","v":0},35.218333333333341,0,0,0,0,-35.218333333333341,23375.106782449297]
["2006-10-27",0,0,0,10,0.09,6.3562500000000008E-2,35.218333333333341,{"$f":"'RWH Calculator'!$C$56","v":0},35.218333333333341,0,0,0,0,-35.218333333333341,23375.106782449297]
["2006-10-28",0,0,0,10,0.09,6.3562500000000008E-2,35.218333333333341,{"$f":"'RWH Calculator'!$C$56","v":0},35.218333333333341,0,0,0,0,-35.218333333333341,23375.106782449297]
["2006-10-29",0,0,0,10,0.09,6.3562500000000008E-2,35.218333333333341,{"$f":"'RWH Calculator'!$C$56","v":0},35.218333333333341,0,0,0,0,-35.218333333333341,23375.106782449297]
["2006-10-30",0,0,0,10,0.09,6.3562500000000008E-2,35.218333333333341,{"$f":"'RWH Calculator'!$C$56","v":0},35.218333333333341,0,0,0,0,-35.218333333333341,23375.106782449297]
["2006-10-31",0,0,0,10,0.09,6.3562500000000008E-2,35.218333333333341,{"$f":"'RWH Calculator'!$C$56","v":0},35.218333333333341,0,0,0,0,-35.218333333333341,23375.106782449297]
["2006-11-01",0.01,6.3580000000000014,6.3580000000000014,11,6.0000000000000005E-2,4.2375000000000003E-2,17.938148148148152,{"$f":"'RWH Calculator'!$C$56","v":0},17.938148148148152,0,6.3580000000000014,6.3580000000000014,0,-11.580148148148151,23381.464782449297]
["2006-11-02",0.68000000000000016,432.34400000000011,432.34400000000011,11,6.0000000000000005E-2,4.2375000000000003E-2,0,{"$f":"'RWH Calculator'!$C$56","v":0},0,432.34400000000011,432.34400000000011,0,0,432.34400000000011,23381.464782449297]
["2006-11-03",0.01,6.3580000000000014,6.3580000000000014,11,6.0000000000000005E-2,4.2375000000000003E-2,17.938148148148152,{"$f":"'RWH Calculator'!$C$56","v":0},17.938148148148152,420.76385185185194,6.3580000000000014,17.938148148148152,0,420.76385185185194,23399.402930597444]
["2006-11-04",0,0,0,11,6.0000000000000005E-2,4.2375000000000003E-2,23.478888888888889,{"$f":"'RWH Calculator'!$C$56","v":0},23.478888888888889,397.28496296296305,0,23.478888888888889,0,397.28496296296305,23422.881819486334]
["2006-11-05",0,0,0,11,6.0000000000000005E-2,4.2375000000000003E-2,23.478888888888889,{"$f":"'RWH Calculator'!$C$56","v":0},23.478888888888889,373.80607407407416,0,23.478888888888889,0,373.80607407407416,23446.360708375225]
["2006-11-06",0,0,0,11,6.0000000000000005E-2,4.2375000000000003E-2,23.478888888888889,{"$f":"'RWH Calculator'!$C$56","v":0},23.478888888888889,350.32718518518527,0,23.478888888888889,0,350.32718518518527,23469.839597264116]
["2006-11-07",0,0,0,11,6.0000000000000005E-2,4.2375000000000003E-2,23.478888888888889,{"$f":"'RWH Calculator'!$C$56","v":0},23.478888888888889,326.84829629629638,0,23.478888888888889,0,326.84829629629638,23493.318486153006]
["2006-11-08",6.9999999999999993E-2,44.506,44.506,11,6.0000000000000005E-2,4.2375000000000003E-2,0,{"$f":"'RWH Calculator'!$C$56","v":0},0,371.35429629629641,44.506000000000029,0,-2.8421709430404007E-14,371.35429629629641,23493.318486153006]
["2006-11-09",0,0,0,11,6.0000000000000005E-2,4.2375000000000003E-2,23.478888888888889,{"$f":"'RWH Calculator'!$C$56","v":0},23.478888888888889,347.87540740740752,0,23.478888888888889,0,347.87540740740752,23516.797375041897]
["2006-11-10",0,0,0,11,6.0000000000000005E-2,4.2375000000000003E-2,23.478888888888889,{"$f":"'RWH Calculator'!$C$56","v":0},23.478888888888889,324.39651851851863,0,23.478888888888889,0,324.39651851851863,23540.276263930788]
["2006-11-11",0.45999999999999996,292.46799999999996,292.46799999999996,11,6.0000000000000005E-2,4.2375000000000003E-2,0,{"$f":"'RWH Calculator'!$C$56","v":0},0,616.86451851851859,292.46799999999996,0,0,616.86451851851859,23540.276263930788]
["2006-11-12",0,0,0,11,6.0000000000000005E-2,4.2375000000000003E-2,23.478888888888889,{"$f":"'RWH Calculator'!$C$56","v":0},23.478888888888889,593.38562962962965,0,23.478888888888889,0,593.38562962962965,23563.755152819678]
["2006-11-13",1.28,813.82400000000018,813.82400000000018,11,6.0000000000000005E-2,4.2375000000000003E-2,0,{"$f":"'RWH Calculator'!$C$56","v":0},0,1057.4600871983243,464.0744575686947,0,349.74954243130549,1407.2096296296299,23563.755152819678]
["2006-11-14",0,0,0,11,6.0000000000000005E-2,4.2375000000000003E-2,23.478888888888889,{"$f":"'RWH Calculator'!$C$56","v":0},23.478888888888889,1033.9811983094355,0,23.478888888888889,0,1033.9811983094355,23587.234041708569]
["2006-11-15",0,0,0,11,6.0000000000000005E-2,4.2375000000000003E-2,23.478888888888889,{"$f":"'RWH Calculator'!$C$56","v":0},23.478888888888889,1010.5023094205467,0,23.478888888888889,0,1010.5023094205467,23610.712930597459]
["2006-11-16",0,0,0,11,6.0000000000000005E-2,4.2375000000000003E-2,23.478888888888889,{"$f":"'RWH Calculator'!$C$56","v":0},23.478888888888889,987.02342053165785,0,23.478888888888889,0,987.02342053165785,23634.19181948635]
["2006-11-17",0.02,12.716000000000003,12.716000000000003,11,6.0000000000000005E-2,4.2375000000000003E-2,12.397407407407409,{"$f":"'RWH Calculator'!$C$56","v":0},12.397407407407409,987.34201312425046,12.716000000000017,12.397407407407409,-1.4210854715202004E-14,987.34201312425046,23646.589226893757]
["2006-11-18",0,0,0,11,6.0000000000000005E-2,4.2375000000000003E-2,23.478888888888889,{"$f":"'RWH Calculator'!$C$56","v":0},23.478888888888889,963.86312423536151,0,23.478888888888889,0,963.86312423536151,23670.068115782648]
["2006-11-19",0,0,0,11,6.0000000000000005E-2,4.2375000000000003E-2,23.478888888888889,{"$f":"'RWH Calculator'!$C$56","v":0},23.478888888888889,940.38423534647268,0,23.478888888888889,0,940.38423534647268,23693.547004671538]
["2006-11-20",0,0,0,11,6.0000000000000005E-2,4.2375000000000003E-2,23.478888888888889,{"$f":"'RWH Calculator'!$C$56","v":0},23.478888888888889,916.90534645758385,0,23.478888888888889,0,916.90534645758385,23717.025893560429]
["2006-11-21",0,0,0,11,6.0000000000000005E-2,4.2375000000000003E-2,23.478888888888889,{"$f":"'RWH Calculator'!$C$56","v":0},23.478888888888889,893.42645756869501,0,23.478888888888889,0,893.42645756869501,23740.504782449319]
["2006-11-22",0.08,50.864000000000011,50.864000000000011,11,6.0000000000000005E-2,4.2375000000000003E-2,0,{"$f":"'RWH Calculator'!$C$56","v":0},0,944.29045756869505,50.864000000000033,0,-2.1316282072803006E-14,944.29045756869505,23740.504782449319]
["2006-11-23",0,0,0,11,6.0000000000000005E-2,4.2375000000000003E-2,23.478888888888889,{"$f":"'RWH Calculator'!$C$56","v":0},23.478888888888889,920.81156867980621,0,23.478888888888889,0,920.81156867980621,23763.98367133821]
["2006-11-24",0,0,0,11,6.0000000000000005E-2,4.2375000000000003E-2,23.478888888888889,{"$f":"'RWH Calculator'!$C$56","v":0},23.478888888888889,897.33267979091738,0,23.478888888888889,0,897.33267979091738,23787.462560227101]
["2006-11-25",0,0,0,11,6.0000000000000005E-2,4.2375000000000003E-2,23.478888888888889,{"$f":"'RWH Calculator'!$C$56","v":0},23.478888888888889,873.85379090202855,0,23.478888888888889,0,873.85379090202855,23810.941449115991]
["2006-11-26",0.33,209.81400000000002,209.81400000000002,11,6.0000000000000005E-2,4.2375000000000003E-2,0,{"$f":"'RWH Calculator'!$C$56","v":0},0,1057.4600871983243,183.6062962962958,0,26.207703703704226,1083.6677909020286,23810.941449115991]
["2006-11-27",0.11000000000000001,69.938000000000017,69.938000000000017,11,6.0000000000000005E-2,4.2375000000000003E-2,0,{"$f":"'RWH Calculator'!$C$56","v":0},0,1057.4600871983243,0,0,69.938000000000017,1127.3980871983244,23810.941449115991]
["2006-11-28",0,0,0,11,6.0000000000000005E-2,4.2375000000000003E-2,23.478888888888889,{"$f":"'RWH Calculator'!$C$56","v":0},23.478888888888889,1033.9811983094355,0,23.478888888888889,0,1033.9811983094355,23834.420338004882]
["2006-11-29",0,0,0,11,6.0000000000000005E-2,4.2375000000000003E-2,23.478888888888889,{"$f":"'RWH Calculator'!$C$56","v":0},23.478888888888889,1010.5023094205467,0,23.478888888888889,0,1010.5023094205467,23857.899226893773]
["2006-11-30",0,0,0,11,6.0000000000000005E-2,4.2375000000000003E-2,23.478888888888889,{"$f":"'RWH Calculator'!$C$56","v":0},23.478888888888889,987.02342053165785,0,23.478888888888889,0,987.02342053165785,23881.378115782663]
["2006-12-01",0,0,0,12,0.04,2.8250000000000001E-2,15.652592592592596,{"$f":"'RWH Calculator'!$C$56","v":0},15.652592592592596,971.37082793906529,0,15.652592592592596,0,971.37082793906529,23897.030708375256]
["2006-12-02",0,0,0,12,0.04,2.8250000000000001E-2,15.652592592592596,{"$f":"'RWH Calculator'!$C$56","v":0},15.652592592592596,955.71823534647274,0,15.652592592592596,0,955.71823534647274,23912.683300967848]
["2006-12-03",0,0,0,12,0.04,2.8250000000000001E-2,15.652592592592596,{"$f":"'RWH Calculator'!$C$56","v":0},15.652592592592596,940.06564275388018,0,15.652592592592596,0,940.06564275388018,23928.335893560441]
["2006-12-04",0,0,0,12,0.04,2.8250000000000001E-2,15.652592592592596,{"$f":"'RWH Calculator'!$C$56","v":0},15.652592592592596,924.41305016128763,0,15.652592592592596,0,924.41305016128763,23943.988486153034]
["2006-12-05",0,0,0,12,0.04,2.8250000000000001E-2,15.652592592592596,{"$f":"'RWH Calculator'!$C$56","v":0},15.652592592592596,908.76045756869507,0,15.652592592592596,0,908.76045756869507,23959.641078745626]
["2006-12-06",0,0,0,12,0.04,2.8250000000000001E-2,15.652592592592596,{"$f":"'RWH Calculator'!$C$56","v":0},15.652592592592596,893.10786497610252,0,15.652592592592596,0,893.10786497610252,23975.293671338219]
["2006-12-07",0,0,0,12,0.04,2.8250000000000001E-2,15.652592592592596,{"$f":"'RWH Calculator'!$C$56","v":0},15.652592592592596,877.45527238350996,0,15.652592592592596,0,877.45527238350996,23990.946263930811]
["2006-12-08",0.3,190.73999999999998,190.73999999999998,12,0.04,2.8250000000000001E-2,0,{"$f":"'RWH Calculator'!$C$56","v":0},0,1057.4600871983243,180.00481481481438,0,10.7351851851856,1068.19527238351,23990.946263930811]
["2006-12-09",0.62,394.19600000000003,394.19600000000003,12,0.04,2.8250000000000001E-2,0,{"$f":"'RWH Calculator'!$C$56","v":0},0,1057.4600871983243,0,0,394.19600000000003,1451.6560871983243,23990.946263930811]
["2006-12-10",0.37,235.24600000000001,235.24600000000001,12,0.04,2.8250000000000001E-2,0,{"$f":"'RWH Calculator'!$C$56","v":0},0,1057.4600871983243,0,0,235.24600000000001,1292.7060871983244,23990.946263930811]
["2006-12-11",0.01,6.3580000000000014,6.3580000000000014,12,0.04,2.8250000000000001E-2,10.111851851851855,{"$f":"'RWH Calculator'!$C$56","v":0},10.111851851851855,1053.7062353464723,6.3580000000000014,10.111851851851855,0,1053.7062353464723,24001.058115782664]
["2006-12-12",2.3399999999999994,1487.7719999999997,1487.7719999999997,12,0.04,2.8250000000000001E-2,0,{"$f":"'RWH Calculator'!$C$56","v":0},0,1057.4600871983243,3.753851851852005,0,1484.0181481481477,2541.478235346472,24001.058115782664]
["2006-12-13",0.24000000000000005,152.59200000000004,152.59200000000004,12,0.04,2.8250000000000001E-2,0,{"$f":"'RWH Calculator'!$C$56","v":0},0,1057.4600871983243,0,0,152.59200000000004,1210.0520871983244,24001.058115782664]
["2006-12-14",6.0000000000000005E-2,38.148000000000003,38.148000000000003,12,0.04,2.8250000000000001E-2,0,{"$f":"'RWH Calculator'!$C$56","v":0},0,1057.4600871983243,0,0,38.148000000000003,1095.6080871983243,24001.058115782664]
["2006-12-15",0.2,127.16000000000001,127.16000000000001,12,0.04,2.8250000000000001E-2,0,{"$f":"'RWH Calculator'!$C$56","v":0},0,1057.4600871983243,0,0,127.16000000000001,1184.6200871983244,24001.058115782664]
["2006-12-16",0,0,0,12,0.04,2.8250000000000001E-2,15.652592592592596,{"$f":"'RWH Calculator'!$C$56","v":0},15.652592592592596,1041.8074946057318,0,15.652592592592596,0,1041.8074946057318,24016.710708375256]
["2006-12-17",0,0,0,12,{"$f":"IF($B$2=\"Western SF\", VLOOKUP(E2187,$R$6:$U$17, 4),VLOOKUP(E2187, $R$6:$V$17,5))","v":0.04},2.8250000000000001E-2,15.652592592592596,{"$f":"'RWH Calculator'!$C$56","v":0},15.652592592592596,1026.1549020131392,0,15.652592592592596,0,1026.1549020131392,24032.363300967849]
["2006-12-18",0,0,0,{"$f":"MONTH(A2188)","v":12},0.04,{"$f":"F2188*$B$6","v":2.8250000000000001E-2},15.652592592592596,{"$f":"'RWH Calculator'!$C$56","v":0},{"$f":"H2188+I2188","v":15.652592592592596},1010.5023094205467,0,15.652592592592596,0,1010.5023094205467,24048.015893560441]
["2006-12-19",0,{"$f":"$B$3*$B$4*(B2189/12)*7.48","v":0},{"$f":"C2189","v":0},12,0.04,2.8250000000000001E-2,{"$f":"(IF(G2189-B2189>0,(G2189-B2189)/$B$7,0)/12*7.48)*$B$8","v":15.652592592592596},{"$f":"'RWH Calculator'!$C$56","v":0},15.652592592592596,{"$f":"IF(O2189<0, 0, IF(O2189>$H$2, $H$2, O2189))","v":994.84971682795413},{"$f":"IF(J2189>D2189,D2189, K2189-K2188+J2189)","v":0},{"$f":"IF(D2189+K2188>J2189,J2189, D2189+K2188)","v":15.652592592592596},{"$f":"IF(C2189>J2189, C2189-J2189-(K2189-K2188),0)","v":0},{"$f":"K2188+D2189-J2189","v":994.84971682795413},{"$f":"M2189+P2188","v":24063.668486153034}]
["2006-12-20",0,0,0,12,0.04,2.8250000000000001E-2,15.652592592592596,{"$f":"'RWH Calculator'!$C$56","v":0},15.652592592592596,979.19712423536157,0,15.652592592592596,0,979.19712423536157,24079.321078745626]
["2006-12-21",0.67,425.98600000000005,425.98600000000005,12,0.04,2.8250000000000001E-2,0,{"$f":"'RWH Calculator'!$C$56","v":0},0,1057.4600871983243,78.262962962962774,0,347.72303703703727,1405.1831242353617,24079.321078745626]
["2006-12-22",0.01,6.3580000000000014,6.3580000000000014,12,0.04,2.8250000000000001E-2,10.111851851851855,{"$f":"'RWH Calculator'!$C$56","v":0},10.111851851851855,1053.7062353464723,6.3580000000000014,10.111851851851855,0,1053.7062353464723,24089.432930597479]
["2006-12-23",0,0,0,12,0.04,2.8250000000000001E-2,15.652592592592596,{"$f":"'RWH Calculator'!$C$56","v":0},15.652592592592596,1038.0536427538798,0,15.652592592592596,0,1038.0536427538798,24105.085523190071]
["2006-12-24",0,0,0,12,0.04,2.8250000000000001E-2,15.652592592592596,{"$f":"'RWH Calculator'!$C$56","v":0},15.652592592592596,1022.4010501612872,0,15.652592592592596,0,1022.4010501612872,24120.738115782664]
["2006-12-25",0,0,0,12,0.04,2.8250000000000001E-2,15.652592592592596,{"$f":"'RWH Calculator'!$C$56","v":0},15.652592592592596,1006.7484575686947,0,15.652592592592596,0,1006.7484575686947,24136.390708375257]
["2006-12-26",0.39,247.96200000000002,247.96200000000002,12,0.04,2.8250000000000001E-2,0,{"$f":"'RWH Calculator'!$C$56","v":0},0,1057.4600871983243,50.71162962962967,0,197.25037037037035,1254.7104575686947,24136.390708375257]
["2006-12-27",0.1,63.580000000000005,63.580000000000005,12,0.04,2.8250000000000001E-2,0,{"$f":"'RWH Calculator'!$C$56","v":0},0,1057.4600871983243,0,0,63.580000000000005,1121.0400871983243,24136.390708375257]
["2006-12-28",0,0,0,12,0.04,2.8250000000000001E-2,15.652592592592596,{"$f":"'RWH Calculator'!$C$56","v":0},15.652592592592596,1041.8074946057318,0,15.652592592592596,0,1041.8074946057318,24152.043300967849]
["2006-12-29",0,0,0,12,0.04,2.8250000000000001E-2,15.652592592592596,{"$f":"'RWH Calculator'!$C$56","v":0},15.652592592592596,1026.1549020131392,0,15.652592592592596,0,1026.1549020131392,24167.695893560442]
["2006-12-30",0,0,0,12,0.04,2.8250000000000001E-2,15.652592592592596,{"$f":"'RWH Calculator'!$C$56","v":0},15.652592592592596,1010.5023094205467,0,15.652592592592596,0,1010.5023094205467,24183.348486153034]
["2006-12-31",0,0,0,12,0.04,2.8250000000000001E-2,15.652592592592596,{"$f":"'RWH Calculator'!$C$56","v":0},15.652592592592596,994.84971682795413,0,15.652592592592596,0,994.84971682795413,24199.001078745627]
["2007-01-01",0,0,0,1,0.04,2.8250000000000001E-2,15.652592592592596,{"$f":"'RWH Calculator'!$C$56","v":0},15.652592592592596,979.19712423536157,0,15.652592592592596,0,979.19712423536157,24214.653671338219]
["2007-01-02",0,0,0,1,0.04,2.8250000000000001E-2,15.652592592592596,{"$f":"'RWH Calculator'!$C$56","v":0},15.652592592592596,963.54453164276902,0,15.652592592592596,0,963.54453164276902,24230.306263930812]
["2007-01-03",0.1,63.580000000000005,63.580000000000005,1,0.04,2.8250000000000001E-2,0,{"$f":"'RWH Calculator'!$C$56","v":0},0,1027.1245316427689,63.579999999999927,0,7.815970093361102E-14,1027.1245316427689,24230.306263930812]
["2007-01-04",0.17,108.08600000000001,108.08600000000001,1,0.04,2.8250000000000001E-2,0,{"$f":"'RWH Calculator'!$C$56","v":0},0,1057.4600871983243,30.335555555555402,0,77.750444444444611,1135.210531642769,24230.306263930812]
["2007-01-05",0,0,0,1,0.04,2.8250000000000001E-2,15.652592592592596,{"$f":"'RWH Calculator'!$C$56","v":0},15.652592592592596,1041.8074946057318,0,15.652592592592596,0,1041.8074946057318,24245.958856523404]
["2007-01-06",0,0,0,1,0.04,2.8250000000000001E-2,15.652592592592596,{"$f":"'RWH Calculator'!$C$56","v":0},15.652592592592596,1026.1549020131392,0,15.652592592592596,0,1026.1549020131392,24261.611449115997]
["2007-01-07",0,0,0,1,0.04,2.8250000000000001E-2,15.652592592592596,{"$f":"'RWH Calculator'!$C$56","v":0},15.652592592592596,1010.5023094205467,0,15.652592592592596,0,1010.5023094205467,24277.26404170859]
["2007-01-08",0,0,0,1,0.04,2.8250000000000001E-2,15.652592592592596,{"$f":"'RWH Calculator'!$C$56","v":0},15.652592592592596,994.84971682795413,0,15.652592592592596,0,994.84971682795413,24292.916634301182]
["2007-01-09",0,0,0,1,0.04,2.8250000000000001E-2,15.652592592592596,{"$f":"'RWH Calculator'!$C$56","v":0},15.652592592592596,979.19712423536157,0,15.652592592592596,0,979.19712423536157,24308.569226893775]
["2007-01-10",0,0,0,1,0.04,2.8250000000000001E-2,15.652592592592596,{"$f":"'RWH Calculator'!$C$56","v":0},15.652592592592596,963.54453164276902,0,15.652592592592596,0,963.54453164276902,24324.221819486367]
["2007-01-11",0,0,0,1,0.04,2.8250000000000001E-2,15.652592592592596,{"$f":"'RWH Calculator'!$C$56","v":0},15.652592592592596,947.89193905017646,0,15.652592592592596,0,947.89193905017646,24339.87441207896]
["2007-01-12",0,0,0,1,0.04,2.8250000000000001E-2,15.652592592592596,{"$f":"'RWH Calculator'!$C$56","v":0},15.652592592592596,932.23934645758391,0,15.652592592592596,0,932.23934645758391,24355.527004671552]
["2007-01-13",0,0,0,1,0.04,2.8250000000000001E-2,15.652592592592596,{"$f":"'RWH Calculator'!$C$56","v":0},15.652592592592596,916.58675386499135,0,15.652592592592596,0,916.58675386499135,24371.179597264145]
["2007-01-14",0,0,0,1,0.04,2.8250000000000001E-2,15.652592592592596,{"$f":"'RWH Calculator'!$C$56","v":0},15.652592592592596,900.9341612723988,0,15.652592592592596,0,900.9341612723988,24386.832189856737]
["2007-01-15",0,0,0,1,0.04,2.8250000000000001E-2,15.652592592592596,{"$f":"'RWH Calculator'!$C$56","v":0},15.652592592592596,885.28156867980624,0,15.652592592592596,0,885.28156867980624,24402.48478244933]
["2007-01-16",0.16,101.72800000000002,101.72800000000002,1,0.04,2.8250000000000001E-2,0,{"$f":"'RWH Calculator'!$C$56","v":0},0,987.00956867980631,101.72800000000007,0,-4.2632564145606011E-14,987.00956867980631,24402.48478244933]
["2007-01-17",0,0,0,1,0.04,2.8250000000000001E-2,15.652592592592596,{"$f":"'RWH Calculator'!$C$56","v":0},15.652592592592596,971.35697608721375,0,15.652592592592596,0,971.35697608721375,24418.137375041922]
["2007-01-18",0,0,0,1,0.04,2.8250000000000001E-2,15.652592592592596,{"$f":"'RWH Calculator'!$C$56","v":0},15.652592592592596,955.7043834946212,0,15.652592592592596,0,955.7043834946212,24433.789967634515]
["2007-01-19",0,0,0,1,0.04,2.8250000000000001E-2,15.652592592592596,{"$f":"'RWH Calculator'!$C$56","v":0},15.652592592592596,940.05179090202864,0,15.652592592592596,0,940.05179090202864,24449.442560227108]
["2007-01-20",0,0,0,1,0.04,2.8250000000000001E-2,15.652592592592596,{"$f":"'RWH Calculator'!$C$56","v":0},15.652592592592596,924.39919830943609,0,15.652592592592596,0,924.39919830943609,24465.0951528197]
["2007-01-21",0,0,0,1,0.04,2.8250000000000001E-2,15.652592592592596,{"$f":"'RWH Calculator'!$C$56","v":0},15.652592592592596,908.74660571684353,0,15.652592592592596,0,908.74660571684353,24480.747745412293]
["2007-01-22",0,0,0,1,0.04,2.8250000000000001E-2,15.652592592592596,{"$f":"'RWH Calculator'!$C$56","v":0},15.652592592592596,893.09401312425098,0,15.652592592592596,0,893.09401312425098,24496.400338004885]
["2007-01-23",0,0,0,1,0.04,2.8250000000000001E-2,15.652592592592596,{"$f":"'RWH Calculator'!$C$56","v":0},15.652592592592596,877.44142053165842,0,15.652592592592596,0,877.44142053165842,24512.052930597478]
["2007-01-24",0,0,0,1,0.04,2.8250000000000001E-2,15.652592592592596,{"$f":"'RWH Calculator'!$C$56","v":0},15.652592592592596,861.78882793906587,0,15.652592592592596,0,861.78882793906587,24527.70552319007]
["2007-01-25",0,0,0,1,0.04,2.8250000000000001E-2,15.652592592592596,{"$f":"'RWH Calculator'!$C$56","v":0},15.652592592592596,846.13623534647331,0,15.652592592592596,0,846.13623534647331,24543.358115782663]
["2007-01-26",0.08,50.864000000000011,50.864000000000011,1,0.04,2.8250000000000001E-2,0,{"$f":"'RWH Calculator'!$C$56","v":0},0,897.00023534647335,50.864000000000033,0,-2.1316282072803006E-14,897.00023534647335,24543.358115782663]
["2007-01-27",9.9999999999999992E-2,63.580000000000005,63.580000000000005,1,0.04,2.8250000000000001E-2,0,{"$f":"'RWH Calculator'!$C$56","v":0},0,960.58023534647339,63.580000000000041,0,-3.5527136788005009E-14,960.58023534647339,24543.358115782663]
["2007-01-28",0.11,69.938000000000002,69.938000000000002,1,0.04,2.8250000000000001E-2,0,{"$f":"'RWH Calculator'!$C$56","v":0},0,1030.5182353464734,69.937999999999988,0,1.4210854715202004E-14,1030.5182353464734,24543.358115782663]
["2007-01-29",0,0,0,1,0.04,2.8250000000000001E-2,15.652592592592596,{"$f":"'RWH Calculator'!$C$56","v":0},15.652592592592596,1014.8656427538808,0,15.652592592592596,0,1014.8656427538808,24559.010708375255]
["2007-01-30",0,0,0,1,0.04,2.8250000000000001E-2,15.652592592592596,{"$f":"'RWH Calculator'!$C$56","v":0},15.652592592592596,999.21305016128827,0,15.652592592592596,0,999.21305016128827,24574.663300967848]
["2007-01-31",0,0,0,1,0.04,2.8250000000000001E-2,15.652592592592596,{"$f":"'RWH Calculator'!$C$56","v":0},15.652592592592596,983.56045756869571,0,15.652592592592596,0,983.56045756869571,24590.315893560441]
["2007-02-01",0,0,0,2,0.06,4.2375000000000003E-2,23.478888888888889,{"$f":"'RWH Calculator'!$C$56","v":0},23.478888888888889,960.08156867980688,0,23.478888888888889,0,960.08156867980688,24613.794782449331]
["2007-02-02",0,0,0,2,0.06,4.2375000000000003E-2,23.478888888888889,{"$f":"'RWH Calculator'!$C$56","v":0},23.478888888888889,936.60267979091805,0,23.478888888888889,0,936.60267979091805,24637.273671338222]
["2007-02-03",0,0,0,2,0.06,4.2375000000000003E-2,23.478888888888889,{"$f":"'RWH Calculator'!$C$56","v":0},23.478888888888889,913.12379090202921,0,23.478888888888889,0,913.12379090202921,24660.752560227113]
["2007-02-04",0,0,0,2,0.06,4.2375000000000003E-2,23.478888888888889,{"$f":"'RWH Calculator'!$C$56","v":0},23.478888888888889,889.64490201314038,0,23.478888888888889,0,889.64490201314038,24684.231449116003]
["2007-02-05",0,0,0,2,0.06,4.2375000000000003E-2,23.478888888888889,{"$f":"'RWH Calculator'!$C$56","v":0},23.478888888888889,866.16601312425155,0,23.478888888888889,0,866.16601312425155,24707.710338004894]
["2007-02-06",0,0,0,2,0.06,4.2375000000000003E-2,23.478888888888889,{"$f":"'RWH Calculator'!$C$56","v":0},23.478888888888889,842.68712423536272,0,23.478888888888889,0,842.68712423536272,24731.189226893785]
["2007-02-07",0.21000000000000002,133.51800000000003,133.51800000000003,2,0.06,4.2375000000000003E-2,0,{"$f":"'RWH Calculator'!$C$56","v":0},0,976.20512423536275,133.51800000000003,0,0,976.20512423536275,24731.189226893785]
["2007-02-08",0.35,222.52999999999997,222.52999999999997,2,0.06,4.2375000000000003E-2,0,{"$f":"'RWH Calculator'!$C$56","v":0},0,1057.4600871983243,81.254962962961599,0,141.27503703703837,1198.7351242353627,24731.189226893785]
["2007-02-09",0.55000000000000004,349.69000000000005,349.69000000000005,2,0.06,4.2375000000000003E-2,0,{"$f":"'RWH Calculator'!$C$56","v":0},0,1057.4600871983243,0,0,349.69000000000005,1407.1500871983244,24731.189226893785]
["2007-02-10",1.26,801.10799999999995,801.10799999999995,2,0.06,4.2375000000000003E-2,0,{"$f":"'RWH Calculator'!$C$56","v":0},0,1057.4600871983243,0,0,801.10799999999995,1858.5680871983243,24731.189226893785]
["2007-02-11",6.0000000000000005E-2,38.148000000000003,38.148000000000003,2,0.06,4.2375000000000003E-2,0,{"$f":"'RWH Calculator'!$C$56","v":0},0,1057.4600871983243,0,0,38.148000000000003,1095.6080871983243,24731.189226893785]
["2007-02-12",0.24,152.59200000000001,152.59200000000001,2,0.06,4.2375000000000003E-2,0,{"$f":"'RWH Calculator'!$C$56","v":0},0,1057.4600871983243,0,0,152.59200000000001,1210.0520871983244,24731.189226893785]
["2007-02-13",0,0,0,2,0.06,4.2375000000000003E-2,23.478888888888889,{"$f":"'RWH Calculator'!$C$56","v":0},23.478888888888889,1033.9811983094355,0,23.478888888888889,0,1033.9811983094355,24754.668115782675]
["2007-02-14",0,0,0,2,0.06,4.2375000000000003E-2,23.478888888888889,{"$f":"'RWH Calculator'!$C$56","v":0},23.478888888888889,1010.5023094205467,0,23.478888888888889,0,1010.5023094205467,24778.147004671566]
["2007-02-15",0,0,0,2,0.06,4.2375000000000003E-2,23.478888888888889,{"$f":"'RWH Calculator'!$C$56","v":0},23.478888888888889,987.02342053165785,0,23.478888888888889,0,987.02342053165785,24801.625893560456]
["2007-02-16",0,0,0,2,0.06,4.2375000000000003E-2,23.478888888888889,{"$f":"'RWH Calculator'!$C$56","v":0},23.478888888888889,963.54453164276902,0,23.478888888888889,0,963.54453164276902,24825.104782449347]
["2007-02-17",0,0,0,2,0.06,4.2375000000000003E-2,23.478888888888889,{"$f":"'RWH Calculator'!$C$56","v":0},23.478888888888889,940.06564275388018,0,23.478888888888889,0,940.06564275388018,24848.583671338238]
["2007-02-18",0,0,0,2,0.06,4.2375000000000003E-2,23.478888888888889,{"$f":"'RWH Calculator'!$C$56","v":0},23.478888888888889,916.58675386499135,0,23.478888888888889,0,916.58675386499135,24872.062560227128]
["2007-02-19",0,0,0,2,{"$f":"IF($B$2=\"Western SF\", VLOOKUP(E2251,$R$6:$U$17, 4),VLOOKUP(E2251, $R$6:$V$17,5))","v":0.06},4.2375000000000003E-2,23.478888888888889,{"$f":"'RWH Calculator'!$C$56","v":0},23.478888888888889,893.10786497610252,0,23.478888888888889,0,893.10786497610252,24895.541449116019]
["2007-02-20",0,0,0,{"$f":"MONTH(A2252)","v":2},0.06,{"$f":"F2252*$B$6","v":4.2375000000000003E-2},23.478888888888889,{"$f":"'RWH Calculator'!$C$56","v":0},{"$f":"H2252+I2252","v":23.478888888888889},869.62897608721369,0,23.478888888888889,0,869.62897608721369,24919.02033800491]
["2007-02-21",0.01,{"$f":"$B$3*$B$4*(B2253/12)*7.48","v":6.3580000000000014},{"$f":"C2253","v":6.3580000000000014},2,0.06,4.2375000000000003E-2,{"$f":"(IF(G2253-B2253>0,(G2253-B2253)/$B$7,0)/12*7.48)*$B$8","v":17.938148148148152},{"$f":"'RWH Calculator'!$C$56","v":0},17.938148148148152,{"$f":"IF(O2253<0, 0, IF(O2253>$H$2, $H$2, O2253))","v":858.04882793906552},{"$f":"IF(J2253>D2253,D2253, K2253-K2252+J2253)","v":6.3580000000000014},{"$f":"IF(D2253+K2252>J2253,J2253, D2253+K2252)","v":17.938148148148152},{"$f":"IF(C2253>J2253, C2253-J2253-(K2253-K2252),0)","v":0},{"$f":"K2252+D2253-J2253","v":858.04882793906552},{"$f":"M2253+P2252","v":24936.958486153057}]
["2007-02-22",0.8600000000000001,546.78800000000012,546.78800000000012,2,0.06,4.2375000000000003E-2,0,{"$f":"'RWH Calculator'!$C$56","v":0},0,1057.4600871983243,199.41125925925883,0,347.3767407407413,1404.8368279390656,24936.958486153057]
["2007-02-23",0.05,31.790000000000003,31.790000000000003,2,0.06,4.2375000000000003E-2,0,{"$f":"'RWH Calculator'!$C$56","v":0},0,1057.4600871983243,0,0,31.790000000000003,1089.2500871983243,24936.958486153057]
["2007-02-24",9.9999999999999992E-2,63.580000000000005,63.580000000000005,2,0.06,4.2375000000000003E-2,0,{"$f":"'RWH Calculator'!$C$56","v":0},0,1057.4600871983243,0,0,63.580000000000005,1121.0400871983243,24936.958486153057]
["2007-02-25",0.09,57.222000000000001,57.222000000000001,2,0.06,4.2375000000000003E-2,0,{"$f":"'RWH Calculator'!$C$56","v":0},0,1057.4600871983243,0,0,57.222000000000001,1114.6820871983243,24936.958486153057]
["2007-02-26",0.54,343.33200000000005,343.33200000000005,2,0.06,4.2375000000000003E-2,0,{"$f":"'RWH Calculator'!$C$56","v":0},0,1057.4600871983243,0,0,343.33200000000005,1400.7920871983245,24936.958486153057]
["2007-02-27",0.47000000000000003,298.82600000000002,298.82600000000002,2,0.06,4.2375000000000003E-2,0,{"$f":"'RWH Calculator'!$C$56","v":0},0,1057.4600871983243,0,0,298.82600000000002,1356.2860871983244,24936.958486153057]
["2007-02-28",0,0,0,2,0.06,4.2375000000000003E-2,23.478888888888889,{"$f":"'RWH Calculator'!$C$56","v":0},23.478888888888889,1033.9811983094355,0,23.478888888888889,0,1033.9811983094355,24960.437375041947]
["2007-03-01",0,0,0,3,0.1,7.0625000000000007E-2,39.131481481481487,{"$f":"'RWH Calculator'!$C$56","v":0},39.131481481481487,994.84971682795401,0,39.131481481481487,0,994.84971682795401,24999.56885652343]
["2007-03-02",0,0,0,3,0.1,7.0625000000000007E-2,39.131481481481487,{"$f":"'RWH Calculator'!$C$56","v":0},39.131481481481487,955.71823534647251,0,39.131481481481487,0,955.71823534647251,25038.700338004914]
["2007-03-03",0,0,0,3,0.1,7.0625000000000007E-2,39.131481481481487,{"$f":"'RWH Calculator'!$C$56","v":0},39.131481481481487,916.58675386499101,0,39.131481481481487,0,916.58675386499101,25077.831819486397]
["2007-03-04",0,0,0,3,0.1,7.0625000000000007E-2,39.131481481481487,{"$f":"'RWH Calculator'!$C$56","v":0},39.131481481481487,877.45527238350951,0,39.131481481481487,0,877.45527238350951,25116.96330096788]
["2007-03-05",0,0,0,3,0.1,7.0625000000000007E-2,39.131481481481487,{"$f":"'RWH Calculator'!$C$56","v":0},39.131481481481487,838.32379090202801,0,39.131481481481487,0,838.32379090202801,25156.094782449363]
["2007-03-06",0,0,0,3,0.1,7.0625000000000007E-2,39.131481481481487,{"$f":"'RWH Calculator'!$C$56","v":0},39.131481481481487,799.19230942054651,0,39.131481481481487,0,799.19230942054651,25195.226263930846]
["2007-03-07",0,0,0,3,0.1,7.0625000000000007E-2,39.131481481481487,{"$f":"'RWH Calculator'!$C$56","v":0},39.131481481481487,760.06082793906501,0,39.131481481481487,0,760.06082793906501,25234.35774541233]
["2007-03-08",0,0,0,3,0.1,7.0625000000000007E-2,39.131481481481487,{"$f":"'RWH Calculator'!$C$56","v":0},39.131481481481487,720.92934645758351,0,39.131481481481487,0,720.92934645758351,25273.489226893813]
["2007-03-09",0,0,0,3,0.1,7.0625000000000007E-2,39.131481481481487,{"$f":"'RWH Calculator'!$C$56","v":0},39.131481481481487,681.79786497610201,0,39.131481481481487,0,681.79786497610201,25312.620708375296]
["2007-03-10",0,0,0,3,0.1,7.0625000000000007E-2,39.131481481481487,{"$f":"'RWH Calculator'!$C$56","v":0},39.131481481481487,642.6663834946205,0,39.131481481481487,0,642.6663834946205,25351.752189856779]
["2007-03-11",0,0,0,3,0.1,7.0625000000000007E-2,39.131481481481487,{"$f":"'RWH Calculator'!$C$56","v":0},39.131481481481487,603.534902013139,0,39.131481481481487,0,603.534902013139,25390.883671338263]
["2007-03-12",0,0,0,3,0.1,7.0625000000000007E-2,39.131481481481487,{"$f":"'RWH Calculator'!$C$56","v":0},39.131481481481487,564.4034205316575,0,39.131481481481487,0,564.4034205316575,25430.015152819746]
["2007-03-13",0,0,0,3,0.1,7.0625000000000007E-2,39.131481481481487,{"$f":"'RWH Calculator'!$C$56","v":0},39.131481481481487,525.271939050176,0,39.131481481481487,0,525.271939050176,25469.146634301229]
["2007-03-14",0,0,0,3,0.1,7.0625000000000007E-2,39.131481481481487,{"$f":"'RWH Calculator'!$C$56","v":0},39.131481481481487,486.1404575686945,0,39.131481481481487,0,486.1404575686945,25508.278115782712]
["2007-03-15",0,0,0,3,0.1,7.0625000000000007E-2,39.131481481481487,{"$f":"'RWH Calculator'!$C$56","v":0},39.131481481481487,447.008976087213,0,39.131481481481487,0,447.008976087213,25547.409597264195]
["2007-03-16",0,0,0,3,0.1,7.0625000000000007E-2,39.131481481481487,{"$f":"'RWH Calculator'!$C$56","v":0},39.131481481481487,407.8774946057315,0,39.131481481481487,0,407.8774946057315,25586.541078745679]
["2007-03-17",0,0,0,3,0.1,7.0625000000000007E-2,39.131481481481487,{"$f":"'RWH Calculator'!$C$56","v":0},39.131481481481487,368.74601312425,0,39.131481481481487,0,368.74601312425,25625.672560227162]
["2007-03-18",0,0,0,3,0.1,7.0625000000000007E-2,39.131481481481487,{"$f":"'RWH Calculator'!$C$56","v":0},39.131481481481487,329.6145316427685,0,39.131481481481487,0,329.6145316427685,25664.804041708645]
["2007-03-19",0,0,0,3,0.1,7.0625000000000007E-2,39.131481481481487,{"$f":"'RWH Calculator'!$C$56","v":0},39.131481481481487,290.483050161287,0,39.131481481481487,0,290.483050161287,25703.935523190128]
["2007-03-20",0.2,127.16000000000001,127.16000000000001,3,0.1,7.0625000000000007E-2,0,{"$f":"'RWH Calculator'!$C$56","v":0},0,417.64305016128702,127.16000000000003,0,-1.4210854715202004E-14,417.64305016128702,25703.935523190128]
["2007-03-21",0,0,0,3,0.1,7.0625000000000007E-2,39.131481481481487,{"$f":"'RWH Calculator'!$C$56","v":0},39.131481481481487,378.51156867980552,0,39.131481481481487,0,378.51156867980552,25743.067004671611]
["2007-03-22",0,0,0,3,0.1,7.0625000000000007E-2,39.131481481481487,{"$f":"'RWH Calculator'!$C$56","v":0},39.131481481481487,339.38008719832402,0,39.131481481481487,0,339.38008719832402,25782.198486153095]
["2007-03-23",0,0,0,3,0.1,7.0625000000000007E-2,39.131481481481487,{"$f":"'RWH Calculator'!$C$56","v":0},39.131481481481487,300.24860571684252,0,39.131481481481487,0,300.24860571684252,25821.329967634578]
["2007-03-24",0,0,0,3,0.1,7.0625000000000007E-2,39.131481481481487,{"$f":"'RWH Calculator'!$C$56","v":0},39.131481481481487,261.11712423536102,0,39.131481481481487,0,261.11712423536102,25860.461449116061]
["2007-03-25",0.02,12.716000000000003,12.716000000000003,3,0.1,7.0625000000000007E-2,28.050000000000004,{"$f":"'RWH Calculator'!$C$56","v":0},28.050000000000004,245.78312423536102,12.716000000000003,28.050000000000004,0,245.78312423536102,25888.51144911606]
["2007-03-26",0.30000000000000004,190.74000000000004,190.74000000000004,3,0.1,7.0625000000000007E-2,0,{"$f":"'RWH Calculator'!$C$56","v":0},0,436.52312423536102,190.74,0,2.8421709430404007E-14,436.52312423536102,25888.51144911606]
["2007-03-27",0,0,0,3,0.1,7.0625000000000007E-2,39.131481481481487,{"$f":"'RWH Calculator'!$C$56","v":0},39.131481481481487,397.39164275387952,0,39.131481481481487,0,397.39164275387952,25927.642930597543]
["2007-03-28",0,0,0,3,0.1,7.0625000000000007E-2,39.131481481481487,{"$f":"'RWH Calculator'!$C$56","v":0},39.131481481481487,358.26016127239802,0,39.131481481481487,0,358.26016127239802,25966.774412079027]
["2007-03-29",0,0,0,3,0.1,7.0625000000000007E-2,39.131481481481487,{"$f":"'RWH Calculator'!$C$56","v":0},39.131481481481487,319.12867979091652,0,39.131481481481487,0,319.12867979091652,26005.90589356051]
["2007-03-30",0,0,0,3,0.1,7.0625000000000007E-2,39.131481481481487,{"$f":"'RWH Calculator'!$C$56","v":0},39.131481481481487,279.99719830943502,0,39.131481481481487,0,279.99719830943502,26045.037375041993]
["2007-03-31",0,0,0,3,0.1,7.0625000000000007E-2,39.131481481481487,{"$f":"'RWH Calculator'!$C$56","v":0},39.131481481481487,240.86571682795352,0,39.131481481481487,0,240.86571682795352,26084.168856523476]
["2007-04-01",0,0,0,4,0.13,9.1812500000000005E-2,50.870925925925924,{"$f":"'RWH Calculator'!$C$56","v":0},50.870925925925924,189.9947909020276,0,50.870925925925924,0,189.9947909020276,26135.039782449403]
["2007-04-02",0,0,0,4,0.13,9.1812500000000005E-2,50.870925925925924,{"$f":"'RWH Calculator'!$C$56","v":0},50.870925925925924,139.12386497610169,0,50.870925925925924,0,139.12386497610169,26185.91070837533]
["2007-04-03",0,0,0,4,0.13,9.1812500000000005E-2,50.870925925925924,{"$f":"'RWH Calculator'!$C$56","v":0},50.870925925925924,88.252939050175769,0,50.870925925925924,0,88.252939050175769,26236.781634301256]
["2007-04-04",0,0,0,4,0.13,9.1812500000000005E-2,50.870925925925924,{"$f":"'RWH Calculator'!$C$56","v":0},50.870925925925924,37.382013124249845,0,50.870925925925924,0,37.382013124249845,26287.652560227183]
["2007-04-05",0,0,0,4,0.13,9.1812500000000005E-2,50.870925925925924,{"$f":"'RWH Calculator'!$C$56","v":0},50.870925925925924,0,0,37.382013124249845,0,-13.488912801676079,26325.034573351433]
["2007-04-06",0,0,0,4,0.13,9.1812500000000005E-2,50.870925925925924,{"$f":"'RWH Calculator'!$C$56","v":0},50.870925925925924,0,0,0,0,-50.870925925925924,26325.034573351433]
["2007-04-07",0,0,0,4,0.13,9.1812500000000005E-2,50.870925925925924,{"$f":"'RWH Calculator'!$C$56","v":0},50.870925925925924,0,0,0,0,-50.870925925925924,26325.034573351433]
["2007-04-08",0,0,0,4,0.13,9.1812500000000005E-2,50.870925925925924,{"$f":"'RWH Calculator'!$C$56","v":0},50.870925925925924,0,0,0,0,-50.870925925925924,26325.034573351433]
["2007-04-09",0.03,19.074000000000002,19.074000000000002,4,0.13,9.1812500000000005E-2,34.248703703703711,{"$f":"'RWH Calculator'!$C$56","v":0},34.248703703703711,0,19.074000000000002,19.074000000000002,0,-15.17470370370371,26344.108573351434]
["2007-04-10",0,0,0,4,0.13,9.1812500000000005E-2,50.870925925925924,{"$f":"'RWH Calculator'!$C$56","v":0},50.870925925925924,0,0,0,0,-50.870925925925924,26344.108573351434]
["2007-04-11",0.15,95.36999999999999,95.36999999999999,4,0.13,9.1812500000000005E-2,0,{"$f":"'RWH Calculator'!$C$56","v":0},0,95.36999999999999,95.36999999999999,0,0,95.36999999999999,26344.108573351434]
["2007-04-12",0,0,0,4,0.13,9.1812500000000005E-2,50.870925925925924,{"$f":"'RWH Calculator'!$C$56","v":0},50.870925925925924,44.499074074074066,0,50.870925925925924,0,44.499074074074066,26394.97949927736]
["2007-04-13",0,0,0,4,0.13,9.1812500000000005E-2,50.870925925925924,{"$f":"'RWH Calculator'!$C$56","v":0},50.870925925925924,0,0,44.499074074074066,0,-6.3718518518518579,26439.478573351433]
["2007-04-14",0.27999999999999997,178.024,178.024,4,0.13,9.1812500000000005E-2,0,{"$f":"'RWH Calculator'!$C$56","v":0},0,178.024,178.024,0,0,178.024,26439.478573351433]
["2007-04-15",0,0,0,4,0.13,9.1812500000000005E-2,50.870925925925924,{"$f":"'RWH Calculator'!$C$56","v":0},50.870925925925924,127.15307407407408,0,50.870925925925924,0,127.15307407407408,26490.349499277359]
["2007-04-16",0,0,0,4,0.13,9.1812500000000005E-2,50.870925925925924,{"$f":"'RWH Calculator'!$C$56","v":0},50.870925925925924,76.282148148148167,0,50.870925925925924,0,76.282148148148167,26541.220425203286]
["2007-04-17",0,0,0,4,0.13,9.1812500000000005E-2,50.870925925925924,{"$f":"'RWH Calculator'!$C$56","v":0},50.870925925925924,25.411222222222243,0,50.870925925925924,0,25.411222222222243,26592.091351129213]
["2007-04-18",0,0,0,4,0.13,9.1812500000000005E-2,50.870925925925924,{"$f":"'RWH Calculator'!$C$56","v":0},50.870925925925924,0,0,25.411222222222243,0,-25.459703703703681,26617.502573351434]
["2007-04-19",0.27,171.66600000000003,171.66600000000003,4,0.13,9.1812500000000005E-2,0,{"$f":"'RWH Calculator'!$C$56","v":0},0,171.66600000000003,171.66600000000003,0,0,171.66600000000003,26617.502573351434]
["2007-04-20",0.14000000000000001,89.012000000000015,89.012000000000015,4,0.13,9.1812500000000005E-2,0,{"$f":"'RWH Calculator'!$C$56","v":0},0,260.67800000000005,89.012000000000029,0,-1.4210854715202004E-14,260.67800000000005,26617.502573351434]
["2007-04-21",0.13,82.654000000000011,82.654000000000011,4,0.13,9.1812500000000005E-2,0,{"$f":"'RWH Calculator'!$C$56","v":0},0,343.33200000000005,82.653999999999996,0,1.4210854715202004E-14,343.33200000000005,26617.502573351434]
["2007-04-22",0.43999999999999995,279.75199999999995,279.75199999999995,4,0.13,9.1812500000000005E-2,0,{"$f":"'RWH Calculator'!$C$56","v":0},0,623.08400000000006,279.75200000000001,0,-5.6843418860808015E-14,623.08400000000006,26617.502573351434]
["2007-04-23",0,0,0,4,0.13,9.1812500000000005E-2,50.870925925925924,{"$f":"'RWH Calculator'!$C$56","v":0},50.870925925925924,572.21307407407414,0,50.870925925925924,0,572.21307407407414,26668.373499277361]
["2007-04-24",0,0,0,4,{"$f":"IF($B$2=\"Western SF\", VLOOKUP(E2315,$R$6:$U$17, 4),VLOOKUP(E2315, $R$6:$V$17,5))","v":0.13},9.1812500000000005E-2,50.870925925925924,{"$f":"'RWH Calculator'!$C$56","v":0},50.870925925925924,521.34214814814823,0,50.870925925925924,0,521.34214814814823,26719.244425203287]
["2007-04-25",0,0,0,{"$f":"MONTH(A2316)","v":4},0.13,{"$f":"F2316*$B$6","v":9.1812500000000005E-2},50.870925925925924,{"$f":"'RWH Calculator'!$C$56","v":0},{"$f":"H2316+I2316","v":50.870925925925924},470.47122222222231,0,50.870925925925924,0,470.47122222222231,26770.115351129214]
["2007-04-26",0,{"$f":"$B$3*$B$4*(B2317/12)*7.48","v":0},{"$f":"C2317","v":0},4,0.13,9.1812500000000005E-2,{"$f":"(IF(G2317-B2317>0,(G2317-B2317)/$B$7,0)/12*7.48)*$B$8","v":50.870925925925924},{"$f":"'RWH Calculator'!$C$56","v":0},50.870925925925924,{"$f":"IF(O2317<0, 0, IF(O2317>$H$2, $H$2, O2317))","v":419.60029629629639},{"$f":"IF(J2317>D2317,D2317, K2317-K2316+J2317)","v":0},{"$f":"IF(D2317+K2316>J2317,J2317, D2317+K2316)","v":50.870925925925924},{"$f":"IF(C2317>J2317, C2317-J2317-(K2317-K2316),0)","v":0},{"$f":"K2316+D2317-J2317","v":419.60029629629639},{"$f":"M2317+P2316","v":26820.986277055141}]
["2007-04-27",0,0,0,4,0.13,9.1812500000000005E-2,50.870925925925924,{"$f":"'RWH Calculator'!$C$56","v":0},50.870925925925924,368.72937037037048,0,50.870925925925924,0,368.72937037037048,26871.857202981068]
["2007-04-28",0,0,0,4,0.13,9.1812500000000005E-2,50.870925925925924,{"$f":"'RWH Calculator'!$C$56","v":0},50.870925925925924,317.85844444444456,0,50.870925925925924,0,317.85844444444456,26922.728128906994]
["2007-04-29",0,0,0,4,0.13,9.1812500000000005E-2,50.870925925925924,{"$f":"'RWH Calculator'!$C$56","v":0},50.870925925925924,266.98751851851864,0,50.870925925925924,0,266.98751851851864,26973.599054832921]
["2007-04-30",0,0,0,4,0.13,9.1812500000000005E-2,50.870925925925924,{"$f":"'RWH Calculator'!$C$56","v":0},50.870925925925924,216.11659259259272,0,50.870925925925924,0,216.11659259259272,27024.469980758848]
["2007-05-01",0,0,0,5,0.15000000000000002,0.10593750000000002,58.697222222222237,{"$f":"'RWH Calculator'!$C$56","v":0},58.697222222222237,157.41937037037047,0,58.697222222222237,0,157.41937037037047,27083.167202981069]
["2007-05-02",0.22000000000000003,139.87600000000003,139.87600000000003,5,0.15000000000000002,0.10593750000000002,0,{"$f":"'RWH Calculator'!$C$56","v":0},0,297.29537037037051,139.87600000000003,0,0,297.29537037037051,27083.167202981069]
["2007-05-03",0.01,6.3580000000000014,6.3580000000000014,5,0.15000000000000002,0.10593750000000002,53.156481481481499,{"$f":"'RWH Calculator'!$C$56","v":0},53.156481481481499,250.496888888889,6.3580000000000014,53.156481481481499,0,250.496888888889,27136.32368446255]
["2007-05-04",0.2,127.16000000000001,127.16000000000001,5,0.15000000000000002,0.10593750000000002,0,{"$f":"'RWH Calculator'!$C$56","v":0},0,377.656888888889,127.16,0,1.4210854715202004E-14,377.656888888889,27136.32368446255]
["2007-05-05",0,0,0,5,0.15000000000000002,0.10593750000000002,58.697222222222237,{"$f":"'RWH Calculator'!$C$56","v":0},58.697222222222237,318.95966666666675,0,58.697222222222237,0,318.95966666666675,27195.020906684771]
["2007-05-06",0,0,0,5,0.15000000000000002,0.10593750000000002,58.697222222222237,{"$f":"'RWH Calculator'!$C$56","v":0},58.697222222222237,260.2624444444445,0,58.697222222222237,0,260.2624444444445,27253.718128906992]
["2007-05-07",0,0,0,5,0.15000000000000002,0.10593750000000002,58.697222222222237,{"$f":"'RWH Calculator'!$C$56","v":0},58.697222222222237,201.56522222222225,0,58.697222222222237,0,201.56522222222225,27312.415351129213]
["2007-05-08",0,0,0,5,0.15000000000000002,0.10593750000000002,58.697222222222237,{"$f":"'RWH Calculator'!$C$56","v":0},58.697222222222237,142.86799999999999,0,58.697222222222237,0,142.86799999999999,27371.112573351435]
["2007-05-09",0,0,0,5,0.15000000000000002,0.10593750000000002,58.697222222222237,{"$f":"'RWH Calculator'!$C$56","v":0},58.697222222222237,84.170777777777758,0,58.697222222222237,0,84.170777777777758,27429.809795573656]
["2007-05-10",0,0,0,5,0.15000000000000002,0.10593750000000002,58.697222222222237,{"$f":"'RWH Calculator'!$C$56","v":0},58.697222222222237,25.473555555555521,0,58.697222222222237,0,25.473555555555521,27488.507017795877]
["2007-05-11",0,0,0,5,0.15000000000000002,0.10593750000000002,58.697222222222237,{"$f":"'RWH Calculator'!$C$56","v":0},58.697222222222237,0,0,25.473555555555521,0,-33.223666666666716,27513.980573351433]
["2007-05-12",0,0,0,5,0.15000000000000002,0.10593750000000002,58.697222222222237,{"$f":"'RWH Calculator'!$C$56","v":0},58.697222222222237,0,0,0,0,-58.697222222222237,27513.980573351433]
["2007-05-13",0,0,0,5,0.15000000000000002,0.10593750000000002,58.697222222222237,{"$f":"'RWH Calculator'!$C$56","v":0},58.697222222222237,0,0,0,0,-58.697222222222237,27513.980573351433]
["2007-05-14",0,0,0,5,0.15000000000000002,0.10593750000000002,58.697222222222237,{"$f":"'RWH Calculator'!$C$56","v":0},58.697222222222237,0,0,0,0,-58.697222222222237,27513.980573351433]
["2007-05-15",0,0,0,5,0.15000000000000002,0.10593750000000002,58.697222222222237,{"$f":"'RWH Calculator'!$C$56","v":0},58.697222222222237,0,0,0,0,-58.697222222222237,27513.980573351433]
["2007-05-16",0,0,0,5,0.15000000000000002,0.10593750000000002,58.697222222222237,{"$f":"'RWH Calculator'!$C$56","v":0},58.697222222222237,0,0,0,0,-58.697222222222237,27513.980573351433]
["2007-05-17",0,0,0,5,0.15000000000000002,0.10593750000000002,58.697222222222237,{"$f":"'RWH Calculator'!$C$56","v":0},58.697222222222237,0,0,0,0,-58.697222222222237,27513.980573351433]
["2007-05-18",0,0,0,5,0.15000000000000002,0.10593750000000002,58.697222222222237,{"$f":"'RWH Calculator'!$C$56","v":0},58.697222222222237,0,0,0,0,-58.697222222222237,27513.980573351433]
["2007-05-19",0,0,0,5,0.15000000000000002,0.10593750000000002,58.697222222222237,{"$f":"'RWH Calculator'!$C$56","v":0},58.697222222222237,0,0,0,0,-58.697222222222237,27513.980573351433]
["2007-05-20",0,0,0,5,0.15000000000000002,0.10593750000000002,58.697222222222237,{"$f":"'RWH Calculator'!$C$56","v":0},58.697222222222237,0,0,0,0,-58.697222222222237,27513.980573351433]
["2007-05-21",0,0,0,5,0.15000000000000002,0.10593750000000002,58.697222222222237,{"$f":"'RWH Calculator'!$C$56","v":0},58.697222222222237,0,0,0,0,-58.697222222222237,27513.980573351433]
["2007-05-22",0,0,0,5,0.15000000000000002,0.10593750000000002,58.697222222222237,{"$f":"'RWH Calculator'!$C$56","v":0},58.697222222222237,0,0,0,0,-58.697222222222237,27513.980573351433]
["2007-05-23",0,0,0,5,0.15000000000000002,0.10593750000000002,58.697222222222237,{"$f":"'RWH Calculator'!$C$56","v":0},58.697222222222237,0,0,0,0,-58.697222222222237,27513.980573351433]
["2007-05-24",0,0,0,5,0.15000000000000002,0.10593750000000002,58.697222222222237,{"$f":"'RWH Calculator'!$C$56","v":0},58.697222222222237,0,0,0,0,-58.697222222222237,27513.980573351433]
["2007-05-25",0,0,0,5,0.15000000000000002,0.10593750000000002,58.697222222222237,{"$f":"'RWH Calculator'!$C$56","v":0},58.697222222222237,0,0,0,0,-58.697222222222237,27513.980573351433]
["2007-05-26",0,0,0,5,0.15000000000000002,0.10593750000000002,58.697222222222237,{"$f":"'RWH Calculator'!$C$56","v":0},58.697222222222237,0,0,0,0,-58.697222222222237,27513.980573351433]
["2007-05-27",0,0,0,5,0.15000000000000002,0.10593750000000002,58.697222222222237,{"$f":"'RWH Calculator'!$C$56","v":0},58.697222222222237,0,0,0,0,-58.697222222222237,27513.980573351433]
["2007-05-28",0,0,0,5,0.15000000000000002,0.10593750000000002,58.697222222222237,{"$f":"'RWH Calculator'!$C$56","v":0},58.697222222222237,0,0,0,0,-58.697222222222237,27513.980573351433]
["2007-05-29",0,0,0,5,0.15000000000000002,0.10593750000000002,58.697222222222237,{"$f":"'RWH Calculator'!$C$56","v":0},58.697222222222237,0,0,0,0,-58.697222222222237,27513.980573351433]
["2007-05-30",0,0,0,5,0.15000000000000002,0.10593750000000002,58.697222222222237,{"$f":"'RWH Calculator'!$C$56","v":0},58.697222222222237,0,0,0,0,-58.697222222222237,27513.980573351433]
["2007-05-31",0,0,0,5,0.15000000000000002,0.10593750000000002,58.697222222222237,{"$f":"'RWH Calculator'!$C$56","v":0},58.697222222222237,0,0,0,0,-58.697222222222237,27513.980573351433]
["2007-06-01",0,0,0,6,0.16999999999999998,0.1200625,66.523518518518514,{"$f":"'RWH Calculator'!$C$56","v":0},66.523518518518514,0,0,0,0,-66.523518518518514,27513.980573351433]
["2007-06-02",0,0,0,6,0.16999999999999998,0.1200625,66.523518518518514,{"$f":"'RWH Calculator'!$C$56","v":0},66.523518518518514,0,0,0,0,-66.523518518518514,27513.980573351433]
["2007-06-03",0,0,0,6,0.16999999999999998,0.1200625,66.523518518518514,{"$f":"'RWH Calculator'!$C$56","v":0},66.523518518518514,0,0,0,0,-66.523518518518514,27513.980573351433]
["2007-06-04",0,0,0,6,0.16999999999999998,0.1200625,66.523518518518514,{"$f":"'RWH Calculator'!$C$56","v":0},66.523518518518514,0,0,0,0,-66.523518518518514,27513.980573351433]
["2007-06-05",0,0,0,6,0.16999999999999998,0.1200625,66.523518518518514,{"$f":"'RWH Calculator'!$C$56","v":0},66.523518518518514,0,0,0,0,-66.523518518518514,27513.980573351433]
["2007-06-06",0,0,0,6,0.16999999999999998,0.1200625,66.523518518518514,{"$f":"'RWH Calculator'!$C$56","v":0},66.523518518518514,0,0,0,0,-66.523518518518514,27513.980573351433]
["2007-06-07",0,0,0,6,0.16999999999999998,0.1200625,66.523518518518514,{"$f":"'RWH Calculator'!$C$56","v":0},66.523518518518514,0,0,0,0,-66.523518518518514,27513.980573351433]
["2007-06-08",0,0,0,6,0.16999999999999998,0.1200625,66.523518518518514,{"$f":"'RWH Calculator'!$C$56","v":0},66.523518518518514,0,0,0,0,-66.523518518518514,27513.980573351433]
["2007-06-09",0,0,0,6,0.16999999999999998,0.1200625,66.523518518518514,{"$f":"'RWH Calculator'!$C$56","v":0},66.523518518518514,0,0,0,0,-66.523518518518514,27513.980573351433]
["2007-06-10",0,0,0,6,0.16999999999999998,0.1200625,66.523518518518514,{"$f":"'RWH Calculator'!$C$56","v":0},66.523518518518514,0,0,0,0,-66.523518518518514,27513.980573351433]
["2007-06-11",0,0,0,6,0.16999999999999998,0.1200625,66.523518518518514,{"$f":"'RWH Calculator'!$C$56","v":0},66.523518518518514,0,0,0,0,-66.523518518518514,27513.980573351433]
["2007-06-12",0,0,0,6,0.16999999999999998,0.1200625,66.523518518518514,{"$f":"'RWH Calculator'!$C$56","v":0},66.523518518518514,0,0,0,0,-66.523518518518514,27513.980573351433]
["2007-06-13",0,0,0,6,0.16999999999999998,0.1200625,66.523518518518514,{"$f":"'RWH Calculator'!$C$56","v":0},66.523518518518514,0,0,0,0,-66.523518518518514,27513.980573351433]
["2007-06-14",0,0,0,6,0.16999999999999998,0.1200625,66.523518518518514,{"$f":"'RWH Calculator'!$C$56","v":0},66.523518518518514,0,0,0,0,-66.523518518518514,27513.980573351433]
["2007-06-15",0,0,0,6,0.16999999999999998,0.1200625,66.523518518518514,{"$f":"'RWH Calculator'!$C$56","v":0},66.523518518518514,0,0,0,0,-66.523518518518514,27513.980573351433]
["2007-06-16",0,0,0,6,0.16999999999999998,0.1200625,66.523518518518514,{"$f":"'RWH Calculator'!$C$56","v":0},66.523518518518514,0,0,0,0,-66.523518518518514,27513.980573351433]
["2007-06-17",0,0,0,6,0.16999999999999998,0.1200625,66.523518518518514,{"$f":"'RWH Calculator'!$C$56","v":0},66.523518518518514,0,0,0,0,-66.523518518518514,27513.980573351433]
["2007-06-18",0,0,0,6,0.16999999999999998,0.1200625,66.523518518518514,{"$f":"'RWH Calculator'!$C$56","v":0},66.523518518518514,0,0,0,0,-66.523518518518514,27513.980573351433]
["2007-06-19",0,0,0,6,0.16999999999999998,0.1200625,66.523518518518514,{"$f":"'RWH Calculator'!$C$56","v":0},66.523518518518514,0,0,0,0,-66.523518518518514,27513.980573351433]
["2007-06-20",0,0,0,6,0.16999999999999998,0.1200625,66.523518518518514,{"$f":"'RWH Calculator'!$C$56","v":0},66.523518518518514,0,0,0,0,-66.523518518518514,27513.980573351433]
["2007-06-21",0,0,0,6,0.16999999999999998,0.1200625,66.523518518518514,{"$f":"'RWH Calculator'!$C$56","v":0},66.523518518518514,0,0,0,0,-66.523518518518514,27513.980573351433]
["2007-06-22",0,0,0,6,0.16999999999999998,0.1200625,66.523518518518514,{"$f":"'RWH Calculator'!$C$56","v":0},66.523518518518514,0,0,0,0,-66.523518518518514,27513.980573351433]
["2007-06-23",0,0,0,6,0.16999999999999998,0.1200625,66.523518518518514,{"$f":"'RWH Calculator'!$C$56","v":0},66.523518518518514,0,0,0,0,-66.523518518518514,27513.980573351433]
["2007-06-24",0,0,0,6,0.16999999999999998,0.1200625,66.523518518518514,{"$f":"'RWH Calculator'!$C$56","v":0},66.523518518518514,0,0,0,0,-66.523518518518514,27513.980573351433]
["2007-06-25",0,0,0,6,0.16999999999999998,0.1200625,66.523518518518514,{"$f":"'RWH Calculator'!$C$56","v":0},66.523518518518514,0,0,0,0,-66.523518518518514,27513.980573351433]
["2007-06-26",0,0,0,6,0.16999999999999998,0.1200625,66.523518518518514,{"$f":"'RWH Calculator'!$C$56","v":0},66.523518518518514,0,0,0,0,-66.523518518518514,27513.980573351433]
["2007-06-27",0,0,0,6,{"$f":"IF($B$2=\"Western SF\", VLOOKUP(E2379,$R$6:$U$17, 4),VLOOKUP(E2379, $R$6:$V$17,5))","v":0.16999999999999998},0.1200625,66.523518518518514,{"$f":"'RWH Calculator'!$C$56","v":0},66.523518518518514,0,0,0,0,-66.523518518518514,27513.980573351433]
["2007-06-28",0,0,0,{"$f":"MONTH(A2380)","v":6},0.16999999999999998,{"$f":"F2380*$B$6","v":0.1200625},66.523518518518514,{"$f":"'RWH Calculator'!$C$56","v":0},{"$f":"H2380+I2380","v":66.523518518518514},0,0,0,0,-66.523518518518514,27513.980573351433]
["2007-06-29",0,{"$f":"$B$3*$B$4*(B2381/12)*7.48","v":0},{"$f":"C2381","v":0},6,0.16999999999999998,0.1200625,{"$f":"(IF(G2381-B2381>0,(G2381-B2381)/$B$7,0)/12*7.48)*$B$8","v":66.523518518518514},{"$f":"'RWH Calculator'!$C$56","v":0},66.523518518518514,{"$f":"IF(O2381<0, 0, IF(O2381>$H$2, $H$2, O2381))","v":0},{"$f":"IF(J2381>D2381,D2381, K2381-K2380+J2381)","v":0},{"$f":"IF(D2381+K2380>J2381,J2381, D2381+K2380)","v":0},{"$f":"IF(C2381>J2381, C2381-J2381-(K2381-K2380),0)","v":0},{"$f":"K2380+D2381-J2381","v":-66.523518518518514},{"$f":"M2381+P2380","v":27513.980573351433}]
["2007-06-30",0,0,0,6,0.16999999999999998,0.1200625,66.523518518518514,{"$f":"'RWH Calculator'!$C$56","v":0},66.523518518518514,0,0,0,0,-66.523518518518514,27513.980573351433]
["2007-07-01",0,0,0,7,0.16,0.113,62.610370370370383,{"$f":"'RWH Calculator'!$C$56","v":0},62.610370370370383,0,0,0,0,-62.610370370370383,27513.980573351433]
["2007-07-02",0,0,0,7,0.16,0.113,62.610370370370383,{"$f":"'RWH Calculator'!$C$56","v":0},62.610370370370383,0,0,0,0,-62.610370370370383,27513.980573351433]
["2007-07-03",0,0,0,7,0.16,0.113,62.610370370370383,{"$f":"'RWH Calculator'!$C$56","v":0},62.610370370370383,0,0,0,0,-62.610370370370383,27513.980573351433]
["2007-07-04",0,0,0,7,0.16,0.113,62.610370370370383,{"$f":"'RWH Calculator'!$C$56","v":0},62.610370370370383,0,0,0,0,-62.610370370370383,27513.980573351433]
["2007-07-05",0,0,0,7,0.16,0.113,62.610370370370383,{"$f":"'RWH Calculator'!$C$56","v":0},62.610370370370383,0,0,0,0,-62.610370370370383,27513.980573351433]
["2007-07-06",0,0,0,7,0.16,0.113,62.610370370370383,{"$f":"'RWH Calculator'!$C$56","v":0},62.610370370370383,0,0,0,0,-62.610370370370383,27513.980573351433]
["2007-07-07",0,0,0,7,0.16,0.113,62.610370370370383,{"$f":"'RWH Calculator'!$C$56","v":0},62.610370370370383,0,0,0,0,-62.610370370370383,27513.980573351433]
["2007-07-08",0,0,0,7,0.16,0.113,62.610370370370383,{"$f":"'RWH Calculator'!$C$56","v":0},62.610370370370383,0,0,0,0,-62.610370370370383,27513.980573351433]
["2007-07-09",0,0,0,7,0.16,0.113,62.610370370370383,{"$f":"'RWH Calculator'!$C$56","v":0},62.610370370370383,0,0,0,0,-62.610370370370383,27513.980573351433]
["2007-07-10",0,0,0,7,0.16,0.113,62.610370370370383,{"$f":"'RWH Calculator'!$C$56","v":0},62.610370370370383,0,0,0,0,-62.610370370370383,27513.980573351433]
["2007-07-11",0,0,0,7,0.16,0.113,62.610370370370383,{"$f":"'RWH Calculator'!$C$56","v":0},62.610370370370383,0,0,0,0,-62.610370370370383,27513.980573351433]
["2007-07-12",0,0,0,7,0.16,0.113,62.610370370370383,{"$f":"'RWH Calculator'!$C$56","v":0},62.610370370370383,0,0,0,0,-62.610370370370383,27513.980573351433]
["2007-07-13",0,0,0,7,0.16,0.113,62.610370370370383,{"$f":"'RWH Calculator'!$C$56","v":0},62.610370370370383,0,0,0,0,-62.610370370370383,27513.980573351433]
["2007-07-14",0,0,0,7,0.16,0.113,62.610370370370383,{"$f":"'RWH Calculator'!$C$56","v":0},62.610370370370383,0,0,0,0,-62.610370370370383,27513.980573351433]
["2007-07-15",0,0,0,7,0.16,0.113,62.610370370370383,{"$f":"'RWH Calculator'!$C$56","v":0},62.610370370370383,0,0,0,0,-62.610370370370383,27513.980573351433]
["2007-07-16",0,0,0,7,0.16,0.113,62.610370370370383,{"$f":"'RWH Calculator'!$C$56","v":0},62.610370370370383,0,0,0,0,-62.610370370370383,27513.980573351433]
["2007-07-17",0,0,0,7,0.16,0.113,62.610370370370383,{"$f":"'RWH Calculator'!$C$56","v":0},62.610370370370383,0,0,0,0,-62.610370370370383,27513.980573351433]
["2007-07-18",0.02,12.716000000000003,12.716000000000003,7,0.16,0.113,51.528888888888893,{"$f":"'RWH Calculator'!$C$56","v":0},51.528888888888893,0,12.716000000000003,12.716000000000003,0,-38.812888888888892,27526.696573351433]
["2007-07-19",0,0,0,7,0.16,0.113,62.610370370370383,{"$f":"'RWH Calculator'!$C$56","v":0},62.610370370370383,0,0,0,0,-62.610370370370383,27526.696573351433]
["2007-07-20",0,0,0,7,0.16,0.113,62.610370370370383,{"$f":"'RWH Calculator'!$C$56","v":0},62.610370370370383,0,0,0,0,-62.610370370370383,27526.696573351433]
["2007-07-21",0,0,0,7,0.16,0.113,62.610370370370383,{"$f":"'RWH Calculator'!$C$56","v":0},62.610370370370383,0,0,0,0,-62.610370370370383,27526.696573351433]
["2007-07-22",0,0,0,7,0.16,0.113,62.610370370370383,{"$f":"'RWH Calculator'!$C$56","v":0},62.610370370370383,0,0,0,0,-62.610370370370383,27526.696573351433]
["2007-07-23",0,0,0,7,0.16,0.113,62.610370370370383,{"$f":"'RWH Calculator'!$C$56","v":0},62.610370370370383,0,0,0,0,-62.610370370370383,27526.696573351433]
["2007-07-24",0,0,0,7,0.16,0.113,62.610370370370383,{"$f":"'RWH Calculator'!$C$56","v":0},62.610370370370383,0,0,0,0,-62.610370370370383,27526.696573351433]
["2007-07-25",0,0,0,7,0.16,0.113,62.610370370370383,{"$f":"'RWH Calculator'!$C$56","v":0},62.610370370370383,0,0,0,0,-62.610370370370383,27526.696573351433]
["2007-07-26",0,0,0,7,0.16,0.113,62.610370370370383,{"$f":"'RWH Calculator'!$C$56","v":0},62.610370370370383,0,0,0,0,-62.610370370370383,27526.696573351433]
["2007-07-27",0,0,0,7,0.16,0.113,62.610370370370383,{"$f":"'RWH Calculator'!$C$56","v":0},62.610370370370383,0,0,0,0,-62.610370370370383,27526.696573351433]
["2007-07-28",0,0,0,7,0.16,0.113,62.610370370370383,{"$f":"'RWH Calculator'!$C$56","v":0},62.610370370370383,0,0,0,0,-62.610370370370383,27526.696573351433]
["2007-07-29",0,0,0,7,0.16,0.113,62.610370370370383,{"$f":"'RWH Calculator'!$C$56","v":0},62.610370370370383,0,0,0,0,-62.610370370370383,27526.696573351433]
["2007-07-30",0,0,0,7,0.16,0.113,62.610370370370383,{"$f":"'RWH Calculator'!$C$56","v":0},62.610370370370383,0,0,0,0,-62.610370370370383,27526.696573351433]
["2007-07-31",0,0,0,7,0.16,0.113,62.610370370370383,{"$f":"'RWH Calculator'!$C$56","v":0},62.610370370370383,0,0,0,0,-62.610370370370383,27526.696573351433]
["2007-08-01",0,0,0,8,0.15000000000000002,0.10593750000000002,58.697222222222237,{"$f":"'RWH Calculator'!$C$56","v":0},58.697222222222237,0,0,0,0,-58.697222222222237,27526.696573351433]
["2007-08-02",0,0,0,8,0.15000000000000002,0.10593750000000002,58.697222222222237,{"$f":"'RWH Calculator'!$C$56","v":0},58.697222222222237,0,0,0,0,-58.697222222222237,27526.696573351433]
["2007-08-03",0,0,0,8,0.15000000000000002,0.10593750000000002,58.697222222222237,{"$f":"'RWH Calculator'!$C$56","v":0},58.697222222222237,0,0,0,0,-58.697222222222237,27526.696573351433]
["2007-08-04",0,0,0,8,0.15000000000000002,0.10593750000000002,58.697222222222237,{"$f":"'RWH Calculator'!$C$56","v":0},58.697222222222237,0,0,0,0,-58.697222222222237,27526.696573351433]
["2007-08-05",0,0,0,8,0.15000000000000002,0.10593750000000002,58.697222222222237,{"$f":"'RWH Calculator'!$C$56","v":0},58.697222222222237,0,0,0,0,-58.697222222222237,27526.696573351433]
["2007-08-06",0,0,0,8,0.15000000000000002,0.10593750000000002,58.697222222222237,{"$f":"'RWH Calculator'!$C$56","v":0},58.697222222222237,0,0,0,0,-58.697222222222237,27526.696573351433]
["2007-08-07",0,0,0,8,0.15000000000000002,0.10593750000000002,58.697222222222237,{"$f":"'RWH Calculator'!$C$56","v":0},58.697222222222237,0,0,0,0,-58.697222222222237,27526.696573351433]
["2007-08-08",0,0,0,8,0.15000000000000002,0.10593750000000002,58.697222222222237,{"$f":"'RWH Calculator'!$C$56","v":0},58.697222222222237,0,0,0,0,-58.697222222222237,27526.696573351433]
["2007-08-09",0,0,0,8,0.15000000000000002,0.10593750000000002,58.697222222222237,{"$f":"'RWH Calculator'!$C$56","v":0},58.697222222222237,0,0,0,0,-58.697222222222237,27526.696573351433]
["2007-08-10",0,0,0,8,0.15000000000000002,0.10593750000000002,58.697222222222237,{"$f":"'RWH Calculator'!$C$56","v":0},58.697222222222237,0,0,0,0,-58.697222222222237,27526.696573351433]
["2007-08-11",0,0,0,8,0.15000000000000002,0.10593750000000002,58.697222222222237,{"$f":"'RWH Calculator'!$C$56","v":0},58.697222222222237,0,0,0,0,-58.697222222222237,27526.696573351433]
["2007-08-12",0,0,0,8,0.15000000000000002,0.10593750000000002,58.697222222222237,{"$f":"'RWH Calculator'!$C$56","v":0},58.697222222222237,0,0,0,0,-58.697222222222237,27526.696573351433]
["2007-08-13",0,0,0,8,0.15000000000000002,0.10593750000000002,58.697222222222237,{"$f":"'RWH Calculator'!$C$56","v":0},58.697222222222237,0,0,0,0,-58.697222222222237,27526.696573351433]
["2007-08-14",0,0,0,8,0.15000000000000002,0.10593750000000002,58.697222222222237,{"$f":"'RWH Calculator'!$C$56","v":0},58.697222222222237,0,0,0,0,-58.697222222222237,27526.696573351433]
["2007-08-15",0,0,0,8,0.15000000000000002,0.10593750000000002,58.697222222222237,{"$f":"'RWH Calculator'!$C$56","v":0},58.697222222222237,0,0,0,0,-58.697222222222237,27526.696573351433]
["2007-08-16",0,0,0,8,0.15000000000000002,0.10593750000000002,58.697222222222237,{"$f":"'RWH Calculator'!$C$56","v":0},58.697222222222237,0,0,0,0,-58.697222222222237,27526.696573351433]
["2007-08-17",0,0,0,8,0.15000000000000002,0.10593750000000002,58.697222222222237,{"$f":"'RWH Calculator'!$C$56","v":0},58.697222222222237,0,0,0,0,-58.697222222222237,27526.696573351433]
["2007-08-18",0,0,0,8,0.15000000000000002,0.10593750000000002,58.697222222222237,{"$f":"'RWH Calculator'!$C$56","v":0},58.697222222222237,0,0,0,0,-58.697222222222237,27526.696573351433]
["2007-08-19",0,0,0,8,0.15000000000000002,0.10593750000000002,58.697222222222237,{"$f":"'RWH Calculator'!$C$56","v":0},58.697222222222237,0,0,0,0,-58.697222222222237,27526.696573351433]
["2007-08-20",0,0,0,8,0.15000000000000002,0.10593750000000002,58.697222222222237,{"$f":"'RWH Calculator'!$C$56","v":0},58.697222222222237,0,0,0,0,-58.697222222222237,27526.696573351433]
["2007-08-21",0,0,0,8,0.15000000000000002,0.10593750000000002,58.697222222222237,{"$f":"'RWH Calculator'!$C$56","v":0},58.697222222222237,0,0,0,0,-58.697222222222237,27526.696573351433]
["2007-08-22",0,0,0,8,0.15000000000000002,0.10593750000000002,58.697222222222237,{"$f":"'RWH Calculator'!$C$56","v":0},58.697222222222237,0,0,0,0,-58.697222222222237,27526.696573351433]
["2007-08-23",0,0,0,8,0.15000000000000002,0.10593750000000002,58.697222222222237,{"$f":"'RWH Calculator'!$C$56","v":0},58.697222222222237,0,0,0,0,-58.697222222222237,27526.696573351433]
["2007-08-24",0,0,0,8,0.15000000000000002,0.10593750000000002,58.697222222222237,{"$f":"'RWH Calculator'!$C$56","v":0},58.697222222222237,0,0,0,0,-58.697222222222237,27526.696573351433]
["2007-08-25",0,0,0,8,0.15000000000000002,0.10593750000000002,58.697222222222237,{"$f":"'RWH Calculator'!$C$56","v":0},58.697222222222237,0,0,0,0,-58.697222222222237,27526.696573351433]
["2007-08-26",0,0,0,8,0.15000000000000002,0.10593750000000002,58.697222222222237,{"$f":"'RWH Calculator'!$C$56","v":0},58.697222222222237,0,0,0,0,-58.697222222222237,27526.696573351433]
["2007-08-27",0,0,0,8,0.15000000000000002,0.10593750000000002,58.697222222222237,{"$f":"'RWH Calculator'!$C$56","v":0},58.697222222222237,0,0,0,0,-58.697222222222237,27526.696573351433]
["2007-08-28",0,0,0,8,0.15000000000000002,0.10593750000000002,58.697222222222237,{"$f":"'RWH Calculator'!$C$56","v":0},58.697222222222237,0,0,0,0,-58.697222222222237,27526.696573351433]
["2007-08-29",0,0,0,8,0.15000000000000002,0.10593750000000002,58.697222222222237,{"$f":"'RWH Calculator'!$C$56","v":0},58.697222222222237,0,0,0,0,-58.697222222222237,27526.696573351433]
["2007-08-30",0,0,0,8,{"$f":"IF($B$2=\"Western SF\", VLOOKUP(E2443,$R$6:$U$17, 4),VLOOKUP(E2443, $R$6:$V$17,5))","v":0.15000000000000002},0.10593750000000002,58.697222222222237,{"$f":"'RWH Calculator'!$C$56","v":0},58.697222222222237,0,0,0,0,-58.697222222222237,27526.696573351433]
["2007-08-31",0,0,0,{"$f":"MONTH(A2444)","v":8},0.15000000000000002,{"$f":"F2444*$B$6","v":0.10593750000000002},58.697222222222237,{"$f":"'RWH Calculator'!$C$56","v":0},{"$f":"H2444+I2444","v":58.697222222222237},0,0,0,0,-58.697222222222237,27526.696573351433]
["2007-09-01",0,{"$f":"$B$3*$B$4*(B2445/12)*7.48","v":0},{"$f":"C2445","v":0},9,0.13,9.1812500000000005E-2,{"$f":"(IF(G2445-B2445>0,(G2445-B2445)/$B$7,0)/12*7.48)*$B$8","v":50.870925925925924},{"$f":"'RWH Calculator'!$C$56","v":0},50.870925925925924,{"$f":"IF(O2445<0, 0, IF(O2445>$H$2, $H$2, O2445))","v":0},{"$f":"IF(J2445>D2445,D2445, K2445-K2444+J2445)","v":0},{"$f":"IF(D2445+K2444>J2445,J2445, D2445+K2444)","v":0},{"$f":"IF(C2445>J2445, C2445-J2445-(K2445-K2444),0)","v":0},{"$f":"K2444+D2445-J2445","v":-50.870925925925924},{"$f":"M2445+P2444","v":27526.696573351433}]
["2007-09-02",0,0,0,9,0.13,9.1812500000000005E-2,50.870925925925924,{"$f":"'RWH Calculator'!$C$56","v":0},50.870925925925924,0,0,0,0,-50.870925925925924,27526.696573351433]
["2007-09-03",0,0,0,9,0.13,9.1812500000000005E-2,50.870925925925924,{"$f":"'RWH Calculator'!$C$56","v":0},50.870925925925924,0,0,0,0,-50.870925925925924,27526.696573351433]
["2007-09-04",0,0,0,9,0.13,9.1812500000000005E-2,50.870925925925924,{"$f":"'RWH Calculator'!$C$56","v":0},50.870925925925924,0,0,0,0,-50.870925925925924,27526.696573351433]
["2007-09-05",0,0,0,9,0.13,9.1812500000000005E-2,50.870925925925924,{"$f":"'RWH Calculator'!$C$56","v":0},50.870925925925924,0,0,0,0,-50.870925925925924,27526.696573351433]
["2007-09-06",0,0,0,9,0.13,9.1812500000000005E-2,50.870925925925924,{"$f":"'RWH Calculator'!$C$56","v":0},50.870925925925924,0,0,0,0,-50.870925925925924,27526.696573351433]
["2007-09-07",0,0,0,9,0.13,9.1812500000000005E-2,50.870925925925924,{"$f":"'RWH Calculator'!$C$56","v":0},50.870925925925924,0,0,0,0,-50.870925925925924,27526.696573351433]
["2007-09-08",0,0,0,9,0.13,9.1812500000000005E-2,50.870925925925924,{"$f":"'RWH Calculator'!$C$56","v":0},50.870925925925924,0,0,0,0,-50.870925925925924,27526.696573351433]
["2007-09-09",0,0,0,9,0.13,9.1812500000000005E-2,50.870925925925924,{"$f":"'RWH Calculator'!$C$56","v":0},50.870925925925924,0,0,0,0,-50.870925925925924,27526.696573351433]
["2007-09-10",0,0,0,9,0.13,9.1812500000000005E-2,50.870925925925924,{"$f":"'RWH Calculator'!$C$56","v":0},50.870925925925924,0,0,0,0,-50.870925925925924,27526.696573351433]
["2007-09-11",0,0,0,9,0.13,9.1812500000000005E-2,50.870925925925924,{"$f":"'RWH Calculator'!$C$56","v":0},50.870925925925924,0,0,0,0,-50.870925925925924,27526.696573351433]
["2007-09-12",0,0,0,9,0.13,9.1812500000000005E-2,50.870925925925924,{"$f":"'RWH Calculator'!$C$56","v":0},50.870925925925924,0,0,0,0,-50.870925925925924,27526.696573351433]
["2007-09-13",0,0,0,9,0.13,9.1812500000000005E-2,50.870925925925924,{"$f":"'RWH Calculator'!$C$56","v":0},50.870925925925924,0,0,0,0,-50.870925925925924,27526.696573351433]
["2007-09-14",0,0,0,9,0.13,9.1812500000000005E-2,50.870925925925924,{"$f":"'RWH Calculator'!$C$56","v":0},50.870925925925924,0,0,0,0,-50.870925925925924,27526.696573351433]
["2007-09-15",0,0,0,9,0.13,9.1812500000000005E-2,50.870925925925924,{"$f":"'RWH Calculator'!$C$56","v":0},50.870925925925924,0,0,0,0,-50.870925925925924,27526.696573351433]
["2007-09-16",0,0,0,9,0.13,9.1812500000000005E-2,50.870925925925924,{"$f":"'RWH Calculator'!$C$56","v":0},50.870925925925924,0,0,0,0,-50.870925925925924,27526.696573351433]
["2007-09-17",0,0,0,9,0.13,9.1812500000000005E-2,50.870925925925924,{"$f":"'RWH Calculator'!$C$56","v":0},50.870925925925924,0,0,0,0,-50.870925925925924,27526.696573351433]
["2007-09-18",0,0,0,9,0.13,9.1812500000000005E-2,50.870925925925924,{"$f":"'RWH Calculator'!$C$56","v":0},50.870925925925924,0,0,0,0,-50.870925925925924,27526.696573351433]
["2007-09-19",0,0,0,9,0.13,9.1812500000000005E-2,50.870925925925924,{"$f":"'RWH Calculator'!$C$56","v":0},50.870925925925924,0,0,0,0,-50.870925925925924,27526.696573351433]
["2007-09-20",0,0,0,9,0.13,9.1812500000000005E-2,50.870925925925924,{"$f":"'RWH Calculator'!$C$56","v":0},50.870925925925924,0,0,0,0,-50.870925925925924,27526.696573351433]
["2007-09-21",0,0,0,9,0.13,9.1812500000000005E-2,50.870925925925924,{"$f":"'RWH Calculator'!$C$56","v":0},50.870925925925924,0,0,0,0,-50.870925925925924,27526.696573351433]
["2007-09-22",0.09,57.222000000000001,57.222000000000001,9,0.13,9.1812500000000005E-2,1.0042592592592641,{"$f":"'RWH Calculator'!$C$56","v":0},1.0042592592592641,56.217740740740737,57.222000000000001,1.0042592592592641,0,56.217740740740737,27527.700832610692]
["2007-09-23",0,0,0,9,0.13,9.1812500000000005E-2,50.870925925925924,{"$f":"'RWH Calculator'!$C$56","v":0},50.870925925925924,5.3468148148148131,0,50.870925925925924,0,5.3468148148148131,27578.571758536618]
["2007-09-24",0,0,0,9,0.13,9.1812500000000005E-2,50.870925925925924,{"$f":"'RWH Calculator'!$C$56","v":0},50.870925925925924,0,0,5.3468148148148131,0,-45.524111111111111,27583.918573351431]
["2007-09-25",0,0,0,9,0.13,9.1812500000000005E-2,50.870925925925924,{"$f":"'RWH Calculator'!$C$56","v":0},50.870925925925924,0,0,0,0,-50.870925925925924,27583.918573351431]
["2007-09-26",0,0,0,9,0.13,9.1812500000000005E-2,50.870925925925924,{"$f":"'RWH Calculator'!$C$56","v":0},50.870925925925924,0,0,0,0,-50.870925925925924,27583.918573351431]
["2007-09-27",0,0,0,9,0.13,9.1812500000000005E-2,50.870925925925924,{"$f":"'RWH Calculator'!$C$56","v":0},50.870925925925924,0,0,0,0,-50.870925925925924,27583.918573351431]
["2007-09-28",0,0,0,9,0.13,9.1812500000000005E-2,50.870925925925924,{"$f":"'RWH Calculator'!$C$56","v":0},50.870925925925924,0,0,0,0,-50.870925925925924,27583.918573351431]
["2007-09-29",0,0,0,9,0.13,9.1812500000000005E-2,50.870925925925924,{"$f":"'RWH Calculator'!$C$56","v":0},50.870925925925924,0,0,0,0,-50.870925925925924,27583.918573351431]
["2007-09-30",0,0,0,9,0.13,9.1812500000000005E-2,50.870925925925924,{"$f":"'RWH Calculator'!$C$56","v":0},50.870925925925924,0,0,0,0,-50.870925925925924,27583.918573351431]
["2007-10-01",0,0,0,10,0.09,6.3562500000000008E-2,35.218333333333341,{"$f":"'RWH Calculator'!$C$56","v":0},35.218333333333341,0,0,0,0,-35.218333333333341,27583.918573351431]
["2007-10-02",0,0,0,10,0.09,6.3562500000000008E-2,35.218333333333341,{"$f":"'RWH Calculator'!$C$56","v":0},35.218333333333341,0,0,0,0,-35.218333333333341,27583.918573351431]
["2007-10-03",0,0,0,10,0.09,6.3562500000000008E-2,35.218333333333341,{"$f":"'RWH Calculator'!$C$56","v":0},35.218333333333341,0,0,0,0,-35.218333333333341,27583.918573351431]
["2007-10-04",0,0,0,10,0.09,6.3562500000000008E-2,35.218333333333341,{"$f":"'RWH Calculator'!$C$56","v":0},35.218333333333341,0,0,0,0,-35.218333333333341,27583.918573351431]
["2007-10-05",0,0,0,10,0.09,6.3562500000000008E-2,35.218333333333341,{"$f":"'RWH Calculator'!$C$56","v":0},35.218333333333341,0,0,0,0,-35.218333333333341,27583.918573351431]
["2007-10-06",0,0,0,10,0.09,6.3562500000000008E-2,35.218333333333341,{"$f":"'RWH Calculator'!$C$56","v":0},35.218333333333341,0,0,0,0,-35.218333333333341,27583.918573351431]
["2007-10-07",0,0,0,10,0.09,6.3562500000000008E-2,35.218333333333341,{"$f":"'RWH Calculator'!$C$56","v":0},35.218333333333341,0,0,0,0,-35.218333333333341,27583.918573351431]
["2007-10-08",0,0,0,10,0.09,6.3562500000000008E-2,35.218333333333341,{"$f":"'RWH Calculator'!$C$56","v":0},35.218333333333341,0,0,0,0,-35.218333333333341,27583.918573351431]
["2007-10-09",0,0,0,10,0.09,6.3562500000000008E-2,35.218333333333341,{"$f":"'RWH Calculator'!$C$56","v":0},35.218333333333341,0,0,0,0,-35.218333333333341,27583.918573351431]
["2007-10-10",0.4,254.32000000000002,254.32000000000002,10,0.09,6.3562500000000008E-2,0,{"$f":"'RWH Calculator'!$C$56","v":0},0,254.32000000000002,254.32000000000002,0,0,254.32000000000002,27583.918573351431]
["2007-10-11",0.2,127.16000000000001,127.16000000000001,10,0.09,6.3562500000000008E-2,0,{"$f":"'RWH Calculator'!$C$56","v":0},0,381.48,127.16,0,1.4210854715202004E-14,381.48,27583.918573351431]
["2007-10-12",1.1000000000000001,699.38000000000011,699.38000000000011,10,0.09,6.3562500000000008E-2,0,{"$f":"'RWH Calculator'!$C$56","v":0},0,1057.4600871983243,675.98008719832433,0,23.399912801675782,1080.8600000000001,27583.918573351431]
["2007-10-13",0,0,0,10,0.09,6.3562500000000008E-2,35.218333333333341,{"$f":"'RWH Calculator'!$C$56","v":0},35.218333333333341,1022.241753864991,0,35.218333333333341,0,1022.241753864991,27619.136906684766]
["2007-10-14",0,0,0,10,0.09,6.3562500000000008E-2,35.218333333333341,{"$f":"'RWH Calculator'!$C$56","v":0},35.218333333333341,987.02342053165762,0,35.218333333333341,0,987.02342053165762,27654.3552400181]
["2007-10-15",0,0,0,10,0.09,6.3562500000000008E-2,35.218333333333341,{"$f":"'RWH Calculator'!$C$56","v":0},35.218333333333341,951.80508719832426,0,35.218333333333341,0,951.80508719832426,27689.573573351434]
["2007-10-16",0,0,0,10,0.09,6.3562500000000008E-2,35.218333333333341,{"$f":"'RWH Calculator'!$C$56","v":0},35.218333333333341,916.5867538649909,0,35.218333333333341,0,916.5867538649909,27724.791906684768]
["2007-10-17",0,0,0,10,0.09,6.3562500000000008E-2,35.218333333333341,{"$f":"'RWH Calculator'!$C$56","v":0},35.218333333333341,881.36842053165753,0,35.218333333333341,0,881.36842053165753,27760.010240018102]
["2007-10-18",0,0,0,10,0.09,6.3562500000000008E-2,35.218333333333341,{"$f":"'RWH Calculator'!$C$56","v":0},35.218333333333341,846.15008719832417,0,35.218333333333341,0,846.15008719832417,27795.228573351436]
["2007-10-19",0,0,0,10,0.09,6.3562500000000008E-2,35.218333333333341,{"$f":"'RWH Calculator'!$C$56","v":0},35.218333333333341,810.93175386499081,0,35.218333333333341,0,810.93175386499081,27830.446906684771]
["2007-10-20",0.3,190.73999999999998,190.73999999999998,10,0.09,6.3562500000000008E-2,0,{"$f":"'RWH Calculator'!$C$56","v":0},0,1001.6717538649908,190.74,0,-2.8421709430404007E-14,1001.6717538649908,27830.446906684771]
["2007-10-21",0,0,0,10,0.09,6.3562500000000008E-2,35.218333333333341,{"$f":"'RWH Calculator'!$C$56","v":0},35.218333333333341,966.45342053165746,0,35.218333333333341,0,966.45342053165746,27865.665240018105]
["2007-10-22",0,0,0,10,0.09,6.3562500000000008E-2,35.218333333333341,{"$f":"'RWH Calculator'!$C$56","v":0},35.218333333333341,931.23508719832409,0,35.218333333333341,0,931.23508719832409,27900.883573351439]
["2007-10-23",0,0,0,10,0.09,6.3562500000000008E-2,35.218333333333341,{"$f":"'RWH Calculator'!$C$56","v":0},35.218333333333341,896.01675386499073,0,35.218333333333341,0,896.01675386499073,27936.101906684773]
["2007-10-24",0,0,0,10,0.09,6.3562500000000008E-2,35.218333333333341,{"$f":"'RWH Calculator'!$C$56","v":0},35.218333333333341,860.79842053165737,0,35.218333333333341,0,860.79842053165737,27971.320240018107]
["2007-10-25",0,0,0,10,0.09,6.3562500000000008E-2,35.218333333333341,{"$f":"'RWH Calculator'!$C$56","v":0},35.218333333333341,825.58008719832401,0,35.218333333333341,0,825.58008719832401,28006.538573351441]
["2007-10-26",0,0,0,10,0.09,6.3562500000000008E-2,35.218333333333341,{"$f":"'RWH Calculator'!$C$56","v":0},35.218333333333341,790.36175386499065,0,35.218333333333341,0,790.36175386499065,28041.756906684775]
["2007-10-27",0,0,0,10,0.09,6.3562500000000008E-2,35.218333333333341,{"$f":"'RWH Calculator'!$C$56","v":0},35.218333333333341,755.14342053165728,0,35.218333333333341,0,755.14342053165728,28076.97524001811]
["2007-10-28",0,0,0,10,0.09,6.3562500000000008E-2,35.218333333333341,{"$f":"'RWH Calculator'!$C$56","v":0},35.218333333333341,719.92508719832392,0,35.218333333333341,0,719.92508719832392,28112.193573351444]
["2007-10-29",0,0,0,10,0.09,6.3562500000000008E-2,35.218333333333341,{"$f":"'RWH Calculator'!$C$56","v":0},35.218333333333341,684.70675386499056,0,35.218333333333341,0,684.70675386499056,28147.411906684778]
["2007-10-30",0,0,0,10,0.09,6.3562500000000008E-2,35.218333333333341,{"$f":"'RWH Calculator'!$C$56","v":0},35.218333333333341,649.4884205316572,0,35.218333333333341,0,649.4884205316572,28182.630240018112]
["2007-10-31",0,0,0,10,0.09,6.3562500000000008E-2,35.218333333333341,{"$f":"'RWH Calculator'!$C$56","v":0},35.218333333333341,614.27008719832384,0,35.218333333333341,0,614.27008719832384,28217.848573351446]
["2007-11-01",0,0,0,11,6.0000000000000005E-2,4.2375000000000003E-2,23.478888888888889,{"$f":"'RWH Calculator'!$C$56","v":0},23.478888888888889,590.791198309435,0,23.478888888888889,0,590.791198309435,28241.327462240337]
["2007-11-02",0,0,0,11,{"$f":"IF($B$2=\"Western SF\", VLOOKUP(E2507,$R$6:$U$17, 4),VLOOKUP(E2507, $R$6:$V$17,5))","v":6.0000000000000005E-2},4.2375000000000003E-2,23.478888888888889,{"$f":"'RWH Calculator'!$C$56","v":0},23.478888888888889,567.31230942054617,0,23.478888888888889,0,567.31230942054617,28264.806351129228]
["2007-11-03",0,0,0,{"$f":"MONTH(A2508)","v":11},6.0000000000000005E-2,{"$f":"F2508*$B$6","v":4.2375000000000003E-2},23.478888888888889,{"$f":"'RWH Calculator'!$C$56","v":0},{"$f":"H2508+I2508","v":23.478888888888889},543.83342053165734,0,23.478888888888889,0,543.83342053165734,28288.285240018118]
["2007-11-04",0,{"$f":"$B$3*$B$4*(B2509/12)*7.48","v":0},{"$f":"C2509","v":0},11,6.0000000000000005E-2,4.2375000000000003E-2,{"$f":"(IF(G2509-B2509>0,(G2509-B2509)/$B$7,0)/12*7.48)*$B$8","v":23.478888888888889},{"$f":"'RWH Calculator'!$C$56","v":0},23.478888888888889,{"$f":"IF(O2509<0, 0, IF(O2509>$H$2, $H$2, O2509))","v":520.35453164276851},{"$f":"IF(J2509>D2509,D2509, K2509-K2508+J2509)","v":0},{"$f":"IF(D2509+K2508>J2509,J2509, D2509+K2508)","v":23.478888888888889},{"$f":"IF(C2509>J2509, C2509-J2509-(K2509-K2508),0)","v":0},{"$f":"K2508+D2509-J2509","v":520.35453164276851},{"$f":"M2509+P2508","v":28311.764128907009}]
["2007-11-05",0,0,0,11,6.0000000000000005E-2,4.2375000000000003E-2,23.478888888888889,{"$f":"'RWH Calculator'!$C$56","v":0},23.478888888888889,496.87564275387962,0,23.478888888888889,0,496.87564275387962,28335.2430177959]
["2007-11-06",0,0,0,11,6.0000000000000005E-2,4.2375000000000003E-2,23.478888888888889,{"$f":"'RWH Calculator'!$C$56","v":0},23.478888888888889,473.39675386499073,0,23.478888888888889,0,473.39675386499073,28358.72190668479]
["2007-11-07",0,0,0,11,6.0000000000000005E-2,4.2375000000000003E-2,23.478888888888889,{"$f":"'RWH Calculator'!$C$56","v":0},23.478888888888889,449.91786497610184,0,23.478888888888889,0,449.91786497610184,28382.200795573681]
["2007-11-08",0,0,0,11,6.0000000000000005E-2,4.2375000000000003E-2,23.478888888888889,{"$f":"'RWH Calculator'!$C$56","v":0},23.478888888888889,426.43897608721295,0,23.478888888888889,0,426.43897608721295,28405.679684462571]
["2007-11-09",0,0,0,11,6.0000000000000005E-2,4.2375000000000003E-2,23.478888888888889,{"$f":"'RWH Calculator'!$C$56","v":0},23.478888888888889,402.96008719832406,0,23.478888888888889,0,402.96008719832406,28429.158573351462]
["2007-11-10",0.64,406.91200000000009,406.91200000000009,11,6.0000000000000005E-2,4.2375000000000003E-2,0,{"$f":"'RWH Calculator'!$C$56","v":0},0,809.87208719832415,406.91200000000009,0,0,809.87208719832415,28429.158573351462]
["2007-11-11",0.32,203.45600000000005,203.45600000000005,11,6.0000000000000005E-2,4.2375000000000003E-2,0,{"$f":"'RWH Calculator'!$C$56","v":0},0,1013.3280871983242,203.45600000000002,0,2.8421709430404007E-14,1013.3280871983242,28429.158573351462]
["2007-11-12",0,0,0,11,6.0000000000000005E-2,4.2375000000000003E-2,23.478888888888889,{"$f":"'RWH Calculator'!$C$56","v":0},23.478888888888889,989.84919830943522,0,23.478888888888889,0,989.84919830943522,28452.637462240353]
["2007-11-13",0,0,0,11,6.0000000000000005E-2,4.2375000000000003E-2,23.478888888888889,{"$f":"'RWH Calculator'!$C$56","v":0},23.478888888888889,966.37030942054639,0,23.478888888888889,0,966.37030942054639,28476.116351129243]
["2007-11-14",0,0,0,11,6.0000000000000005E-2,4.2375000000000003E-2,23.478888888888889,{"$f":"'RWH Calculator'!$C$56","v":0},23.478888888888889,942.89142053165756,0,23.478888888888889,0,942.89142053165756,28499.595240018134]
["2007-11-15",0,0,0,11,6.0000000000000005E-2,4.2375000000000003E-2,23.478888888888889,{"$f":"'RWH Calculator'!$C$56","v":0},23.478888888888889,919.41253164276873,0,23.478888888888889,0,919.41253164276873,28523.074128907025]
["2007-11-16",0,0,0,11,6.0000000000000005E-2,4.2375000000000003E-2,23.478888888888889,{"$f":"'RWH Calculator'!$C$56","v":0},23.478888888888889,895.93364275387989,0,23.478888888888889,0,895.93364275387989,28546.553017795915]
["2007-11-17",0,0,0,11,6.0000000000000005E-2,4.2375000000000003E-2,23.478888888888889,{"$f":"'RWH Calculator'!$C$56","v":0},23.478888888888889,872.45475386499106,0,23.478888888888889,0,872.45475386499106,28570.031906684806]
["2007-11-18",0,0,0,11,6.0000000000000005E-2,4.2375000000000003E-2,23.478888888888889,{"$f":"'RWH Calculator'!$C$56","v":0},23.478888888888889,848.97586497610223,0,23.478888888888889,0,848.97586497610223,28593.510795573697]
["2007-11-19",0,0,0,11,6.0000000000000005E-2,4.2375000000000003E-2,23.478888888888889,{"$f":"'RWH Calculator'!$C$56","v":0},23.478888888888889,825.4969760872134,0,23.478888888888889,0,825.4969760872134,28616.989684462587]
["2007-11-20",0,0,0,11,6.0000000000000005E-2,4.2375000000000003E-2,23.478888888888889,{"$f":"'RWH Calculator'!$C$56","v":0},23.478888888888889,802.01808719832457,0,23.478888888888889,0,802.01808719832457,28640.468573351478]
["2007-11-21",0,0,0,11,6.0000000000000005E-2,4.2375000000000003E-2,23.478888888888889,{"$f":"'RWH Calculator'!$C$56","v":0},23.478888888888889,778.53919830943573,0,23.478888888888889,0,778.53919830943573,28663.947462240369]
["2007-11-22",0,0,0,11,6.0000000000000005E-2,4.2375000000000003E-2,23.478888888888889,{"$f":"'RWH Calculator'!$C$56","v":0},23.478888888888889,755.0603094205469,0,23.478888888888889,0,755.0603094205469,28687.426351129259]
["2007-11-23",0,0,0,11,6.0000000000000005E-2,4.2375000000000003E-2,23.478888888888889,{"$f":"'RWH Calculator'!$C$56","v":0},23.478888888888889,731.58142053165807,0,23.478888888888889,0,731.58142053165807,28710.90524001815]
["2007-11-24",0,0,0,11,6.0000000000000005E-2,4.2375000000000003E-2,23.478888888888889,{"$f":"'RWH Calculator'!$C$56","v":0},23.478888888888889,708.10253164276924,0,23.478888888888889,0,708.10253164276924,28734.384128907041]
["2007-11-25",0,0,0,11,6.0000000000000005E-2,4.2375000000000003E-2,23.478888888888889,{"$f":"'RWH Calculator'!$C$56","v":0},23.478888888888889,684.6236427538804,0,23.478888888888889,0,684.6236427538804,28757.863017795931]
["2007-11-26",0,0,0,11,6.0000000000000005E-2,4.2375000000000003E-2,23.478888888888889,{"$f":"'RWH Calculator'!$C$56","v":0},23.478888888888889,661.14475386499157,0,23.478888888888889,0,661.14475386499157,28781.341906684822]
["2007-11-27",0,0,0,11,6.0000000000000005E-2,4.2375000000000003E-2,23.478888888888889,{"$f":"'RWH Calculator'!$C$56","v":0},23.478888888888889,637.66586497610274,0,23.478888888888889,0,637.66586497610274,28804.820795573713]
["2007-11-28",0,0,0,11,6.0000000000000005E-2,4.2375000000000003E-2,23.478888888888889,{"$f":"'RWH Calculator'!$C$56","v":0},23.478888888888889,614.18697608721391,0,23.478888888888889,0,614.18697608721391,28828.299684462603]
["2007-11-29",0,0,0,11,6.0000000000000005E-2,4.2375000000000003E-2,23.478888888888889,{"$f":"'RWH Calculator'!$C$56","v":0},23.478888888888889,590.70808719832507,0,23.478888888888889,0,590.70808719832507,28851.778573351494]
["2007-11-30",0,0,0,11,6.0000000000000005E-2,4.2375000000000003E-2,23.478888888888889,{"$f":"'RWH Calculator'!$C$56","v":0},23.478888888888889,567.22919830943624,0,23.478888888888889,0,567.22919830943624,28875.257462240384]
["2007-12-01",0,0,0,12,0.04,2.8250000000000001E-2,15.652592592592596,{"$f":"'RWH Calculator'!$C$56","v":0},15.652592592592596,551.57660571684369,0,15.652592592592596,0,551.57660571684369,28890.910054832977]
["2007-12-02",0,0,0,12,0.04,2.8250000000000001E-2,15.652592592592596,{"$f":"'RWH Calculator'!$C$56","v":0},15.652592592592596,535.92401312425113,0,15.652592592592596,0,535.92401312425113,28906.56264742557]
["2007-12-03",0,0,0,12,0.04,2.8250000000000001E-2,15.652592592592596,{"$f":"'RWH Calculator'!$C$56","v":0},15.652592592592596,520.27142053165858,0,15.652592592592596,0,520.27142053165858,28922.215240018162]
["2007-12-04",0.33000000000000007,209.81400000000008,209.81400000000008,12,0.04,2.8250000000000001E-2,0,{"$f":"'RWH Calculator'!$C$56","v":0},0,730.08542053165866,209.81400000000008,0,0,730.08542053165866,28922.215240018162]
["2007-12-05",0,0,0,12,0.04,2.8250000000000001E-2,15.652592592592596,{"$f":"'RWH Calculator'!$C$56","v":0},15.652592592592596,714.4328279390661,0,15.652592592592596,0,714.4328279390661,28937.867832610755]
["2007-12-06",0.4,254.32000000000002,254.32000000000002,12,0.04,2.8250000000000001E-2,0,{"$f":"'RWH Calculator'!$C$56","v":0},0,968.75282793906615,254.32000000000005,0,-2.8421709430404007E-14,968.75282793906615,28937.867832610755]
["2007-12-07",0.47000000000000003,298.82600000000002,298.82600000000002,12,0.04,2.8250000000000001E-2,0,{"$f":"'RWH Calculator'!$C$56","v":0},0,1057.4600871983243,88.707259259258194,0,210.11874074074183,1267.5788279390663,28937.867832610755]
["2007-12-08",0,0,0,12,0.04,2.8250000000000001E-2,15.652592592592596,{"$f":"'RWH Calculator'!$C$56","v":0},15.652592592592596,1041.8074946057318,0,15.652592592592596,0,1041.8074946057318,28953.520425203347]
["2007-12-09",0,0,0,12,0.04,2.8250000000000001E-2,15.652592592592596,{"$f":"'RWH Calculator'!$C$56","v":0},15.652592592592596,1026.1549020131392,0,15.652592592592596,0,1026.1549020131392,28969.17301779594]
["2007-12-10",0,0,0,12,0.04,2.8250000000000001E-2,15.652592592592596,{"$f":"'RWH Calculator'!$C$56","v":0},15.652592592592596,1010.5023094205467,0,15.652592592592596,0,1010.5023094205467,28984.825610388532]
["2007-12-11",0,0,0,12,0.04,2.8250000000000001E-2,15.652592592592596,{"$f":"'RWH Calculator'!$C$56","v":0},15.652592592592596,994.84971682795413,0,15.652592592592596,0,994.84971682795413,29000.478202981125]
["2007-12-12",0,0,0,12,0.04,2.8250000000000001E-2,15.652592592592596,{"$f":"'RWH Calculator'!$C$56","v":0},15.652592592592596,979.19712423536157,0,15.652592592592596,0,979.19712423536157,29016.130795573717]
["2007-12-13",0,0,0,12,0.04,2.8250000000000001E-2,15.652592592592596,{"$f":"'RWH Calculator'!$C$56","v":0},15.652592592592596,963.54453164276902,0,15.652592592592596,0,963.54453164276902,29031.78338816631]
["2007-12-14",0,0,0,12,0.04,2.8250000000000001E-2,15.652592592592596,{"$f":"'RWH Calculator'!$C$56","v":0},15.652592592592596,947.89193905017646,0,15.652592592592596,0,947.89193905017646,29047.435980758903]
["2007-12-15",0,0,0,12,0.04,2.8250000000000001E-2,15.652592592592596,{"$f":"'RWH Calculator'!$C$56","v":0},15.652592592592596,932.23934645758391,0,15.652592592592596,0,932.23934645758391,29063.088573351495]
["2007-12-16",0,0,0,12,0.04,2.8250000000000001E-2,15.652592592592596,{"$f":"'RWH Calculator'!$C$56","v":0},15.652592592592596,916.58675386499135,0,15.652592592592596,0,916.58675386499135,29078.741165944088]
["2007-12-17",0.16000000000000003,101.72800000000002,101.72800000000002,12,0.04,2.8250000000000001E-2,0,{"$f":"'RWH Calculator'!$C$56","v":0},0,1018.3147538649914,101.72800000000007,0,-4.2632564145606011E-14,1018.3147538649914,29078.741165944088]
["2007-12-18",0.8,508.64000000000004,508.64000000000004,12,0.04,2.8250000000000001E-2,0,{"$f":"'RWH Calculator'!$C$56","v":0},0,1057.4600871983243,39.145333333332928,0,469.49466666666711,1526.9547538649915,29078.741165944088]
["2007-12-19",0,0,0,12,0.04,2.8250000000000001E-2,15.652592592592596,{"$f":"'RWH Calculator'!$C$56","v":0},15.652592592592596,1041.8074946057318,0,15.652592592592596,0,1041.8074946057318,29094.39375853668]
["2007-12-20",0.55000000000000004,349.69000000000005,349.69000000000005,12,0.04,2.8250000000000001E-2,0,{"$f":"'RWH Calculator'!$C$56","v":0},0,1057.4600871983243,15.652592592592555,0,334.0374074074075,1391.4974946057318,29094.39375853668]
["2007-12-21",0,0,0,12,0.04,2.8250000000000001E-2,15.652592592592596,{"$f":"'RWH Calculator'!$C$56","v":0},15.652592592592596,1041.8074946057318,0,15.652592592592596,0,1041.8074946057318,29110.046351129273]
["2007-12-22",0,0,0,12,0.04,2.8250000000000001E-2,15.652592592592596,{"$f":"'RWH Calculator'!$C$56","v":0},15.652592592592596,1026.1549020131392,0,15.652592592592596,0,1026.1549020131392,29125.698943721865]
["2007-12-23",0,0,0,12,0.04,2.8250000000000001E-2,15.652592592592596,{"$f":"'RWH Calculator'!$C$56","v":0},15.652592592592596,1010.5023094205467,0,15.652592592592596,0,1010.5023094205467,29141.351536314458]
["2007-12-24",0,0,0,12,0.04,2.8250000000000001E-2,15.652592592592596,{"$f":"'RWH Calculator'!$C$56","v":0},15.652592592592596,994.84971682795413,0,15.652592592592596,0,994.84971682795413,29157.00412890705]
["2007-12-25",0,0,0,12,0.04,2.8250000000000001E-2,15.652592592592596,{"$f":"'RWH Calculator'!$C$56","v":0},15.652592592592596,979.19712423536157,0,15.652592592592596,0,979.19712423536157,29172.656721499643]
["2007-12-26",0,0,0,12,0.04,2.8250000000000001E-2,15.652592592592596,{"$f":"'RWH Calculator'!$C$56","v":0},15.652592592592596,963.54453164276902,0,15.652592592592596,0,963.54453164276902,29188.309314092236]
["2007-12-27",0.14000000000000001,89.012000000000015,89.012000000000015,12,0.04,2.8250000000000001E-2,0,{"$f":"'RWH Calculator'!$C$56","v":0},0,1052.556531642769,89.011999999999944,0,7.1054273576010019E-14,1052.556531642769,29188.309314092236]
["2007-12-28",0.16999999999999998,108.086,108.086,12,0.04,2.8250000000000001E-2,0,{"$f":"'RWH Calculator'!$C$56","v":0},0,1057.4600871983243,4.9035555555553856,0,103.18244444444461,1160.642531642769,29188.309314092236]
["2007-12-29",0.12999999999999998,82.653999999999996,82.653999999999996,12,0.04,2.8250000000000001E-2,0,{"$f":"'RWH Calculator'!$C$56","v":0},0,1057.4600871983243,0,0,82.653999999999996,1140.1140871983243,29188.309314092236]
["2007-12-30",0.01,6.3580000000000014,6.3580000000000014,12,0.04,2.8250000000000001E-2,10.111851851851855,{"$f":"'RWH Calculator'!$C$56","v":0},10.111851851851855,1053.7062353464723,6.3580000000000014,10.111851851851855,0,1053.7062353464723,29198.421165944088]
["2007-12-31",0,0,0,12,0.04,2.8250000000000001E-2,15.652592592592596,{"$f":"'RWH Calculator'!$C$56","v":0},15.652592592592596,1038.0536427538798,0,15.652592592592596,0,1038.0536427538798,29214.073758536681]
["2008-01-01",0,0,0,1,0.04,2.8250000000000001E-2,15.652592592592596,{"$f":"'RWH Calculator'!$C$56","v":0},15.652592592592596,1022.4010501612872,0,15.652592592592596,0,1022.4010501612872,29229.726351129273]
["2008-01-02",0,0,0,1,0.04,2.8250000000000001E-2,15.652592592592596,{"$f":"'RWH Calculator'!$C$56","v":0},15.652592592592596,1006.7484575686947,0,15.652592592592596,0,1006.7484575686947,29245.378943721866]
["2008-01-03",0.2,127.16000000000001,127.16000000000001,1,0.04,2.8250000000000001E-2,0,{"$f":"'RWH Calculator'!$C$56","v":0},0,1057.4600871983243,50.71162962962967,0,76.448370370370341,1133.9084575686948,29245.378943721866]
["2008-01-04",1.9600000000000002,1246.1680000000003,1246.1680000000003,1,0.04,2.8250000000000001E-2,0,{"$f":"'RWH Calculator'!$C$56","v":0},0,1057.4600871983243,0,0,1246.1680000000003,2303.6280871983245,29245.378943721866]
["2008-01-05",0.46000000000000008,292.46800000000002,292.46800000000002,1,{"$f":"IF($B$2=\"Western SF\", VLOOKUP(E2571,$R$6:$U$17, 4),VLOOKUP(E2571, $R$6:$V$17,5))","v":0.04},2.8250000000000001E-2,0,{"$f":"'RWH Calculator'!$C$56","v":0},0,1057.4600871983243,0,0,292.46800000000002,1349.9280871983244,29245.378943721866]
["2008-01-06",0.09,57.222000000000001,57.222000000000001,{"$f":"MONTH(A2572)","v":1},0.04,{"$f":"F2572*$B$6","v":2.8250000000000001E-2},0,{"$f":"'RWH Calculator'!$C$56","v":0},{"$f":"H2572+I2572","v":0},1057.4600871983243,0,0,57.222000000000001,1114.6820871983243,29245.378943721866]
["2008-01-07",0.09,{"$f":"$B$3*$B$4*(B2573/12)*7.48","v":57.222000000000001},{"$f":"C2573","v":57.222000000000001},1,0.04,2.8250000000000001E-2,{"$f":"(IF(G2573-B2573>0,(G2573-B2573)/$B$7,0)/12*7.48)*$B$8","v":0},{"$f":"'RWH Calculator'!$C$56","v":0},0,{"$f":"IF(O2573<0, 0, IF(O2573>$H$2, $H$2, O2573))","v":1057.4600871983243},{"$f":"IF(J2573>D2573,D2573, K2573-K2572+J2573)","v":0},{"$f":"IF(D2573+K2572>J2573,J2573, D2573+K2572)","v":0},{"$f":"IF(C2573>J2573, C2573-J2573-(K2573-K2572),0)","v":57.222000000000001},{"$f":"K2572+D2573-J2573","v":1114.6820871983243},{"$f":"M2573+P2572","v":29245.378943721866}]
["2008-01-08",0.21000000000000002,133.51800000000003,133.51800000000003,1,0.04,2.8250000000000001E-2,0,{"$f":"'RWH Calculator'!$C$56","v":0},0,1057.4600871983243,0,0,133.51800000000003,1190.9780871983244,29245.378943721866]
["2008-01-09",0,0,0,1,0.04,2.8250000000000001E-2,15.652592592592596,{"$f":"'RWH Calculator'!$C$56","v":0},15.652592592592596,1041.8074946057318,0,15.652592592592596,0,1041.8074946057318,29261.031536314458]
["2008-01-10",0.16000000000000003,101.72800000000002,101.72800000000002,1,0.04,2.8250000000000001E-2,0,{"$f":"'RWH Calculator'!$C$56","v":0},0,1057.4600871983243,15.652592592592555,0,86.075407407407468,1143.5354946057319,29261.031536314458]
["2008-01-11",0,0,0,1,0.04,2.8250000000000001E-2,15.652592592592596,{"$f":"'RWH Calculator'!$C$56","v":0},15.652592592592596,1041.8074946057318,0,15.652592592592596,0,1041.8074946057318,29276.684128907051]
["2008-01-12",0,0,0,1,0.04,2.8250000000000001E-2,15.652592592592596,{"$f":"'RWH Calculator'!$C$56","v":0},15.652592592592596,1026.1549020131392,0,15.652592592592596,0,1026.1549020131392,29292.336721499643]
["2008-01-13",0,0,0,1,0.04,2.8250000000000001E-2,15.652592592592596,{"$f":"'RWH Calculator'!$C$56","v":0},15.652592592592596,1010.5023094205467,0,15.652592592592596,0,1010.5023094205467,29307.989314092236]
["2008-01-14",0,0,0,1,0.04,2.8250000000000001E-2,15.652592592592596,{"$f":"'RWH Calculator'!$C$56","v":0},15.652592592592596,994.84971682795413,0,15.652592592592596,0,994.84971682795413,29323.641906684828]
["2008-01-15",0,0,0,1,0.04,2.8250000000000001E-2,15.652592592592596,{"$f":"'RWH Calculator'!$C$56","v":0},15.652592592592596,979.19712423536157,0,15.652592592592596,0,979.19712423536157,29339.294499277421]
["2008-01-16",0,0,0,1,0.04,2.8250000000000001E-2,15.652592592592596,{"$f":"'RWH Calculator'!$C$56","v":0},15.652592592592596,963.54453164276902,0,15.652592592592596,0,963.54453164276902,29354.947091870014]
["2008-01-17",0,0,0,1,0.04,2.8250000000000001E-2,15.652592592592596,{"$f":"'RWH Calculator'!$C$56","v":0},15.652592592592596,947.89193905017646,0,15.652592592592596,0,947.89193905017646,29370.599684462606]
["2008-01-18",0,0,0,1,0.04,2.8250000000000001E-2,15.652592592592596,{"$f":"'RWH Calculator'!$C$56","v":0},15.652592592592596,932.23934645758391,0,15.652592592592596,0,932.23934645758391,29386.252277055199]
["2008-01-19",0,0,0,1,0.04,2.8250000000000001E-2,15.652592592592596,{"$f":"'RWH Calculator'!$C$56","v":0},15.652592592592596,916.58675386499135,0,15.652592592592596,0,916.58675386499135,29401.904869647791]
["2008-01-20",0,0,0,1,0.04,2.8250000000000001E-2,15.652592592592596,{"$f":"'RWH Calculator'!$C$56","v":0},15.652592592592596,900.9341612723988,0,15.652592592592596,0,900.9341612723988,29417.557462240384]
["2008-01-21",0.55000000000000004,349.69000000000005,349.69000000000005,1,0.04,2.8250000000000001E-2,0,{"$f":"'RWH Calculator'!$C$56","v":0},0,1057.4600871983243,156.52592592592555,0,193.16407407407451,1250.6241612723989,29417.557462240384]
["2008-01-22",0.01,6.3580000000000014,6.3580000000000014,1,0.04,2.8250000000000001E-2,10.111851851851855,{"$f":"'RWH Calculator'!$C$56","v":0},10.111851851851855,1053.7062353464723,6.3580000000000014,10.111851851851855,0,1053.7062353464723,29427.669314092236]
["2008-01-23",7.0000000000000007E-2,44.506000000000007,44.506000000000007,1,0.04,2.8250000000000001E-2,0,{"$f":"'RWH Calculator'!$C$56","v":0},0,1057.4600871983243,3.753851851852005,0,40.752148148148002,1098.2122353464724,29427.669314092236]
["2008-01-24",0.34,216.17200000000003,216.17200000000003,1,0.04,2.8250000000000001E-2,0,{"$f":"'RWH Calculator'!$C$56","v":0},0,1057.4600871983243,0,0,216.17200000000003,1273.6320871983244,29427.669314092236]
["2008-01-25",3.1100000000000008,1977.3380000000002,1977.3380000000002,1,0.04,2.8250000000000001E-2,0,{"$f":"'RWH Calculator'!$C$56","v":0},0,1057.4600871983243,0,0,1977.3380000000002,3034.7980871983245,29427.669314092236]
["2008-01-26",0.33,209.81400000000002,209.81400000000002,1,0.04,2.8250000000000001E-2,0,{"$f":"'RWH Calculator'!$C$56","v":0},0,1057.4600871983243,0,0,209.81400000000002,1267.2740871983244,29427.669314092236]
["2008-01-27",0.51,324.25800000000004,324.25800000000004,1,0.04,2.8250000000000001E-2,0,{"$f":"'RWH Calculator'!$C$56","v":0},0,1057.4600871983243,0,0,324.25800000000004,1381.7180871983244,29427.669314092236]
["2008-01-28",0.08,50.864000000000011,50.864000000000011,1,0.04,2.8250000000000001E-2,0,{"$f":"'RWH Calculator'!$C$56","v":0},0,1057.4600871983243,0,0,50.864000000000011,1108.3240871983244,29427.669314092236]
["2008-01-29",0.1,63.580000000000005,63.580000000000005,1,0.04,2.8250000000000001E-2,0,{"$f":"'RWH Calculator'!$C$56","v":0},0,1057.4600871983243,0,0,63.580000000000005,1121.0400871983243,29427.669314092236]
["2008-01-30",9.9999999999999992E-2,63.580000000000005,63.580000000000005,1,0.04,2.8250000000000001E-2,0,{"$f":"'RWH Calculator'!$C$56","v":0},0,1057.4600871983243,0,0,63.580000000000005,1121.0400871983243,29427.669314092236]
["2008-01-31",0.49000000000000005,311.54200000000009,311.54200000000009,1,0.04,2.8250000000000001E-2,0,{"$f":"'RWH Calculator'!$C$56","v":0},0,1057.4600871983243,0,0,311.54200000000009,1369.0020871983245,29427.669314092236]
["2008-02-01",0,0,0,2,0.06,4.2375000000000003E-2,23.478888888888889,{"$f":"'RWH Calculator'!$C$56","v":0},23.478888888888889,1033.9811983094355,0,23.478888888888889,0,1033.9811983094355,29451.148202981127]
["2008-02-02",0.42999999999999994,273.39400000000001,273.39400000000001,2,0.06,4.2375000000000003E-2,0,{"$f":"'RWH Calculator'!$C$56","v":0},0,1057.4600871983243,23.478888888888832,0,249.91511111111117,1307.3751983094355,29451.148202981127]
["2008-02-03",7.0000000000000007E-2,44.506000000000007,44.506000000000007,2,0.06,4.2375000000000003E-2,0,{"$f":"'RWH Calculator'!$C$56","v":0},0,1057.4600871983243,0,0,44.506000000000007,1101.9660871983244,29451.148202981127]
["2008-02-04",0,0,0,2,0.06,4.2375000000000003E-2,23.478888888888889,{"$f":"'RWH Calculator'!$C$56","v":0},23.478888888888889,1033.9811983094355,0,23.478888888888889,0,1033.9811983094355,29474.627091870017]
["2008-02-05",0,0,0,2,0.06,4.2375000000000003E-2,23.478888888888889,{"$f":"'RWH Calculator'!$C$56","v":0},23.478888888888889,1010.5023094205467,0,23.478888888888889,0,1010.5023094205467,29498.105980758908]
["2008-02-06",0,0,0,2,0.06,4.2375000000000003E-2,23.478888888888889,{"$f":"'RWH Calculator'!$C$56","v":0},23.478888888888889,987.02342053165785,0,23.478888888888889,0,987.02342053165785,29521.584869647799]
["2008-02-07",0,0,0,2,0.06,4.2375000000000003E-2,23.478888888888889,{"$f":"'RWH Calculator'!$C$56","v":0},23.478888888888889,963.54453164276902,0,23.478888888888889,0,963.54453164276902,29545.063758536689]
["2008-02-08",0,0,0,2,0.06,4.2375000000000003E-2,23.478888888888889,{"$f":"'RWH Calculator'!$C$56","v":0},23.478888888888889,940.06564275388018,0,23.478888888888889,0,940.06564275388018,29568.54264742558]
["2008-02-09",0,0,0,2,0.06,4.2375000000000003E-2,23.478888888888889,{"$f":"'RWH Calculator'!$C$56","v":0},23.478888888888889,916.58675386499135,0,23.478888888888889,0,916.58675386499135,29592.021536314471]
["2008-02-10",0,0,0,2,0.06,4.2375000000000003E-2,23.478888888888889,{"$f":"'RWH Calculator'!$C$56","v":0},23.478888888888889,893.10786497610252,0,23.478888888888889,0,893.10786497610252,29615.500425203361]
["2008-02-11",0,0,0,2,0.06,4.2375000000000003E-2,23.478888888888889,{"$f":"'RWH Calculator'!$C$56","v":0},23.478888888888889,869.62897608721369,0,23.478888888888889,0,869.62897608721369,29638.979314092252]
["2008-02-12",0,0,0,2,0.06,4.2375000000000003E-2,23.478888888888889,{"$f":"'RWH Calculator'!$C$56","v":0},23.478888888888889,846.15008719832485,0,23.478888888888889,0,846.15008719832485,29662.458202981143]
["2008-02-13",0,0,0,2,0.06,4.2375000000000003E-2,23.478888888888889,{"$f":"'RWH Calculator'!$C$56","v":0},23.478888888888889,822.67119830943602,0,23.478888888888889,0,822.67119830943602,29685.937091870033]
["2008-02-14",0,0,0,2,0.06,4.2375000000000003E-2,23.478888888888889,{"$f":"'RWH Calculator'!$C$56","v":0},23.478888888888889,799.19230942054719,0,23.478888888888889,0,799.19230942054719,29709.415980758924]
["2008-02-15",0,0,0,2,0.06,4.2375000000000003E-2,23.478888888888889,{"$f":"'RWH Calculator'!$C$56","v":0},23.478888888888889,775.71342053165836,0,23.478888888888889,0,775.71342053165836,29732.894869647815]
["2008-02-16",0,0,0,2,0.06,4.2375000000000003E-2,23.478888888888889,{"$f":"'RWH Calculator'!$C$56","v":0},23.478888888888889,752.23453164276953,0,23.478888888888889,0,752.23453164276953,29756.373758536705]
["2008-02-17",0,0,0,2,0.06,4.2375000000000003E-2,23.478888888888889,{"$f":"'RWH Calculator'!$C$56","v":0},23.478888888888889,728.75564275388069,0,23.478888888888889,0,728.75564275388069,29779.852647425596]
["2008-02-18",0,0,0,2,0.06,4.2375000000000003E-2,23.478888888888889,{"$f":"'RWH Calculator'!$C$56","v":0},23.478888888888889,705.27675386499186,0,23.478888888888889,0,705.27675386499186,29803.331536314487]
["2008-02-19",0.55999999999999994,356.048,356.048,2,0.06,4.2375000000000003E-2,0,{"$f":"'RWH Calculator'!$C$56","v":0},0,1057.4600871983243,352.18333333333248,0,3.8646666666675173,1061.3247538649919,29803.331536314487]
["2008-02-20",0.18,114.444,114.444,2,0.06,4.2375000000000003E-2,0,{"$f":"'RWH Calculator'!$C$56","v":0},0,1057.4600871983243,0,0,114.444,1171.9040871983243,29803.331536314487]
["2008-02-21",0.17,108.08600000000001,108.08600000000001,2,0.06,4.2375000000000003E-2,0,{"$f":"'RWH Calculator'!$C$56","v":0},0,1057.4600871983243,0,0,108.08600000000001,1165.5460871983244,29803.331536314487]
["2008-02-22",6.0000000000000005E-2,38.148000000000003,38.148000000000003,2,0.06,4.2375000000000003E-2,0,{"$f":"'RWH Calculator'!$C$56","v":0},0,1057.4600871983243,0,0,38.148000000000003,1095.6080871983243,29803.331536314487]
["2008-02-23",0.25,158.95000000000002,158.95000000000002,2,0.06,4.2375000000000003E-2,0,{"$f":"'RWH Calculator'!$C$56","v":0},0,1057.4600871983243,0,0,158.95000000000002,1216.4100871983244,29803.331536314487]
["2008-02-24",0.15,95.36999999999999,95.36999999999999,2,0.06,4.2375000000000003E-2,0,{"$f":"'RWH Calculator'!$C$56","v":0},0,1057.4600871983243,0,0,95.36999999999999,1152.8300871983242,29803.331536314487]
["2008-02-25",0,0,0,2,0.06,4.2375000000000003E-2,23.478888888888889,{"$f":"'RWH Calculator'!$C$56","v":0},23.478888888888889,1033.9811983094355,0,23.478888888888889,0,1033.9811983094355,29826.810425203377]
["2008-02-26",0,0,0,2,0.06,4.2375000000000003E-2,23.478888888888889,{"$f":"'RWH Calculator'!$C$56","v":0},23.478888888888889,1010.5023094205467,0,23.478888888888889,0,1010.5023094205467,29850.289314092268]
["2008-02-27",0,0,0,2,0.06,4.2375000000000003E-2,23.478888888888889,{"$f":"'RWH Calculator'!$C$56","v":0},23.478888888888889,987.02342053165785,0,23.478888888888889,0,987.02342053165785,29873.768202981159]
["2008-02-28",0,0,0,2,0.06,4.2375000000000003E-2,23.478888888888889,{"$f":"'RWH Calculator'!$C$56","v":0},23.478888888888889,963.54453164276902,0,23.478888888888889,0,963.54453164276902,29897.247091870049]
["2008-02-29",0,0,0,2,0.06,4.2375000000000003E-2,23.478888888888889,{"$f":"'RWH Calculator'!$C$56","v":0},23.478888888888889,940.06564275388018,0,23.478888888888889,0,940.06564275388018,29920.72598075894]
["2008-03-01",0,0,0,3,0.1,7.0625000000000007E-2,39.131481481481487,{"$f":"'RWH Calculator'!$C$56","v":0},39.131481481481487,900.93416127239868,0,39.131481481481487,0,900.93416127239868,29959.857462240423]
["2008-03-02",0,0,0,3,0.1,7.0625000000000007E-2,39.131481481481487,{"$f":"'RWH Calculator'!$C$56","v":0},39.131481481481487,861.80267979091718,0,39.131481481481487,0,861.80267979091718,29998.988943721906]
["2008-03-03",0,0,0,3,0.1,7.0625000000000007E-2,39.131481481481487,{"$f":"'RWH Calculator'!$C$56","v":0},39.131481481481487,822.67119830943568,0,39.131481481481487,0,822.67119830943568,30038.120425203389]
["2008-03-04",0,0,0,3,0.1,7.0625000000000007E-2,39.131481481481487,{"$f":"'RWH Calculator'!$C$56","v":0},39.131481481481487,783.53971682795418,0,39.131481481481487,0,783.53971682795418,30077.251906684873]
["2008-03-05",0,0,0,3,0.1,7.0625000000000007E-2,39.131481481481487,{"$f":"'RWH Calculator'!$C$56","v":0},39.131481481481487,744.40823534647268,0,39.131481481481487,0,744.40823534647268,30116.383388166356]
["2008-03-06",0,0,0,3,0.1,7.0625000000000007E-2,39.131481481481487,{"$f":"'RWH Calculator'!$C$56","v":0},39.131481481481487,705.27675386499118,0,39.131481481481487,0,705.27675386499118,30155.514869647839]
["2008-03-07",0,0,0,3,0.1,7.0625000000000007E-2,39.131481481481487,{"$f":"'RWH Calculator'!$C$56","v":0},39.131481481481487,666.14527238350968,0,39.131481481481487,0,666.14527238350968,30194.646351129322]
["2008-03-08",0,0,0,3,0.1,7.0625000000000007E-2,39.131481481481487,{"$f":"'RWH Calculator'!$C$56","v":0},39.131481481481487,627.01379090202818,0,39.131481481481487,0,627.01379090202818,30233.777832610805]
["2008-03-09",0,0,0,3,{"$f":"IF($B$2=\"Western SF\", VLOOKUP(E2635,$R$6:$U$17, 4),VLOOKUP(E2635, $R$6:$V$17,5))","v":0.1},7.0625000000000007E-2,39.131481481481487,{"$f":"'RWH Calculator'!$C$56","v":0},39.131481481481487,587.88230942054668,0,39.131481481481487,0,587.88230942054668,30272.909314092289]
["2008-03-10",0,0,0,{"$f":"MONTH(A2636)","v":3},0.1,{"$f":"F2636*$B$6","v":7.0625000000000007E-2},39.131481481481487,{"$f":"'RWH Calculator'!$C$56","v":0},{"$f":"H2636+I2636","v":39.131481481481487},548.75082793906518,0,39.131481481481487,0,548.75082793906518,30312.040795573772]
["2008-03-11",0,{"$f":"$B$3*$B$4*(B2637/12)*7.48","v":0},{"$f":"C2637","v":0},3,0.1,7.0625000000000007E-2,{"$f":"(IF(G2637-B2637>0,(G2637-B2637)/$B$7,0)/12*7.48)*$B$8","v":39.131481481481487},{"$f":"'RWH Calculator'!$C$56","v":0},39.131481481481487,{"$f":"IF(O2637<0, 0, IF(O2637>$H$2, $H$2, O2637))","v":509.61934645758367},{"$f":"IF(J2637>D2637,D2637, K2637-K2636+J2637)","v":0},{"$f":"IF(D2637+K2636>J2637,J2637, D2637+K2636)","v":39.131481481481487},{"$f":"IF(C2637>J2637, C2637-J2637-(K2637-K2636),0)","v":0},{"$f":"K2636+D2637-J2637","v":509.61934645758367},{"$f":"M2637+P2636","v":30351.172277055255}]
["2008-03-12",0,0,0,3,0.1,7.0625000000000007E-2,39.131481481481487,{"$f":"'RWH Calculator'!$C$56","v":0},39.131481481481487,470.48786497610217,0,39.131481481481487,0,470.48786497610217,30390.303758536738]
["2008-03-13",0.13999999999999999,89.012,89.012,3,0.1,7.0625000000000007E-2,0,{"$f":"'RWH Calculator'!$C$56","v":0},0,559.49986497610212,89.011999999999944,0,5.6843418860808015E-14,559.49986497610212,30390.303758536738]
["2008-03-14",0.06,38.148000000000003,38.148000000000003,3,0.1,7.0625000000000007E-2,5.8870370370370422,{"$f":"'RWH Calculator'!$C$56","v":0},5.8870370370370422,591.76082793906505,38.147999999999975,5.8870370370370422,2.8421709430404007E-14,591.76082793906505,30396.190795573777]
["2008-03-15",7.0000000000000007E-2,44.506000000000007,44.506000000000007,3,0.1,7.0625000000000007E-2,0.34629629629629666,{"$f":"'RWH Calculator'!$C$56","v":0},0.34629629629629666,635.92053164276876,44.506000000000007,0.34629629629629666,0,635.92053164276876,30396.537091870072]
["2008-03-16",0,0,0,3,0.1,7.0625000000000007E-2,39.131481481481487,{"$f":"'RWH Calculator'!$C$56","v":0},39.131481481481487,596.78905016128726,0,39.131481481481487,0,596.78905016128726,30435.668573351555]
["2008-03-17",0,0,0,3,0.1,7.0625000000000007E-2,39.131481481481487,{"$f":"'RWH Calculator'!$C$56","v":0},39.131481481481487,557.65756867980576,0,39.131481481481487,0,557.65756867980576,30474.800054833038]
["2008-03-18",0,0,0,3,0.1,7.0625000000000007E-2,39.131481481481487,{"$f":"'RWH Calculator'!$C$56","v":0},39.131481481481487,518.52608719832426,0,39.131481481481487,0,518.52608719832426,30513.931536314522]
["2008-03-19",0,0,0,3,0.1,7.0625000000000007E-2,39.131481481481487,{"$f":"'RWH Calculator'!$C$56","v":0},39.131481481481487,479.39460571684276,0,39.131481481481487,0,479.39460571684276,30553.063017796005]
["2008-03-20",0,0,0,3,0.1,7.0625000000000007E-2,39.131481481481487,{"$f":"'RWH Calculator'!$C$56","v":0},39.131481481481487,440.26312423536126,0,39.131481481481487,0,440.26312423536126,30592.194499277488]
["2008-03-21",0,0,0,3,0.1,7.0625000000000007E-2,39.131481481481487,{"$f":"'RWH Calculator'!$C$56","v":0},39.131481481481487,401.13164275387976,0,39.131481481481487,0,401.13164275387976,30631.325980758971]
["2008-03-22",0,0,0,3,0.1,7.0625000000000007E-2,39.131481481481487,{"$f":"'RWH Calculator'!$C$56","v":0},39.131481481481487,362.00016127239826,0,39.131481481481487,0,362.00016127239826,30670.457462240454]
["2008-03-23",0,0,0,3,0.1,7.0625000000000007E-2,39.131481481481487,{"$f":"'RWH Calculator'!$C$56","v":0},39.131481481481487,322.86867979091676,0,39.131481481481487,0,322.86867979091676,30709.588943721938]
["2008-03-24",0,0,0,3,0.1,7.0625000000000007E-2,39.131481481481487,{"$f":"'RWH Calculator'!$C$56","v":0},39.131481481481487,283.73719830943526,0,39.131481481481487,0,283.73719830943526,30748.720425203421]
["2008-03-25",0,0,0,3,0.1,7.0625000000000007E-2,39.131481481481487,{"$f":"'RWH Calculator'!$C$56","v":0},39.131481481481487,244.60571682795376,0,39.131481481481487,0,244.60571682795376,30787.851906684904]
["2008-03-26",0,0,0,3,0.1,7.0625000000000007E-2,39.131481481481487,{"$f":"'RWH Calculator'!$C$56","v":0},39.131481481481487,205.47423534647226,0,39.131481481481487,0,205.47423534647226,30826.983388166387]
["2008-03-27",0,0,0,3,0.1,7.0625000000000007E-2,39.131481481481487,{"$f":"'RWH Calculator'!$C$56","v":0},39.131481481481487,166.34275386499075,0,39.131481481481487,0,166.34275386499075,30866.11486964787]
["2008-03-28",0,0,0,3,0.1,7.0625000000000007E-2,39.131481481481487,{"$f":"'RWH Calculator'!$C$56","v":0},39.131481481481487,127.21127238350927,0,39.131481481481487,0,127.21127238350927,30905.246351129354]
["2008-03-29",0.04,25.432000000000006,25.432000000000006,3,0.1,7.0625000000000007E-2,16.968518518518522,{"$f":"'RWH Calculator'!$C$56","v":0},16.968518518518522,135.67475386499075,25.432000000000002,16.968518518518522,3.5527136788005009E-15,135.67475386499075,30922.214869647873]
["2008-03-30",0.02,12.716000000000003,12.716000000000003,3,0.1,7.0625000000000007E-2,28.050000000000004,{"$f":"'RWH Calculator'!$C$56","v":0},28.050000000000004,120.34075386499075,12.716000000000003,28.050000000000004,0,120.34075386499075,30950.264869647872]
["2008-03-31",0,0,0,3,0.1,7.0625000000000007E-2,39.131481481481487,{"$f":"'RWH Calculator'!$C$56","v":0},39.131481481481487,81.209272383509258,0,39.131481481481487,0,81.209272383509258,30989.396351129355]
["2008-04-01",0,0,0,4,0.13,9.1812500000000005E-2,50.870925925925924,{"$f":"'RWH Calculator'!$C$56","v":0},50.870925925925924,30.338346457583334,0,50.870925925925924,0,30.338346457583334,31040.267277055282]
["2008-04-02",0,0,0,4,0.13,9.1812500000000005E-2,50.870925925925924,{"$f":"'RWH Calculator'!$C$56","v":0},50.870925925925924,0,0,30.338346457583334,0,-20.53257946834259,31070.605623512864]
["2008-04-03",0,0,0,4,0.13,9.1812500000000005E-2,50.870925925925924,{"$f":"'RWH Calculator'!$C$56","v":0},50.870925925925924,0,0,0,0,-50.870925925925924,31070.605623512864]
["2008-04-04",0,0,0,4,0.13,9.1812500000000005E-2,50.870925925925924,{"$f":"'RWH Calculator'!$C$56","v":0},50.870925925925924,0,0,0,0,-50.870925925925924,31070.605623512864]
["2008-04-05",0,0,0,4,0.13,9.1812500000000005E-2,50.870925925925924,{"$f":"'RWH Calculator'!$C$56","v":0},50.870925925925924,0,0,0,0,-50.870925925925924,31070.605623512864]
["2008-04-06",0,0,0,4,0.13,9.1812500000000005E-2,50.870925925925924,{"$f":"'RWH Calculator'!$C$56","v":0},50.870925925925924,0,0,0,0,-50.870925925925924,31070.605623512864]
["2008-04-07",0,0,0,4,0.13,9.1812500000000005E-2,50.870925925925924,{"$f":"'RWH Calculator'!$C$56","v":0},50.870925925925924,0,0,0,0,-50.870925925925924,31070.605623512864]
["2008-04-08",0,0,0,4,0.13,9.1812500000000005E-2,50.870925925925924,{"$f":"'RWH Calculator'!$C$56","v":0},50.870925925925924,0,0,0,0,-50.870925925925924,31070.605623512864]
["2008-04-09",0,0,0,4,0.13,9.1812500000000005E-2,50.870925925925924,{"$f":"'RWH Calculator'!$C$56","v":0},50.870925925925924,0,0,0,0,-50.870925925925924,31070.605623512864]
["2008-04-10",0,0,0,4,0.13,9.1812500000000005E-2,50.870925925925924,{"$f":"'RWH Calculator'!$C$56","v":0},50.870925925925924,0,0,0,0,-50.870925925925924,31070.605623512864]
["2008-04-11",0,0,0,4,0.13,9.1812500000000005E-2,50.870925925925924,{"$f":"'RWH Calculator'!$C$56","v":0},50.870925925925924,0,0,0,0,-50.870925925925924,31070.605623512864]
["2008-04-12",0,0,0,4,0.13,9.1812500000000005E-2,50.870925925925924,{"$f":"'RWH Calculator'!$C$56","v":0},50.870925925925924,0,0,0,0,-50.870925925925924,31070.605623512864]
["2008-04-13",0,0,0,4,0.13,9.1812500000000005E-2,50.870925925925924,{"$f":"'RWH Calculator'!$C$56","v":0},50.870925925925924,0,0,0,0,-50.870925925925924,31070.605623512864]
["2008-04-14",0,0,0,4,0.13,9.1812500000000005E-2,50.870925925925924,{"$f":"'RWH Calculator'!$C$56","v":0},50.870925925925924,0,0,0,0,-50.870925925925924,31070.605623512864]
["2008-04-15",0,0,0,4,0.13,9.1812500000000005E-2,50.870925925925924,{"$f":"'RWH Calculator'!$C$56","v":0},50.870925925925924,0,0,0,0,-50.870925925925924,31070.605623512864]
["2008-04-16",0,0,0,4,0.13,9.1812500000000005E-2,50.870925925925924,{"$f":"'RWH Calculator'!$C$56","v":0},50.870925925925924,0,0,0,0,-50.870925925925924,31070.605623512864]
["2008-04-17",0,0,0,4,0.13,9.1812500000000005E-2,50.870925925925924,{"$f":"'RWH Calculator'!$C$56","v":0},50.870925925925924,0,0,0,0,-50.870925925925924,31070.605623512864]
["2008-04-18",0,0,0,4,0.13,9.1812500000000005E-2,50.870925925925924,{"$f":"'RWH Calculator'!$C$56","v":0},50.870925925925924,0,0,0,0,-50.870925925925924,31070.605623512864]
["2008-04-19",0,0,0,4,0.13,9.1812500000000005E-2,50.870925925925924,{"$f":"'RWH Calculator'!$C$56","v":0},50.870925925925924,0,0,0,0,-50.870925925925924,31070.605623512864]
["2008-04-20",0,0,0,4,0.13,9.1812500000000005E-2,50.870925925925924,{"$f":"'RWH Calculator'!$C$56","v":0},50.870925925925924,0,0,0,0,-50.870925925925924,31070.605623512864]
["2008-04-21",0,0,0,4,0.13,9.1812500000000005E-2,50.870925925925924,{"$f":"'RWH Calculator'!$C$56","v":0},50.870925925925924,0,0,0,0,-50.870925925925924,31070.605623512864]
["2008-04-22",0.14000000000000001,89.012000000000015,89.012000000000015,4,0.13,9.1812500000000005E-2,0,{"$f":"'RWH Calculator'!$C$56","v":0},0,89.012000000000015,89.012000000000015,0,0,89.012000000000015,31070.605623512864]
["2008-04-23",0,0,0,4,0.13,9.1812500000000005E-2,50.870925925925924,{"$f":"'RWH Calculator'!$C$56","v":0},50.870925925925924,38.141074074074091,0,50.870925925925924,0,38.141074074074091,31121.47654943879]
["2008-04-24",0,0,0,4,0.13,9.1812500000000005E-2,50.870925925925924,{"$f":"'RWH Calculator'!$C$56","v":0},50.870925925925924,0,0,38.141074074074091,0,-12.729851851851834,31159.617623512866]
["2008-04-25",0,0,0,4,0.13,9.1812500000000005E-2,50.870925925925924,{"$f":"'RWH Calculator'!$C$56","v":0},50.870925925925924,0,0,0,0,-50.870925925925924,31159.617623512866]
["2008-04-26",0,0,0,4,0.13,9.1812500000000005E-2,50.870925925925924,{"$f":"'RWH Calculator'!$C$56","v":0},50.870925925925924,0,0,0,0,-50.870925925925924,31159.617623512866]
["2008-04-27",0,0,0,4,0.13,9.1812500000000005E-2,50.870925925925924,{"$f":"'RWH Calculator'!$C$56","v":0},50.870925925925924,0,0,0,0,-50.870925925925924,31159.617623512866]
["2008-04-28",0,0,0,4,0.13,9.1812500000000005E-2,50.870925925925924,{"$f":"'RWH Calculator'!$C$56","v":0},50.870925925925924,0,0,0,0,-50.870925925925924,31159.617623512866]
["2008-04-29",0,0,0,4,0.13,9.1812500000000005E-2,50.870925925925924,{"$f":"'RWH Calculator'!$C$56","v":0},50.870925925925924,0,0,0,0,-50.870925925925924,31159.617623512866]
["2008-04-30",0,0,0,4,0.13,9.1812500000000005E-2,50.870925925925924,{"$f":"'RWH Calculator'!$C$56","v":0},50.870925925925924,0,0,0,0,-50.870925925925924,31159.617623512866]
["2008-05-01",0,0,0,5,0.15000000000000002,0.10593750000000002,58.697222222222237,{"$f":"'RWH Calculator'!$C$56","v":0},58.697222222222237,0,0,0,0,-58.697222222222237,31159.617623512866]
["2008-05-02",0,0,0,5,0.15000000000000002,0.10593750000000002,58.697222222222237,{"$f":"'RWH Calculator'!$C$56","v":0},58.697222222222237,0,0,0,0,-58.697222222222237,31159.617623512866]
["2008-05-03",0,0,0,5,0.15000000000000002,0.10593750000000002,58.697222222222237,{"$f":"'RWH Calculator'!$C$56","v":0},58.697222222222237,0,0,0,0,-58.697222222222237,31159.617623512866]
["2008-05-04",0,0,0,5,0.15000000000000002,0.10593750000000002,58.697222222222237,{"$f":"'RWH Calculator'!$C$56","v":0},58.697222222222237,0,0,0,0,-58.697222222222237,31159.617623512866]
["2008-05-05",0,0,0,5,0.15000000000000002,0.10593750000000002,58.697222222222237,{"$f":"'RWH Calculator'!$C$56","v":0},58.697222222222237,0,0,0,0,-58.697222222222237,31159.617623512866]
["2008-05-06",0,0,0,5,0.15000000000000002,0.10593750000000002,58.697222222222237,{"$f":"'RWH Calculator'!$C$56","v":0},58.697222222222237,0,0,0,0,-58.697222222222237,31159.617623512866]
["2008-05-07",0,0,0,5,0.15000000000000002,0.10593750000000002,58.697222222222237,{"$f":"'RWH Calculator'!$C$56","v":0},58.697222222222237,0,0,0,0,-58.697222222222237,31159.617623512866]
["2008-05-08",0,0,0,5,0.15000000000000002,0.10593750000000002,58.697222222222237,{"$f":"'RWH Calculator'!$C$56","v":0},58.697222222222237,0,0,0,0,-58.697222222222237,31159.617623512866]
["2008-05-09",0,0,0,5,0.15000000000000002,0.10593750000000002,58.697222222222237,{"$f":"'RWH Calculator'!$C$56","v":0},58.697222222222237,0,0,0,0,-58.697222222222237,31159.617623512866]
["2008-05-10",0,0,0,5,0.15000000000000002,0.10593750000000002,58.697222222222237,{"$f":"'RWH Calculator'!$C$56","v":0},58.697222222222237,0,0,0,0,-58.697222222222237,31159.617623512866]
["2008-05-11",0,0,0,5,0.15000000000000002,0.10593750000000002,58.697222222222237,{"$f":"'RWH Calculator'!$C$56","v":0},58.697222222222237,0,0,0,0,-58.697222222222237,31159.617623512866]
["2008-05-12",0,0,0,5,{"$f":"IF($B$2=\"Western SF\", VLOOKUP(E2699,$R$6:$U$17, 4),VLOOKUP(E2699, $R$6:$V$17,5))","v":0.15000000000000002},0.10593750000000002,58.697222222222237,{"$f":"'RWH Calculator'!$C$56","v":0},58.697222222222237,0,0,0,0,-58.697222222222237,31159.617623512866]
["2008-05-13",0,0,0,{"$f":"MONTH(A2700)","v":5},0.15000000000000002,{"$f":"F2700*$B$6","v":0.10593750000000002},58.697222222222237,{"$f":"'RWH Calculator'!$C$56","v":0},{"$f":"H2700+I2700","v":58.697222222222237},0,0,0,0,-58.697222222222237,31159.617623512866]
["2008-05-14",0,{"$f":"$B$3*$B$4*(B2701/12)*7.48","v":0},{"$f":"C2701","v":0},5,0.15000000000000002,0.10593750000000002,{"$f":"(IF(G2701-B2701>0,(G2701-B2701)/$B$7,0)/12*7.48)*$B$8","v":58.697222222222237},{"$f":"'RWH Calculator'!$C$56","v":0},58.697222222222237,{"$f":"IF(O2701<0, 0, IF(O2701>$H$2, $H$2, O2701))","v":0},{"$f":"IF(J2701>D2701,D2701, K2701-K2700+J2701)","v":0},{"$f":"IF(D2701+K2700>J2701,J2701, D2701+K2700)","v":0},{"$f":"IF(C2701>J2701, C2701-J2701-(K2701-K2700),0)","v":0},{"$f":"K2700+D2701-J2701","v":-58.697222222222237},{"$f":"M2701+P2700","v":31159.617623512866}]
["2008-05-15",0,0,0,5,0.15000000000000002,0.10593750000000002,58.697222222222237,{"$f":"'RWH Calculator'!$C$56","v":0},58.697222222222237,0,0,0,0,-58.697222222222237,31159.617623512866]
["2008-05-16",0,0,0,5,0.15000000000000002,0.10593750000000002,58.697222222222237,{"$f":"'RWH Calculator'!$C$56","v":0},58.697222222222237,0,0,0,0,-58.697222222222237,31159.617623512866]
["2008-05-17",0,0,0,5,0.15000000000000002,0.10593750000000002,58.697222222222237,{"$f":"'RWH Calculator'!$C$56","v":0},58.697222222222237,0,0,0,0,-58.697222222222237,31159.617623512866]
["2008-05-18",0,0,0,5,0.15000000000000002,0.10593750000000002,58.697222222222237,{"$f":"'RWH Calculator'!$C$56","v":0},58.697222222222237,0,0,0,0,-58.697222222222237,31159.617623512866]
["2008-05-19",0,0,0,5,0.15000000000000002,0.10593750000000002,58.697222222222237,{"$f":"'RWH Calculator'!$C$56","v":0},58.697222222222237,0,0,0,0,-58.697222222222237,31159.617623512866]
["2008-05-20",0,0,0,5,0.15000000000000002,0.10593750000000002,58.697222222222237,{"$f":"'RWH Calculator'!$C$56","v":0},58.697222222222237,0,0,0,0,-58.697222222222237,31159.617623512866]
["2008-05-21",0,0,0,5,0.15000000000000002,0.10593750000000002,58.697222222222237,{"$f":"'RWH Calculator'!$C$56","v":0},58.697222222222237,0,0,0,0,-58.697222222222237,31159.617623512866]
["2008-05-22",0,0,0,5,0.15000000000000002,0.10593750000000002,58.697222222222237,{"$f":"'RWH Calculator'!$C$56","v":0},58.697222222222237,0,0,0,0,-58.697222222222237,31159.617623512866]
["2008-05-23",0,0,0,5,0.15000000000000002,0.10593750000000002,58.697222222222237,{"$f":"'RWH Calculator'!$C$56","v":0},58.697222222222237,0,0,0,0,-58.697222222222237,31159.617623512866]
["2008-05-24",0.03,19.074000000000002,19.074000000000002,5,0.15000000000000002,0.10593750000000002,42.07500000000001,{"$f":"'RWH Calculator'!$C$56","v":0},42.07500000000001,0,19.074000000000002,19.074000000000002,0,-23.001000000000008,31178.691623512866]
["2008-05-25",0,0,0,5,0.15000000000000002,0.10593750000000002,58.697222222222237,{"$f":"'RWH Calculator'!$C$56","v":0},58.697222222222237,0,0,0,0,-58.697222222222237,31178.691623512866]
["2008-05-26",0,0,0,5,0.15000000000000002,0.10593750000000002,58.697222222222237,{"$f":"'RWH Calculator'!$C$56","v":0},58.697222222222237,0,0,0,0,-58.697222222222237,31178.691623512866]
["2008-05-27",0,0,0,5,0.15000000000000002,0.10593750000000002,58.697222222222237,{"$f":"'RWH Calculator'!$C$56","v":0},58.697222222222237,0,0,0,0,-58.697222222222237,31178.691623512866]
["2008-05-28",0,0,0,5,0.15000000000000002,0.10593750000000002,58.697222222222237,{"$f":"'RWH Calculator'!$C$56","v":0},58.697222222222237,0,0,0,0,-58.697222222222237,31178.691623512866]
["2008-05-29",0,0,0,5,0.15000000000000002,0.10593750000000002,58.697222222222237,{"$f":"'RWH Calculator'!$C$56","v":0},58.697222222222237,0,0,0,0,-58.697222222222237,31178.691623512866]
["2008-05-30",0,0,0,5,0.15000000000000002,0.10593750000000002,58.697222222222237,{"$f":"'RWH Calculator'!$C$56","v":0},58.697222222222237,0,0,0,0,-58.697222222222237,31178.691623512866]
["2008-05-31",0,0,0,5,0.15000000000000002,0.10593750000000002,58.697222222222237,{"$f":"'RWH Calculator'!$C$56","v":0},58.697222222222237,0,0,0,0,-58.697222222222237,31178.691623512866]
["2008-06-01",0,0,0,6,0.16999999999999998,0.1200625,66.523518518518514,{"$f":"'RWH Calculator'!$C$56","v":0},66.523518518518514,0,0,0,0,-66.523518518518514,31178.691623512866]
["2008-06-02",0,0,0,6,0.16999999999999998,0.1200625,66.523518518518514,{"$f":"'RWH Calculator'!$C$56","v":0},66.523518518518514,0,0,0,0,-66.523518518518514,31178.691623512866]
["2008-06-03",0,0,0,6,0.16999999999999998,0.1200625,66.523518518518514,{"$f":"'RWH Calculator'!$C$56","v":0},66.523518518518514,0,0,0,0,-66.523518518518514,31178.691623512866]
["2008-06-04",0,0,0,6,0.16999999999999998,0.1200625,66.523518518518514,{"$f":"'RWH Calculator'!$C$56","v":0},66.523518518518514,0,0,0,0,-66.523518518518514,31178.691623512866]
["2008-06-05",0,0,0,6,0.16999999999999998,0.1200625,66.523518518518514,{"$f":"'RWH Calculator'!$C$56","v":0},66.523518518518514,0,0,0,0,-66.523518518518514,31178.691623512866]
["2008-06-06",0,0,0,6,0.16999999999999998,0.1200625,66.523518518518514,{"$f":"'RWH Calculator'!$C$56","v":0},66.523518518518514,0,0,0,0,-66.523518518518514,31178.691623512866]
["2008-06-07",0,0,0,6,0.16999999999999998,0.1200625,66.523518518518514,{"$f":"'RWH Calculator'!$C$56","v":0},66.523518518518514,0,0,0,0,-66.523518518518514,31178.691623512866]
["2008-06-08",0,0,0,6,0.16999999999999998,0.1200625,66.523518518518514,{"$f":"'RWH Calculator'!$C$56","v":0},66.523518518518514,0,0,0,0,-66.523518518518514,31178.691623512866]
["2008-06-09",0,0,0,6,0.16999999999999998,0.1200625,66.523518518518514,{"$f":"'RWH Calculator'!$C$56","v":0},66.523518518518514,0,0,0,0,-66.523518518518514,31178.691623512866]
["2008-06-10",0,0,0,6,0.16999999999999998,0.1200625,66.523518518518514,{"$f":"'RWH Calculator'!$C$56","v":0},66.523518518518514,0,0,0,0,-66.523518518518514,31178.691623512866]
["2008-06-11",0,0,0,6,0.16999999999999998,0.1200625,66.523518518518514,{"$f":"'RWH Calculator'!$C$56","v":0},66.523518518518514,0,0,0,0,-66.523518518518514,31178.691623512866]
["2008-06-12",0,0,0,6,0.16999999999999998,0.1200625,66.523518518518514,{"$f":"'RWH Calculator'!$C$56","v":0},66.523518518518514,0,0,0,0,-66.523518518518514,31178.691623512866]
["2008-06-13",0,0,0,6,0.16999999999999998,0.1200625,66.523518518518514,{"$f":"'RWH Calculator'!$C$56","v":0},66.523518518518514,0,0,0,0,-66.523518518518514,31178.691623512866]
["2008-06-14",0,0,0,6,0.16999999999999998,0.1200625,66.523518518518514,{"$f":"'RWH Calculator'!$C$56","v":0},66.523518518518514,0,0,0,0,-66.523518518518514,31178.691623512866]
["2008-06-15",0,0,0,6,0.16999999999999998,0.1200625,66.523518518518514,{"$f":"'RWH Calculator'!$C$56","v":0},66.523518518518514,0,0,0,0,-66.523518518518514,31178.691623512866]
["2008-06-16",0,0,0,6,0.16999999999999998,0.1200625,66.523518518518514,{"$f":"'RWH Calculator'!$C$56","v":0},66.523518518518514,0,0,0,0,-66.523518518518514,31178.691623512866]
["2008-06-17",0,0,0,6,0.16999999999999998,0.1200625,66.523518518518514,{"$f":"'RWH Calculator'!$C$56","v":0},66.523518518518514,0,0,0,0,-66.523518518518514,31178.691623512866]
["2008-06-18",0,0,0,6,0.16999999999999998,0.1200625,66.523518518518514,{"$f":"'RWH Calculator'!$C$56","v":0},66.523518518518514,0,0,0,0,-66.523518518518514,31178.691623512866]
["2008-06-19",0,0,0,6,0.16999999999999998,0.1200625,66.523518518518514,{"$f":"'RWH Calculator'!$C$56","v":0},66.523518518518514,0,0,0,0,-66.523518518518514,31178.691623512866]
["2008-06-20",0,0,0,6,0.16999999999999998,0.1200625,66.523518518518514,{"$f":"'RWH Calculator'!$C$56","v":0},66.523518518518514,0,0,0,0,-66.523518518518514,31178.691623512866]
["2008-06-21",0,0,0,6,0.16999999999999998,0.1200625,66.523518518518514,{"$f":"'RWH Calculator'!$C$56","v":0},66.523518518518514,0,0,0,0,-66.523518518518514,31178.691623512866]
["2008-06-22",0,0,0,6,0.16999999999999998,0.1200625,66.523518518518514,{"$f":"'RWH Calculator'!$C$56","v":0},66.523518518518514,0,0,0,0,-66.523518518518514,31178.691623512866]
["2008-06-23",0,0,0,6,0.16999999999999998,0.1200625,66.523518518518514,{"$f":"'RWH Calculator'!$C$56","v":0},66.523518518518514,0,0,0,0,-66.523518518518514,31178.691623512866]
["2008-06-24",0,0,0,6,0.16999999999999998,0.1200625,66.523518518518514,{"$f":"'RWH Calculator'!$C$56","v":0},66.523518518518514,0,0,0,0,-66.523518518518514,31178.691623512866]
["2008-06-25",0,0,0,6,0.16999999999999998,0.1200625,66.523518518518514,{"$f":"'RWH Calculator'!$C$56","v":0},66.523518518518514,0,0,0,0,-66.523518518518514,31178.691623512866]
["2008-06-26",0,0,0,6,0.16999999999999998,0.1200625,66.523518518518514,{"$f":"'RWH Calculator'!$C$56","v":0},66.523518518518514,0,0,0,0,-66.523518518518514,31178.691623512866]
["2008-06-27",0,0,0,6,0.16999999999999998,0.1200625,66.523518518518514,{"$f":"'RWH Calculator'!$C$56","v":0},66.523518518518514,0,0,0,0,-66.523518518518514,31178.691623512866]
["2008-06-28",0,0,0,6,0.16999999999999998,0.1200625,66.523518518518514,{"$f":"'RWH Calculator'!$C$56","v":0},66.523518518518514,0,0,0,0,-66.523518518518514,31178.691623512866]
["2008-06-29",0,0,0,6,0.16999999999999998,0.1200625,66.523518518518514,{"$f":"'RWH Calculator'!$C$56","v":0},66.523518518518514,0,0,0,0,-66.523518518518514,31178.691623512866]
["2008-06-30",0,0,0,6,0.16999999999999998,0.1200625,66.523518518518514,{"$f":"'RWH Calculator'!$C$56","v":0},66.523518518518514,0,0,0,0,-66.523518518518514,31178.691623512866]
["2008-07-01",0,0,0,7,0.16,0.113,62.610370370370383,{"$f":"'RWH Calculator'!$C$56","v":0},62.610370370370383,0,0,0,0,-62.610370370370383,31178.691623512866]
["2008-07-02",0,0,0,7,0.16,0.113,62.610370370370383,{"$f":"'RWH Calculator'!$C$56","v":0},62.610370370370383,0,0,0,0,-62.610370370370383,31178.691623512866]
["2008-07-03",0,0,0,7,0.16,0.113,62.610370370370383,{"$f":"'RWH Calculator'!$C$56","v":0},62.610370370370383,0,0,0,0,-62.610370370370383,31178.691623512866]
["2008-07-04",0,0,0,7,0.16,0.113,62.610370370370383,{"$f":"'RWH Calculator'!$C$56","v":0},62.610370370370383,0,0,0,0,-62.610370370370383,31178.691623512866]
["2008-07-05",0,0,0,7,0.16,0.113,62.610370370370383,{"$f":"'RWH Calculator'!$C$56","v":0},62.610370370370383,0,0,0,0,-62.610370370370383,31178.691623512866]
["2008-07-06",0,0,0,7,0.16,0.113,62.610370370370383,{"$f":"'RWH Calculator'!$C$56","v":0},62.610370370370383,0,0,0,0,-62.610370370370383,31178.691623512866]
["2008-07-07",0,0,0,7,0.16,0.113,62.610370370370383,{"$f":"'RWH Calculator'!$C$56","v":0},62.610370370370383,0,0,0,0,-62.610370370370383,31178.691623512866]
["2008-07-08",0,0,0,7,0.16,0.113,62.610370370370383,{"$f":"'RWH Calculator'!$C$56","v":0},62.610370370370383,0,0,0,0,-62.610370370370383,31178.691623512866]
["2008-07-09",0,0,0,7,0.16,0.113,62.610370370370383,{"$f":"'RWH Calculator'!$C$56","v":0},62.610370370370383,0,0,0,0,-62.610370370370383,31178.691623512866]
["2008-07-10",0,0,0,7,0.16,0.113,62.610370370370383,{"$f":"'RWH Calculator'!$C$56","v":0},62.610370370370383,0,0,0,0,-62.610370370370383,31178.691623512866]
["2008-07-11",0,0,0,7,0.16,0.113,62.610370370370383,{"$f":"'RWH Calculator'!$C$56","v":0},62.610370370370383,0,0,0,0,-62.610370370370383,31178.691623512866]
["2008-07-12",0,0,0,7,0.16,0.113,62.610370370370383,{"$f":"'RWH Calculator'!$C$56","v":0},62.610370370370383,0,0,0,0,-62.610370370370383,31178.691623512866]
["2008-07-13",0,0,0,7,0.16,0.113,62.610370370370383,{"$f":"'RWH Calculator'!$C$56","v":0},62.610370370370383,0,0,0,0,-62.610370370370383,31178.691623512866]
["2008-07-14",0,0,0,7,0.16,0.113,62.610370370370383,{"$f":"'RWH Calculator'!$C$56","v":0},62.610370370370383,0,0,0,0,-62.610370370370383,31178.691623512866]
["2008-07-15",0,0,0,7,{"$f":"IF($B$2=\"Western SF\", VLOOKUP(E2763,$R$6:$U$17, 4),VLOOKUP(E2763, $R$6:$V$17,5))","v":0.16},0.113,62.610370370370383,{"$f":"'RWH Calculator'!$C$56","v":0},62.610370370370383,0,0,0,0,-62.610370370370383,31178.691623512866]
["2008-07-16",0,0,0,{"$f":"MONTH(A2764)","v":7},0.16,{"$f":"F2764*$B$6","v":0.113},62.610370370370383,{"$f":"'RWH Calculator'!$C$56","v":0},{"$f":"H2764+I2764","v":62.610370370370383},0,0,0,0,-62.610370370370383,31178.691623512866]
["2008-07-17",0,{"$f":"$B$3*$B$4*(B2765/12)*7.48","v":0},{"$f":"C2765","v":0},7,0.16,0.113,{"$f":"(IF(G2765-B2765>0,(G2765-B2765)/$B$7,0)/12*7.48)*$B$8","v":62.610370370370383},{"$f":"'RWH Calculator'!$C$56","v":0},62.610370370370383,{"$f":"IF(O2765<0, 0, IF(O2765>$H$2, $H$2, O2765))","v":0},{"$f":"IF(J2765>D2765,D2765, K2765-K2764+J2765)","v":0},{"$f":"IF(D2765+K2764>J2765,J2765, D2765+K2764)","v":0},{"$f":"IF(C2765>J2765, C2765-J2765-(K2765-K2764),0)","v":0},{"$f":"K2764+D2765-J2765","v":-62.610370370370383},{"$f":"M2765+P2764","v":31178.691623512866}]
["2008-07-18",0,0,0,7,0.16,0.113,62.610370370370383,{"$f":"'RWH Calculator'!$C$56","v":0},62.610370370370383,0,0,0,0,-62.610370370370383,31178.691623512866]
["2008-07-19",0,0,0,7,0.16,0.113,62.610370370370383,{"$f":"'RWH Calculator'!$C$56","v":0},62.610370370370383,0,0,0,0,-62.610370370370383,31178.691623512866]
["2008-07-20",0,0,0,7,0.16,0.113,62.610370370370383,{"$f":"'RWH Calculator'!$C$56","v":0},62.610370370370383,0,0,0,0,-62.610370370370383,31178.691623512866]
["2008-07-21",0,0,0,7,0.16,0.113,62.610370370370383,{"$f":"'RWH Calculator'!$C$56","v":0},62.610370370370383,0,0,0,0,-62.610370370370383,31178.691623512866]
["2008-07-22",0,0,0,7,0.16,0.113,62.610370370370383,{"$f":"'RWH Calculator'!$C$56","v":0},62.610370370370383,0,0,0,0,-62.610370370370383,31178.691623512866]
["2008-07-23",0,0,0,7,0.16,0.113,62.610370370370383,{"$f":"'RWH Calculator'!$C$56","v":0},62.610370370370383,0,0,0,0,-62.610370370370383,31178.691623512866]
["2008-07-24",0,0,0,7,0.16,0.113,62.610370370370383,{"$f":"'RWH Calculator'!$C$56","v":0},62.610370370370383,0,0,0,0,-62.610370370370383,31178.691623512866]
["2008-07-25",0,0,0,7,0.16,0.113,62.610370370370383,{"$f":"'RWH Calculator'!$C$56","v":0},62.610370370370383,0,0,0,0,-62.610370370370383,31178.691623512866]
["2008-07-26",0,0,0,7,0.16,0.113,62.610370370370383,{"$f":"'RWH Calculator'!$C$56","v":0},62.610370370370383,0,0,0,0,-62.610370370370383,31178.691623512866]
["2008-07-27",0,0,0,7,0.16,0.113,62.610370370370383,{"$f":"'RWH Calculator'!$C$56","v":0},62.610370370370383,0,0,0,0,-62.610370370370383,31178.691623512866]
["2008-07-28",0,0,0,7,0.16,0.113,62.610370370370383,{"$f":"'RWH Calculator'!$C$56","v":0},62.610370370370383,0,0,0,0,-62.610370370370383,31178.691623512866]
["2008-07-29",0,0,0,7,0.16,0.113,62.610370370370383,{"$f":"'RWH Calculator'!$C$56","v":0},62.610370370370383,0,0,0,0,-62.610370370370383,31178.691623512866]
["2008-07-30",0,0,0,7,0.16,0.113,62.610370370370383,{"$f":"'RWH Calculator'!$C$56","v":0},62.610370370370383,0,0,0,0,-62.610370370370383,31178.691623512866]
["2008-07-31",0,0,0,7,0.16,0.113,62.610370370370383,{"$f":"'RWH Calculator'!$C$56","v":0},62.610370370370383,0,0,0,0,-62.610370370370383,31178.691623512866]
["2008-08-01",0,0,0,8,0.15000000000000002,0.10593750000000002,58.697222222222237,{"$f":"'RWH Calculator'!$C$56","v":0},58.697222222222237,0,0,0,0,-58.697222222222237,31178.691623512866]
["2008-08-02",0,0,0,8,0.15000000000000002,0.10593750000000002,58.697222222222237,{"$f":"'RWH Calculator'!$C$56","v":0},58.697222222222237,0,0,0,0,-58.697222222222237,31178.691623512866]
["2008-08-03",0,0,0,8,0.15000000000000002,0.10593750000000002,58.697222222222237,{"$f":"'RWH Calculator'!$C$56","v":0},58.697222222222237,0,0,0,0,-58.697222222222237,31178.691623512866]
["2008-08-04",0,0,0,8,0.15000000000000002,0.10593750000000002,58.697222222222237,{"$f":"'RWH Calculator'!$C$56","v":0},58.697222222222237,0,0,0,0,-58.697222222222237,31178.691623512866]
["2008-08-05",0,0,0,8,0.15000000000000002,0.10593750000000002,58.697222222222237,{"$f":"'RWH Calculator'!$C$56","v":0},58.697222222222237,0,0,0,0,-58.697222222222237,31178.691623512866]
["2008-08-06",0,0,0,8,0.15000000000000002,0.10593750000000002,58.697222222222237,{"$f":"'RWH Calculator'!$C$56","v":0},58.697222222222237,0,0,0,0,-58.697222222222237,31178.691623512866]
["2008-08-07",0,0,0,8,0.15000000000000002,0.10593750000000002,58.697222222222237,{"$f":"'RWH Calculator'!$C$56","v":0},58.697222222222237,0,0,0,0,-58.697222222222237,31178.691623512866]
["2008-08-08",0,0,0,8,0.15000000000000002,0.10593750000000002,58.697222222222237,{"$f":"'RWH Calculator'!$C$56","v":0},58.697222222222237,0,0,0,0,-58.697222222222237,31178.691623512866]
["2008-08-09",0.01,6.3580000000000014,6.3580000000000014,8,0.15000000000000002,0.10593750000000002,53.156481481481499,{"$f":"'RWH Calculator'!$C$56","v":0},53.156481481481499,0,6.3580000000000014,6.3580000000000014,0,-46.798481481481495,31185.049623512867]
["2008-08-10",0,0,0,8,0.15000000000000002,0.10593750000000002,58.697222222222237,{"$f":"'RWH Calculator'!$C$56","v":0},58.697222222222237,0,0,0,0,-58.697222222222237,31185.049623512867]
["2008-08-11",0,0,0,8,0.15000000000000002,0.10593750000000002,58.697222222222237,{"$f":"'RWH Calculator'!$C$56","v":0},58.697222222222237,0,0,0,0,-58.697222222222237,31185.049623512867]
["2008-08-12",0,0,0,8,0.15000000000000002,0.10593750000000002,58.697222222222237,{"$f":"'RWH Calculator'!$C$56","v":0},58.697222222222237,0,0,0,0,-58.697222222222237,31185.049623512867]
["2008-08-13",0,0,0,8,0.15000000000000002,0.10593750000000002,58.697222222222237,{"$f":"'RWH Calculator'!$C$56","v":0},58.697222222222237,0,0,0,0,-58.697222222222237,31185.049623512867]
["2008-08-14",0,0,0,8,0.15000000000000002,0.10593750000000002,58.697222222222237,{"$f":"'RWH Calculator'!$C$56","v":0},58.697222222222237,0,0,0,0,-58.697222222222237,31185.049623512867]
["2008-08-15",0,0,0,8,0.15000000000000002,0.10593750000000002,58.697222222222237,{"$f":"'RWH Calculator'!$C$56","v":0},58.697222222222237,0,0,0,0,-58.697222222222237,31185.049623512867]
["2008-08-16",0,0,0,8,0.15000000000000002,0.10593750000000002,58.697222222222237,{"$f":"'RWH Calculator'!$C$56","v":0},58.697222222222237,0,0,0,0,-58.697222222222237,31185.049623512867]
["2008-08-17",0,0,0,8,0.15000000000000002,0.10593750000000002,58.697222222222237,{"$f":"'RWH Calculator'!$C$56","v":0},58.697222222222237,0,0,0,0,-58.697222222222237,31185.049623512867]
["2008-08-18",0,0,0,8,0.15000000000000002,0.10593750000000002,58.697222222222237,{"$f":"'RWH Calculator'!$C$56","v":0},58.697222222222237,0,0,0,0,-58.697222222222237,31185.049623512867]
["2008-08-19",0,0,0,8,0.15000000000000002,0.10593750000000002,58.697222222222237,{"$f":"'RWH Calculator'!$C$56","v":0},58.697222222222237,0,0,0,0,-58.697222222222237,31185.049623512867]
["2008-08-20",0,0,0,8,0.15000000000000002,0.10593750000000002,58.697222222222237,{"$f":"'RWH Calculator'!$C$56","v":0},58.697222222222237,0,0,0,0,-58.697222222222237,31185.049623512867]
["2008-08-21",0,0,0,8,0.15000000000000002,0.10593750000000002,58.697222222222237,{"$f":"'RWH Calculator'!$C$56","v":0},58.697222222222237,0,0,0,0,-58.697222222222237,31185.049623512867]
["2008-08-22",0,0,0,8,0.15000000000000002,0.10593750000000002,58.697222222222237,{"$f":"'RWH Calculator'!$C$56","v":0},58.697222222222237,0,0,0,0,-58.697222222222237,31185.049623512867]
["2008-08-23",0,0,0,8,0.15000000000000002,0.10593750000000002,58.697222222222237,{"$f":"'RWH Calculator'!$C$56","v":0},58.697222222222237,0,0,0,0,-58.697222222222237,31185.049623512867]
["2008-08-24",0,0,0,8,0.15000000000000002,0.10593750000000002,58.697222222222237,{"$f":"'RWH Calculator'!$C$56","v":0},58.697222222222237,0,0,0,0,-58.697222222222237,31185.049623512867]
["2008-08-25",0,0,0,8,0.15000000000000002,0.10593750000000002,58.697222222222237,{"$f":"'RWH Calculator'!$C$56","v":0},58.697222222222237,0,0,0,0,-58.697222222222237,31185.049623512867]
["2008-08-26",0,0,0,8,0.15000000000000002,0.10593750000000002,58.697222222222237,{"$f":"'RWH Calculator'!$C$56","v":0},58.697222222222237,0,0,0,0,-58.697222222222237,31185.049623512867]
["2008-08-27",0,0,0,8,0.15000000000000002,0.10593750000000002,58.697222222222237,{"$f":"'RWH Calculator'!$C$56","v":0},58.697222222222237,0,0,0,0,-58.697222222222237,31185.049623512867]
["2008-08-28",0,0,0,8,0.15000000000000002,0.10593750000000002,58.697222222222237,{"$f":"'RWH Calculator'!$C$56","v":0},58.697222222222237,0,0,0,0,-58.697222222222237,31185.049623512867]
["2008-08-29",0,0,0,8,0.15000000000000002,0.10593750000000002,58.697222222222237,{"$f":"'RWH Calculator'!$C$56","v":0},58.697222222222237,0,0,0,0,-58.697222222222237,31185.049623512867]
["2008-08-30",0,0,0,8,0.15000000000000002,0.10593750000000002,58.697222222222237,{"$f":"'RWH Calculator'!$C$56","v":0},58.697222222222237,0,0,0,0,-58.697222222222237,31185.049623512867]
["2008-08-31",0,0,0,8,0.15000000000000002,0.10593750000000002,58.697222222222237,{"$f":"'RWH Calculator'!$C$56","v":0},58.697222222222237,0,0,0,0,-58.697222222222237,31185.049623512867]
["2008-09-01",0,0,0,9,0.13,9.1812500000000005E-2,50.870925925925924,{"$f":"'RWH Calculator'!$C$56","v":0},50.870925925925924,0,0,0,0,-50.870925925925924,31185.049623512867]
["2008-09-02",0,0,0,9,0.13,9.1812500000000005E-2,50.870925925925924,{"$f":"'RWH Calculator'!$C$56","v":0},50.870925925925924,0,0,0,0,-50.870925925925924,31185.049623512867]
["2008-09-03",0,0,0,9,0.13,9.1812500000000005E-2,50.870925925925924,{"$f":"'RWH Calculator'!$C$56","v":0},50.870925925925924,0,0,0,0,-50.870925925925924,31185.049623512867]
["2008-09-04",0,0,0,9,0.13,9.1812500000000005E-2,50.870925925925924,{"$f":"'RWH Calculator'!$C$56","v":0},50.870925925925924,0,0,0,0,-50.870925925925924,31185.049623512867]
["2008-09-05",0,0,0,9,0.13,9.1812500000000005E-2,50.870925925925924,{"$f":"'RWH Calculator'!$C$56","v":0},50.870925925925924,0,0,0,0,-50.870925925925924,31185.049623512867]
["2008-09-06",0,0,0,9,0.13,9.1812500000000005E-2,50.870925925925924,{"$f":"'RWH Calculator'!$C$56","v":0},50.870925925925924,0,0,0,0,-50.870925925925924,31185.049623512867]
["2008-09-07",0,0,0,9,0.13,9.1812500000000005E-2,50.870925925925924,{"$f":"'RWH Calculator'!$C$56","v":0},50.870925925925924,0,0,0,0,-50.870925925925924,31185.049623512867]
["2008-09-08",0,0,0,9,0.13,9.1812500000000005E-2,50.870925925925924,{"$f":"'RWH Calculator'!$C$56","v":0},50.870925925925924,0,0,0,0,-50.870925925925924,31185.049623512867]
["2008-09-09",0,0,0,9,0.13,9.1812500000000005E-2,50.870925925925924,{"$f":"'RWH Calculator'!$C$56","v":0},50.870925925925924,0,0,0,0,-50.870925925925924,31185.049623512867]
["2008-09-10",0,0,0,9,0.13,9.1812500000000005E-2,50.870925925925924,{"$f":"'RWH Calculator'!$C$56","v":0},50.870925925925924,0,0,0,0,-50.870925925925924,31185.049623512867]
["2008-09-11",0,0,0,9,0.13,9.1812500000000005E-2,50.870925925925924,{"$f":"'RWH Calculator'!$C$56","v":0},50.870925925925924,0,0,0,0,-50.870925925925924,31185.049623512867]
["2008-09-12",0,0,0,9,0.13,9.1812500000000005E-2,50.870925925925924,{"$f":"'RWH Calculator'!$C$56","v":0},50.870925925925924,0,0,0,0,-50.870925925925924,31185.049623512867]
["2008-09-13",0,0,0,9,0.13,9.1812500000000005E-2,50.870925925925924,{"$f":"'RWH Calculator'!$C$56","v":0},50.870925925925924,0,0,0,0,-50.870925925925924,31185.049623512867]
["2008-09-14",0,0,0,9,0.13,9.1812500000000005E-2,50.870925925925924,{"$f":"'RWH Calculator'!$C$56","v":0},50.870925925925924,0,0,0,0,-50.870925925925924,31185.049623512867]
["2008-09-15",0,0,0,9,0.13,9.1812500000000005E-2,50.870925925925924,{"$f":"'RWH Calculator'!$C$56","v":0},50.870925925925924,0,0,0,0,-50.870925925925924,31185.049623512867]
["2008-09-16",0,0,0,9,0.13,9.1812500000000005E-2,50.870925925925924,{"$f":"'RWH Calculator'!$C$56","v":0},50.870925925925924,0,0,0,0,-50.870925925925924,31185.049623512867]
["2008-09-17",0,0,0,9,{"$f":"IF($B$2=\"Western SF\", VLOOKUP(E2827,$R$6:$U$17, 4),VLOOKUP(E2827, $R$6:$V$17,5))","v":0.13},9.1812500000000005E-2,50.870925925925924,{"$f":"'RWH Calculator'!$C$56","v":0},50.870925925925924,0,0,0,0,-50.870925925925924,31185.049623512867]
["2008-09-18",0,0,0,{"$f":"MONTH(A2828)","v":9},0.13,{"$f":"F2828*$B$6","v":9.1812500000000005E-2},50.870925925925924,{"$f":"'RWH Calculator'!$C$56","v":0},{"$f":"H2828+I2828","v":50.870925925925924},0,0,0,0,-50.870925925925924,31185.049623512867]
["2008-09-19",0,{"$f":"$B$3*$B$4*(B2829/12)*7.48","v":0},{"$f":"C2829","v":0},9,0.13,9.1812500000000005E-2,{"$f":"(IF(G2829-B2829>0,(G2829-B2829)/$B$7,0)/12*7.48)*$B$8","v":50.870925925925924},{"$f":"'RWH Calculator'!$C$56","v":0},50.870925925925924,{"$f":"IF(O2829<0, 0, IF(O2829>$H$2, $H$2, O2829))","v":0},{"$f":"IF(J2829>D2829,D2829, K2829-K2828+J2829)","v":0},{"$f":"IF(D2829+K2828>J2829,J2829, D2829+K2828)","v":0},{"$f":"IF(C2829>J2829, C2829-J2829-(K2829-K2828),0)","v":0},{"$f":"K2828+D2829-J2829","v":-50.870925925925924},{"$f":"M2829+P2828","v":31185.049623512867}]
["2008-09-20",0,0,0,9,0.13,9.1812500000000005E-2,50.870925925925924,{"$f":"'RWH Calculator'!$C$56","v":0},50.870925925925924,0,0,0,0,-50.870925925925924,31185.049623512867]
["2008-09-21",0,0,0,9,0.13,9.1812500000000005E-2,50.870925925925924,{"$f":"'RWH Calculator'!$C$56","v":0},50.870925925925924,0,0,0,0,-50.870925925925924,31185.049623512867]
["2008-09-22",0,0,0,9,0.13,9.1812500000000005E-2,50.870925925925924,{"$f":"'RWH Calculator'!$C$56","v":0},50.870925925925924,0,0,0,0,-50.870925925925924,31185.049623512867]
["2008-09-23",0,0,0,9,0.13,9.1812500000000005E-2,50.870925925925924,{"$f":"'RWH Calculator'!$C$56","v":0},50.870925925925924,0,0,0,0,-50.870925925925924,31185.049623512867]
["2008-09-24",0,0,0,9,0.13,9.1812500000000005E-2,50.870925925925924,{"$f":"'RWH Calculator'!$C$56","v":0},50.870925925925924,0,0,0,0,-50.870925925925924,31185.049623512867]
["2008-09-25",0,0,0,9,0.13,9.1812500000000005E-2,50.870925925925924,{"$f":"'RWH Calculator'!$C$56","v":0},50.870925925925924,0,0,0,0,-50.870925925925924,31185.049623512867]
["2008-09-26",0,0,0,9,0.13,9.1812500000000005E-2,50.870925925925924,{"$f":"'RWH Calculator'!$C$56","v":0},50.870925925925924,0,0,0,0,-50.870925925925924,31185.049623512867]
["2008-09-27",0,0,0,9,0.13,9.1812500000000005E-2,50.870925925925924,{"$f":"'RWH Calculator'!$C$56","v":0},50.870925925925924,0,0,0,0,-50.870925925925924,31185.049623512867]
["2008-09-28",0,0,0,9,0.13,9.1812500000000005E-2,50.870925925925924,{"$f":"'RWH Calculator'!$C$56","v":0},50.870925925925924,0,0,0,0,-50.870925925925924,31185.049623512867]
["2008-09-29",0,0,0,9,0.13,9.1812500000000005E-2,50.870925925925924,{"$f":"'RWH Calculator'!$C$56","v":0},50.870925925925924,0,0,0,0,-50.870925925925924,31185.049623512867]
["2008-09-30",0,0,0,9,0.13,9.1812500000000005E-2,50.870925925925924,{"$f":"'RWH Calculator'!$C$56","v":0},50.870925925925924,0,0,0,0,-50.870925925925924,31185.049623512867]
["2008-10-01",0,0,0,10,0.09,6.3562500000000008E-2,35.218333333333341,{"$f":"'RWH Calculator'!$C$56","v":0},35.218333333333341,0,0,0,0,-35.218333333333341,31185.049623512867]
["2008-10-02",0,0,0,10,0.09,6.3562500000000008E-2,35.218333333333341,{"$f":"'RWH Calculator'!$C$56","v":0},35.218333333333341,0,0,0,0,-35.218333333333341,31185.049623512867]
["2008-10-03",0.01,6.3580000000000014,6.3580000000000014,10,0.09,6.3562500000000008E-2,29.677592592592596,{"$f":"'RWH Calculator'!$C$56","v":0},29.677592592592596,0,6.3580000000000014,6.3580000000000014,0,-23.319592592592596,31191.407623512867]
["2008-10-04",0.13,82.654000000000011,82.654000000000011,10,0.09,6.3562500000000008E-2,0,{"$f":"'RWH Calculator'!$C$56","v":0},0,82.654000000000011,82.654000000000011,0,0,82.654000000000011,31191.407623512867]
["2008-10-05",0,0,0,10,0.09,6.3562500000000008E-2,35.218333333333341,{"$f":"'RWH Calculator'!$C$56","v":0},35.218333333333341,47.43566666666667,0,35.218333333333341,0,47.43566666666667,31226.625956846201]
["2008-10-06",0,0,0,10,0.09,6.3562500000000008E-2,35.218333333333341,{"$f":"'RWH Calculator'!$C$56","v":0},35.218333333333341,12.217333333333329,0,35.218333333333341,0,12.217333333333329,31261.844290179535]
["2008-10-07",0,0,0,10,0.09,6.3562500000000008E-2,35.218333333333341,{"$f":"'RWH Calculator'!$C$56","v":0},35.218333333333341,0,0,12.217333333333329,0,-23.001000000000012,31274.061623512869]
["2008-10-08",0,0,0,10,0.09,6.3562500000000008E-2,35.218333333333341,{"$f":"'RWH Calculator'!$C$56","v":0},35.218333333333341,0,0,0,0,-35.218333333333341,31274.061623512869]
["2008-10-09",0,0,0,10,0.09,6.3562500000000008E-2,35.218333333333341,{"$f":"'RWH Calculator'!$C$56","v":0},35.218333333333341,0,0,0,0,-35.218333333333341,31274.061623512869]
["2008-10-10",0,0,0,10,0.09,6.3562500000000008E-2,35.218333333333341,{"$f":"'RWH Calculator'!$C$56","v":0},35.218333333333341,0,0,0,0,-35.218333333333341,31274.061623512869]
["2008-10-11",0,0,0,10,0.09,6.3562500000000008E-2,35.218333333333341,{"$f":"'RWH Calculator'!$C$56","v":0},35.218333333333341,0,0,0,0,-35.218333333333341,31274.061623512869]
["2008-10-12",0,0,0,10,0.09,6.3562500000000008E-2,35.218333333333341,{"$f":"'RWH Calculator'!$C$56","v":0},35.218333333333341,0,0,0,0,-35.218333333333341,31274.061623512869]
["2008-10-13",0,0,0,10,0.09,6.3562500000000008E-2,35.218333333333341,{"$f":"'RWH Calculator'!$C$56","v":0},35.218333333333341,0,0,0,0,-35.218333333333341,31274.061623512869]
["2008-10-14",0,0,0,10,0.09,6.3562500000000008E-2,35.218333333333341,{"$f":"'RWH Calculator'!$C$56","v":0},35.218333333333341,0,0,0,0,-35.218333333333341,31274.061623512869]
["2008-10-15",0,0,0,10,0.09,6.3562500000000008E-2,35.218333333333341,{"$f":"'RWH Calculator'!$C$56","v":0},35.218333333333341,0,0,0,0,-35.218333333333341,31274.061623512869]
["2008-10-16",0,0,0,10,0.09,6.3562500000000008E-2,35.218333333333341,{"$f":"'RWH Calculator'!$C$56","v":0},35.218333333333341,0,0,0,0,-35.218333333333341,31274.061623512869]
["2008-10-17",0,0,0,10,0.09,6.3562500000000008E-2,35.218333333333341,{"$f":"'RWH Calculator'!$C$56","v":0},35.218333333333341,0,0,0,0,-35.218333333333341,31274.061623512869]
["2008-10-18",0,0,0,10,0.09,6.3562500000000008E-2,35.218333333333341,{"$f":"'RWH Calculator'!$C$56","v":0},35.218333333333341,0,0,0,0,-35.218333333333341,31274.061623512869]
["2008-10-19",0,0,0,10,0.09,6.3562500000000008E-2,35.218333333333341,{"$f":"'RWH Calculator'!$C$56","v":0},35.218333333333341,0,0,0,0,-35.218333333333341,31274.061623512869]
["2008-10-20",0,0,0,10,0.09,6.3562500000000008E-2,35.218333333333341,{"$f":"'RWH Calculator'!$C$56","v":0},35.218333333333341,0,0,0,0,-35.218333333333341,31274.061623512869]
["2008-10-21",0,0,0,10,0.09,6.3562500000000008E-2,35.218333333333341,{"$f":"'RWH Calculator'!$C$56","v":0},35.218333333333341,0,0,0,0,-35.218333333333341,31274.061623512869]
["2008-10-22",0,0,0,10,0.09,6.3562500000000008E-2,35.218333333333341,{"$f":"'RWH Calculator'!$C$56","v":0},35.218333333333341,0,0,0,0,-35.218333333333341,31274.061623512869]
["2008-10-23",0,0,0,10,0.09,6.3562500000000008E-2,35.218333333333341,{"$f":"'RWH Calculator'!$C$56","v":0},35.218333333333341,0,0,0,0,-35.218333333333341,31274.061623512869]
["2008-10-24",0,0,0,10,0.09,6.3562500000000008E-2,35.218333333333341,{"$f":"'RWH Calculator'!$C$56","v":0},35.218333333333341,0,0,0,0,-35.218333333333341,31274.061623512869]
["2008-10-25",0,0,0,10,0.09,6.3562500000000008E-2,35.218333333333341,{"$f":"'RWH Calculator'!$C$56","v":0},35.218333333333341,0,0,0,0,-35.218333333333341,31274.061623512869]
["2008-10-26",0,0,0,10,0.09,6.3562500000000008E-2,35.218333333333341,{"$f":"'RWH Calculator'!$C$56","v":0},35.218333333333341,0,0,0,0,-35.218333333333341,31274.061623512869]
["2008-10-27",0,0,0,10,0.09,6.3562500000000008E-2,35.218333333333341,{"$f":"'RWH Calculator'!$C$56","v":0},35.218333333333341,0,0,0,0,-35.218333333333341,31274.061623512869]
["2008-10-28",0,0,0,10,0.09,6.3562500000000008E-2,35.218333333333341,{"$f":"'RWH Calculator'!$C$56","v":0},35.218333333333341,0,0,0,0,-35.218333333333341,31274.061623512869]
["2008-10-29",0,0,0,10,0.09,6.3562500000000008E-2,35.218333333333341,{"$f":"'RWH Calculator'!$C$56","v":0},35.218333333333341,0,0,0,0,-35.218333333333341,31274.061623512869]
["2008-10-30",0.05,31.790000000000003,31.790000000000003,10,0.09,6.3562500000000008E-2,7.5146296296296322,{"$f":"'RWH Calculator'!$C$56","v":0},7.5146296296296322,24.275370370370371,31.790000000000003,7.5146296296296322,0,24.275370370370371,31281.576253142499]
["2008-10-31",0.16000000000000003,101.72800000000002,101.72800000000002,10,0.09,6.3562500000000008E-2,0,{"$f":"'RWH Calculator'!$C$56","v":0},0,126.00337037037039,101.72800000000002,0,0,126.00337037037039,31281.576253142499]
["2008-11-01",1.1100000000000001,705.73800000000006,705.73800000000006,11,6.0000000000000005E-2,4.2375000000000003E-2,0,{"$f":"'RWH Calculator'!$C$56","v":0},0,831.74137037037042,705.73800000000006,0,0,831.74137037037042,31281.576253142499]
["2008-11-02",0.42000000000000015,267.03600000000012,267.03600000000012,11,6.0000000000000005E-2,4.2375000000000003E-2,0,{"$f":"'RWH Calculator'!$C$56","v":0},0,1057.4600871983243,225.71871682795393,0,41.317283172046189,1098.7773703703706,31281.576253142499]
["2008-11-03",0.52000000000000013,330.6160000000001,330.6160000000001,11,6.0000000000000005E-2,4.2375000000000003E-2,0,{"$f":"'RWH Calculator'!$C$56","v":0},0,1057.4600871983243,0,0,330.6160000000001,1388.0760871983243,31281.576253142499]
["2008-11-04",0,0,0,11,6.0000000000000005E-2,4.2375000000000003E-2,23.478888888888889,{"$f":"'RWH Calculator'!$C$56","v":0},23.478888888888889,1033.9811983094355,0,23.478888888888889,0,1033.9811983094355,31305.05514203139]
["2008-11-05",0,0,0,11,6.0000000000000005E-2,4.2375000000000003E-2,23.478888888888889,{"$f":"'RWH Calculator'!$C$56","v":0},23.478888888888889,1010.5023094205467,0,23.478888888888889,0,1010.5023094205467,31328.53403092028]
["2008-11-06",0,0,0,11,6.0000000000000005E-2,4.2375000000000003E-2,23.478888888888889,{"$f":"'RWH Calculator'!$C$56","v":0},23.478888888888889,987.02342053165785,0,23.478888888888889,0,987.02342053165785,31352.012919809171]
["2008-11-07",0,0,0,11,6.0000000000000005E-2,4.2375000000000003E-2,23.478888888888889,{"$f":"'RWH Calculator'!$C$56","v":0},23.478888888888889,963.54453164276902,0,23.478888888888889,0,963.54453164276902,31375.491808698062]
["2008-11-08",0.08,50.864000000000011,50.864000000000011,11,6.0000000000000005E-2,4.2375000000000003E-2,0,{"$f":"'RWH Calculator'!$C$56","v":0},0,1014.408531642769,50.864000000000033,0,-2.1316282072803006E-14,1014.408531642769,31375.491808698062]
["2008-11-09",0,0,0,11,6.0000000000000005E-2,4.2375000000000003E-2,23.478888888888889,{"$f":"'RWH Calculator'!$C$56","v":0},23.478888888888889,990.92964275388022,0,23.478888888888889,0,990.92964275388022,31398.970697586952]
["2008-11-10",0,0,0,11,6.0000000000000005E-2,4.2375000000000003E-2,23.478888888888889,{"$f":"'RWH Calculator'!$C$56","v":0},23.478888888888889,967.45075386499138,0,23.478888888888889,0,967.45075386499138,31422.449586475843]
["2008-11-11",0,0,0,11,6.0000000000000005E-2,4.2375000000000003E-2,23.478888888888889,{"$f":"'RWH Calculator'!$C$56","v":0},23.478888888888889,943.97186497610255,0,23.478888888888889,0,943.97186497610255,31445.928475364733]
["2008-11-12",0,0,0,11,6.0000000000000005E-2,4.2375000000000003E-2,23.478888888888889,{"$f":"'RWH Calculator'!$C$56","v":0},23.478888888888889,920.49297608721372,0,23.478888888888889,0,920.49297608721372,31469.407364253624]
["2008-11-13",0,0,0,11,6.0000000000000005E-2,4.2375000000000003E-2,23.478888888888889,{"$f":"'RWH Calculator'!$C$56","v":0},23.478888888888889,897.01408719832489,0,23.478888888888889,0,897.01408719832489,31492.886253142515]
["2008-11-14",0,0,0,11,6.0000000000000005E-2,4.2375000000000003E-2,23.478888888888889,{"$f":"'RWH Calculator'!$C$56","v":0},23.478888888888889,873.53519830943605,0,23.478888888888889,0,873.53519830943605,31516.365142031405]
["2008-11-15",0,0,0,11,6.0000000000000005E-2,4.2375000000000003E-2,23.478888888888889,{"$f":"'RWH Calculator'!$C$56","v":0},23.478888888888889,850.05630942054722,0,23.478888888888889,0,850.05630942054722,31539.844030920296]
["2008-11-16",0,0,0,11,6.0000000000000005E-2,4.2375000000000003E-2,23.478888888888889,{"$f":"'RWH Calculator'!$C$56","v":0},23.478888888888889,826.57742053165839,0,23.478888888888889,0,826.57742053165839,31563.322919809187]
["2008-11-17",0,0,0,11,6.0000000000000005E-2,4.2375000000000003E-2,23.478888888888889,{"$f":"'RWH Calculator'!$C$56","v":0},23.478888888888889,803.09853164276956,0,23.478888888888889,0,803.09853164276956,31586.801808698077]
["2008-11-18",0,0,0,11,6.0000000000000005E-2,4.2375000000000003E-2,23.478888888888889,{"$f":"'RWH Calculator'!$C$56","v":0},23.478888888888889,779.61964275388073,0,23.478888888888889,0,779.61964275388073,31610.280697586968]
["2008-11-19",0,0,0,11,6.0000000000000005E-2,4.2375000000000003E-2,23.478888888888889,{"$f":"'RWH Calculator'!$C$56","v":0},23.478888888888889,756.14075386499189,0,23.478888888888889,0,756.14075386499189,31633.759586475859]
["2008-11-20",0,0,0,11,{"$f":"IF($B$2=\"Western SF\", VLOOKUP(E2891,$R$6:$U$17, 4),VLOOKUP(E2891, $R$6:$V$17,5))","v":6.0000000000000005E-2},4.2375000000000003E-2,23.478888888888889,{"$f":"'RWH Calculator'!$C$56","v":0},23.478888888888889,732.66186497610306,0,23.478888888888889,0,732.66186497610306,31657.238475364749]
["2008-11-21",0,0,0,{"$f":"MONTH(A2892)","v":11},6.0000000000000005E-2,{"$f":"F2892*$B$6","v":4.2375000000000003E-2},23.478888888888889,{"$f":"'RWH Calculator'!$C$56","v":0},{"$f":"H2892+I2892","v":23.478888888888889},709.18297608721423,0,23.478888888888889,0,709.18297608721423,31680.71736425364]
["2008-11-22",0,{"$f":"$B$3*$B$4*(B2893/12)*7.48","v":0},{"$f":"C2893","v":0},11,6.0000000000000005E-2,4.2375000000000003E-2,{"$f":"(IF(G2893-B2893>0,(G2893-B2893)/$B$7,0)/12*7.48)*$B$8","v":23.478888888888889},{"$f":"'RWH Calculator'!$C$56","v":0},23.478888888888889,{"$f":"IF(O2893<0, 0, IF(O2893>$H$2, $H$2, O2893))","v":685.7040871983254},{"$f":"IF(J2893>D2893,D2893, K2893-K2892+J2893)","v":0},{"$f":"IF(D2893+K2892>J2893,J2893, D2893+K2892)","v":23.478888888888889},{"$f":"IF(C2893>J2893, C2893-J2893-(K2893-K2892),0)","v":0},{"$f":"K2892+D2893-J2893","v":685.7040871983254},{"$f":"M2893+P2892","v":31704.196253142531}]
["2008-11-23",0,0,0,11,6.0000000000000005E-2,4.2375000000000003E-2,23.478888888888889,{"$f":"'RWH Calculator'!$C$56","v":0},23.478888888888889,662.22519830943656,0,23.478888888888889,0,662.22519830943656,31727.675142031421]
["2008-11-24",0,0,0,11,6.0000000000000005E-2,4.2375000000000003E-2,23.478888888888889,{"$f":"'RWH Calculator'!$C$56","v":0},23.478888888888889,638.74630942054773,0,23.478888888888889,0,638.74630942054773,31751.154030920312]
["2008-11-25",0,0,0,11,6.0000000000000005E-2,4.2375000000000003E-2,23.478888888888889,{"$f":"'RWH Calculator'!$C$56","v":0},23.478888888888889,615.2674205316589,0,23.478888888888889,0,615.2674205316589,31774.632919809203]
["2008-11-26",0.18000000000000002,114.44400000000002,114.44400000000002,11,6.0000000000000005E-2,4.2375000000000003E-2,0,{"$f":"'RWH Calculator'!$C$56","v":0},0,729.71142053165886,114.44399999999996,0,5.6843418860808015E-14,729.71142053165886,31774.632919809203]
["2008-11-27",0,0,0,11,6.0000000000000005E-2,4.2375000000000003E-2,23.478888888888889,{"$f":"'RWH Calculator'!$C$56","v":0},23.478888888888889,706.23253164277003,0,23.478888888888889,0,706.23253164277003,31798.111808698093]
["2008-11-28",0,0,0,11,6.0000000000000005E-2,4.2375000000000003E-2,23.478888888888889,{"$f":"'RWH Calculator'!$C$56","v":0},23.478888888888889,682.75364275388119,0,23.478888888888889,0,682.75364275388119,31821.590697586984]
["2008-11-29",0,0,0,11,6.0000000000000005E-2,4.2375000000000003E-2,23.478888888888889,{"$f":"'RWH Calculator'!$C$56","v":0},23.478888888888889,659.27475386499236,0,23.478888888888889,0,659.27475386499236,31845.069586475875]
["2008-11-30",0,0,0,11,6.0000000000000005E-2,4.2375000000000003E-2,23.478888888888889,{"$f":"'RWH Calculator'!$C$56","v":0},23.478888888888889,635.79586497610353,0,23.478888888888889,0,635.79586497610353,31868.548475364765]
["2008-12-01",0,0,0,12,0.04,2.8250000000000001E-2,15.652592592592596,{"$f":"'RWH Calculator'!$C$56","v":0},15.652592592592596,620.14327238351098,0,15.652592592592596,0,620.14327238351098,31884.201067957358]
["2008-12-02",0,0,0,12,0.04,2.8250000000000001E-2,15.652592592592596,{"$f":"'RWH Calculator'!$C$56","v":0},15.652592592592596,604.49067979091842,0,15.652592592592596,0,604.49067979091842,31899.85366054995]
["2008-12-03",0,0,0,12,0.04,2.8250000000000001E-2,15.652592592592596,{"$f":"'RWH Calculator'!$C$56","v":0},15.652592592592596,588.83808719832587,0,15.652592592592596,0,588.83808719832587,31915.506253142543]
["2008-12-04",0,0,0,12,0.04,2.8250000000000001E-2,15.652592592592596,{"$f":"'RWH Calculator'!$C$56","v":0},15.652592592592596,573.18549460573331,0,15.652592592592596,0,573.18549460573331,31931.158845735135]
["2008-12-05",0,0,0,12,0.04,2.8250000000000001E-2,15.652592592592596,{"$f":"'RWH Calculator'!$C$56","v":0},15.652592592592596,557.53290201314076,0,15.652592592592596,0,557.53290201314076,31946.811438327728]
["2008-12-06",0,0,0,12,0.04,2.8250000000000001E-2,15.652592592592596,{"$f":"'RWH Calculator'!$C$56","v":0},15.652592592592596,541.8803094205482,0,15.652592592592596,0,541.8803094205482,31962.464030920321]
["2008-12-07",0,0,0,12,0.04,2.8250000000000001E-2,15.652592592592596,{"$f":"'RWH Calculator'!$C$56","v":0},15.652592592592596,526.22771682795565,0,15.652592592592596,0,526.22771682795565,31978.116623512913]
["2008-12-08",0,0,0,12,0.04,2.8250000000000001E-2,15.652592592592596,{"$f":"'RWH Calculator'!$C$56","v":0},15.652592592592596,510.57512423536303,0,15.652592592592596,0,510.57512423536303,31993.769216105506]
["2008-12-09",0,0,0,12,0.04,2.8250000000000001E-2,15.652592592592596,{"$f":"'RWH Calculator'!$C$56","v":0},15.652592592592596,494.92253164277042,0,15.652592592592596,0,494.92253164277042,32009.421808698098]
["2008-12-10",0,0,0,12,0.04,2.8250000000000001E-2,15.652592592592596,{"$f":"'RWH Calculator'!$C$56","v":0},15.652592592592596,479.26993905017781,0,15.652592592592596,0,479.26993905017781,32025.074401290691]
["2008-12-11",0,0,0,12,0.04,2.8250000000000001E-2,15.652592592592596,{"$f":"'RWH Calculator'!$C$56","v":0},15.652592592592596,463.6173464575852,0,15.652592592592596,0,463.6173464575852,32040.726993883283]
["2008-12-12",0.02,12.716000000000003,12.716000000000003,12,0.04,2.8250000000000001E-2,4.5711111111111116,{"$f":"'RWH Calculator'!$C$56","v":0},4.5711111111111116,471.76223534647409,12.715999999999998,4.5711111111111116,5.3290705182007514E-15,471.76223534647409,32045.298104994396]
["2008-12-13",0,0,0,12,0.04,2.8250000000000001E-2,15.652592592592596,{"$f":"'RWH Calculator'!$C$56","v":0},15.652592592592596,456.10964275388147,0,15.652592592592596,0,456.10964275388147,32060.950697586988]
["2008-12-14",0.69000000000000006,438.70200000000006,438.70200000000006,12,0.04,2.8250000000000001E-2,0,{"$f":"'RWH Calculator'!$C$56","v":0},0,894.81164275388153,438.70200000000006,0,0,894.81164275388153,32060.950697586988]
["2008-12-15",0.21,133.518,133.518,12,0.04,2.8250000000000001E-2,0,{"$f":"'RWH Calculator'!$C$56","v":0},0,1028.3296427538814,133.51799999999992,0,8.5265128291212022E-14,1028.3296427538814,32060.950697586988]
["2008-12-16",0.34,216.17200000000003,216.17200000000003,12,0.04,2.8250000000000001E-2,0,{"$f":"'RWH Calculator'!$C$56","v":0},0,1057.4600871983243,29.130444444442901,0,187.04155555555712,1244.5016427538815,32060.950697586988]
["2008-12-17",0,0,0,12,0.04,2.8250000000000001E-2,15.652592592592596,{"$f":"'RWH Calculator'!$C$56","v":0},15.652592592592596,1041.8074946057318,0,15.652592592592596,0,1041.8074946057318,32076.603290179581]
["2008-12-18",0,0,0,12,0.04,2.8250000000000001E-2,15.652592592592596,{"$f":"'RWH Calculator'!$C$56","v":0},15.652592592592596,1026.1549020131392,0,15.652592592592596,0,1026.1549020131392,32092.255882772173]
["2008-12-19",0.24000000000000002,152.59200000000001,152.59200000000001,12,0.04,2.8250000000000001E-2,0,{"$f":"'RWH Calculator'!$C$56","v":0},0,1057.4600871983243,31.30518518518511,0,121.2868148148149,1178.7469020131393,32092.255882772173]
["2008-12-20",0,0,0,12,0.04,2.8250000000000001E-2,15.652592592592596,{"$f":"'RWH Calculator'!$C$56","v":0},15.652592592592596,1041.8074946057318,0,15.652592592592596,0,1041.8074946057318,32107.908475364766]
["2008-12-21",0.57000000000000006,362.40600000000012,362.40600000000012,12,0.04,2.8250000000000001E-2,0,{"$f":"'RWH Calculator'!$C$56","v":0},0,1057.4600871983243,15.652592592592555,0,346.75340740740756,1404.213494605732,32107.908475364766]
["2008-12-22",0.03,19.074000000000002,19.074000000000002,12,0.04,2.8250000000000001E-2,0,{"$f":"'RWH Calculator'!$C$56","v":0},0,1057.4600871983243,0,0,19.074000000000002,1076.5340871983244,32107.908475364766]
["2008-12-23",0.09,57.222000000000001,57.222000000000001,12,0.04,2.8250000000000001E-2,0,{"$f":"'RWH Calculator'!$C$56","v":0},0,1057.4600871983243,0,0,57.222000000000001,1114.6820871983243,32107.908475364766]
["2008-12-24",0.16,101.72800000000002,101.72800000000002,12,0.04,2.8250000000000001E-2,0,{"$f":"'RWH Calculator'!$C$56","v":0},0,1057.4600871983243,0,0,101.72800000000002,1159.1880871983244,32107.908475364766]
["2008-12-25",0.47000000000000008,298.82600000000008,298.82600000000008,12,0.04,2.8250000000000001E-2,0,{"$f":"'RWH Calculator'!$C$56","v":0},0,1057.4600871983243,0,0,298.82600000000008,1356.2860871983244,32107.908475364766]
["2008-12-26",0,0,0,12,0.04,2.8250000000000001E-2,15.652592592592596,{"$f":"'RWH Calculator'!$C$56","v":0},15.652592592592596,1041.8074946057318,0,15.652592592592596,0,1041.8074946057318,32123.561067957358]
["2008-12-27",0,0,0,12,0.04,2.8250000000000001E-2,15.652592592592596,{"$f":"'RWH Calculator'!$C$56","v":0},15.652592592592596,1026.1549020131392,0,15.652592592592596,0,1026.1549020131392,32139.213660549951]
["2008-12-28",0,0,0,12,0.04,2.8250000000000001E-2,15.652592592592596,{"$f":"'RWH Calculator'!$C$56","v":0},15.652592592592596,1010.5023094205467,0,15.652592592592596,0,1010.5023094205467,32154.866253142543]
["2008-12-29",0,0,0,12,0.04,2.8250000000000001E-2,15.652592592592596,{"$f":"'RWH Calculator'!$C$56","v":0},15.652592592592596,994.84971682795413,0,15.652592592592596,0,994.84971682795413,32170.518845735136]
["2008-12-30",0,0,0,12,0.04,2.8250000000000001E-2,15.652592592592596,{"$f":"'RWH Calculator'!$C$56","v":0},15.652592592592596,979.19712423536157,0,15.652592592592596,0,979.19712423536157,32186.171438327729]
["2008-12-31",0,0,0,12,0.04,2.8250000000000001E-2,15.652592592592596,{"$f":"'RWH Calculator'!$C$56","v":0},15.652592592592596,963.54453164276902,0,15.652592592592596,0,963.54453164276902,32201.824030920321]
["2009-01-01",0,0,0,1,0.04,2.8250000000000001E-2,15.652592592592596,{"$f":"'RWH Calculator'!$C$56","v":0},15.652592592592596,947.89193905017646,0,15.652592592592596,0,947.89193905017646,32217.476623512914]
["2009-01-02",0.24000000000000002,152.59200000000001,152.59200000000001,1,0.04,2.8250000000000001E-2,0,{"$f":"'RWH Calculator'!$C$56","v":0},0,1057.4600871983243,109.56814814814788,0,43.023851851852129,1100.4839390501766,32217.476623512914]
["2009-01-03",0,0,0,1,0.04,2.8250000000000001E-2,15.652592592592596,{"$f":"'RWH Calculator'!$C$56","v":0},15.652592592592596,1041.8074946057318,0,15.652592592592596,0,1041.8074946057318,32233.129216105506]
["2009-01-04",0,0,0,1,0.04,2.8250000000000001E-2,15.652592592592596,{"$f":"'RWH Calculator'!$C$56","v":0},15.652592592592596,1026.1549020131392,0,15.652592592592596,0,1026.1549020131392,32248.781808698099]
["2009-01-05",0,0,0,1,0.04,2.8250000000000001E-2,15.652592592592596,{"$f":"'RWH Calculator'!$C$56","v":0},15.652592592592596,1010.5023094205467,0,15.652592592592596,0,1010.5023094205467,32264.434401290691]
["2009-01-06",0,0,0,1,0.04,2.8250000000000001E-2,15.652592592592596,{"$f":"'RWH Calculator'!$C$56","v":0},15.652592592592596,994.84971682795413,0,15.652592592592596,0,994.84971682795413,32280.086993883284]
["2009-01-07",0,0,0,1,0.04,2.8250000000000001E-2,15.652592592592596,{"$f":"'RWH Calculator'!$C$56","v":0},15.652592592592596,979.19712423536157,0,15.652592592592596,0,979.19712423536157,32295.739586475876]
["2009-01-08",0,0,0,1,0.04,2.8250000000000001E-2,15.652592592592596,{"$f":"'RWH Calculator'!$C$56","v":0},15.652592592592596,963.54453164276902,0,15.652592592592596,0,963.54453164276902,32311.392179068469]
["2009-01-09",0,0,0,1,0.04,2.8250000000000001E-2,15.652592592592596,{"$f":"'RWH Calculator'!$C$56","v":0},15.652592592592596,947.89193905017646,0,15.652592592592596,0,947.89193905017646,32327.044771661062]
["2009-01-10",0,0,0,1,0.04,2.8250000000000001E-2,15.652592592592596,{"$f":"'RWH Calculator'!$C$56","v":0},15.652592592592596,932.23934645758391,0,15.652592592592596,0,932.23934645758391,32342.697364253654]
["2009-01-11",0,0,0,1,0.04,2.8250000000000001E-2,15.652592592592596,{"$f":"'RWH Calculator'!$C$56","v":0},15.652592592592596,916.58675386499135,0,15.652592592592596,0,916.58675386499135,32358.349956846247]
["2009-01-12",0,0,0,1,0.04,2.8250000000000001E-2,15.652592592592596,{"$f":"'RWH Calculator'!$C$56","v":0},15.652592592592596,900.9341612723988,0,15.652592592592596,0,900.9341612723988,32374.002549438839]
["2009-01-13",0,0,0,1,0.04,2.8250000000000001E-2,15.652592592592596,{"$f":"'RWH Calculator'!$C$56","v":0},15.652592592592596,885.28156867980624,0,15.652592592592596,0,885.28156867980624,32389.655142031432]
["2009-01-14",0,0,0,1,0.04,2.8250000000000001E-2,15.652592592592596,{"$f":"'RWH Calculator'!$C$56","v":0},15.652592592592596,869.62897608721369,0,15.652592592592596,0,869.62897608721369,32405.307734624024]
["2009-01-15",0,0,0,1,0.04,2.8250000000000001E-2,15.652592592592596,{"$f":"'RWH Calculator'!$C$56","v":0},15.652592592592596,853.97638349462113,0,15.652592592592596,0,853.97638349462113,32420.960327216617]
["2009-01-16",0,0,0,1,0.04,2.8250000000000001E-2,15.652592592592596,{"$f":"'RWH Calculator'!$C$56","v":0},15.652592592592596,838.32379090202858,0,15.652592592592596,0,838.32379090202858,32436.612919809209]
["2009-01-17",0,0,0,1,0.04,2.8250000000000001E-2,15.652592592592596,{"$f":"'RWH Calculator'!$C$56","v":0},15.652592592592596,822.67119830943602,0,15.652592592592596,0,822.67119830943602,32452.265512401802]
["2009-01-18",0,0,0,1,0.04,2.8250000000000001E-2,15.652592592592596,{"$f":"'RWH Calculator'!$C$56","v":0},15.652592592592596,807.01860571684347,0,15.652592592592596,0,807.01860571684347,32467.918104994395]
["2009-01-19",0,0,0,1,0.04,2.8250000000000001E-2,15.652592592592596,{"$f":"'RWH Calculator'!$C$56","v":0},15.652592592592596,791.36601312425091,0,15.652592592592596,0,791.36601312425091,32483.570697586987]
["2009-01-20",0,0,0,1,0.04,2.8250000000000001E-2,15.652592592592596,{"$f":"'RWH Calculator'!$C$56","v":0},15.652592592592596,775.71342053165836,0,15.652592592592596,0,775.71342053165836,32499.22329017958]
["2009-01-21",0.08,50.864000000000011,50.864000000000011,1,0.04,2.8250000000000001E-2,0,{"$f":"'RWH Calculator'!$C$56","v":0},0,826.57742053165839,50.864000000000033,0,-2.1316282072803006E-14,826.57742053165839,32499.22329017958]
["2009-01-22",0.41000000000000003,260.67800000000005,260.67800000000005,1,0.04,2.8250000000000001E-2,0,{"$f":"'RWH Calculator'!$C$56","v":0},0,1057.4600871983243,230.88266666666595,0,29.795333333334099,1087.2554205316585,32499.22329017958]
["2009-01-23",0.16,101.72800000000002,101.72800000000002,1,{"$f":"IF($B$2=\"Western SF\", VLOOKUP(E2955,$R$6:$U$17, 4),VLOOKUP(E2955, $R$6:$V$17,5))","v":0.04},2.8250000000000001E-2,0,{"$f":"'RWH Calculator'!$C$56","v":0},0,1057.4600871983243,0,0,101.72800000000002,1159.1880871983244,32499.22329017958]
["2009-01-24",0.01,6.3580000000000014,6.3580000000000014,{"$f":"MONTH(A2956)","v":1},0.04,{"$f":"F2956*$B$6","v":2.8250000000000001E-2},10.111851851851855,{"$f":"'RWH Calculator'!$C$56","v":0},{"$f":"H2956+I2956","v":10.111851851851855},1053.7062353464723,6.3580000000000014,10.111851851851855,0,1053.7062353464723,32509.335142031432]
["2009-01-25",0,{"$f":"$B$3*$B$4*(B2957/12)*7.48","v":0},{"$f":"C2957","v":0},1,0.04,2.8250000000000001E-2,{"$f":"(IF(G2957-B2957>0,(G2957-B2957)/$B$7,0)/12*7.48)*$B$8","v":15.652592592592596},{"$f":"'RWH Calculator'!$C$56","v":0},15.652592592592596,{"$f":"IF(O2957<0, 0, IF(O2957>$H$2, $H$2, O2957))","v":1038.0536427538798},{"$f":"IF(J2957>D2957,D2957, K2957-K2956+J2957)","v":0},{"$f":"IF(D2957+K2956>J2957,J2957, D2957+K2956)","v":15.652592592592596},{"$f":"IF(C2957>J2957, C2957-J2957-(K2957-K2956),0)","v":0},{"$f":"K2956+D2957-J2957","v":1038.0536427538798},{"$f":"M2957+P2956","v":32524.987734624025}]
["2009-01-26",0,0,0,1,0.04,2.8250000000000001E-2,15.652592592592596,{"$f":"'RWH Calculator'!$C$56","v":0},15.652592592592596,1022.4010501612872,0,15.652592592592596,0,1022.4010501612872,32540.640327216617]
["2009-01-27",0,0,0,1,0.04,2.8250000000000001E-2,15.652592592592596,{"$f":"'RWH Calculator'!$C$56","v":0},15.652592592592596,1006.7484575686947,0,15.652592592592596,0,1006.7484575686947,32556.29291980921]
["2009-01-28",0,0,0,1,0.04,2.8250000000000001E-2,15.652592592592596,{"$f":"'RWH Calculator'!$C$56","v":0},15.652592592592596,991.09586497610212,0,15.652592592592596,0,991.09586497610212,32571.945512401802]
["2009-01-29",0,0,0,1,0.04,2.8250000000000001E-2,15.652592592592596,{"$f":"'RWH Calculator'!$C$56","v":0},15.652592592592596,975.44327238350957,0,15.652592592592596,0,975.44327238350957,32587.598104994395]
["2009-01-30",0,0,0,1,0.04,2.8250000000000001E-2,15.652592592592596,{"$f":"'RWH Calculator'!$C$56","v":0},15.652592592592596,959.79067979091701,0,15.652592592592596,0,959.79067979091701,32603.250697586987]
["2009-01-31",0,0,0,1,0.04,2.8250000000000001E-2,15.652592592592596,{"$f":"'RWH Calculator'!$C$56","v":0},15.652592592592596,944.13808719832446,0,15.652592592592596,0,944.13808719832446,32618.90329017958]
["2009-02-01",0,0,0,2,0.06,4.2375000000000003E-2,23.478888888888889,{"$f":"'RWH Calculator'!$C$56","v":0},23.478888888888889,920.65919830943562,0,23.478888888888889,0,920.65919830943562,32642.382179068471]
["2009-02-02",0,0,0,2,0.06,4.2375000000000003E-2,23.478888888888889,{"$f":"'RWH Calculator'!$C$56","v":0},23.478888888888889,897.18030942054679,0,23.478888888888889,0,897.18030942054679,32665.861067957361]
["2009-02-03",0,0,0,2,0.06,4.2375000000000003E-2,23.478888888888889,{"$f":"'RWH Calculator'!$C$56","v":0},23.478888888888889,873.70142053165796,0,23.478888888888889,0,873.70142053165796,32689.339956846252]
["2009-02-04",0,0,0,2,0.06,4.2375000000000003E-2,23.478888888888889,{"$f":"'RWH Calculator'!$C$56","v":0},23.478888888888889,850.22253164276913,0,23.478888888888889,0,850.22253164276913,32712.818845735143]
["2009-02-05",0.13,82.654000000000011,82.654000000000011,2,0.06,4.2375000000000003E-2,0,{"$f":"'RWH Calculator'!$C$56","v":0},0,932.87653164276912,82.653999999999996,0,1.4210854715202004E-14,932.87653164276912,32712.818845735143]
["2009-02-06",0.52,330.61600000000004,330.61600000000004,2,0.06,4.2375000000000003E-2,0,{"$f":"'RWH Calculator'!$C$56","v":0},0,1057.4600871983243,124.58355555555522,0,206.03244444444482,1263.4925316427691,32712.818845735143]
["2009-02-07",0.03,19.074000000000002,19.074000000000002,2,0.06,4.2375000000000003E-2,6.8566666666666682,{"$f":"'RWH Calculator'!$C$56","v":0},6.8566666666666682,1057.4600871983243,6.8566666666666682,6.8566666666666682,12.217333333333332,1069.6774205316578,32719.675512401809]
["2009-02-08",0.34,216.17200000000003,216.17200000000003,2,0.06,4.2375000000000003E-2,0,{"$f":"'RWH Calculator'!$C$56","v":0},0,1057.4600871983243,0,0,216.17200000000003,1273.6320871983244,32719.675512401809]
["2009-02-09",0,0,0,2,0.06,4.2375000000000003E-2,23.478888888888889,{"$f":"'RWH Calculator'!$C$56","v":0},23.478888888888889,1033.9811983094355,0,23.478888888888889,0,1033.9811983094355,32743.1544012907]
["2009-02-10",0.16,101.72800000000002,101.72800000000002,2,0.06,4.2375000000000003E-2,0,{"$f":"'RWH Calculator'!$C$56","v":0},0,1057.4600871983243,23.478888888888832,0,78.249111111111191,1135.7091983094356,32743.1544012907]
["2009-02-11",0.27,171.66600000000003,171.66600000000003,2,0.06,4.2375000000000003E-2,0,{"$f":"'RWH Calculator'!$C$56","v":0},0,1057.4600871983243,0,0,171.66600000000003,1229.1260871983243,32743.1544012907]
["2009-02-12",0,0,0,2,0.06,4.2375000000000003E-2,23.478888888888889,{"$f":"'RWH Calculator'!$C$56","v":0},23.478888888888889,1033.9811983094355,0,23.478888888888889,0,1033.9811983094355,32766.63329017959]
["2009-02-13",0.65999999999999992,419.62799999999999,419.62799999999999,2,0.06,4.2375000000000003E-2,0,{"$f":"'RWH Calculator'!$C$56","v":0},0,1057.4600871983243,23.478888888888832,0,396.14911111111115,1453.6091983094354,32766.63329017959]
["2009-02-14",0.09,57.222000000000001,57.222000000000001,2,0.06,4.2375000000000003E-2,0,{"$f":"'RWH Calculator'!$C$56","v":0},0,1057.4600871983243,0,0,57.222000000000001,1114.6820871983243,32766.63329017959]
["2009-02-15",2.08,1322.4640000000002,1322.4640000000002,2,0.06,4.2375000000000003E-2,0,{"$f":"'RWH Calculator'!$C$56","v":0},0,1057.4600871983243,0,0,1322.4640000000002,2379.9240871983247,32766.63329017959]
["2009-02-16",0.87,553.14599999999996,553.14599999999996,2,0.06,4.2375000000000003E-2,0,{"$f":"'RWH Calculator'!$C$56","v":0},0,1057.4600871983243,0,0,553.14599999999996,1610.6060871983243,32766.63329017959]
["2009-02-17",0.89,565.86200000000008,565.86200000000008,2,0.06,4.2375000000000003E-2,0,{"$f":"'RWH Calculator'!$C$56","v":0},0,1057.4600871983243,0,0,565.86200000000008,1623.3220871983244,32766.63329017959]
["2009-02-18",0,0,0,2,0.06,4.2375000000000003E-2,23.478888888888889,{"$f":"'RWH Calculator'!$C$56","v":0},23.478888888888889,1033.9811983094355,0,23.478888888888889,0,1033.9811983094355,32790.112179068477]
["2009-02-19",0,0,0,2,0.06,4.2375000000000003E-2,23.478888888888889,{"$f":"'RWH Calculator'!$C$56","v":0},23.478888888888889,1010.5023094205467,0,23.478888888888889,0,1010.5023094205467,32813.591067957364]
["2009-02-20",0,0,0,2,0.06,4.2375000000000003E-2,23.478888888888889,{"$f":"'RWH Calculator'!$C$56","v":0},23.478888888888889,987.02342053165785,0,23.478888888888889,0,987.02342053165785,32837.069956846251]
["2009-02-21",0,0,0,2,0.06,4.2375000000000003E-2,23.478888888888889,{"$f":"'RWH Calculator'!$C$56","v":0},23.478888888888889,963.54453164276902,0,23.478888888888889,0,963.54453164276902,32860.548845735138]
["2009-02-22",1.2400000000000002,788.39200000000017,788.39200000000017,2,0.06,4.2375000000000003E-2,0,{"$f":"'RWH Calculator'!$C$56","v":0},0,1057.4600871983243,93.915555555555329,0,694.47644444444484,1751.9365316427693,32860.548845735138]
["2009-02-23",0.23,146.23400000000001,146.23400000000001,2,0.06,4.2375000000000003E-2,0,{"$f":"'RWH Calculator'!$C$56","v":0},0,1057.4600871983243,0,0,146.23400000000001,1203.6940871983243,32860.548845735138]
["2009-02-24",0.13,82.654000000000011,82.654000000000011,2,0.06,4.2375000000000003E-2,0,{"$f":"'RWH Calculator'!$C$56","v":0},0,1057.4600871983243,0,0,82.654000000000011,1140.1140871983243,32860.548845735138]
["2009-02-25",0.17999999999999997,114.44399999999999,114.44399999999999,2,0.06,4.2375000000000003E-2,0,{"$f":"'RWH Calculator'!$C$56","v":0},0,1057.4600871983243,0,0,114.44399999999999,1171.9040871983243,32860.548845735138]
["2009-02-26",0.1,63.580000000000005,63.580000000000005,2,0.06,4.2375000000000003E-2,0,{"$f":"'RWH Calculator'!$C$56","v":0},0,1057.4600871983243,0,0,63.580000000000005,1121.0400871983243,32860.548845735138]
["2009-02-27",0,0,0,2,0.06,4.2375000000000003E-2,23.478888888888889,{"$f":"'RWH Calculator'!$C$56","v":0},23.478888888888889,1033.9811983094355,0,23.478888888888889,0,1033.9811983094355,32884.027734624025]
["2009-02-28",0,0,0,2,0.06,4.2375000000000003E-2,23.478888888888889,{"$f":"'RWH Calculator'!$C$56","v":0},23.478888888888889,1010.5023094205467,0,23.478888888888889,0,1010.5023094205467,32907.506623512912]
["2009-03-01",0.27,171.66600000000003,171.66600000000003,3,0.1,7.0625000000000007E-2,0,{"$f":"'RWH Calculator'!$C$56","v":0},0,1057.4600871983243,46.957777777777665,0,124.70822222222236,1182.1683094205466,32907.506623512912]
["2009-03-02",0.4,254.32000000000002,254.32000000000002,3,0.1,7.0625000000000007E-2,0,{"$f":"'RWH Calculator'!$C$56","v":0},0,1057.4600871983243,0,0,254.32000000000002,1311.7800871983243,32907.506623512912]
["2009-03-03",0.62000000000000011,394.19600000000008,394.19600000000008,3,0.1,7.0625000000000007E-2,0,{"$f":"'RWH Calculator'!$C$56","v":0},0,1057.4600871983243,0,0,394.19600000000008,1451.6560871983245,32907.506623512912]
["2009-03-04",0.04,25.432000000000006,25.432000000000006,3,0.1,7.0625000000000007E-2,16.968518518518522,{"$f":"'RWH Calculator'!$C$56","v":0},16.968518518518522,1057.4600871983243,16.968518518518522,16.968518518518522,8.4634814814814838,1065.9235686798058,32924.475142031428]
["2009-03-05",1.01,642.15800000000002,642.15800000000002,3,0.1,7.0625000000000007E-2,0,{"$f":"'RWH Calculator'!$C$56","v":0},0,1057.4600871983243,0,0,642.15800000000002,1699.6180871983242,32924.475142031428]
["2009-03-06",0,0,0,3,0.1,7.0625000000000007E-2,39.131481481481487,{"$f":"'RWH Calculator'!$C$56","v":0},39.131481481481487,1018.3286057168428,0,39.131481481481487,0,1018.3286057168428,32963.606623512911]
["2009-03-07",0,0,0,3,0.1,7.0625000000000007E-2,39.131481481481487,{"$f":"'RWH Calculator'!$C$56","v":0},39.131481481481487,979.19712423536134,0,39.131481481481487,0,979.19712423536134,33002.738104994394]
["2009-03-08",0,0,0,3,0.1,7.0625000000000007E-2,39.131481481481487,{"$f":"'RWH Calculator'!$C$56","v":0},39.131481481481487,940.06564275387984,0,39.131481481481487,0,940.06564275387984,33041.869586475877]
["2009-03-09",0,0,0,3,0.1,7.0625000000000007E-2,39.131481481481487,{"$f":"'RWH Calculator'!$C$56","v":0},39.131481481481487,900.93416127239834,0,39.131481481481487,0,900.93416127239834,33081.001067957361]
["2009-03-10",0,0,0,3,0.1,7.0625000000000007E-2,39.131481481481487,{"$f":"'RWH Calculator'!$C$56","v":0},39.131481481481487,861.80267979091684,0,39.131481481481487,0,861.80267979091684,33120.132549438844]
["2009-03-11",0,0,0,3,0.1,7.0625000000000007E-2,39.131481481481487,{"$f":"'RWH Calculator'!$C$56","v":0},39.131481481481487,822.67119830943534,0,39.131481481481487,0,822.67119830943534,33159.264030920327]
["2009-03-12",0,0,0,3,0.1,7.0625000000000007E-2,39.131481481481487,{"$f":"'RWH Calculator'!$C$56","v":0},39.131481481481487,783.53971682795384,0,39.131481481481487,0,783.53971682795384,33198.39551240181]
["2009-03-13",0,0,0,3,0.1,7.0625000000000007E-2,39.131481481481487,{"$f":"'RWH Calculator'!$C$56","v":0},39.131481481481487,744.40823534647234,0,39.131481481481487,0,744.40823534647234,33237.526993883293]
["2009-03-14",0,0,0,3,0.1,7.0625000000000007E-2,39.131481481481487,{"$f":"'RWH Calculator'!$C$56","v":0},39.131481481481487,705.27675386499084,0,39.131481481481487,0,705.27675386499084,33276.658475364777]
["2009-03-15",0.08,50.864000000000011,50.864000000000011,3,0.1,7.0625000000000007E-2,0,{"$f":"'RWH Calculator'!$C$56","v":0},0,756.14075386499087,50.864000000000033,0,-2.1316282072803006E-14,756.14075386499087,33276.658475364777]
["2009-03-16",0.09,57.222000000000001,57.222000000000001,3,0.1,7.0625000000000007E-2,0,{"$f":"'RWH Calculator'!$C$56","v":0},0,813.36275386499085,57.22199999999998,0,2.1316282072803006E-14,813.36275386499085,33276.658475364777]
["2009-03-17",0.01,6.3580000000000014,6.3580000000000014,3,0.1,7.0625000000000007E-2,33.590740740740749,{"$f":"'RWH Calculator'!$C$56","v":0},33.590740740740749,786.13001312425001,6.3580000000000014,33.590740740740749,0,786.13001312425001,33310.24921610552]
["2009-03-18",0,0,0,3,0.1,7.0625000000000007E-2,39.131481481481487,{"$f":"'RWH Calculator'!$C$56","v":0},39.131481481481487,746.99853164276851,0,39.131481481481487,0,746.99853164276851,33349.380697587003]
["2009-03-19",0,0,0,3,0.1,7.0625000000000007E-2,39.131481481481487,{"$f":"'RWH Calculator'!$C$56","v":0},39.131481481481487,707.86705016128701,0,39.131481481481487,0,707.86705016128701,33388.512179068486]
["2009-03-20",0,0,0,3,0.1,7.0625000000000007E-2,39.131481481481487,{"$f":"'RWH Calculator'!$C$56","v":0},39.131481481481487,668.73556867980551,0,39.131481481481487,0,668.73556867980551,33427.643660549969]
["2009-03-21",0,0,0,3,0.1,7.0625000000000007E-2,39.131481481481487,{"$f":"'RWH Calculator'!$C$56","v":0},39.131481481481487,629.60408719832401,0,39.131481481481487,0,629.60408719832401,33466.775142031453]
["2009-03-22",0.24,152.59200000000001,152.59200000000001,3,0.1,7.0625000000000007E-2,0,{"$f":"'RWH Calculator'!$C$56","v":0},0,782.19608719832399,152.59199999999998,0,2.8421709430404007E-14,782.19608719832399,33466.775142031453]
["2009-03-23",0,0,0,3,0.1,7.0625000000000007E-2,39.131481481481487,{"$f":"'RWH Calculator'!$C$56","v":0},39.131481481481487,743.06460571684249,0,39.131481481481487,0,743.06460571684249,33505.906623512936]
["2009-03-24",0,0,0,3,0.1,7.0625000000000007E-2,39.131481481481487,{"$f":"'RWH Calculator'!$C$56","v":0},39.131481481481487,703.93312423536099,0,39.131481481481487,0,703.93312423536099,33545.038104994419]
["2009-03-25",0,0,0,3,0.1,7.0625000000000007E-2,39.131481481481487,{"$f":"'RWH Calculator'!$C$56","v":0},39.131481481481487,664.80164275387949,0,39.131481481481487,0,664.80164275387949,33584.169586475902]
["2009-03-26",0,0,0,3,0.1,7.0625000000000007E-2,39.131481481481487,{"$f":"'RWH Calculator'!$C$56","v":0},39.131481481481487,625.67016127239799,0,39.131481481481487,0,625.67016127239799,33623.301067957385]
["2009-03-27",0,0,0,3,0.1,7.0625000000000007E-2,39.131481481481487,{"$f":"'RWH Calculator'!$C$56","v":0},39.131481481481487,586.53867979091649,0,39.131481481481487,0,586.53867979091649,33662.432549438869]
["2009-03-28",0,0,0,3,{"$f":"IF($B$2=\"Western SF\", VLOOKUP(E3019,$R$6:$U$17, 4),VLOOKUP(E3019, $R$6:$V$17,5))","v":0.1},7.0625000000000007E-2,39.131481481481487,{"$f":"'RWH Calculator'!$C$56","v":0},39.131481481481487,547.40719830943499,0,39.131481481481487,0,547.40719830943499,33701.564030920352]
["2009-03-29",0,0,0,{"$f":"MONTH(A3020)","v":3},0.1,{"$f":"F3020*$B$6","v":7.0625000000000007E-2},39.131481481481487,{"$f":"'RWH Calculator'!$C$56","v":0},{"$f":"H3020+I3020","v":39.131481481481487},508.27571682795349,0,39.131481481481487,0,508.27571682795349,33740.695512401835]
["2009-03-30",0,{"$f":"$B$3*$B$4*(B3021/12)*7.48","v":0},{"$f":"C3021","v":0},3,0.1,7.0625000000000007E-2,{"$f":"(IF(G3021-B3021>0,(G3021-B3021)/$B$7,0)/12*7.48)*$B$8","v":39.131481481481487},{"$f":"'RWH Calculator'!$C$56","v":0},39.131481481481487,{"$f":"IF(O3021<0, 0, IF(O3021>$H$2, $H$2, O3021))","v":469.14423534647199},{"$f":"IF(J3021>D3021,D3021, K3021-K3020+J3021)","v":0},{"$f":"IF(D3021+K3020>J3021,J3021, D3021+K3020)","v":39.131481481481487},{"$f":"IF(C3021>J3021, C3021-J3021-(K3021-K3020),0)","v":0},{"$f":"K3020+D3021-J3021","v":469.14423534647199},{"$f":"M3021+P3020","v":33779.826993883318}]
["2009-03-31",0,0,0,3,0.1,7.0625000000000007E-2,39.131481481481487,{"$f":"'RWH Calculator'!$C$56","v":0},39.131481481481487,430.01275386499049,0,39.131481481481487,0,430.01275386499049,33818.958475364801]
["2009-04-01",0,0,0,4,0.13,9.1812500000000005E-2,50.870925925925924,{"$f":"'RWH Calculator'!$C$56","v":0},50.870925925925924,379.14182793906457,0,50.870925925925924,0,379.14182793906457,33869.829401290728]
["2009-04-02",0,0,0,4,0.13,9.1812500000000005E-2,50.870925925925924,{"$f":"'RWH Calculator'!$C$56","v":0},50.870925925925924,328.27090201313865,0,50.870925925925924,0,328.27090201313865,33920.700327216655]
["2009-04-03",0,0,0,4,0.13,9.1812500000000005E-2,50.870925925925924,{"$f":"'RWH Calculator'!$C$56","v":0},50.870925925925924,277.39997608721274,0,50.870925925925924,0,277.39997608721274,33971.571253142582]
["2009-04-04",0,0,0,4,0.13,9.1812500000000005E-2,50.870925925925924,{"$f":"'RWH Calculator'!$C$56","v":0},50.870925925925924,226.52905016128682,0,50.870925925925924,0,226.52905016128682,34022.442179068508]
["2009-04-05",0,0,0,4,0.13,9.1812500000000005E-2,50.870925925925924,{"$f":"'RWH Calculator'!$C$56","v":0},50.870925925925924,175.6581242353609,0,50.870925925925924,0,175.6581242353609,34073.313104994435]
["2009-04-06",0,0,0,4,0.13,9.1812500000000005E-2,50.870925925925924,{"$f":"'RWH Calculator'!$C$56","v":0},50.870925925925924,124.78719830943498,0,50.870925925925924,0,124.78719830943498,34124.184030920362]
["2009-04-07",0.22000000000000003,139.87600000000003,139.87600000000003,4,0.13,9.1812500000000005E-2,0,{"$f":"'RWH Calculator'!$C$56","v":0},0,264.66319830943502,139.87600000000003,0,0,264.66319830943502,34124.184030920362]
["2009-04-08",0.01,6.3580000000000014,6.3580000000000014,4,0.13,9.1812500000000005E-2,45.330185185185186,{"$f":"'RWH Calculator'!$C$56","v":0},45.330185185185186,225.69101312424982,6.3580000000000014,45.330185185185186,0,225.69101312424982,34169.514216105548]
["2009-04-09",0.01,6.3580000000000014,6.3580000000000014,4,0.13,9.1812500000000005E-2,45.330185185185186,{"$f":"'RWH Calculator'!$C$56","v":0},45.330185185185186,186.71882793906462,6.3580000000000014,45.330185185185186,0,186.71882793906462,34214.844401290735]
["2009-04-10",0,0,0,4,0.13,9.1812500000000005E-2,50.870925925925924,{"$f":"'RWH Calculator'!$C$56","v":0},50.870925925925924,135.84790201313871,0,50.870925925925924,0,135.84790201313871,34265.715327216662]
["2009-04-11",0,0,0,4,0.13,9.1812500000000005E-2,50.870925925925924,{"$f":"'RWH Calculator'!$C$56","v":0},50.870925925925924,84.97697608721279,0,50.870925925925924,0,84.97697608721279,34316.586253142588]
["2009-04-12",0,0,0,4,0.13,9.1812500000000005E-2,50.870925925925924,{"$f":"'RWH Calculator'!$C$56","v":0},50.870925925925924,34.106050161286866,0,50.870925925925924,0,34.106050161286866,34367.457179068515]
["2009-04-13",0,0,0,4,0.13,9.1812500000000005E-2,50.870925925925924,{"$f":"'RWH Calculator'!$C$56","v":0},50.870925925925924,0,0,34.106050161286866,0,-16.764875764639058,34401.563229229803]
["2009-04-14",0,0,0,4,0.13,9.1812500000000005E-2,50.870925925925924,{"$f":"'RWH Calculator'!$C$56","v":0},50.870925925925924,0,0,0,0,-50.870925925925924,34401.563229229803]
["2009-04-15",0,0,0,4,0.13,9.1812500000000005E-2,50.870925925925924,{"$f":"'RWH Calculator'!$C$56","v":0},50.870925925925924,0,0,0,0,-50.870925925925924,34401.563229229803]
["2009-04-16",0,0,0,4,0.13,9.1812500000000005E-2,50.870925925925924,{"$f":"'RWH Calculator'!$C$56","v":0},50.870925925925924,0,0,0,0,-50.870925925925924,34401.563229229803]
["2009-04-17",0,0,0,4,0.13,9.1812500000000005E-2,50.870925925925924,{"$f":"'RWH Calculator'!$C$56","v":0},50.870925925925924,0,0,0,0,-50.870925925925924,34401.563229229803]
["2009-04-18",0,0,0,4,0.13,9.1812500000000005E-2,50.870925925925924,{"$f":"'RWH Calculator'!$C$56","v":0},50.870925925925924,0,0,0,0,-50.870925925925924,34401.563229229803]
["2009-04-19",0,0,0,4,0.13,9.1812500000000005E-2,50.870925925925924,{"$f":"'RWH Calculator'!$C$56","v":0},50.870925925925924,0,0,0,0,-50.870925925925924,34401.563229229803]
["2009-04-20",0,0,0,4,0.13,9.1812500000000005E-2,50.870925925925924,{"$f":"'RWH Calculator'!$C$56","v":0},50.870925925925924,0,0,0,0,-50.870925925925924,34401.563229229803]
["2009-04-21",0,0,0,4,0.13,9.1812500000000005E-2,50.870925925925924,{"$f":"'RWH Calculator'!$C$56","v":0},50.870925925925924,0,0,0,0,-50.870925925925924,34401.563229229803]
["2009-04-22",0,0,0,4,0.13,9.1812500000000005E-2,50.870925925925924,{"$f":"'RWH Calculator'!$C$56","v":0},50.870925925925924,0,0,0,0,-50.870925925925924,34401.563229229803]
["2009-04-23",0,0,0,4,0.13,9.1812500000000005E-2,50.870925925925924,{"$f":"'RWH Calculator'!$C$56","v":0},50.870925925925924,0,0,0,0,-50.870925925925924,34401.563229229803]
["2009-04-24",0,0,0,4,0.13,9.1812500000000005E-2,50.870925925925924,{"$f":"'RWH Calculator'!$C$56","v":0},50.870925925925924,0,0,0,0,-50.870925925925924,34401.563229229803]
["2009-04-25",0,0,0,4,0.13,9.1812500000000005E-2,50.870925925925924,{"$f":"'RWH Calculator'!$C$56","v":0},50.870925925925924,0,0,0,0,-50.870925925925924,34401.563229229803]
["2009-04-26",0,0,0,4,0.13,9.1812500000000005E-2,50.870925925925924,{"$f":"'RWH Calculator'!$C$56","v":0},50.870925925925924,0,0,0,0,-50.870925925925924,34401.563229229803]
["2009-04-27",0,0,0,4,0.13,9.1812500000000005E-2,50.870925925925924,{"$f":"'RWH Calculator'!$C$56","v":0},50.870925925925924,0,0,0,0,-50.870925925925924,34401.563229229803]
["2009-04-28",0,0,0,4,0.13,9.1812500000000005E-2,50.870925925925924,{"$f":"'RWH Calculator'!$C$56","v":0},50.870925925925924,0,0,0,0,-50.870925925925924,34401.563229229803]
["2009-04-29",0,0,0,4,0.13,9.1812500000000005E-2,50.870925925925924,{"$f":"'RWH Calculator'!$C$56","v":0},50.870925925925924,0,0,0,0,-50.870925925925924,34401.563229229803]
["2009-04-30",0,0,0,4,0.13,9.1812500000000005E-2,50.870925925925924,{"$f":"'RWH Calculator'!$C$56","v":0},50.870925925925924,0,0,0,0,-50.870925925925924,34401.563229229803]
["2009-05-01",0.23000000000000004,146.23400000000001,146.23400000000001,5,0.15000000000000002,0.10593750000000002,0,{"$f":"'RWH Calculator'!$C$56","v":0},0,146.23400000000001,146.23400000000001,0,0,146.23400000000001,34401.563229229803]
["2009-05-02",0.04,25.432000000000006,25.432000000000006,5,0.15000000000000002,0.10593750000000002,36.534259259259265,{"$f":"'RWH Calculator'!$C$56","v":0},36.534259259259265,135.13174074074075,25.432000000000006,36.534259259259265,0,135.13174074074075,34438.09748848906]
["2009-05-03",6.0000000000000005E-2,38.148000000000003,38.148000000000003,5,0.15000000000000002,0.10593750000000002,25.452777777777786,{"$f":"'RWH Calculator'!$C$56","v":0},25.452777777777786,147.82696296296297,38.147999999999996,25.452777777777786,3.5527136788005009E-15,147.82696296296297,34463.550266266837]
["2009-05-04",0.04,25.432000000000006,25.432000000000006,5,0.15000000000000002,0.10593750000000002,36.534259259259265,{"$f":"'RWH Calculator'!$C$56","v":0},36.534259259259265,136.72470370370371,25.432000000000006,36.534259259259265,0,136.72470370370371,34500.084525526094]
["2009-05-05",0.43000000000000005,273.39400000000006,273.39400000000006,5,0.15000000000000002,0.10593750000000002,0,{"$f":"'RWH Calculator'!$C$56","v":0},0,410.11870370370377,273.39400000000006,0,0,410.11870370370377,34500.084525526094]
["2009-05-06",0,0,0,5,0.15000000000000002,0.10593750000000002,58.697222222222237,{"$f":"'RWH Calculator'!$C$56","v":0},58.697222222222237,351.42148148148152,0,58.697222222222237,0,351.42148148148152,34558.781747748319]
["2009-05-07",0,0,0,5,0.15000000000000002,0.10593750000000002,58.697222222222237,{"$f":"'RWH Calculator'!$C$56","v":0},58.697222222222237,292.72425925925927,0,58.697222222222237,0,292.72425925925927,34617.478969970543]
["2009-05-08",0,0,0,5,0.15000000000000002,0.10593750000000002,58.697222222222237,{"$f":"'RWH Calculator'!$C$56","v":0},58.697222222222237,234.02703703703702,0,58.697222222222237,0,234.02703703703702,34676.176192192768]
["2009-05-09",0,0,0,5,0.15000000000000002,0.10593750000000002,58.697222222222237,{"$f":"'RWH Calculator'!$C$56","v":0},58.697222222222237,175.32981481481477,0,58.697222222222237,0,175.32981481481477,34734.873414414993]
["2009-05-10",0,0,0,5,0.15000000000000002,0.10593750000000002,58.697222222222237,{"$f":"'RWH Calculator'!$C$56","v":0},58.697222222222237,116.63259259259253,0,58.697222222222237,0,116.63259259259253,34793.570636637218]
["2009-05-11",0,0,0,5,0.15000000000000002,0.10593750000000002,58.697222222222237,{"$f":"'RWH Calculator'!$C$56","v":0},58.697222222222237,57.935370370370293,0,58.697222222222237,0,57.935370370370293,34852.267858859443]
["2009-05-12",0,0,0,5,0.15000000000000002,0.10593750000000002,58.697222222222237,{"$f":"'RWH Calculator'!$C$56","v":0},58.697222222222237,0,0,57.935370370370293,0,-0.76185185185194371,34910.20322922981]
["2009-05-13",0,0,0,5,0.15000000000000002,0.10593750000000002,58.697222222222237,{"$f":"'RWH Calculator'!$C$56","v":0},58.697222222222237,0,0,0,0,-58.697222222222237,34910.20322922981]
["2009-05-14",0,0,0,5,0.15000000000000002,0.10593750000000002,58.697222222222237,{"$f":"'RWH Calculator'!$C$56","v":0},58.697222222222237,0,0,0,0,-58.697222222222237,34910.20322922981]
["2009-05-15",0,0,0,5,0.15000000000000002,0.10593750000000002,58.697222222222237,{"$f":"'RWH Calculator'!$C$56","v":0},58.697222222222237,0,0,0,0,-58.697222222222237,34910.20322922981]
["2009-05-16",0,0,0,5,0.15000000000000002,0.10593750000000002,58.697222222222237,{"$f":"'RWH Calculator'!$C$56","v":0},58.697222222222237,0,0,0,0,-58.697222222222237,34910.20322922981]
["2009-05-17",0,0,0,5,0.15000000000000002,0.10593750000000002,58.697222222222237,{"$f":"'RWH Calculator'!$C$56","v":0},58.697222222222237,0,0,0,0,-58.697222222222237,34910.20322922981]
["2009-05-18",0,0,0,5,0.15000000000000002,0.10593750000000002,58.697222222222237,{"$f":"'RWH Calculator'!$C$56","v":0},58.697222222222237,0,0,0,0,-58.697222222222237,34910.20322922981]
["2009-05-19",0,0,0,5,0.15000000000000002,0.10593750000000002,58.697222222222237,{"$f":"'RWH Calculator'!$C$56","v":0},58.697222222222237,0,0,0,0,-58.697222222222237,34910.20322922981]
["2009-05-20",0,0,0,5,0.15000000000000002,0.10593750000000002,58.697222222222237,{"$f":"'RWH Calculator'!$C$56","v":0},58.697222222222237,0,0,0,0,-58.697222222222237,34910.20322922981]
["2009-05-21",0,0,0,5,0.15000000000000002,0.10593750000000002,58.697222222222237,{"$f":"'RWH Calculator'!$C$56","v":0},58.697222222222237,0,0,0,0,-58.697222222222237,34910.20322922981]
["2009-05-22",0,0,0,5,0.15000000000000002,0.10593750000000002,58.697222222222237,{"$f":"'RWH Calculator'!$C$56","v":0},58.697222222222237,0,0,0,0,-58.697222222222237,34910.20322922981]
["2009-05-23",0,0,0,5,0.15000000000000002,0.10593750000000002,58.697222222222237,{"$f":"'RWH Calculator'!$C$56","v":0},58.697222222222237,0,0,0,0,-58.697222222222237,34910.20322922981]
["2009-05-24",0,0,0,5,0.15000000000000002,0.10593750000000002,58.697222222222237,{"$f":"'RWH Calculator'!$C$56","v":0},58.697222222222237,0,0,0,0,-58.697222222222237,34910.20322922981]
["2009-05-25",0,0,0,5,0.15000000000000002,0.10593750000000002,58.697222222222237,{"$f":"'RWH Calculator'!$C$56","v":0},58.697222222222237,0,0,0,0,-58.697222222222237,34910.20322922981]
["2009-05-26",0,0,0,5,0.15000000000000002,0.10593750000000002,58.697222222222237,{"$f":"'RWH Calculator'!$C$56","v":0},58.697222222222237,0,0,0,0,-58.697222222222237,34910.20322922981]
["2009-05-27",0,0,0,5,0.15000000000000002,0.10593750000000002,58.697222222222237,{"$f":"'RWH Calculator'!$C$56","v":0},58.697222222222237,0,0,0,0,-58.697222222222237,34910.20322922981]
["2009-05-28",0,0,0,5,0.15000000000000002,0.10593750000000002,58.697222222222237,{"$f":"'RWH Calculator'!$C$56","v":0},58.697222222222237,0,0,0,0,-58.697222222222237,34910.20322922981]
["2009-05-29",0,0,0,5,0.15000000000000002,0.10593750000000002,58.697222222222237,{"$f":"'RWH Calculator'!$C$56","v":0},58.697222222222237,0,0,0,0,-58.697222222222237,34910.20322922981]
["2009-05-30",0,0,0,5,0.15000000000000002,0.10593750000000002,58.697222222222237,{"$f":"'RWH Calculator'!$C$56","v":0},58.697222222222237,0,0,0,0,-58.697222222222237,34910.20322922981]
["2009-05-31",0,0,0,5,{"$f":"IF($B$2=\"Western SF\", VLOOKUP(E3083,$R$6:$U$17, 4),VLOOKUP(E3083, $R$6:$V$17,5))","v":0.15000000000000002},0.10593750000000002,58.697222222222237,{"$f":"'RWH Calculator'!$C$56","v":0},58.697222222222237,0,0,0,0,-58.697222222222237,34910.20322922981]
["2009-06-01",0,0,0,{"$f":"MONTH(A3084)","v":6},0.16999999999999998,{"$f":"F3084*$B$6","v":0.1200625},66.523518518518514,{"$f":"'RWH Calculator'!$C$56","v":0},{"$f":"H3084+I3084","v":66.523518518518514},0,0,0,0,-66.523518518518514,34910.20322922981]
["2009-06-02",0,{"$f":"$B$3*$B$4*(B3085/12)*7.48","v":0},{"$f":"C3085","v":0},6,0.16999999999999998,0.1200625,{"$f":"(IF(G3085-B3085>0,(G3085-B3085)/$B$7,0)/12*7.48)*$B$8","v":66.523518518518514},{"$f":"'RWH Calculator'!$C$56","v":0},66.523518518518514,{"$f":"IF(O3085<0, 0, IF(O3085>$H$2, $H$2, O3085))","v":0},{"$f":"IF(J3085>D3085,D3085, K3085-K3084+J3085)","v":0},{"$f":"IF(D3085+K3084>J3085,J3085, D3085+K3084)","v":0},{"$f":"IF(C3085>J3085, C3085-J3085-(K3085-K3084),0)","v":0},{"$f":"K3084+D3085-J3085","v":-66.523518518518514},{"$f":"M3085+P3084","v":34910.20322922981}]
["2009-06-03",0,0,0,6,0.16999999999999998,0.1200625,66.523518518518514,{"$f":"'RWH Calculator'!$C$56","v":0},66.523518518518514,0,0,0,0,-66.523518518518514,34910.20322922981]
["2009-06-04",0,0,0,6,0.16999999999999998,0.1200625,66.523518518518514,{"$f":"'RWH Calculator'!$C$56","v":0},66.523518518518514,0,0,0,0,-66.523518518518514,34910.20322922981]
["2009-06-05",0,0,0,6,0.16999999999999998,0.1200625,66.523518518518514,{"$f":"'RWH Calculator'!$C$56","v":0},66.523518518518514,0,0,0,0,-66.523518518518514,34910.20322922981]
["2009-06-06",0,0,0,6,0.16999999999999998,0.1200625,66.523518518518514,{"$f":"'RWH Calculator'!$C$56","v":0},66.523518518518514,0,0,0,0,-66.523518518518514,34910.20322922981]
["2009-06-07",0,0,0,6,0.16999999999999998,0.1200625,66.523518518518514,{"$f":"'RWH Calculator'!$C$56","v":0},66.523518518518514,0,0,0,0,-66.523518518518514,34910.20322922981]
["2009-06-08",0,0,0,6,0.16999999999999998,0.1200625,66.523518518518514,{"$f":"'RWH Calculator'!$C$56","v":0},66.523518518518514,0,0,0,0,-66.523518518518514,34910.20322922981]
["2009-06-09",0,0,0,6,0.16999999999999998,0.1200625,66.523518518518514,{"$f":"'RWH Calculator'!$C$56","v":0},66.523518518518514,0,0,0,0,-66.523518518518514,34910.20322922981]
["2009-06-10",0,0,0,6,0.16999999999999998,0.1200625,66.523518518518514,{"$f":"'RWH Calculator'!$C$56","v":0},66.523518518518514,0,0,0,0,-66.523518518518514,34910.20322922981]
["2009-06-11",0,0,0,6,0.16999999999999998,0.1200625,66.523518518518514,{"$f":"'RWH Calculator'!$C$56","v":0},66.523518518518514,0,0,0,0,-66.523518518518514,34910.20322922981]
["2009-06-12",0,0,0,6,0.16999999999999998,0.1200625,66.523518518518514,{"$f":"'RWH Calculator'!$C$56","v":0},66.523518518518514,0,0,0,0,-66.523518518518514,34910.20322922981]
["2009-06-13",0,0,0,6,0.16999999999999998,0.1200625,66.523518518518514,{"$f":"'RWH Calculator'!$C$56","v":0},66.523518518518514,0,0,0,0,-66.523518518518514,34910.20322922981]
["2009-06-14",0,0,0,6,0.16999999999999998,0.1200625,66.523518518518514,{"$f":"'RWH Calculator'!$C$56","v":0},66.523518518518514,0,0,0,0,-66.523518518518514,34910.20322922981]
["2009-06-15",0,0,0,6,0.16999999999999998,0.1200625,66.523518518518514,{"$f":"'RWH Calculator'!$C$56","v":0},66.523518518518514,0,0,0,0,-66.523518518518514,34910.20322922981]
["2009-06-16",0,0,0,6,0.16999999999999998,0.1200625,66.523518518518514,{"$f":"'RWH Calculator'!$C$56","v":0},66.523518518518514,0,0,0,0,-66.523518518518514,34910.20322922981]
["2009-06-17",0,0,0,6,0.16999999999999998,0.1200625,66.523518518518514,{"$f":"'RWH Calculator'!$C$56","v":0},66.523518518518514,0,0,0,0,-66.523518518518514,34910.20322922981]
["2009-06-18",0,0,0,6,0.16999999999999998,0.1200625,66.523518518518514,{"$f":"'RWH Calculator'!$C$56","v":0},66.523518518518514,0,0,0,0,-66.523518518518514,34910.20322922981]
["2009-06-19",0,0,0,6,0.16999999999999998,0.1200625,66.523518518518514,{"$f":"'RWH Calculator'!$C$56","v":0},66.523518518518514,0,0,0,0,-66.523518518518514,34910.20322922981]
["2009-06-20",0,0,0,6,0.16999999999999998,0.1200625,66.523518518518514,{"$f":"'RWH Calculator'!$C$56","v":0},66.523518518518514,0,0,0,0,-66.523518518518514,34910.20322922981]
["2009-06-21",0,0,0,6,0.16999999999999998,0.1200625,66.523518518518514,{"$f":"'RWH Calculator'!$C$56","v":0},66.523518518518514,0,0,0,0,-66.523518518518514,34910.20322922981]
["2009-06-22",0,0,0,6,0.16999999999999998,0.1200625,66.523518518518514,{"$f":"'RWH Calculator'!$C$56","v":0},66.523518518518514,0,0,0,0,-66.523518518518514,34910.20322922981]
["2009-06-23",0,0,0,6,0.16999999999999998,0.1200625,66.523518518518514,{"$f":"'RWH Calculator'!$C$56","v":0},66.523518518518514,0,0,0,0,-66.523518518518514,34910.20322922981]
["2009-06-24",0,0,0,6,0.16999999999999998,0.1200625,66.523518518518514,{"$f":"'RWH Calculator'!$C$56","v":0},66.523518518518514,0,0,0,0,-66.523518518518514,34910.20322922981]
["2009-06-25",0,0,0,6,0.16999999999999998,0.1200625,66.523518518518514,{"$f":"'RWH Calculator'!$C$56","v":0},66.523518518518514,0,0,0,0,-66.523518518518514,34910.20322922981]
["2009-06-26",0,0,0,6,0.16999999999999998,0.1200625,66.523518518518514,{"$f":"'RWH Calculator'!$C$56","v":0},66.523518518518514,0,0,0,0,-66.523518518518514,34910.20322922981]
["2009-06-27",0,0,0,6,0.16999999999999998,0.1200625,66.523518518518514,{"$f":"'RWH Calculator'!$C$56","v":0},66.523518518518514,0,0,0,0,-66.523518518518514,34910.20322922981]
["2009-06-28",0,0,0,6,0.16999999999999998,0.1200625,66.523518518518514,{"$f":"'RWH Calculator'!$C$56","v":0},66.523518518518514,0,0,0,0,-66.523518518518514,34910.20322922981]
["2009-06-29",0,0,0,6,0.16999999999999998,0.1200625,66.523518518518514,{"$f":"'RWH Calculator'!$C$56","v":0},66.523518518518514,0,0,0,0,-66.523518518518514,34910.20322922981]
["2009-06-30",0,0,0,6,0.16999999999999998,0.1200625,66.523518518518514,{"$f":"'RWH Calculator'!$C$56","v":0},66.523518518518514,0,0,0,0,-66.523518518518514,34910.20322922981]
["2009-07-01",0,0,0,7,0.16,0.113,62.610370370370383,{"$f":"'RWH Calculator'!$C$56","v":0},62.610370370370383,0,0,0,0,-62.610370370370383,34910.20322922981]
["2009-07-02",0,0,0,7,0.16,0.113,62.610370370370383,{"$f":"'RWH Calculator'!$C$56","v":0},62.610370370370383,0,0,0,0,-62.610370370370383,34910.20322922981]
["2009-07-03",0,0,0,7,0.16,0.113,62.610370370370383,{"$f":"'RWH Calculator'!$C$56","v":0},62.610370370370383,0,0,0,0,-62.610370370370383,34910.20322922981]
["2009-07-04",0,0,0,7,0.16,0.113,62.610370370370383,{"$f":"'RWH Calculator'!$C$56","v":0},62.610370370370383,0,0,0,0,-62.610370370370383,34910.20322922981]
["2009-07-05",0,0,0,7,0.16,0.113,62.610370370370383,{"$f":"'RWH Calculator'!$C$56","v":0},62.610370370370383,0,0,0,0,-62.610370370370383,34910.20322922981]
["2009-07-06",0,0,0,7,0.16,0.113,62.610370370370383,{"$f":"'RWH Calculator'!$C$56","v":0},62.610370370370383,0,0,0,0,-62.610370370370383,34910.20322922981]
["2009-07-07",0,0,0,7,0.16,0.113,62.610370370370383,{"$f":"'RWH Calculator'!$C$56","v":0},62.610370370370383,0,0,0,0,-62.610370370370383,34910.20322922981]
["2009-07-08",0,0,0,7,0.16,0.113,62.610370370370383,{"$f":"'RWH Calculator'!$C$56","v":0},62.610370370370383,0,0,0,0,-62.610370370370383,34910.20322922981]
["2009-07-09",0,0,0,7,0.16,0.113,62.610370370370383,{"$f":"'RWH Calculator'!$C$56","v":0},62.610370370370383,0,0,0,0,-62.610370370370383,34910.20322922981]
["2009-07-10",0,0,0,7,0.16,0.113,62.610370370370383,{"$f":"'RWH Calculator'!$C$56","v":0},62.610370370370383,0,0,0,0,-62.610370370370383,34910.20322922981]
["2009-07-11",0,0,0,7,0.16,0.113,62.610370370370383,{"$f":"'RWH Calculator'!$C$56","v":0},62.610370370370383,0,0,0,0,-62.610370370370383,34910.20322922981]
["2009-07-12",0,0,0,7,0.16,0.113,62.610370370370383,{"$f":"'RWH Calculator'!$C$56","v":0},62.610370370370383,0,0,0,0,-62.610370370370383,34910.20322922981]
["2009-07-13",0,0,0,7,0.16,0.113,62.610370370370383,{"$f":"'RWH Calculator'!$C$56","v":0},62.610370370370383,0,0,0,0,-62.610370370370383,34910.20322922981]
["2009-07-14",0,0,0,7,0.16,0.113,62.610370370370383,{"$f":"'RWH Calculator'!$C$56","v":0},62.610370370370383,0,0,0,0,-62.610370370370383,34910.20322922981]
["2009-07-15",0,0,0,7,0.16,0.113,62.610370370370383,{"$f":"'RWH Calculator'!$C$56","v":0},62.610370370370383,0,0,0,0,-62.610370370370383,34910.20322922981]
["2009-07-16",0,0,0,7,0.16,0.113,62.610370370370383,{"$f":"'RWH Calculator'!$C$56","v":0},62.610370370370383,0,0,0,0,-62.610370370370383,34910.20322922981]
["2009-07-17",0,0,0,7,0.16,0.113,62.610370370370383,{"$f":"'RWH Calculator'!$C$56","v":0},62.610370370370383,0,0,0,0,-62.610370370370383,34910.20322922981]
["2009-07-18",0,0,0,7,0.16,0.113,62.610370370370383,{"$f":"'RWH Calculator'!$C$56","v":0},62.610370370370383,0,0,0,0,-62.610370370370383,34910.20322922981]
["2009-07-19",0,0,0,7,0.16,0.113,62.610370370370383,{"$f":"'RWH Calculator'!$C$56","v":0},62.610370370370383,0,0,0,0,-62.610370370370383,34910.20322922981]
["2009-07-20",0,0,0,7,0.16,0.113,62.610370370370383,{"$f":"'RWH Calculator'!$C$56","v":0},62.610370370370383,0,0,0,0,-62.610370370370383,34910.20322922981]
["2009-07-21",0,0,0,7,0.16,0.113,62.610370370370383,{"$f":"'RWH Calculator'!$C$56","v":0},62.610370370370383,0,0,0,0,-62.610370370370383,34910.20322922981]
["2009-07-22",0,0,0,7,0.16,0.113,62.610370370370383,{"$f":"'RWH Calculator'!$C$56","v":0},62.610370370370383,0,0,0,0,-62.610370370370383,34910.20322922981]
["2009-07-23",0,0,0,7,0.16,0.113,62.610370370370383,{"$f":"'RWH Calculator'!$C$56","v":0},62.610370370370383,0,0,0,0,-62.610370370370383,34910.20322922981]
["2009-07-24",0,0,0,7,0.16,0.113,62.610370370370383,{"$f":"'RWH Calculator'!$C$56","v":0},62.610370370370383,0,0,0,0,-62.610370370370383,34910.20322922981]
["2009-07-25",0,0,0,7,0.16,0.113,62.610370370370383,{"$f":"'RWH Calculator'!$C$56","v":0},62.610370370370383,0,0,0,0,-62.610370370370383,34910.20322922981]
["2009-07-26",0,0,0,7,0.16,0.113,62.610370370370383,{"$f":"'RWH Calculator'!$C$56","v":0},62.610370370370383,0,0,0,0,-62.610370370370383,34910.20322922981]
["2009-07-27",0,0,0,7,0.16,0.113,62.610370370370383,{"$f":"'RWH Calculator'!$C$56","v":0},62.610370370370383,0,0,0,0,-62.610370370370383,34910.20322922981]
["2009-07-28",0,0,0,7,0.16,0.113,62.610370370370383,{"$f":"'RWH Calculator'!$C$56","v":0},62.610370370370383,0,0,0,0,-62.610370370370383,34910.20322922981]
["2009-07-29",0,0,0,7,0.16,0.113,62.610370370370383,{"$f":"'RWH Calculator'!$C$56","v":0},62.610370370370383,0,0,0,0,-62.610370370370383,34910.20322922981]
["2009-07-30",0,0,0,7,0.16,0.113,62.610370370370383,{"$f":"'RWH Calculator'!$C$56","v":0},62.610370370370383,0,0,0,0,-62.610370370370383,34910.20322922981]
["2009-07-31",0,0,0,7,0.16,0.113,62.610370370370383,{"$f":"'RWH Calculator'!$C$56","v":0},62.610370370370383,0,0,0,0,-62.610370370370383,34910.20322922981]
["2009-08-01",0,0,0,8,0.15000000000000002,0.10593750000000002,58.697222222222237,{"$f":"'RWH Calculator'!$C$56","v":0},58.697222222222237,0,0,0,0,-58.697222222222237,34910.20322922981]
["2009-08-02",0,0,0,8,0.15000000000000002,0.10593750000000002,58.697222222222237,{"$f":"'RWH Calculator'!$C$56","v":0},58.697222222222237,0,0,0,0,-58.697222222222237,34910.20322922981]
["2009-08-03",0,0,0,8,{"$f":"IF($B$2=\"Western SF\", VLOOKUP(E3147,$R$6:$U$17, 4),VLOOKUP(E3147, $R$6:$V$17,5))","v":0.15000000000000002},0.10593750000000002,58.697222222222237,{"$f":"'RWH Calculator'!$C$56","v":0},58.697222222222237,0,0,0,0,-58.697222222222237,34910.20322922981]
["2009-08-04",0,0,0,{"$f":"MONTH(A3148)","v":8},0.15000000000000002,{"$f":"F3148*$B$6","v":0.10593750000000002},58.697222222222237,{"$f":"'RWH Calculator'!$C$56","v":0},{"$f":"H3148+I3148","v":58.697222222222237},0,0,0,0,-58.697222222222237,34910.20322922981]
["2009-08-05",0,{"$f":"$B$3*$B$4*(B3149/12)*7.48","v":0},{"$f":"C3149","v":0},8,0.15000000000000002,0.10593750000000002,{"$f":"(IF(G3149-B3149>0,(G3149-B3149)/$B$7,0)/12*7.48)*$B$8","v":58.697222222222237},{"$f":"'RWH Calculator'!$C$56","v":0},58.697222222222237,{"$f":"IF(O3149<0, 0, IF(O3149>$H$2, $H$2, O3149))","v":0},{"$f":"IF(J3149>D3149,D3149, K3149-K3148+J3149)","v":0},{"$f":"IF(D3149+K3148>J3149,J3149, D3149+K3148)","v":0},{"$f":"IF(C3149>J3149, C3149-J3149-(K3149-K3148),0)","v":0},{"$f":"K3148+D3149-J3149","v":-58.697222222222237},{"$f":"M3149+P3148","v":34910.20322922981}]
["2009-08-06",0,0,0,8,0.15000000000000002,0.10593750000000002,58.697222222222237,{"$f":"'RWH Calculator'!$C$56","v":0},58.697222222222237,0,0,0,0,-58.697222222222237,34910.20322922981]
["2009-08-07",0,0,0,8,0.15000000000000002,0.10593750000000002,58.697222222222237,{"$f":"'RWH Calculator'!$C$56","v":0},58.697222222222237,0,0,0,0,-58.697222222222237,34910.20322922981]
["2009-08-08",0,0,0,8,0.15000000000000002,0.10593750000000002,58.697222222222237,{"$f":"'RWH Calculator'!$C$56","v":0},58.697222222222237,0,0,0,0,-58.697222222222237,34910.20322922981]
["2009-08-09",0,0,0,8,0.15000000000000002,0.10593750000000002,58.697222222222237,{"$f":"'RWH Calculator'!$C$56","v":0},58.697222222222237,0,0,0,0,-58.697222222222237,34910.20322922981]
["2009-08-10",0,0,0,8,0.15000000000000002,0.10593750000000002,58.697222222222237,{"$f":"'RWH Calculator'!$C$56","v":0},58.697222222222237,0,0,0,0,-58.697222222222237,34910.20322922981]
["2009-08-11",0,0,0,8,0.15000000000000002,0.10593750000000002,58.697222222222237,{"$f":"'RWH Calculator'!$C$56","v":0},58.697222222222237,0,0,0,0,-58.697222222222237,34910.20322922981]
["2009-08-12",0,0,0,8,0.15000000000000002,0.10593750000000002,58.697222222222237,{"$f":"'RWH Calculator'!$C$56","v":0},58.697222222222237,0,0,0,0,-58.697222222222237,34910.20322922981]
["2009-08-13",0,0,0,8,0.15000000000000002,0.10593750000000002,58.697222222222237,{"$f":"'RWH Calculator'!$C$56","v":0},58.697222222222237,0,0,0,0,-58.697222222222237,34910.20322922981]
["2009-08-14",0,0,0,8,0.15000000000000002,0.10593750000000002,58.697222222222237,{"$f":"'RWH Calculator'!$C$56","v":0},58.697222222222237,0,0,0,0,-58.697222222222237,34910.20322922981]
["2009-08-15",0,0,0,8,0.15000000000000002,0.10593750000000002,58.697222222222237,{"$f":"'RWH Calculator'!$C$56","v":0},58.697222222222237,0,0,0,0,-58.697222222222237,34910.20322922981]
["2009-08-16",0,0,0,8,0.15000000000000002,0.10593750000000002,58.697222222222237,{"$f":"'RWH Calculator'!$C$56","v":0},58.697222222222237,0,0,0,0,-58.697222222222237,34910.20322922981]
["2009-08-17",0,0,0,8,0.15000000000000002,0.10593750000000002,58.697222222222237,{"$f":"'RWH Calculator'!$C$56","v":0},58.697222222222237,0,0,0,0,-58.697222222222237,34910.20322922981]
["2009-08-18",0,0,0,8,0.15000000000000002,0.10593750000000002,58.697222222222237,{"$f":"'RWH Calculator'!$C$56","v":0},58.697222222222237,0,0,0,0,-58.697222222222237,34910.20322922981]
["2009-08-19",0,0,0,8,0.15000000000000002,0.10593750000000002,58.697222222222237,{"$f":"'RWH Calculator'!$C$56","v":0},58.697222222222237,0,0,0,0,-58.697222222222237,34910.20322922981]
["2009-08-20",0,0,0,8,0.15000000000000002,0.10593750000000002,58.697222222222237,{"$f":"'RWH Calculator'!$C$56","v":0},58.697222222222237,0,0,0,0,-58.697222222222237,34910.20322922981]
["2009-08-21",0,0,0,8,0.15000000000000002,0.10593750000000002,58.697222222222237,{"$f":"'RWH Calculator'!$C$56","v":0},58.697222222222237,0,0,0,0,-58.697222222222237,34910.20322922981]
["2009-08-22",0,0,0,8,0.15000000000000002,0.10593750000000002,58.697222222222237,{"$f":"'RWH Calculator'!$C$56","v":0},58.697222222222237,0,0,0,0,-58.697222222222237,34910.20322922981]
["2009-08-23",0,0,0,8,0.15000000000000002,0.10593750000000002,58.697222222222237,{"$f":"'RWH Calculator'!$C$56","v":0},58.697222222222237,0,0,0,0,-58.697222222222237,34910.20322922981]
["2009-08-24",0,0,0,8,0.15000000000000002,0.10593750000000002,58.697222222222237,{"$f":"'RWH Calculator'!$C$56","v":0},58.697222222222237,0,0,0,0,-58.697222222222237,34910.20322922981]
["2009-08-25",0,0,0,8,0.15000000000000002,0.10593750000000002,58.697222222222237,{"$f":"'RWH Calculator'!$C$56","v":0},58.697222222222237,0,0,0,0,-58.697222222222237,34910.20322922981]
["2009-08-26",0,0,0,8,0.15000000000000002,0.10593750000000002,58.697222222222237,{"$f":"'RWH Calculator'!$C$56","v":0},58.697222222222237,0,0,0,0,-58.697222222222237,34910.20322922981]
["2009-08-27",0,0,0,8,0.15000000000000002,0.10593750000000002,58.697222222222237,{"$f":"'RWH Calculator'!$C$56","v":0},58.697222222222237,0,0,0,0,-58.697222222222237,34910.20322922981]
["2009-08-28",0,0,0,8,0.15000000000000002,0.10593750000000002,58.697222222222237,{"$f":"'RWH Calculator'!$C$56","v":0},58.697222222222237,0,0,0,0,-58.697222222222237,34910.20322922981]
["2009-08-29",0,0,0,8,0.15000000000000002,0.10593750000000002,58.697222222222237,{"$f":"'RWH Calculator'!$C$56","v":0},58.697222222222237,0,0,0,0,-58.697222222222237,34910.20322922981]
["2009-08-30",0,0,0,8,0.15000000000000002,0.10593750000000002,58.697222222222237,{"$f":"'RWH Calculator'!$C$56","v":0},58.697222222222237,0,0,0,0,-58.697222222222237,34910.20322922981]
["2009-08-31",0,0,0,8,0.15000000000000002,0.10593750000000002,58.697222222222237,{"$f":"'RWH Calculator'!$C$56","v":0},58.697222222222237,0,0,0,0,-58.697222222222237,34910.20322922981]
["2009-09-01",0,0,0,9,0.13,9.1812500000000005E-2,50.870925925925924,{"$f":"'RWH Calculator'!$C$56","v":0},50.870925925925924,0,0,0,0,-50.870925925925924,34910.20322922981]
["2009-09-02",0,0,0,9,0.13,9.1812500000000005E-2,50.870925925925924,{"$f":"'RWH Calculator'!$C$56","v":0},50.870925925925924,0,0,0,0,-50.870925925925924,34910.20322922981]
["2009-09-03",0,0,0,9,0.13,9.1812500000000005E-2,50.870925925925924,{"$f":"'RWH Calculator'!$C$56","v":0},50.870925925925924,0,0,0,0,-50.870925925925924,34910.20322922981]
["2009-09-04",0,0,0,9,0.13,9.1812500000000005E-2,50.870925925925924,{"$f":"'RWH Calculator'!$C$56","v":0},50.870925925925924,0,0,0,0,-50.870925925925924,34910.20322922981]
["2009-09-05",0,0,0,9,0.13,9.1812500000000005E-2,50.870925925925924,{"$f":"'RWH Calculator'!$C$56","v":0},50.870925925925924,0,0,0,0,-50.870925925925924,34910.20322922981]
["2009-09-06",0,0,0,9,0.13,9.1812500000000005E-2,50.870925925925924,{"$f":"'RWH Calculator'!$C$56","v":0},50.870925925925924,0,0,0,0,-50.870925925925924,34910.20322922981]
["2009-09-07",0,0,0,9,0.13,9.1812500000000005E-2,50.870925925925924,{"$f":"'RWH Calculator'!$C$56","v":0},50.870925925925924,0,0,0,0,-50.870925925925924,34910.20322922981]
["2009-09-08",0,0,0,9,0.13,9.1812500000000005E-2,50.870925925925924,{"$f":"'RWH Calculator'!$C$56","v":0},50.870925925925924,0,0,0,0,-50.870925925925924,34910.20322922981]
["2009-09-09",0,0,0,9,0.13,9.1812500000000005E-2,50.870925925925924,{"$f":"'RWH Calculator'!$C$56","v":0},50.870925925925924,0,0,0,0,-50.870925925925924,34910.20322922981]
["2009-09-10",0,0,0,9,0.13,9.1812500000000005E-2,50.870925925925924,{"$f":"'RWH Calculator'!$C$56","v":0},50.870925925925924,0,0,0,0,-50.870925925925924,34910.20322922981]
["2009-09-11",0,0,0,9,0.13,9.1812500000000005E-2,50.870925925925924,{"$f":"'RWH Calculator'!$C$56","v":0},50.870925925925924,0,0,0,0,-50.870925925925924,34910.20322922981]
["2009-09-12",0.04,25.432000000000006,25.432000000000006,9,0.13,9.1812500000000005E-2,28.70796296296297,{"$f":"'RWH Calculator'!$C$56","v":0},28.70796296296297,0,25.432000000000006,25.432000000000006,0,-3.2759629629629643,34935.635229229811]
["2009-09-13",0.24000000000000002,152.59200000000001,152.59200000000001,9,0.13,9.1812500000000005E-2,0,{"$f":"'RWH Calculator'!$C$56","v":0},0,152.59200000000001,152.59200000000001,0,0,152.59200000000001,34935.635229229811]
["2009-09-14",0,0,0,9,0.13,9.1812500000000005E-2,50.870925925925924,{"$f":"'RWH Calculator'!$C$56","v":0},50.870925925925924,101.7210740740741,0,50.870925925925924,0,101.7210740740741,34986.506155155737]
["2009-09-15",0,0,0,9,0.13,9.1812500000000005E-2,50.870925925925924,{"$f":"'RWH Calculator'!$C$56","v":0},50.870925925925924,50.850148148148172,0,50.870925925925924,0,50.850148148148172,35037.377081081664]
["2009-09-16",0,0,0,9,0.13,9.1812500000000005E-2,50.870925925925924,{"$f":"'RWH Calculator'!$C$56","v":0},50.870925925925924,0,0,50.850148148148172,0,-2.0777777777752249E-2,35088.227229229815]
["2009-09-17",0,0,0,9,0.13,9.1812500000000005E-2,50.870925925925924,{"$f":"'RWH Calculator'!$C$56","v":0},50.870925925925924,0,0,0,0,-50.870925925925924,35088.227229229815]
["2009-09-18",0,0,0,9,0.13,9.1812500000000005E-2,50.870925925925924,{"$f":"'RWH Calculator'!$C$56","v":0},50.870925925925924,0,0,0,0,-50.870925925925924,35088.227229229815]
["2009-09-19",0,0,0,9,0.13,9.1812500000000005E-2,50.870925925925924,{"$f":"'RWH Calculator'!$C$56","v":0},50.870925925925924,0,0,0,0,-50.870925925925924,35088.227229229815]
["2009-09-20",0,0,0,9,0.13,9.1812500000000005E-2,50.870925925925924,{"$f":"'RWH Calculator'!$C$56","v":0},50.870925925925924,0,0,0,0,-50.870925925925924,35088.227229229815]
["2009-09-21",0,0,0,9,0.13,9.1812500000000005E-2,50.870925925925924,{"$f":"'RWH Calculator'!$C$56","v":0},50.870925925925924,0,0,0,0,-50.870925925925924,35088.227229229815]
["2009-09-22",0,0,0,9,0.13,9.1812500000000005E-2,50.870925925925924,{"$f":"'RWH Calculator'!$C$56","v":0},50.870925925925924,0,0,0,0,-50.870925925925924,35088.227229229815]
["2009-09-23",0,0,0,9,0.13,9.1812500000000005E-2,50.870925925925924,{"$f":"'RWH Calculator'!$C$56","v":0},50.870925925925924,0,0,0,0,-50.870925925925924,35088.227229229815]
["2009-09-24",0,0,0,9,0.13,9.1812500000000005E-2,50.870925925925924,{"$f":"'RWH Calculator'!$C$56","v":0},50.870925925925924,0,0,0,0,-50.870925925925924,35088.227229229815]
["2009-09-25",0,0,0,9,0.13,9.1812500000000005E-2,50.870925925925924,{"$f":"'RWH Calculator'!$C$56","v":0},50.870925925925924,0,0,0,0,-50.870925925925924,35088.227229229815]
["2009-09-26",0,0,0,9,0.13,9.1812500000000005E-2,50.870925925925924,{"$f":"'RWH Calculator'!$C$56","v":0},50.870925925925924,0,0,0,0,-50.870925925925924,35088.227229229815]
["2009-09-27",0,0,0,9,0.13,9.1812500000000005E-2,50.870925925925924,{"$f":"'RWH Calculator'!$C$56","v":0},50.870925925925924,0,0,0,0,-50.870925925925924,35088.227229229815]
["2009-09-28",0,0,0,9,0.13,9.1812500000000005E-2,50.870925925925924,{"$f":"'RWH Calculator'!$C$56","v":0},50.870925925925924,0,0,0,0,-50.870925925925924,35088.227229229815]
["2009-09-29",0,0,0,9,0.13,9.1812500000000005E-2,50.870925925925924,{"$f":"'RWH Calculator'!$C$56","v":0},50.870925925925924,0,0,0,0,-50.870925925925924,35088.227229229815]
["2009-09-30",0,0,0,9,0.13,9.1812500000000005E-2,50.870925925925924,{"$f":"'RWH Calculator'!$C$56","v":0},50.870925925925924,0,0,0,0,-50.870925925925924,35088.227229229815]
["2009-10-01",0,0,0,10,0.09,6.3562500000000008E-2,35.218333333333341,{"$f":"'RWH Calculator'!$C$56","v":0},35.218333333333341,0,0,0,0,-35.218333333333341,35088.227229229815,{"$f":"M3206","v":0}]
["2009-10-02",0,0,0,10,0.09,6.3562500000000008E-2,35.218333333333341,{"$f":"'RWH Calculator'!$C$56","v":0},35.218333333333341,0,0,0,0,-35.218333333333341,35088.227229229815,{"$f":"M3207+Q3206","v":0}]
["2009-10-03",0,0,0,10,0.09,6.3562500000000008E-2,35.218333333333341,{"$f":"'RWH Calculator'!$C$56","v":0},35.218333333333341,0,0,0,0,-35.218333333333341,35088.227229229815,{"$f":"M3208+Q3207","v":0}]
["2009-10-04",0,0,0,10,0.09,6.3562500000000008E-2,35.218333333333341,{"$f":"'RWH Calculator'!$C$56","v":0},35.218333333333341,0,0,0,0,-35.218333333333341,35088.227229229815,0]
["2009-10-05",0,0,0,10,0.09,6.3562500000000008E-2,35.218333333333341,{"$f":"'RWH Calculator'!$C$56","v":0},35.218333333333341,0,0,0,0,-35.218333333333341,35088.227229229815,0]
["2009-10-06",0,0,0,10,{"$f":"IF($B$2=\"Western SF\", VLOOKUP(E3211,$R$6:$U$17, 4),VLOOKUP(E3211, $R$6:$V$17,5))","v":0.09},6.3562500000000008E-2,35.218333333333341,{"$f":"'RWH Calculator'!$C$56","v":0},35.218333333333341,0,0,0,0,-35.218333333333341,35088.227229229815,0]
["2009-10-07",0,0,0,{"$f":"MONTH(A3212)","v":10},0.09,{"$f":"F3212*$B$6","v":6.3562500000000008E-2},35.218333333333341,{"$f":"'RWH Calculator'!$C$56","v":0},{"$f":"H3212+I3212","v":35.218333333333341},0,0,0,0,-35.218333333333341,35088.227229229815,0]
["2009-10-08",0,{"$f":"$B$3*$B$4*(B3213/12)*7.48","v":0},{"$f":"C3213","v":0},10,0.09,6.3562500000000008E-2,{"$f":"(IF(G3213-B3213>0,(G3213-B3213)/$B$7,0)/12*7.48)*$B$8","v":35.218333333333341},{"$f":"'RWH Calculator'!$C$56","v":0},35.218333333333341,{"$f":"IF(O3213<0, 0, IF(O3213>$H$2, $H$2, O3213))","v":0},{"$f":"IF(J3213>D3213,D3213, K3213-K3212+J3213)","v":0},{"$f":"IF(D3213+K3212>J3213,J3213, D3213+K3212)","v":0},{"$f":"IF(C3213>J3213, C3213-J3213-(K3213-K3212),0)","v":0},{"$f":"K3212+D3213-J3213","v":-35.218333333333341},{"$f":"M3213+P3212","v":35088.227229229815},0]
["2009-10-09",0,0,0,10,0.09,6.3562500000000008E-2,35.218333333333341,{"$f":"'RWH Calculator'!$C$56","v":0},35.218333333333341,0,0,0,0,-35.218333333333341,35088.227229229815,0]
["2009-10-10",0,0,0,10,0.09,6.3562500000000008E-2,35.218333333333341,{"$f":"'RWH Calculator'!$C$56","v":0},35.218333333333341,0,0,0,0,-35.218333333333341,35088.227229229815,0]
["2009-10-11",0,0,0,10,0.09,6.3562500000000008E-2,35.218333333333341,{"$f":"'RWH Calculator'!$C$56","v":0},35.218333333333341,0,0,0,0,-35.218333333333341,35088.227229229815,0]
["2009-10-12",0,0,0,10,0.09,6.3562500000000008E-2,35.218333333333341,{"$f":"'RWH Calculator'!$C$56","v":0},35.218333333333341,0,0,0,0,-35.218333333333341,35088.227229229815,0]
["2009-10-13",2.48,1576.7840000000001,1576.7840000000001,10,0.09,6.3562500000000008E-2,0,{"$f":"'RWH Calculator'!$C$56","v":0},0,1057.4600871983243,1057.4600871983243,0,519.32391280167576,1576.7840000000001,35088.227229229815,0]
["2009-10-14",0,0,0,10,0.09,6.3562500000000008E-2,35.218333333333341,{"$f":"'RWH Calculator'!$C$56","v":0},35.218333333333341,1022.241753864991,0,35.218333333333341,0,1022.241753864991,35123.445562563145,35.218333333333341]
["2009-10-15",0,0,0,10,0.09,6.3562500000000008E-2,35.218333333333341,{"$f":"'RWH Calculator'!$C$56","v":0},35.218333333333341,987.02342053165762,0,35.218333333333341,0,987.02342053165762,35158.663895896476,70.436666666666682]
["2009-10-16",0,0,0,10,0.09,6.3562500000000008E-2,35.218333333333341,{"$f":"'RWH Calculator'!$C$56","v":0},35.218333333333341,951.80508719832426,0,35.218333333333341,0,951.80508719832426,35193.882229229806,105.65500000000003]
["2009-10-17",0,0,0,10,0.09,6.3562500000000008E-2,35.218333333333341,{"$f":"'RWH Calculator'!$C$56","v":0},35.218333333333341,916.5867538649909,0,35.218333333333341,0,916.5867538649909,35229.100562563137,140.87333333333336]
["2009-10-18",0,0,0,10,0.09,6.3562500000000008E-2,35.218333333333341,{"$f":"'RWH Calculator'!$C$56","v":0},35.218333333333341,881.36842053165753,0,35.218333333333341,0,881.36842053165753,35264.318895896467,176.0916666666667]
["2009-10-19",0.63,400.55399999999997,400.55399999999997,10,0.09,6.3562500000000008E-2,0,{"$f":"'RWH Calculator'!$C$56","v":0},0,1057.4600871983243,176.09166666666681,0,224.46233333333316,1281.9224205316575,35264.318895896467,176.0916666666667]
["2009-10-20",0,0,0,10,0.09,6.3562500000000008E-2,35.218333333333341,{"$f":"'RWH Calculator'!$C$56","v":0},35.218333333333341,1022.241753864991,0,35.218333333333341,0,1022.241753864991,35299.537229229798,211.31000000000003]
["2009-10-21",0,0,0,10,0.09,6.3562500000000008E-2,35.218333333333341,{"$f":"'RWH Calculator'!$C$56","v":0},35.218333333333341,987.02342053165762,0,35.218333333333341,0,987.02342053165762,35334.755562563128,246.52833333333336]
["2009-10-22",0,0,0,10,0.09,6.3562500000000008E-2,35.218333333333341,{"$f":"'RWH Calculator'!$C$56","v":0},35.218333333333341,951.80508719832426,0,35.218333333333341,0,951.80508719832426,35369.973895896459,281.74666666666673]
["2009-10-23",0,0,0,10,0.09,6.3562500000000008E-2,35.218333333333341,{"$f":"'RWH Calculator'!$C$56","v":0},35.218333333333341,916.5867538649909,0,35.218333333333341,0,916.5867538649909,35405.19222922979,316.96500000000009]
["2009-10-24",0,0,0,10,0.09,6.3562500000000008E-2,35.218333333333341,{"$f":"'RWH Calculator'!$C$56","v":0},35.218333333333341,881.36842053165753,0,35.218333333333341,0,881.36842053165753,35440.41056256312,352.18333333333345]
["2009-10-25",0,0,0,10,0.09,6.3562500000000008E-2,35.218333333333341,{"$f":"'RWH Calculator'!$C$56","v":0},35.218333333333341,846.15008719832417,0,35.218333333333341,0,846.15008719832417,35475.628895896451,387.40166666666681]
["2009-10-26",0,0,0,10,0.09,6.3562500000000008E-2,35.218333333333341,{"$f":"'RWH Calculator'!$C$56","v":0},35.218333333333341,810.93175386499081,0,35.218333333333341,0,810.93175386499081,35510.847229229781,422.62000000000018]
["2009-10-27",0,0,0,10,0.09,6.3562500000000008E-2,35.218333333333341,{"$f":"'RWH Calculator'!$C$56","v":0},35.218333333333341,775.71342053165745,0,35.218333333333341,0,775.71342053165745,35546.065562563112,457.83833333333354]
["2009-10-28",0,0,0,10,0.09,6.3562500000000008E-2,35.218333333333341,{"$f":"'RWH Calculator'!$C$56","v":0},35.218333333333341,740.49508719832409,0,35.218333333333341,0,740.49508719832409,35581.283895896442,493.0566666666669]
["2009-10-29",0,0,0,10,0.09,6.3562500000000008E-2,35.218333333333341,{"$f":"'RWH Calculator'!$C$56","v":0},35.218333333333341,705.27675386499072,0,35.218333333333341,0,705.27675386499072,35616.502229229773,528.2750000000002]
["2009-10-30",0,0,0,10,0.09,6.3562500000000008E-2,35.218333333333341,{"$f":"'RWH Calculator'!$C$56","v":0},35.218333333333341,670.05842053165736,0,35.218333333333341,0,670.05842053165736,35651.720562563103,563.49333333333357]
["2009-10-31",0,0,0,10,0.09,6.3562500000000008E-2,35.218333333333341,{"$f":"'RWH Calculator'!$C$56","v":0},35.218333333333341,634.840087198324,0,35.218333333333341,0,634.840087198324,35686.938895896434,598.71166666666693]
["2009-11-01",0,0,0,11,6.0000000000000005E-2,4.2375000000000003E-2,23.478888888888889,{"$f":"'RWH Calculator'!$C$56","v":0},23.478888888888889,611.36119830943517,0,23.478888888888889,0,611.36119830943517,35710.417784785321,622.19055555555587]
["2009-11-02",0,0,0,11,6.0000000000000005E-2,4.2375000000000003E-2,23.478888888888889,{"$f":"'RWH Calculator'!$C$56","v":0},23.478888888888889,587.88230942054633,0,23.478888888888889,0,587.88230942054633,35733.896673674208,645.66944444444471]
["2009-11-03",0,0,0,11,6.0000000000000005E-2,4.2375000000000003E-2,23.478888888888889,{"$f":"'RWH Calculator'!$C$56","v":0},23.478888888888889,564.4034205316575,0,23.478888888888889,0,564.4034205316575,35757.375562563095,669.14833333333354]
["2009-11-04",0,0,0,11,6.0000000000000005E-2,4.2375000000000003E-2,23.478888888888889,{"$f":"'RWH Calculator'!$C$56","v":0},23.478888888888889,540.92453164276867,0,23.478888888888889,0,540.92453164276867,35780.854451451982,692.62722222222237]
["2009-11-05",0,0,0,11,6.0000000000000005E-2,4.2375000000000003E-2,23.478888888888889,{"$f":"'RWH Calculator'!$C$56","v":0},23.478888888888889,517.44564275387984,0,23.478888888888889,0,517.44564275387984,35804.333340340869,716.1061111111112]
["2009-11-06",0.09,57.222000000000001,57.222000000000001,11,6.0000000000000005E-2,4.2375000000000003E-2,0,{"$f":"'RWH Calculator'!$C$56","v":0},0,574.66764275387982,57.22199999999998,0,2.1316282072803006E-14,574.66764275387982,35804.333340340869,716.1061111111112]
["2009-11-07",0,0,0,11,6.0000000000000005E-2,4.2375000000000003E-2,23.478888888888889,{"$f":"'RWH Calculator'!$C$56","v":0},23.478888888888889,551.18875386499099,0,23.478888888888889,0,551.18875386499099,35827.812229229756,739.58500000000004]
["2009-11-08",0,0,0,11,6.0000000000000005E-2,4.2375000000000003E-2,23.478888888888889,{"$f":"'RWH Calculator'!$C$56","v":0},23.478888888888889,527.70986497610215,0,23.478888888888889,0,527.70986497610215,35851.291118118643,763.06388888888887]
["2009-11-09",0,0,0,11,6.0000000000000005E-2,4.2375000000000003E-2,23.478888888888889,{"$f":"'RWH Calculator'!$C$56","v":0},23.478888888888889,504.23097608721326,0,23.478888888888889,0,504.23097608721326,35874.77000700753,786.5427777777777]
["2009-11-10",0,0,0,11,6.0000000000000005E-2,4.2375000000000003E-2,23.478888888888889,{"$f":"'RWH Calculator'!$C$56","v":0},23.478888888888889,480.75208719832438,0,23.478888888888889,0,480.75208719832438,35898.248895896417,810.02166666666653]
["2009-11-11",0,0,0,11,6.0000000000000005E-2,4.2375000000000003E-2,23.478888888888889,{"$f":"'RWH Calculator'!$C$56","v":0},23.478888888888889,457.27319830943549,0,23.478888888888889,0,457.27319830943549,35921.727784785304,833.50055555555537]
["2009-11-12",0,0,0,11,6.0000000000000005E-2,4.2375000000000003E-2,23.478888888888889,{"$f":"'RWH Calculator'!$C$56","v":0},23.478888888888889,433.7943094205466,0,23.478888888888889,0,433.7943094205466,35945.206673674191,856.9794444444442]
["2009-11-13",0,0,0,11,6.0000000000000005E-2,4.2375000000000003E-2,23.478888888888889,{"$f":"'RWH Calculator'!$C$56","v":0},23.478888888888889,410.31542053165771,0,23.478888888888889,0,410.31542053165771,35968.685562563078,880.45833333333303]
["2009-11-14",0.05,31.790000000000003,31.790000000000003,11,6.0000000000000005E-2,4.2375000000000003E-2,0,{"$f":"'RWH Calculator'!$C$56","v":0},0,442.10542053165773,31.79000000000002,0,-1.7763568394002505E-14,442.10542053165773,35968.685562563078,880.45833333333303]
["2009-11-15",0,0,0,11,6.0000000000000005E-2,4.2375000000000003E-2,23.478888888888889,{"$f":"'RWH Calculator'!$C$56","v":0},23.478888888888889,418.62653164276884,0,23.478888888888889,0,418.62653164276884,35992.164451451965,903.93722222222186]
["2009-11-16",0,0,0,11,6.0000000000000005E-2,4.2375000000000003E-2,23.478888888888889,{"$f":"'RWH Calculator'!$C$56","v":0},23.478888888888889,395.14764275387995,0,23.478888888888889,0,395.14764275387995,36015.643340340852,927.41611111111069]
["2009-11-17",0.01,6.3580000000000014,6.3580000000000014,11,6.0000000000000005E-2,4.2375000000000003E-2,17.938148148148152,{"$f":"'RWH Calculator'!$C$56","v":0},17.938148148148152,383.56749460573178,6.3580000000000014,17.938148148148152,0,383.56749460573178,36033.581488488999,945.35425925925881]
["2009-11-18",0,0,0,11,6.0000000000000005E-2,4.2375000000000003E-2,23.478888888888889,{"$f":"'RWH Calculator'!$C$56","v":0},23.478888888888889,360.08860571684289,0,23.478888888888889,0,360.08860571684289,36057.060377377886,968.83314814814776]
["2009-11-19",0,0,0,11,6.0000000000000005E-2,4.2375000000000003E-2,23.478888888888889,{"$f":"'RWH Calculator'!$C$56","v":0},23.478888888888889,336.609716827954,0,23.478888888888889,0,336.609716827954,36080.539266266773,992.31203703703659]
["2009-11-20",0.29000000000000004,184.38200000000003,184.38200000000003,11,6.0000000000000005E-2,4.2375000000000003E-2,0,{"$f":"'RWH Calculator'!$C$56","v":0},0,520.99171682795406,184.38200000000006,0,-2.8421709430404007E-14,520.99171682795406,36080.539266266773,992.31203703703659]
["2009-11-21",0,0,0,11,6.0000000000000005E-2,4.2375000000000003E-2,23.478888888888889,{"$f":"'RWH Calculator'!$C$56","v":0},23.478888888888889,497.51282793906518,0,23.478888888888889,0,497.51282793906518,36104.01815515566,1015.7909259259254]
["2009-11-22",0,0,0,11,6.0000000000000005E-2,4.2375000000000003E-2,23.478888888888889,{"$f":"'RWH Calculator'!$C$56","v":0},23.478888888888889,474.03393905017629,0,23.478888888888889,0,474.03393905017629,36127.497044044547,1039.2698148148143]
["2009-11-23",0,0,0,11,6.0000000000000005E-2,4.2375000000000003E-2,23.478888888888889,{"$f":"'RWH Calculator'!$C$56","v":0},23.478888888888889,450.5550501612874,0,23.478888888888889,0,450.5550501612874,36150.975932933434,1062.7487037037031]
["2009-11-24",0,0,0,11,6.0000000000000005E-2,4.2375000000000003E-2,23.478888888888889,{"$f":"'RWH Calculator'!$C$56","v":0},23.478888888888889,427.07616127239851,0,23.478888888888889,0,427.07616127239851,36174.454821822321,1086.2275925925919]
["2009-11-25",0,0,0,11,6.0000000000000005E-2,4.2375000000000003E-2,23.478888888888889,{"$f":"'RWH Calculator'!$C$56","v":0},23.478888888888889,403.59727238350962,0,23.478888888888889,0,403.59727238350962,36197.933710711208,1109.7064814814808]
["2009-11-26",0,0,0,11,6.0000000000000005E-2,4.2375000000000003E-2,23.478888888888889,{"$f":"'RWH Calculator'!$C$56","v":0},23.478888888888889,380.11838349462073,0,23.478888888888889,0,380.11838349462073,36221.412599600095,1133.1853703703696]
["2009-11-27",0.01,6.3580000000000014,6.3580000000000014,11,6.0000000000000005E-2,4.2375000000000003E-2,17.938148148148152,{"$f":"'RWH Calculator'!$C$56","v":0},17.938148148148152,368.53823534647256,6.3580000000000014,17.938148148148152,0,368.53823534647256,36239.350747748242,1151.1235185185178]
["2009-11-28",0,0,0,11,6.0000000000000005E-2,4.2375000000000003E-2,23.478888888888889,{"$f":"'RWH Calculator'!$C$56","v":0},23.478888888888889,345.05934645758367,0,23.478888888888889,0,345.05934645758367,36262.829636637129,1174.6024074074066]
["2009-11-29",0,0,0,11,6.0000000000000005E-2,4.2375000000000003E-2,23.478888888888889,{"$f":"'RWH Calculator'!$C$56","v":0},23.478888888888889,321.58045756869478,0,23.478888888888889,0,321.58045756869478,36286.308525526016,1198.0812962962955]
["2009-11-30",0,0,0,11,6.0000000000000005E-2,4.2375000000000003E-2,23.478888888888889,{"$f":"'RWH Calculator'!$C$56","v":0},23.478888888888889,298.10156867980589,0,23.478888888888889,0,298.10156867980589,36309.787414414903,1221.5601851851843]
["2009-12-01",0,0,0,12,0.04,2.8250000000000001E-2,15.652592592592596,{"$f":"'RWH Calculator'!$C$56","v":0},15.652592592592596,282.44897608721328,0,15.652592592592596,0,282.44897608721328,36325.440007007499,1237.2127777777769]
["2009-12-02",0,0,0,12,0.04,2.8250000000000001E-2,15.652592592592596,{"$f":"'RWH Calculator'!$C$56","v":0},15.652592592592596,266.79638349462067,0,15.652592592592596,0,266.79638349462067,36341.092599600095,1252.8653703703694]
["2009-12-03",0,0,0,12,0.04,2.8250000000000001E-2,15.652592592592596,{"$f":"'RWH Calculator'!$C$56","v":0},15.652592592592596,251.14379090202809,0,15.652592592592596,0,251.14379090202809,36356.745192192691,1268.517962962962]
["2009-12-04",0,0,0,12,0.04,2.8250000000000001E-2,15.652592592592596,{"$f":"'RWH Calculator'!$C$56","v":0},15.652592592592596,235.4911983094355,0,15.652592592592596,0,235.4911983094355,36372.397784785288,1284.1705555555545]
["2009-12-05",0,0,0,12,0.04,2.8250000000000001E-2,15.652592592592596,{"$f":"'RWH Calculator'!$C$56","v":0},15.652592592592596,219.83860571684292,0,15.652592592592596,0,219.83860571684292,36388.050377377884,1299.8231481481471]
["2009-12-06",0.22,139.876,139.876,12,0.04,2.8250000000000001E-2,0,{"$f":"'RWH Calculator'!$C$56","v":0},0,359.71460571684293,139.876,0,0,359.71460571684293,36388.050377377884,{"$f":"M3272+Q3271","v":1299.8231481481471}]
["2009-12-07",0.33,209.81400000000002,209.81400000000002,12,0.04,2.8250000000000001E-2,0,{"$f":"'RWH Calculator'!$C$56","v":0},0,569.528605716843,209.81400000000008,0,-5.6843418860808015E-14,569.528605716843,36388.050377377884,1299.8231481481471]
["2009-12-08",0,0,0,12,0.04,2.8250000000000001E-2,15.652592592592596,{"$f":"'RWH Calculator'!$C$56","v":0},15.652592592592596,553.87601312425045,0,15.652592592592596,0,553.87601312425045,36403.70296997048,1315.4757407407396]
["2009-12-09",0,0,0,12,{"$f":"IF($B$2=\"Western SF\", VLOOKUP(E3275,$R$6:$U$17, 4),VLOOKUP(E3275, $R$6:$V$17,5))","v":0.04},2.8250000000000001E-2,15.652592592592596,{"$f":"'RWH Calculator'!$C$56","v":0},15.652592592592596,538.22342053165789,0,15.652592592592596,0,538.22342053165789,36419.355562563076,1331.1283333333322]
["2009-12-10",0.04,25.432000000000006,25.432000000000006,{"$f":"MONTH(A3276)","v":12},0.04,{"$f":"F3276*$B$6","v":2.8250000000000001E-2},0,{"$f":"'RWH Calculator'!$C$56","v":0},{"$f":"H3276+I3276","v":0},563.65542053165791,25.432000000000016,0,-1.0658141036401503E-14,563.65542053165791,36419.355562563076,1331.1283333333322]
["2009-12-11",0.56000000000000005,{"$f":"$B$3*$B$4*(B3277/12)*7.48","v":356.04800000000006},{"$f":"C3277","v":356.04800000000006},12,0.04,2.8250000000000001E-2,{"$f":"(IF(G3277-B3277>0,(G3277-B3277)/$B$7,0)/12*7.48)*$B$8","v":0},{"$f":"'RWH Calculator'!$C$56","v":0},0,{"$f":"IF(O3277<0, 0, IF(O3277>$H$2, $H$2, O3277))","v":919.70342053165791},{"$f":"IF(J3277>D3277,D3277, K3277-K3276+J3277)","v":356.048},{"$f":"IF(D3277+K3276>J3277,J3277, D3277+K3276)","v":0},{"$f":"IF(C3277>J3277, C3277-J3277-(K3277-K3276),0)","v":5.6843418860808015E-14},{"$f":"K3276+D3277-J3277","v":919.70342053165791},{"$f":"M3277+P3276","v":36419.355562563076},1331.1283333333322]
["2009-12-12",0.46,292.46800000000002,292.46800000000002,12,0.04,2.8250000000000001E-2,0,{"$f":"'RWH Calculator'!$C$56","v":0},0,1057.4600871983243,137.75666666666643,0,154.71133333333358,1212.171420531658,36419.355562563076,1331.1283333333322]
["2009-12-13",0.21000000000000002,133.51800000000003,133.51800000000003,12,0.04,2.8250000000000001E-2,0,{"$f":"'RWH Calculator'!$C$56","v":0},0,1057.4600871983243,0,0,133.51800000000003,1190.9780871983244,36419.355562563076,1331.1283333333322]
["2009-12-14",0,0,0,12,0.04,2.8250000000000001E-2,15.652592592592596,{"$f":"'RWH Calculator'!$C$56","v":0},15.652592592592596,1041.8074946057318,0,15.652592592592596,0,1041.8074946057318,36435.008155155672,1346.7809259259247]
["2009-12-15",0,0,0,12,0.04,2.8250000000000001E-2,15.652592592592596,{"$f":"'RWH Calculator'!$C$56","v":0},15.652592592592596,1026.1549020131392,0,15.652592592592596,0,1026.1549020131392,36450.660747748268,1362.4335185185173]
["2009-12-16",0.23,146.23400000000001,146.23400000000001,12,0.04,2.8250000000000001E-2,0,{"$f":"'RWH Calculator'!$C$56","v":0},0,1057.4600871983243,31.30518518518511,0,114.9288148148149,1172.3889020131392,36450.660747748268,1362.4335185185173]
["2009-12-17",0,0,0,12,0.04,2.8250000000000001E-2,15.652592592592596,{"$f":"'RWH Calculator'!$C$56","v":0},15.652592592592596,1041.8074946057318,0,15.652592592592596,0,1041.8074946057318,36466.313340340865,1378.0861111111099]
["2009-12-18",0,0,0,12,0.04,2.8250000000000001E-2,15.652592592592596,{"$f":"'RWH Calculator'!$C$56","v":0},15.652592592592596,1026.1549020131392,0,15.652592592592596,0,1026.1549020131392,36481.965932933461,1393.7387037037024]
["2009-12-19",0,0,0,12,0.04,2.8250000000000001E-2,15.652592592592596,{"$f":"'RWH Calculator'!$C$56","v":0},15.652592592592596,1010.5023094205467,0,15.652592592592596,0,1010.5023094205467,36497.618525526057,1409.391296296295]
["2009-12-20",0.02,12.716000000000003,12.716000000000003,12,0.04,2.8250000000000001E-2,4.5711111111111116,{"$f":"'RWH Calculator'!$C$56","v":0},4.5711111111111116,1018.6471983094356,12.715999999999998,4.5711111111111116,5.3290705182007514E-15,1018.6471983094356,36502.189636637166,1413.9624074074061]
["2009-12-21",0.16,101.72800000000002,101.72800000000002,12,0.04,2.8250000000000001E-2,0,{"$f":"'RWH Calculator'!$C$56","v":0},0,1057.4600871983243,38.812888888888779,0,62.915111111111244,1120.3751983094355,36502.189636637166,1413.9624074074061]
["2009-12-22",0,0,0,12,0.04,2.8250000000000001E-2,15.652592592592596,{"$f":"'RWH Calculator'!$C$56","v":0},15.652592592592596,1041.8074946057318,0,15.652592592592596,0,1041.8074946057318,36517.842229229762,1429.6149999999986]
["2009-12-23",0,0,0,12,0.04,2.8250000000000001E-2,15.652592592592596,{"$f":"'RWH Calculator'!$C$56","v":0},15.652592592592596,1026.1549020131392,0,15.652592592592596,0,1026.1549020131392,36533.494821822358,1445.2675925925912]
["2009-12-24",0,0,0,12,0.04,2.8250000000000001E-2,15.652592592592596,{"$f":"'RWH Calculator'!$C$56","v":0},15.652592592592596,1010.5023094205467,0,15.652592592592596,0,1010.5023094205467,36549.147414414954,1460.9201851851838]
["2009-12-25",0,0,0,12,0.04,2.8250000000000001E-2,15.652592592592596,{"$f":"'RWH Calculator'!$C$56","v":0},15.652592592592596,994.84971682795413,0,15.652592592592596,0,994.84971682795413,36564.80000700755,1476.5727777777763]
["2009-12-26",0.33,209.81400000000002,209.81400000000002,12,0.04,2.8250000000000001E-2,0,{"$f":"'RWH Calculator'!$C$56","v":0},0,1057.4600871983243,62.610370370370219,0,147.2036296296298,1204.6637168279542,36564.80000700755,1476.5727777777763]
["2009-12-27",0.09,57.222000000000001,57.222000000000001,12,0.04,2.8250000000000001E-2,0,{"$f":"'RWH Calculator'!$C$56","v":0},0,1057.4600871983243,0,0,57.222000000000001,1114.6820871983243,36564.80000700755,1476.5727777777763]
["2009-12-28",0,0,0,12,0.04,2.8250000000000001E-2,15.652592592592596,{"$f":"'RWH Calculator'!$C$56","v":0},15.652592592592596,1041.8074946057318,0,15.652592592592596,0,1041.8074946057318,36580.452599600147,1492.2253703703689]
["2009-12-29",0.11,69.938000000000002,69.938000000000002,12,0.04,2.8250000000000001E-2,0,{"$f":"'RWH Calculator'!$C$56","v":0},0,1057.4600871983243,15.652592592592555,0,54.285407407407448,1111.7454946057319,36580.452599600147,1492.2253703703689]
["2009-12-30",0.01,6.3580000000000014,6.3580000000000014,12,0.04,2.8250000000000001E-2,10.111851851851855,{"$f":"'RWH Calculator'!$C$56","v":0},10.111851851851855,1053.7062353464723,6.3580000000000014,10.111851851851855,0,1053.7062353464723,36590.564451451995,1502.3372222222208]
["2009-12-31",0,0,0,12,0.04,2.8250000000000001E-2,15.652592592592596,{"$f":"'RWH Calculator'!$C$56","v":0},15.652592592592596,1038.0536427538798,0,15.652592592592596,0,1038.0536427538798,36606.217044044592,1517.9898148148134]
["2010-01-01",0.05,31.790000000000003,31.790000000000003,1,0.04,2.8250000000000001E-2,0,{"$f":"'RWH Calculator'!$C$56","v":0},0,1057.4600871983243,19.40644444444456,0,12.383555555555443,1069.8436427538797,36606.217044044592,1517.9898148148134]
["2010-01-02",0.01,6.3580000000000014,6.3580000000000014,1,0.04,2.8250000000000001E-2,10.111851851851855,{"$f":"'RWH Calculator'!$C$56","v":0},10.111851851851855,1053.7062353464723,6.3580000000000014,10.111851851851855,0,1053.7062353464723,36616.32889589644,1528.1016666666653]
["2010-01-03",0,0,0,1,0.04,2.8250000000000001E-2,15.652592592592596,{"$f":"'RWH Calculator'!$C$56","v":0},15.652592592592596,1038.0536427538798,0,15.652592592592596,0,1038.0536427538798,36631.981488489037,1543.7542592592579]
["2010-01-04",0,0,0,1,0.04,2.8250000000000001E-2,15.652592592592596,{"$f":"'RWH Calculator'!$C$56","v":0},15.652592592592596,1022.4010501612872,0,15.652592592592596,0,1022.4010501612872,36647.634081081633,1559.4068518518504]
["2010-01-05",0,0,0,1,0.04,2.8250000000000001E-2,15.652592592592596,{"$f":"'RWH Calculator'!$C$56","v":0},15.652592592592596,1006.7484575686947,0,15.652592592592596,0,1006.7484575686947,36663.286673674229,1575.059444444443]
["2010-01-06",0,0,0,1,0.04,2.8250000000000001E-2,15.652592592592596,{"$f":"'RWH Calculator'!$C$56","v":0},15.652592592592596,991.09586497610212,0,15.652592592592596,0,991.09586497610212,36678.939266266825,1590.7120370370355]
["2010-01-07",0,0,0,1,0.04,2.8250000000000001E-2,15.652592592592596,{"$f":"'RWH Calculator'!$C$56","v":0},15.652592592592596,975.44327238350957,0,15.652592592592596,0,975.44327238350957,36694.591858859421,1606.3646296296281]
["2010-01-08",0,0,0,1,0.04,2.8250000000000001E-2,15.652592592592596,{"$f":"'RWH Calculator'!$C$56","v":0},15.652592592592596,959.79067979091701,0,15.652592592592596,0,959.79067979091701,36710.244451452018,1622.0172222222207]
["2010-01-09",0,0,0,1,0.04,2.8250000000000001E-2,15.652592592592596,{"$f":"'RWH Calculator'!$C$56","v":0},15.652592592592596,944.13808719832446,0,15.652592592592596,0,944.13808719832446,36725.897044044614,1637.6698148148132]
["2010-01-10",0,0,0,1,0.04,2.8250000000000001E-2,15.652592592592596,{"$f":"'RWH Calculator'!$C$56","v":0},15.652592592592596,928.4854946057319,0,15.652592592592596,0,928.4854946057319,36741.54963663721,1653.3224074074058]
["2010-01-11",0,0,0,1,0.04,2.8250000000000001E-2,15.652592592592596,{"$f":"'RWH Calculator'!$C$56","v":0},15.652592592592596,912.83290201313935,0,15.652592592592596,0,912.83290201313935,36757.202229229806,1668.9749999999983]
["2010-01-12",0.30000000000000004,190.74000000000004,190.74000000000004,1,0.04,2.8250000000000001E-2,0,{"$f":"'RWH Calculator'!$C$56","v":0},0,1057.4600871983243,144.627185185185,0,46.112814814815039,1103.5729020131394,36757.202229229806,1668.9749999999983]
["2010-01-13",0.16,101.72800000000002,101.72800000000002,1,0.04,2.8250000000000001E-2,0,{"$f":"'RWH Calculator'!$C$56","v":0},0,1057.4600871983243,0,0,101.72800000000002,1159.1880871983244,36757.202229229806,1668.9749999999983]
["2010-01-14",0,0,0,1,0.04,2.8250000000000001E-2,15.652592592592596,{"$f":"'RWH Calculator'!$C$56","v":0},15.652592592592596,1041.8074946057318,0,15.652592592592596,0,1041.8074946057318,36772.854821822402,1684.6275925925909]
["2010-01-15",0,0,0,1,0.04,2.8250000000000001E-2,15.652592592592596,{"$f":"'RWH Calculator'!$C$56","v":0},15.652592592592596,1026.1549020131392,0,15.652592592592596,0,1026.1549020131392,36788.507414414998,1700.2801851851834]
["2010-01-16",0.12,76.296000000000006,76.296000000000006,1,0.04,2.8250000000000001E-2,0,{"$f":"'RWH Calculator'!$C$56","v":0},0,1057.4600871983243,31.30518518518511,0,44.990814814814897,1102.4509020131393,36788.507414414998,1700.2801851851834]
["2010-01-17",0.14000000000000001,89.012000000000015,89.012000000000015,1,0.04,2.8250000000000001E-2,0,{"$f":"'RWH Calculator'!$C$56","v":0},0,1057.4600871983243,0,0,89.012000000000015,1146.4720871983243,36788.507414414998,1700.2801851851834]
["2010-01-18",1.02,648.51600000000008,648.51600000000008,1,0.04,2.8250000000000001E-2,0,{"$f":"'RWH Calculator'!$C$56","v":0},0,1057.4600871983243,0,0,648.51600000000008,1705.9760871983244,36788.507414414998,1700.2801851851834]
["2010-01-19",1.24,788.39200000000005,788.39200000000005,1,0.04,2.8250000000000001E-2,0,{"$f":"'RWH Calculator'!$C$56","v":0},0,1057.4600871983243,0,0,788.39200000000005,1845.8520871983244,36788.507414414998,1700.2801851851834]
["2010-01-20",1.0299999999999998,654.87399999999991,654.87399999999991,1,0.04,2.8250000000000001E-2,0,{"$f":"'RWH Calculator'!$C$56","v":0},0,1057.4600871983243,0,0,654.87399999999991,1712.3340871983241,36788.507414414998,1700.2801851851834]
["2010-01-21",0.78,495.92400000000004,495.92400000000004,1,0.04,2.8250000000000001E-2,0,{"$f":"'RWH Calculator'!$C$56","v":0},0,1057.4600871983243,0,0,495.92400000000004,1553.3840871983243,36788.507414414998,1700.2801851851834]
["2010-01-22",0.25,158.95000000000002,158.95000000000002,1,0.04,2.8250000000000001E-2,0,{"$f":"'RWH Calculator'!$C$56","v":0},0,1057.4600871983243,0,0,158.95000000000002,1216.4100871983244,36788.507414414998,1700.2801851851834]
["2010-01-23",0.32,203.45600000000005,203.45600000000005,1,0.04,2.8250000000000001E-2,0,{"$f":"'RWH Calculator'!$C$56","v":0},0,1057.4600871983243,0,0,203.45600000000005,1260.9160871983245,36788.507414414998,1700.2801851851834]
["2010-01-24",0.02,12.716000000000003,12.716000000000003,1,0.04,2.8250000000000001E-2,4.5711111111111116,{"$f":"'RWH Calculator'!$C$56","v":0},4.5711111111111116,1057.4600871983243,4.5711111111111116,4.5711111111111116,8.1448888888888913,1065.6049760872131,36793.078525526107,1704.8512962962945]
["2010-01-25",0.67000000000000015,425.9860000000001,425.9860000000001,1,0.04,2.8250000000000001E-2,0,{"$f":"'RWH Calculator'!$C$56","v":0},0,1057.4600871983243,0,0,425.9860000000001,1483.4460871983244,36793.078525526107,1704.8512962962945]
["2010-01-26",0.19,120.80200000000002,120.80200000000002,1,0.04,2.8250000000000001E-2,0,{"$f":"'RWH Calculator'!$C$56","v":0},0,1057.4600871983243,0,0,120.80200000000002,1178.2620871983245,36793.078525526107,1704.8512962962945]
["2010-01-27",0,0,0,1,0.04,2.8250000000000001E-2,15.652592592592596,{"$f":"'RWH Calculator'!$C$56","v":0},15.652592592592596,1041.8074946057318,0,15.652592592592596,0,1041.8074946057318,36808.731118118703,1720.5038888888871]
["2010-01-28",0,0,0,1,0.04,2.8250000000000001E-2,15.652592592592596,{"$f":"'RWH Calculator'!$C$56","v":0},15.652592592592596,1026.1549020131392,0,15.652592592592596,0,1026.1549020131392,36824.383710711299,1736.1564814814797]
["2010-01-29",0.31,197.09800000000001,197.09800000000001,1,0.04,2.8250000000000001E-2,0,{"$f":"'RWH Calculator'!$C$56","v":0},0,1057.4600871983243,31.30518518518511,0,165.7928148148149,1223.2529020131392,36824.383710711299,1736.1564814814797]
["2010-01-30",0.05,31.790000000000003,31.790000000000003,1,0.04,2.8250000000000001E-2,0,{"$f":"'RWH Calculator'!$C$56","v":0},0,1057.4600871983243,0,0,31.790000000000003,1089.2500871983243,36824.383710711299,1736.1564814814797]
["2010-01-31",0,0,0,1,0.04,2.8250000000000001E-2,15.652592592592596,{"$f":"'RWH Calculator'!$C$56","v":0},15.652592592592596,1041.8074946057318,0,15.652592592592596,0,1041.8074946057318,36840.036303303896,1751.8090740740722]
["2010-02-01",0,0,0,2,0.06,4.2375000000000003E-2,23.478888888888889,{"$f":"'RWH Calculator'!$C$56","v":0},23.478888888888889,1018.328605716843,0,23.478888888888889,0,1018.328605716843,36863.515192192783,1775.287962962961]
["2010-02-02",0,0,0,2,0.06,4.2375000000000003E-2,23.478888888888889,{"$f":"'RWH Calculator'!$C$56","v":0},23.478888888888889,994.84971682795413,0,23.478888888888889,0,994.84971682795413,36886.99408108167,1798.7668518518499]
["2010-02-03",0,0,0,2,0.06,4.2375000000000003E-2,23.478888888888889,{"$f":"'RWH Calculator'!$C$56","v":0},23.478888888888889,971.37082793906529,0,23.478888888888889,0,971.37082793906529,36910.472969970557,1822.2457407407387]
["2010-02-04",0.39,247.96200000000002,247.96200000000002,2,0.06,4.2375000000000003E-2,0,{"$f":"'RWH Calculator'!$C$56","v":0},0,1057.4600871983243,86.089259259259052,0,161.87274074074097,1219.3328279390653,36910.472969970557,1822.2457407407387]
["2010-02-05",0,0,0,2,0.06,4.2375000000000003E-2,23.478888888888889,{"$f":"'RWH Calculator'!$C$56","v":0},23.478888888888889,1033.9811983094355,0,23.478888888888889,0,1033.9811983094355,36933.951858859444,1845.7246296296275]
["2010-02-06",0.49,311.54200000000003,311.54200000000003,2,0.06,4.2375000000000003E-2,0,{"$f":"'RWH Calculator'!$C$56","v":0},0,1057.4600871983243,23.478888888888832,0,288.0631111111112,1345.5231983094354,36933.951858859444,1845.7246296296275]
["2010-02-07",0,0,0,2,0.06,4.2375000000000003E-2,23.478888888888889,{"$f":"'RWH Calculator'!$C$56","v":0},23.478888888888889,1033.9811983094355,0,23.478888888888889,0,1033.9811983094355,36957.430747748331,1869.2035185185164]
["2010-02-08",0.04,25.432000000000006,25.432000000000006,2,0.06,4.2375000000000003E-2,1.3159259259259271,{"$f":"'RWH Calculator'!$C$56","v":0},1.3159259259259271,1057.4600871983243,24.79481481481476,1.3159259259259271,0.63718518518524547,1058.0972723835096,36958.746673674257,{"$f":"M3336+Q3335","v":1870.5194444444423}]
["2010-02-09",0.22,139.876,139.876,2,0.06,4.2375000000000003E-2,0,{"$f":"'RWH Calculator'!$C$56","v":0},0,1057.4600871983243,0,0,139.876,1197.3360871983243,36958.746673674257,1870.5194444444423]
["2010-02-10",0,0,0,2,0.06,4.2375000000000003E-2,23.478888888888889,{"$f":"'RWH Calculator'!$C$56","v":0},23.478888888888889,1033.9811983094355,0,23.478888888888889,0,1033.9811983094355,36982.225562563144,1893.9983333333312]
["2010-02-11",0.01,6.3580000000000014,6.3580000000000014,2,{"$f":"IF($B$2=\"Western SF\", VLOOKUP(E3339,$R$6:$U$17, 4),VLOOKUP(E3339, $R$6:$V$17,5))","v":0.06},4.2375000000000003E-2,17.938148148148152,{"$f":"'RWH Calculator'!$C$56","v":0},17.938148148148152,1022.4010501612873,6.3580000000000014,17.938148148148152,0,1022.4010501612873,37000.163710711291,1911.9364814814794]
["2010-02-12",0.1,63.580000000000005,63.580000000000005,{"$f":"MONTH(A3340)","v":2},0.06,{"$f":"F3340*$B$6","v":4.2375000000000003E-2},0,{"$f":"'RWH Calculator'!$C$56","v":0},{"$f":"H3340+I3340","v":0},1057.4600871983243,35.059037037037001,0,28.520962962963004,1085.9810501612874,37000.163710711291,1911.9364814814794]
["2010-02-13",0,{"$f":"$B$3*$B$4*(B3341/12)*7.48","v":0},{"$f":"C3341","v":0},2,0.06,4.2375000000000003E-2,{"$f":"(IF(G3341-B3341>0,(G3341-B3341)/$B$7,0)/12*7.48)*$B$8","v":23.478888888888889},{"$f":"'RWH Calculator'!$C$56","v":0},23.478888888888889,{"$f":"IF(O3341<0, 0, IF(O3341>$H$2, $H$2, O3341))","v":1033.9811983094355},{"$f":"IF(J3341>D3341,D3341, K3341-K3340+J3341)","v":0},{"$f":"IF(D3341+K3340>J3341,J3341, D3341+K3340)","v":23.478888888888889},{"$f":"IF(C3341>J3341, C3341-J3341-(K3341-K3340),0)","v":0},{"$f":"K3340+D3341-J3341","v":1033.9811983094355},{"$f":"M3341+P3340","v":37023.642599600178},1935.4153703703682]
["2010-02-14",0,0,0,2,0.06,4.2375000000000003E-2,23.478888888888889,{"$f":"'RWH Calculator'!$C$56","v":0},23.478888888888889,1010.5023094205467,0,23.478888888888889,0,1010.5023094205467,37047.121488489065,1958.8942592592571]
["2010-02-15",0,0,0,2,0.06,4.2375000000000003E-2,23.478888888888889,{"$f":"'RWH Calculator'!$C$56","v":0},23.478888888888889,987.02342053165785,0,23.478888888888889,0,987.02342053165785,37070.600377377952,1982.3731481481459]
["2010-02-16",0,0,0,2,0.06,4.2375000000000003E-2,23.478888888888889,{"$f":"'RWH Calculator'!$C$56","v":0},23.478888888888889,963.54453164276902,0,23.478888888888889,0,963.54453164276902,37094.079266266839,2005.8520370370347]
["2010-02-17",0,0,0,2,0.06,4.2375000000000003E-2,23.478888888888889,{"$f":"'RWH Calculator'!$C$56","v":0},23.478888888888889,940.06564275388018,0,23.478888888888889,0,940.06564275388018,37117.558155155726,2029.3309259259236]
["2010-02-18",0,0,0,2,0.06,4.2375000000000003E-2,23.478888888888889,{"$f":"'RWH Calculator'!$C$56","v":0},23.478888888888889,916.58675386499135,0,23.478888888888889,0,916.58675386499135,37141.037044044613,2052.8098148148124]
["2010-02-19",0,0,0,2,0.06,4.2375000000000003E-2,23.478888888888889,{"$f":"'RWH Calculator'!$C$56","v":0},23.478888888888889,893.10786497610252,0,23.478888888888889,0,893.10786497610252,37164.5159329335,2076.2887037037012]
["2010-02-20",0,0,0,2,0.06,4.2375000000000003E-2,23.478888888888889,{"$f":"'RWH Calculator'!$C$56","v":0},23.478888888888889,869.62897608721369,0,23.478888888888889,0,869.62897608721369,37187.994821822387,2099.7675925925901]
["2010-02-21",0.56999999999999995,362.40600000000001,362.40600000000001,2,0.06,4.2375000000000003E-2,0,{"$f":"'RWH Calculator'!$C$56","v":0},0,1057.4600871983243,187.83111111111066,0,174.57488888888935,1232.0349760872136,37187.994821822387,2099.7675925925901]
["2010-02-22",0,0,0,2,0.06,4.2375000000000003E-2,23.478888888888889,{"$f":"'RWH Calculator'!$C$56","v":0},23.478888888888889,1033.9811983094355,0,23.478888888888889,0,1033.9811983094355,37211.473710711274,2123.2464814814789]
["2010-02-23",0.99,629.44200000000012,629.44200000000012,2,0.06,4.2375000000000003E-2,0,{"$f":"'RWH Calculator'!$C$56","v":0},0,1057.4600871983243,23.478888888888832,0,605.96311111111129,1663.4231983094355,37211.473710711274,2123.2464814814789]
["2010-02-24",0.10999999999999999,69.937999999999988,69.937999999999988,2,0.06,4.2375000000000003E-2,0,{"$f":"'RWH Calculator'!$C$56","v":0},0,1057.4600871983243,0,0,69.937999999999988,1127.3980871983244,37211.473710711274,2123.2464814814789]
["2010-02-25",0,0,0,2,0.06,4.2375000000000003E-2,23.478888888888889,{"$f":"'RWH Calculator'!$C$56","v":0},23.478888888888889,1033.9811983094355,0,23.478888888888889,0,1033.9811983094355,37234.952599600161,2146.7253703703677]
["2010-02-26",0.29000000000000004,184.38200000000003,184.38200000000003,2,0.06,4.2375000000000003E-2,0,{"$f":"'RWH Calculator'!$C$56","v":0},0,1057.4600871983243,23.478888888888832,0,160.9031111111112,1218.3631983094356,37234.952599600161,2146.7253703703677]
["2010-02-27",0.21,133.518,133.518,2,0.06,4.2375000000000003E-2,0,{"$f":"'RWH Calculator'!$C$56","v":0},0,1057.4600871983243,0,0,133.518,1190.9780871983244,37234.952599600161,2146.7253703703677]
["2010-02-28",0,0,0,2,0.06,4.2375000000000003E-2,23.478888888888889,{"$f":"'RWH Calculator'!$C$56","v":0},23.478888888888889,1033.9811983094355,0,23.478888888888889,0,1033.9811983094355,37258.431488489048,2170.2042592592566]
["2010-03-01",0,0,0,3,0.1,7.0625000000000007E-2,39.131481481481487,{"$f":"'RWH Calculator'!$C$56","v":0},39.131481481481487,994.84971682795401,0,39.131481481481487,0,994.84971682795401,37297.562969970531,2209.3357407407379]
["2010-03-02",0.46,292.46800000000002,292.46800000000002,3,0.1,7.0625000000000007E-2,0,{"$f":"'RWH Calculator'!$C$56","v":0},0,1057.4600871983243,62.610370370370333,0,229.85762962962968,1287.317716827954,37297.562969970531,2209.3357407407379]
["2010-03-03",0.77,489.56600000000003,489.56600000000003,3,0.1,7.0625000000000007E-2,0,{"$f":"'RWH Calculator'!$C$56","v":0},0,1057.4600871983243,0,0,489.56600000000003,1547.0260871983244,37297.562969970531,2209.3357407407379]
["2010-03-04",0,0,0,3,0.1,7.0625000000000007E-2,39.131481481481487,{"$f":"'RWH Calculator'!$C$56","v":0},39.131481481481487,1018.3286057168428,0,39.131481481481487,0,1018.3286057168428,37336.694451452015,2248.4672222222193]
["2010-03-05",0,0,0,3,0.1,7.0625000000000007E-2,39.131481481481487,{"$f":"'RWH Calculator'!$C$56","v":0},39.131481481481487,979.19712423536134,0,39.131481481481487,0,979.19712423536134,37375.825932933498,2287.5987037037007]
["2010-03-06",0,0,0,3,0.1,7.0625000000000007E-2,39.131481481481487,{"$f":"'RWH Calculator'!$C$56","v":0},39.131481481481487,940.06564275387984,0,39.131481481481487,0,940.06564275387984,37414.957414414981,2326.7301851851821]
["2010-03-07",0,0,0,3,0.1,7.0625000000000007E-2,39.131481481481487,{"$f":"'RWH Calculator'!$C$56","v":0},39.131481481481487,900.93416127239834,0,39.131481481481487,0,900.93416127239834,37454.088895896464,2365.8616666666635]
["2010-03-08",0.14000000000000001,89.012000000000015,89.012000000000015,3,0.1,7.0625000000000007E-2,0,{"$f":"'RWH Calculator'!$C$56","v":0},0,989.9461612723984,89.012000000000057,0,-4.2632564145606011E-14,989.9461612723984,37454.088895896464,2365.8616666666635]
["2010-03-09",0,0,0,3,0.1,7.0625000000000007E-2,39.131481481481487,{"$f":"'RWH Calculator'!$C$56","v":0},39.131481481481487,950.8146797909169,0,39.131481481481487,0,950.8146797909169,37493.220377377947,2404.9931481481449]
["2010-03-10",7.0000000000000007E-2,44.506000000000007,44.506000000000007,3,0.1,7.0625000000000007E-2,0.34629629629629666,{"$f":"'RWH Calculator'!$C$56","v":0},0.34629629629629666,994.97438349462061,44.506000000000007,0.34629629629629666,0,994.97438349462061,37493.566673674242,2405.3394444444411]
["2010-03-11",0,0,0,3,0.1,7.0625000000000007E-2,39.131481481481487,{"$f":"'RWH Calculator'!$C$56","v":0},39.131481481481487,955.84290201313911,0,39.131481481481487,0,955.84290201313911,37532.698155155726,2444.4709259259225]
["2010-03-12",0.5,317.90000000000003,317.90000000000003,3,0.1,7.0625000000000007E-2,0,{"$f":"'RWH Calculator'!$C$56","v":0},0,1057.4600871983243,101.61718518518524,0,216.2828148148148,1273.7429020131392,37532.698155155726,2444.4709259259225]
["2010-03-13",0,0,0,3,0.1,7.0625000000000007E-2,39.131481481481487,{"$f":"'RWH Calculator'!$C$56","v":0},39.131481481481487,1018.3286057168428,0,39.131481481481487,0,1018.3286057168428,37571.829636637209,2483.6024074074039]
["2010-03-14",0,0,0,3,0.1,7.0625000000000007E-2,39.131481481481487,{"$f":"'RWH Calculator'!$C$56","v":0},39.131481481481487,979.19712423536134,0,39.131481481481487,0,979.19712423536134,37610.961118118692,2522.7338888888853]
["2010-03-15",0,0,0,3,0.1,7.0625000000000007E-2,39.131481481481487,{"$f":"'RWH Calculator'!$C$56","v":0},39.131481481481487,940.06564275387984,0,39.131481481481487,0,940.06564275387984,37650.092599600175,2561.8653703703667]
["2010-03-16",0,0,0,3,0.1,7.0625000000000007E-2,39.131481481481487,{"$f":"'RWH Calculator'!$C$56","v":0},39.131481481481487,900.93416127239834,0,39.131481481481487,0,900.93416127239834,37689.224081081658,2600.9968518518481]
["2010-03-17",0,0,0,3,0.1,7.0625000000000007E-2,39.131481481481487,{"$f":"'RWH Calculator'!$C$56","v":0},39.131481481481487,861.80267979091684,0,39.131481481481487,0,861.80267979091684,37728.355562563142,2640.1283333333295]
["2010-03-18",0,0,0,3,0.1,7.0625000000000007E-2,39.131481481481487,{"$f":"'RWH Calculator'!$C$56","v":0},39.131481481481487,822.67119830943534,0,39.131481481481487,0,822.67119830943534,37767.487044044625,2679.2598148148109]
["2010-03-19",0,0,0,3,0.1,7.0625000000000007E-2,39.131481481481487,{"$f":"'RWH Calculator'!$C$56","v":0},39.131481481481487,783.53971682795384,0,39.131481481481487,0,783.53971682795384,37806.618525526108,2718.3912962962922]
["2010-03-20",0,0,0,3,0.1,7.0625000000000007E-2,39.131481481481487,{"$f":"'RWH Calculator'!$C$56","v":0},39.131481481481487,744.40823534647234,0,39.131481481481487,0,744.40823534647234,37845.750007007591,2757.5227777777736]
["2010-03-21",0,0,0,3,0.1,7.0625000000000007E-2,39.131481481481487,{"$f":"'RWH Calculator'!$C$56","v":0},39.131481481481487,705.27675386499084,0,39.131481481481487,0,705.27675386499084,37884.881488489074,2796.654259259255]
["2010-03-22",0,0,0,3,0.1,7.0625000000000007E-2,39.131481481481487,{"$f":"'RWH Calculator'!$C$56","v":0},39.131481481481487,666.14527238350934,0,39.131481481481487,0,666.14527238350934,37924.012969970558,2835.7857407407364]
["2010-03-23",0,0,0,3,0.1,7.0625000000000007E-2,39.131481481481487,{"$f":"'RWH Calculator'!$C$56","v":0},39.131481481481487,627.01379090202784,0,39.131481481481487,0,627.01379090202784,37963.144451452041,2874.9172222222178]
["2010-03-24",0.05,31.790000000000003,31.790000000000003,3,0.1,7.0625000000000007E-2,11.427777777777781,{"$f":"'RWH Calculator'!$C$56","v":0},11.427777777777781,647.37601312424999,31.789999999999939,11.427777777777781,6.3948846218409017E-14,647.37601312424999,37974.572229229816,2886.3449999999957]
["2010-03-25",6.0000000000000005E-2,38.148000000000003,38.148000000000003,3,0.1,7.0625000000000007E-2,5.8870370370370395,{"$f":"'RWH Calculator'!$C$56","v":0},5.8870370370370395,679.63697608721293,38.147999999999975,5.8870370370370395,2.8421709430404007E-14,679.63697608721293,37980.459266266851,2892.2320370370326]
["2010-03-26",0,0,0,3,0.1,7.0625000000000007E-2,39.131481481481487,{"$f":"'RWH Calculator'!$C$56","v":0},39.131481481481487,640.50549460573143,0,39.131481481481487,0,640.50549460573143,38019.590747748334,2931.363518518514]
["2010-03-27",0,0,0,3,0.1,7.0625000000000007E-2,39.131481481481487,{"$f":"'RWH Calculator'!$C$56","v":0},39.131481481481487,601.37401312424993,0,39.131481481481487,0,601.37401312424993,38058.722229229817,2970.4949999999953]
["2010-03-28",0,0,0,3,0.1,7.0625000000000007E-2,39.131481481481487,{"$f":"'RWH Calculator'!$C$56","v":0},39.131481481481487,562.24253164276843,0,39.131481481481487,0,562.24253164276843,38097.853710711301,3009.6264814814767]
["2010-03-29",0.04,25.432000000000006,25.432000000000006,3,0.1,7.0625000000000007E-2,16.968518518518522,{"$f":"'RWH Calculator'!$C$56","v":0},16.968518518518522,570.70601312424992,25.432000000000016,16.968518518518522,-1.0658141036401503E-14,570.70601312424992,38114.822229229816,3026.5949999999953]
["2010-03-30",0.18,114.444,114.444,3,0.1,7.0625000000000007E-2,0,{"$f":"'RWH Calculator'!$C$56","v":0},0,685.15001312424988,114.44399999999996,0,4.2632564145606011E-14,685.15001312424988,38114.822229229816,3026.5949999999953]
["2010-03-31",0.52,330.61600000000004,330.61600000000004,3,0.1,7.0625000000000007E-2,0,{"$f":"'RWH Calculator'!$C$56","v":0},0,1015.7660131242499,330.61599999999999,0,5.6843418860808015E-14,1015.7660131242499,38114.822229229816,3026.5949999999953]
["2010-04-01",0,0,0,4,0.13,9.1812500000000005E-2,50.870925925925924,{"$f":"'RWH Calculator'!$C$56","v":0},50.870925925925924,964.89508719832395,0,50.870925925925924,0,964.89508719832395,38165.693155155743,3077.4659259259211]
["2010-04-02",0.14000000000000001,89.012000000000015,89.012000000000015,4,0.13,9.1812500000000005E-2,0,{"$f":"'RWH Calculator'!$C$56","v":0},0,1053.907087198324,89.012000000000057,0,-4.2632564145606011E-14,1053.907087198324,38165.693155155743,3077.4659259259211]
["2010-04-03",0,0,0,4,0.13,9.1812500000000005E-2,50.870925925925924,{"$f":"'RWH Calculator'!$C$56","v":0},50.870925925925924,1003.0361612723981,0,50.870925925925924,0,1003.0361612723981,38216.564081081669,3128.3368518518469]
["2010-04-04",0.74,470.49200000000002,470.49200000000002,4,0.13,9.1812500000000005E-2,0,{"$f":"'RWH Calculator'!$C$56","v":0},0,1057.4600871983243,54.423925925926255,0,416.06807407407376,1473.5281612723982,38216.564081081669,3128.3368518518469]
["2010-04-05",0.2,127.16000000000001,127.16000000000001,4,0.13,9.1812500000000005E-2,0,{"$f":"'RWH Calculator'!$C$56","v":0},0,1057.4600871983243,0,0,127.16000000000001,1184.6200871983244,38216.564081081669,3128.3368518518469]
["2010-04-06",0,0,0,4,0.13,9.1812500000000005E-2,50.870925925925924,{"$f":"'RWH Calculator'!$C$56","v":0},50.870925925925924,1006.5891612723984,0,50.870925925925924,0,1006.5891612723984,38267.435007007596,3179.2077777777727]
["2010-04-07",0,0,0,4,0.13,9.1812500000000005E-2,50.870925925925924,{"$f":"'RWH Calculator'!$C$56","v":0},50.870925925925924,955.71823534647251,0,50.870925925925924,0,955.71823534647251,38318.305932933523,3230.0787037036985]
["2010-04-08",0,0,0,4,0.13,9.1812500000000005E-2,50.870925925925924,{"$f":"'RWH Calculator'!$C$56","v":0},50.870925925925924,904.84730942054659,0,50.870925925925924,0,904.84730942054659,38369.17685885945,3280.9496296296243]
["2010-04-09",0,0,0,4,0.13,9.1812500000000005E-2,50.870925925925924,{"$f":"'RWH Calculator'!$C$56","v":0},50.870925925925924,853.97638349462068,0,50.870925925925924,0,853.97638349462068,38420.047784785376,3331.8205555555501]
["2010-04-10",0,0,0,4,0.13,9.1812500000000005E-2,50.870925925925924,{"$f":"'RWH Calculator'!$C$56","v":0},50.870925925925924,803.10545756869476,0,50.870925925925924,0,803.10545756869476,38470.918710711303,3382.6914814814759]
["2010-04-11",1.07,680.30600000000004,680.30600000000004,4,0.13,9.1812500000000005E-2,0,{"$f":"'RWH Calculator'!$C$56","v":0},0,1057.4600871983243,254.35462962962958,0,425.95137037037046,1483.4114575686949,38470.918710711303,3382.6914814814759]
["2010-04-12",0.44000000000000006,279.75200000000007,279.75200000000007,4,0.13,9.1812500000000005E-2,0,{"$f":"'RWH Calculator'!$C$56","v":0},0,1057.4600871983243,0,0,279.75200000000007,1337.2120871983243,38470.918710711303,3382.6914814814759]
["2010-04-13",0,0,0,4,0.13,9.1812500000000005E-2,50.870925925925924,{"$f":"'RWH Calculator'!$C$56","v":0},50.870925925925924,1006.5891612723984,0,50.870925925925924,0,1006.5891612723984,38521.78963663723,{"$f":"M3400+Q3399","v":3433.5624074074017}]
["2010-04-14",0,0,0,4,0.13,9.1812500000000005E-2,50.870925925925924,{"$f":"'RWH Calculator'!$C$56","v":0},50.870925925925924,955.71823534647251,0,50.870925925925924,0,955.71823534647251,38572.660562563156,3484.4333333333275]
["2010-04-15",0,0,0,4,0.13,9.1812500000000005E-2,50.870925925925924,{"$f":"'RWH Calculator'!$C$56","v":0},50.870925925925924,904.84730942054659,0,50.870925925925924,0,904.84730942054659,38623.531488489083,3535.3042592592533]
["2010-04-16",0,0,0,4,{"$f":"IF($B$2=\"Western SF\", VLOOKUP(E3403,$R$6:$U$17, 4),VLOOKUP(E3403, $R$6:$V$17,5))","v":0.13},9.1812500000000005E-2,50.870925925925924,{"$f":"'RWH Calculator'!$C$56","v":0},50.870925925925924,853.97638349462068,0,50.870925925925924,0,853.97638349462068,38674.40241441501,3586.1751851851791]
["2010-04-17",0,0,0,{"$f":"MONTH(A3404)","v":4},0.13,{"$f":"F3404*$B$6","v":9.1812500000000005E-2},50.870925925925924,{"$f":"'RWH Calculator'!$C$56","v":0},{"$f":"H3404+I3404","v":50.870925925925924},803.10545756869476,0,50.870925925925924,0,803.10545756869476,38725.273340340937,3637.0461111111049]
["2010-04-18",0,{"$f":"$B$3*$B$4*(B3405/12)*7.48","v":0},{"$f":"C3405","v":0},4,0.13,9.1812500000000005E-2,{"$f":"(IF(G3405-B3405>0,(G3405-B3405)/$B$7,0)/12*7.48)*$B$8","v":50.870925925925924},{"$f":"'RWH Calculator'!$C$56","v":0},50.870925925925924,{"$f":"IF(O3405<0, 0, IF(O3405>$H$2, $H$2, O3405))","v":752.23453164276884},{"$f":"IF(J3405>D3405,D3405, K3405-K3404+J3405)","v":0},{"$f":"IF(D3405+K3404>J3405,J3405, D3405+K3404)","v":50.870925925925924},{"$f":"IF(C3405>J3405, C3405-J3405-(K3405-K3404),0)","v":0},{"$f":"K3404+D3405-J3405","v":752.23453164276884},{"$f":"M3405+P3404","v":38776.144266266863},3687.9170370370307]
["2010-04-19",0,0,0,4,0.13,9.1812500000000005E-2,50.870925925925924,{"$f":"'RWH Calculator'!$C$56","v":0},50.870925925925924,701.36360571684293,0,50.870925925925924,0,701.36360571684293,38827.01519219279,3738.7879629629565]
["2010-04-20",0.69000000000000017,438.70200000000017,438.70200000000017,4,0.13,9.1812500000000005E-2,0,{"$f":"'RWH Calculator'!$C$56","v":0},0,1057.4600871983243,356.09648148148142,0,82.60551851851875,1140.065605716843,38827.01519219279,3738.7879629629565]
["2010-04-21",0.01,6.3580000000000014,6.3580000000000014,4,0.13,9.1812500000000005E-2,45.330185185185186,{"$f":"'RWH Calculator'!$C$56","v":0},45.330185185185186,1018.4879020131391,6.3580000000000014,45.330185185185186,0,1018.4879020131391,38872.345377377977,3784.1181481481417]
["2010-04-22",0,0,0,4,0.13,9.1812500000000005E-2,50.870925925925924,{"$f":"'RWH Calculator'!$C$56","v":0},50.870925925925924,967.61697608721317,0,50.870925925925924,0,967.61697608721317,38923.216303303903,3834.9890740740675]
["2010-04-23",0,0,0,4,0.13,9.1812500000000005E-2,50.870925925925924,{"$f":"'RWH Calculator'!$C$56","v":0},50.870925925925924,916.74605016128726,0,50.870925925925924,0,916.74605016128726,38974.08722922983,3885.8599999999933]
["2010-04-24",0,0,0,4,0.13,9.1812500000000005E-2,50.870925925925924,{"$f":"'RWH Calculator'!$C$56","v":0},50.870925925925924,865.87512423536134,0,50.870925925925924,0,865.87512423536134,39024.958155155757,3936.7309259259191]
["2010-04-25",0,0,0,4,0.13,9.1812500000000005E-2,50.870925925925924,{"$f":"'RWH Calculator'!$C$56","v":0},50.870925925925924,815.00419830943542,0,50.870925925925924,0,815.00419830943542,39075.829081081683,3987.6018518518449]
["2010-04-26",0,0,0,4,0.13,9.1812500000000005E-2,50.870925925925924,{"$f":"'RWH Calculator'!$C$56","v":0},50.870925925925924,764.13327238350951,0,50.870925925925924,0,764.13327238350951,39126.70000700761,4038.4727777777707]
["2010-04-27",0.12,76.296000000000006,76.296000000000006,4,0.13,9.1812500000000005E-2,0,{"$f":"'RWH Calculator'!$C$56","v":0},0,840.42927238350956,76.296000000000049,0,-4.2632564145606011E-14,840.42927238350956,39126.70000700761,4038.4727777777707]
["2010-04-28",0.18,114.444,114.444,4,0.13,9.1812500000000005E-2,0,{"$f":"'RWH Calculator'!$C$56","v":0},0,954.87327238350952,114.44399999999996,0,4.2632564145606011E-14,954.87327238350952,39126.70000700761,4038.4727777777707]
["2010-04-29",0,0,0,4,0.13,9.1812500000000005E-2,50.870925925925924,{"$f":"'RWH Calculator'!$C$56","v":0},50.870925925925924,904.0023464575836,0,50.870925925925924,0,904.0023464575836,39177.570932933537,4089.3437037036965]
["2010-04-30",0,0,0,4,0.13,9.1812500000000005E-2,50.870925925925924,{"$f":"'RWH Calculator'!$C$56","v":0},50.870925925925924,853.13142053165768,0,50.870925925925924,0,853.13142053165768,39228.441858859464,4140.2146296296223]
["2010-05-01",0,0,0,5,0.15000000000000002,0.10593750000000002,58.697222222222237,{"$f":"'RWH Calculator'!$C$56","v":0},58.697222222222237,794.43419830943549,0,58.697222222222237,0,794.43419830943549,39287.139081081688,4198.9118518518444]
["2010-05-02",0,0,0,5,0.15000000000000002,0.10593750000000002,58.697222222222237,{"$f":"'RWH Calculator'!$C$56","v":0},58.697222222222237,735.73697608721329,0,58.697222222222237,0,735.73697608721329,39345.836303303913,4257.6090740740665]
["2010-05-03",0,0,0,5,0.15000000000000002,0.10593750000000002,58.697222222222237,{"$f":"'RWH Calculator'!$C$56","v":0},58.697222222222237,677.0397538649911,0,58.697222222222237,0,677.0397538649911,39404.533525526138,4316.3062962962886]
["2010-05-04",0,0,0,5,0.15000000000000002,0.10593750000000002,58.697222222222237,{"$f":"'RWH Calculator'!$C$56","v":0},58.697222222222237,618.3425316427689,0,58.697222222222237,0,618.3425316427689,39463.230747748363,4375.0035185185106]
["2010-05-05",0,0,0,5,0.15000000000000002,0.10593750000000002,58.697222222222237,{"$f":"'RWH Calculator'!$C$56","v":0},58.697222222222237,559.64530942054671,0,58.697222222222237,0,559.64530942054671,39521.927969970588,4433.7007407407327]
["2010-05-06",0,0,0,5,0.15000000000000002,0.10593750000000002,58.697222222222237,{"$f":"'RWH Calculator'!$C$56","v":0},58.697222222222237,500.94808719832446,0,58.697222222222237,0,500.94808719832446,39580.625192192812,4492.3979629629548]
["2010-05-07",0,0,0,5,0.15000000000000002,0.10593750000000002,58.697222222222237,{"$f":"'RWH Calculator'!$C$56","v":0},58.697222222222237,442.25086497610221,0,58.697222222222237,0,442.25086497610221,39639.322414415037,4551.0951851851769]
["2010-05-08",0,0,0,5,0.15000000000000002,0.10593750000000002,58.697222222222237,{"$f":"'RWH Calculator'!$C$56","v":0},58.697222222222237,383.55364275387996,0,58.697222222222237,0,383.55364275387996,39698.019636637262,4609.792407407399]
["2010-05-09",0,0,0,5,0.15000000000000002,0.10593750000000002,58.697222222222237,{"$f":"'RWH Calculator'!$C$56","v":0},58.697222222222237,324.8564205316577,0,58.697222222222237,0,324.8564205316577,39756.716858859487,4668.489629629621]
["2010-05-10",0.21,133.518,133.518,5,0.15000000000000002,0.10593750000000002,0,{"$f":"'RWH Calculator'!$C$56","v":0},0,458.37442053165773,133.51800000000003,0,-2.8421709430404007E-14,458.37442053165773,39756.716858859487,4668.489629629621]
["2010-05-11",0,0,0,5,0.15000000000000002,0.10593750000000002,58.697222222222237,{"$f":"'RWH Calculator'!$C$56","v":0},58.697222222222237,399.67719830943548,0,58.697222222222237,0,399.67719830943548,39815.414081081712,4727.1868518518431]
["2010-05-12",0,0,0,5,0.15000000000000002,0.10593750000000002,58.697222222222237,{"$f":"'RWH Calculator'!$C$56","v":0},58.697222222222237,340.97997608721323,0,58.697222222222237,0,340.97997608721323,39874.111303303936,4785.8840740740652]
["2010-05-13",0,0,0,5,0.15000000000000002,0.10593750000000002,58.697222222222237,{"$f":"'RWH Calculator'!$C$56","v":0},58.697222222222237,282.28275386499098,0,58.697222222222237,0,282.28275386499098,39932.808525526161,4844.5812962962873]
["2010-05-14",0,0,0,5,0.15000000000000002,0.10593750000000002,58.697222222222237,{"$f":"'RWH Calculator'!$C$56","v":0},58.697222222222237,223.58553164276873,0,58.697222222222237,0,223.58553164276873,39991.505747748386,4903.2785185185094]
["2010-05-15",0,0,0,5,0.15000000000000002,0.10593750000000002,58.697222222222237,{"$f":"'RWH Calculator'!$C$56","v":0},58.697222222222237,164.88830942054648,0,58.697222222222237,0,164.88830942054648,40050.202969970611,4961.9757407407315]
["2010-05-16",0,0,0,5,0.15000000000000002,0.10593750000000002,58.697222222222237,{"$f":"'RWH Calculator'!$C$56","v":0},58.697222222222237,106.19108719832424,0,58.697222222222237,0,106.19108719832424,40108.900192192836,5020.6729629629535]
["2010-05-17",0.22,139.876,139.876,5,0.15000000000000002,0.10593750000000002,0,{"$f":"'RWH Calculator'!$C$56","v":0},0,246.06708719832426,139.87600000000003,0,-2.8421709430404007E-14,246.06708719832426,40108.900192192836,5020.6729629629535]
["2010-05-18",0.01,6.3580000000000014,6.3580000000000014,5,0.15000000000000002,0.10593750000000002,53.156481481481499,{"$f":"'RWH Calculator'!$C$56","v":0},53.156481481481499,199.26860571684276,6.3580000000000014,53.156481481481499,0,199.26860571684276,40162.05667367432,5073.8294444444355]
["2010-05-19",0,0,0,5,0.15000000000000002,0.10593750000000002,58.697222222222237,{"$f":"'RWH Calculator'!$C$56","v":0},58.697222222222237,140.57138349462053,0,58.697222222222237,0,140.57138349462053,40220.753895896545,5132.5266666666575]
["2010-05-20",0,0,0,5,0.15000000000000002,0.10593750000000002,58.697222222222237,{"$f":"'RWH Calculator'!$C$56","v":0},58.697222222222237,81.874161272398297,0,58.697222222222237,0,81.874161272398297,40279.45111811877,5191.2238888888796]
["2010-05-21",0,0,0,5,0.15000000000000002,0.10593750000000002,58.697222222222237,{"$f":"'RWH Calculator'!$C$56","v":0},58.697222222222237,23.17693905017606,0,58.697222222222237,0,23.17693905017606,40338.148340340995,5249.9211111111017]
["2010-05-22",0,0,0,5,0.15000000000000002,0.10593750000000002,58.697222222222237,{"$f":"'RWH Calculator'!$C$56","v":0},58.697222222222237,0,0,23.17693905017606,0,-35.520283172046177,40361.325279391174,5273.0980501612776]
["2010-05-23",0,0,0,5,0.15000000000000002,0.10593750000000002,58.697222222222237,{"$f":"'RWH Calculator'!$C$56","v":0},58.697222222222237,0,0,0,0,-58.697222222222237,40361.325279391174,5273.0980501612776]
["2010-05-24",0,0,0,5,0.15000000000000002,0.10593750000000002,58.697222222222237,{"$f":"'RWH Calculator'!$C$56","v":0},58.697222222222237,0,0,0,0,-58.697222222222237,40361.325279391174,5273.0980501612776]
["2010-05-25",0.22,139.876,139.876,5,0.15000000000000002,0.10593750000000002,0,{"$f":"'RWH Calculator'!$C$56","v":0},0,139.876,139.876,0,0,139.876,40361.325279391174,5273.0980501612776]
["2010-05-26",0.01,6.3580000000000014,6.3580000000000014,5,0.15000000000000002,0.10593750000000002,53.156481481481499,{"$f":"'RWH Calculator'!$C$56","v":0},53.156481481481499,93.077518518518502,6.3580000000000014,53.156481481481499,0,93.077518518518502,40414.481760872659,5326.2545316427595]
["2010-05-27",0.28000000000000003,178.02400000000003,178.02400000000003,5,0.15000000000000002,0.10593750000000002,0,{"$f":"'RWH Calculator'!$C$56","v":0},0,271.10151851851856,178.02400000000006,0,-2.8421709430404007E-14,271.10151851851856,40414.481760872659,5326.2545316427595]
["2010-05-28",0,0,0,5,0.15000000000000002,0.10593750000000002,58.697222222222237,{"$f":"'RWH Calculator'!$C$56","v":0},58.697222222222237,212.40429629629631,0,58.697222222222237,0,212.40429629629631,40473.178983094884,5384.9517538649816]
["2010-05-29",0,0,0,5,0.15000000000000002,0.10593750000000002,58.697222222222237,{"$f":"'RWH Calculator'!$C$56","v":0},58.697222222222237,153.70707407407406,0,58.697222222222237,0,153.70707407407406,40531.876205317109,5443.6489760872037]
["2010-05-30",0,0,0,5,0.15000000000000002,0.10593750000000002,58.697222222222237,{"$f":"'RWH Calculator'!$C$56","v":0},58.697222222222237,95.00985185185182,0,58.697222222222237,0,95.00985185185182,40590.573427539333,5502.3461983094257]
["2010-05-31",0,0,0,5,0.15000000000000002,0.10593750000000002,58.697222222222237,{"$f":"'RWH Calculator'!$C$56","v":0},58.697222222222237,36.312629629629583,0,58.697222222222237,0,36.312629629629583,40649.270649761558,5561.0434205316478]
["2010-06-01",0,0,0,6,0.16999999999999998,0.1200625,66.523518518518514,{"$f":"'RWH Calculator'!$C$56","v":0},66.523518518518514,0,0,36.312629629629583,0,-30.210888888888931,40685.58327939119,5597.3560501612774]
["2010-06-02",0.01,6.3580000000000014,6.3580000000000014,6,0.16999999999999998,0.1200625,60.982777777777784,{"$f":"'RWH Calculator'!$C$56","v":0},60.982777777777784,0,6.3580000000000014,6.3580000000000014,0,-54.62477777777778,40691.941279391191,5603.7140501612776]
["2010-06-03",0,0,0,6,0.16999999999999998,0.1200625,66.523518518518514,{"$f":"'RWH Calculator'!$C$56","v":0},66.523518518518514,0,0,0,0,-66.523518518518514,40691.941279391191,5603.7140501612776]
["2010-06-04",0.01,6.3580000000000014,6.3580000000000014,6,0.16999999999999998,0.1200625,60.982777777777784,{"$f":"'RWH Calculator'!$C$56","v":0},60.982777777777784,0,6.3580000000000014,6.3580000000000014,0,-54.62477777777778,40698.299279391191,5610.0720501612777]
["2010-06-05",0,0,0,6,0.16999999999999998,0.1200625,66.523518518518514,{"$f":"'RWH Calculator'!$C$56","v":0},66.523518518518514,0,0,0,0,-66.523518518518514,40698.299279391191,5610.0720501612777]
["2010-06-06",0,0,0,6,0.16999999999999998,0.1200625,66.523518518518514,{"$f":"'RWH Calculator'!$C$56","v":0},66.523518518518514,0,0,0,0,-66.523518518518514,40698.299279391191,5610.0720501612777]
["2010-06-07",0,0,0,6,0.16999999999999998,0.1200625,66.523518518518514,{"$f":"'RWH Calculator'!$C$56","v":0},66.523518518518514,0,0,0,0,-66.523518518518514,40698.299279391191,5610.0720501612777]
["2010-06-08",0,0,0,6,0.16999999999999998,0.1200625,66.523518518518514,{"$f":"'RWH Calculator'!$C$56","v":0},66.523518518518514,0,0,0,0,-66.523518518518514,40698.299279391191,5610.0720501612777]
["2010-06-09",0,0,0,6,0.16999999999999998,0.1200625,66.523518518518514,{"$f":"'RWH Calculator'!$C$56","v":0},66.523518518518514,0,0,0,0,-66.523518518518514,40698.299279391191,5610.0720501612777]
["2010-06-10",0,0,0,6,0.16999999999999998,0.1200625,66.523518518518514,{"$f":"'RWH Calculator'!$C$56","v":0},66.523518518518514,0,0,0,0,-66.523518518518514,40698.299279391191,5610.0720501612777]
["2010-06-11",0,0,0,6,0.16999999999999998,0.1200625,66.523518518518514,{"$f":"'RWH Calculator'!$C$56","v":0},66.523518518518514,0,0,0,0,-66.523518518518514,40698.299279391191,5610.0720501612777]
["2010-06-12",0,0,0,6,0.16999999999999998,0.1200625,66.523518518518514,{"$f":"'RWH Calculator'!$C$56","v":0},66.523518518518514,0,0,0,0,-66.523518518518514,40698.299279391191,5610.0720501612777]
["2010-06-13",0,0,0,6,0.16999999999999998,0.1200625,66.523518518518514,{"$f":"'RWH Calculator'!$C$56","v":0},66.523518518518514,0,0,0,0,-66.523518518518514,40698.299279391191,5610.0720501612777]
["2010-06-14",0,0,0,6,0.16999999999999998,0.1200625,66.523518518518514,{"$f":"'RWH Calculator'!$C$56","v":0},66.523518518518514,0,0,0,0,-66.523518518518514,40698.299279391191,5610.0720501612777]
["2010-06-15",0,0,0,6,0.16999999999999998,0.1200625,66.523518518518514,{"$f":"'RWH Calculator'!$C$56","v":0},66.523518518518514,0,0,0,0,-66.523518518518514,40698.299279391191,5610.0720501612777]
["2010-06-16",0,0,0,6,0.16999999999999998,0.1200625,66.523518518518514,{"$f":"'RWH Calculator'!$C$56","v":0},66.523518518518514,0,0,0,0,-66.523518518518514,40698.299279391191,{"$f":"M3464+Q3463","v":5610.0720501612777}]
["2010-06-17",0,0,0,6,0.16999999999999998,0.1200625,66.523518518518514,{"$f":"'RWH Calculator'!$C$56","v":0},66.523518518518514,0,0,0,0,-66.523518518518514,40698.299279391191,5610.0720501612777]
["2010-06-18",0,0,0,6,0.16999999999999998,0.1200625,66.523518518518514,{"$f":"'RWH Calculator'!$C$56","v":0},66.523518518518514,0,0,0,0,-66.523518518518514,40698.299279391191,5610.0720501612777]
["2010-06-19",0,0,0,6,{"$f":"IF($B$2=\"Western SF\", VLOOKUP(E3467,$R$6:$U$17, 4),VLOOKUP(E3467, $R$6:$V$17,5))","v":0.16999999999999998},0.1200625,66.523518518518514,{"$f":"'RWH Calculator'!$C$56","v":0},66.523518518518514,0,0,0,0,-66.523518518518514,40698.299279391191,5610.0720501612777]
["2010-06-20",0,0,0,{"$f":"MONTH(A3468)","v":6},0.16999999999999998,{"$f":"F3468*$B$6","v":0.1200625},66.523518518518514,{"$f":"'RWH Calculator'!$C$56","v":0},{"$f":"H3468+I3468","v":66.523518518518514},0,0,0,0,-66.523518518518514,40698.299279391191,5610.0720501612777]
["2010-06-21",0,{"$f":"$B$3*$B$4*(B3469/12)*7.48","v":0},{"$f":"C3469","v":0},6,0.16999999999999998,0.1200625,{"$f":"(IF(G3469-B3469>0,(G3469-B3469)/$B$7,0)/12*7.48)*$B$8","v":66.523518518518514},{"$f":"'RWH Calculator'!$C$56","v":0},66.523518518518514,{"$f":"IF(O3469<0, 0, IF(O3469>$H$2, $H$2, O3469))","v":0},{"$f":"IF(J3469>D3469,D3469, K3469-K3468+J3469)","v":0},{"$f":"IF(D3469+K3468>J3469,J3469, D3469+K3468)","v":0},{"$f":"IF(C3469>J3469, C3469-J3469-(K3469-K3468),0)","v":0},{"$f":"K3468+D3469-J3469","v":-66.523518518518514},{"$f":"M3469+P3468","v":40698.299279391191},5610.0720501612777]
["2010-06-22",0,0,0,6,0.16999999999999998,0.1200625,66.523518518518514,{"$f":"'RWH Calculator'!$C$56","v":0},66.523518518518514,0,0,0,0,-66.523518518518514,40698.299279391191,5610.0720501612777]
["2010-06-23",0,0,0,6,0.16999999999999998,0.1200625,66.523518518518514,{"$f":"'RWH Calculator'!$C$56","v":0},66.523518518518514,0,0,0,0,-66.523518518518514,40698.299279391191,5610.0720501612777]
["2010-06-24",0.01,6.3580000000000014,6.3580000000000014,6,0.16999999999999998,0.1200625,60.982777777777784,{"$f":"'RWH Calculator'!$C$56","v":0},60.982777777777784,0,6.3580000000000014,6.3580000000000014,0,-54.62477777777778,40704.657279391191,5616.4300501612779]
["2010-06-25",0.04,25.432000000000006,25.432000000000006,6,0.16999999999999998,0.1200625,44.360555555555564,{"$f":"'RWH Calculator'!$C$56","v":0},44.360555555555564,0,25.432000000000006,25.432000000000006,0,-18.928555555555558,40730.089279391192,5641.8620501612777]
["2010-06-26",0,0,0,6,0.16999999999999998,0.1200625,66.523518518518514,{"$f":"'RWH Calculator'!$C$56","v":0},66.523518518518514,0,0,0,0,-66.523518518518514,40730.089279391192,5641.8620501612777]
["2010-06-27",0,0,0,6,0.16999999999999998,0.1200625,66.523518518518514,{"$f":"'RWH Calculator'!$C$56","v":0},66.523518518518514,0,0,0,0,-66.523518518518514,40730.089279391192,5641.8620501612777]
["2010-06-28",0,0,0,6,0.16999999999999998,0.1200625,66.523518518518514,{"$f":"'RWH Calculator'!$C$56","v":0},66.523518518518514,0,0,0,0,-66.523518518518514,40730.089279391192,5641.8620501612777]
["2010-06-29",0,0,0,6,0.16999999999999998,0.1200625,66.523518518518514,{"$f":"'RWH Calculator'!$C$56","v":0},66.523518518518514,0,0,0,0,-66.523518518518514,40730.089279391192,5641.8620501612777]
["2010-06-30",0,0,0,6,0.16999999999999998,0.1200625,66.523518518518514,{"$f":"'RWH Calculator'!$C$56","v":0},66.523518518518514,0,0,0,0,-66.523518518518514,40730.089279391192,5641.8620501612777]
["2010-07-01",0,0,0,7,0.16,0.113,62.610370370370383,{"$f":"'RWH Calculator'!$C$56","v":0},62.610370370370383,0,0,0,0,-62.610370370370383,40730.089279391192,5641.8620501612777]
["2010-07-02",0,0,0,7,0.16,0.113,62.610370370370383,{"$f":"'RWH Calculator'!$C$56","v":0},62.610370370370383,0,0,0,0,-62.610370370370383,40730.089279391192,5641.8620501612777]
["2010-07-03",0,0,0,7,0.16,0.113,62.610370370370383,{"$f":"'RWH Calculator'!$C$56","v":0},62.610370370370383,0,0,0,0,-62.610370370370383,40730.089279391192,5641.8620501612777]
["2010-07-04",0,0,0,7,0.16,0.113,62.610370370370383,{"$f":"'RWH Calculator'!$C$56","v":0},62.610370370370383,0,0,0,0,-62.610370370370383,40730.089279391192,5641.8620501612777]
["2010-07-05",0,0,0,7,0.16,0.113,62.610370370370383,{"$f":"'RWH Calculator'!$C$56","v":0},62.610370370370383,0,0,0,0,-62.610370370370383,40730.089279391192,5641.8620501612777]
["2010-07-06",0,0,0,7,0.16,0.113,62.610370370370383,{"$f":"'RWH Calculator'!$C$56","v":0},62.610370370370383,0,0,0,0,-62.610370370370383,40730.089279391192,5641.8620501612777]
["2010-07-07",0,0,0,7,0.16,0.113,62.610370370370383,{"$f":"'RWH Calculator'!$C$56","v":0},62.610370370370383,0,0,0,0,-62.610370370370383,40730.089279391192,5641.8620501612777]
["2010-07-08",0,0,0,7,0.16,0.113,62.610370370370383,{"$f":"'RWH Calculator'!$C$56","v":0},62.610370370370383,0,0,0,0,-62.610370370370383,40730.089279391192,5641.8620501612777]
["2010-07-09",0,0,0,7,0.16,0.113,62.610370370370383,{"$f":"'RWH Calculator'!$C$56","v":0},62.610370370370383,0,0,0,0,-62.610370370370383,40730.089279391192,5641.8620501612777]
["2010-07-10",0,0,0,7,0.16,0.113,62.610370370370383,{"$f":"'RWH Calculator'!$C$56","v":0},62.610370370370383,0,0,0,0,-62.610370370370383,40730.089279391192,5641.8620501612777]
["2010-07-11",0,0,0,7,0.16,0.113,62.610370370370383,{"$f":"'RWH Calculator'!$C$56","v":0},62.610370370370383,0,0,0,0,-62.610370370370383,40730.089279391192,5641.8620501612777]
["2010-07-12",0,0,0,7,0.16,0.113,62.610370370370383,{"$f":"'RWH Calculator'!$C$56","v":0},62.610370370370383,0,0,0,0,-62.610370370370383,40730.089279391192,5641.8620501612777]
["2010-07-13",0,0,0,7,0.16,0.113,62.610370370370383,{"$f":"'RWH Calculator'!$C$56","v":0},62.610370370370383,0,0,0,0,-62.610370370370383,40730.089279391192,5641.8620501612777]
["2010-07-14",0,0,0,7,0.16,0.113,62.610370370370383,{"$f":"'RWH Calculator'!$C$56","v":0},62.610370370370383,0,0,0,0,-62.610370370370383,40730.089279391192,5641.8620501612777]
["2010-07-15",0,0,0,7,0.16,0.113,62.610370370370383,{"$f":"'RWH Calculator'!$C$56","v":0},62.610370370370383,0,0,0,0,-62.610370370370383,40730.089279391192,5641.8620501612777]
["2010-07-16",0,0,0,7,0.16,0.113,62.610370370370383,{"$f":"'RWH Calculator'!$C$56","v":0},62.610370370370383,0,0,0,0,-62.610370370370383,40730.089279391192,5641.8620501612777]
["2010-07-17",0,0,0,7,0.16,0.113,62.610370370370383,{"$f":"'RWH Calculator'!$C$56","v":0},62.610370370370383,0,0,0,0,-62.610370370370383,40730.089279391192,5641.8620501612777]
["2010-07-18",0,0,0,7,0.16,0.113,62.610370370370383,{"$f":"'RWH Calculator'!$C$56","v":0},62.610370370370383,0,0,0,0,-62.610370370370383,40730.089279391192,5641.8620501612777]
["2010-07-19",0,0,0,7,0.16,0.113,62.610370370370383,{"$f":"'RWH Calculator'!$C$56","v":0},62.610370370370383,0,0,0,0,-62.610370370370383,40730.089279391192,5641.8620501612777]
["2010-07-20",0,0,0,7,0.16,0.113,62.610370370370383,{"$f":"'RWH Calculator'!$C$56","v":0},62.610370370370383,0,0,0,0,-62.610370370370383,40730.089279391192,5641.8620501612777]
["2010-07-21",0,0,0,7,0.16,0.113,62.610370370370383,{"$f":"'RWH Calculator'!$C$56","v":0},62.610370370370383,0,0,0,0,-62.610370370370383,40730.089279391192,5641.8620501612777]
["2010-07-22",0,0,0,7,0.16,0.113,62.610370370370383,{"$f":"'RWH Calculator'!$C$56","v":0},62.610370370370383,0,0,0,0,-62.610370370370383,40730.089279391192,5641.8620501612777]
["2010-07-23",0,0,0,7,0.16,0.113,62.610370370370383,{"$f":"'RWH Calculator'!$C$56","v":0},62.610370370370383,0,0,0,0,-62.610370370370383,40730.089279391192,5641.8620501612777]
["2010-07-24",0,0,0,7,0.16,0.113,62.610370370370383,{"$f":"'RWH Calculator'!$C$56","v":0},62.610370370370383,0,0,0,0,-62.610370370370383,40730.089279391192,5641.8620501612777]
["2010-07-25",0,0,0,7,0.16,0.113,62.610370370370383,{"$f":"'RWH Calculator'!$C$56","v":0},62.610370370370383,0,0,0,0,-62.610370370370383,40730.089279391192,5641.8620501612777]
["2010-07-26",0,0,0,7,0.16,0.113,62.610370370370383,{"$f":"'RWH Calculator'!$C$56","v":0},62.610370370370383,0,0,0,0,-62.610370370370383,40730.089279391192,5641.8620501612777]
["2010-07-27",0,0,0,7,0.16,0.113,62.610370370370383,{"$f":"'RWH Calculator'!$C$56","v":0},62.610370370370383,0,0,0,0,-62.610370370370383,40730.089279391192,5641.8620501612777]
["2010-07-28",0,0,0,7,0.16,0.113,62.610370370370383,{"$f":"'RWH Calculator'!$C$56","v":0},62.610370370370383,0,0,0,0,-62.610370370370383,40730.089279391192,5641.8620501612777]
["2010-07-29",0,0,0,7,0.16,0.113,62.610370370370383,{"$f":"'RWH Calculator'!$C$56","v":0},62.610370370370383,0,0,0,0,-62.610370370370383,40730.089279391192,5641.8620501612777]
["2010-07-30",0,0,0,7,0.16,0.113,62.610370370370383,{"$f":"'RWH Calculator'!$C$56","v":0},62.610370370370383,0,0,0,0,-62.610370370370383,40730.089279391192,5641.8620501612777]
["2010-07-31",0,0,0,7,0.16,0.113,62.610370370370383,{"$f":"'RWH Calculator'!$C$56","v":0},62.610370370370383,0,0,0,0,-62.610370370370383,40730.089279391192,5641.8620501612777]
["2010-08-01",0,0,0,8,0.15000000000000002,0.10593750000000002,58.697222222222237,{"$f":"'RWH Calculator'!$C$56","v":0},58.697222222222237,0,0,0,0,-58.697222222222237,40730.089279391192,5641.8620501612777]
["2010-08-02",0,0,0,8,0.15000000000000002,0.10593750000000002,58.697222222222237,{"$f":"'RWH Calculator'!$C$56","v":0},58.697222222222237,0,0,0,0,-58.697222222222237,40730.089279391192,5641.8620501612777]
["2010-08-03",0,0,0,8,0.15000000000000002,0.10593750000000002,58.697222222222237,{"$f":"'RWH Calculator'!$C$56","v":0},58.697222222222237,0,0,0,0,-58.697222222222237,40730.089279391192,5641.8620501612777]
["2010-08-04",0,0,0,8,0.15000000000000002,0.10593750000000002,58.697222222222237,{"$f":"'RWH Calculator'!$C$56","v":0},58.697222222222237,0,0,0,0,-58.697222222222237,40730.089279391192,5641.8620501612777]
["2010-08-05",0,0,0,8,0.15000000000000002,0.10593750000000002,58.697222222222237,{"$f":"'RWH Calculator'!$C$56","v":0},58.697222222222237,0,0,0,0,-58.697222222222237,40730.089279391192,5641.8620501612777]
["2010-08-06",0,0,0,8,0.15000000000000002,0.10593750000000002,58.697222222222237,{"$f":"'RWH Calculator'!$C$56","v":0},58.697222222222237,0,0,0,0,-58.697222222222237,40730.089279391192,5641.8620501612777]
["2010-08-07",0,0,0,8,0.15000000000000002,0.10593750000000002,58.697222222222237,{"$f":"'RWH Calculator'!$C$56","v":0},58.697222222222237,0,0,0,0,-58.697222222222237,40730.089279391192,5641.8620501612777]
["2010-08-08",0,0,0,8,0.15000000000000002,0.10593750000000002,58.697222222222237,{"$f":"'RWH Calculator'!$C$56","v":0},58.697222222222237,0,0,0,0,-58.697222222222237,40730.089279391192,5641.8620501612777]
["2010-08-09",0,0,0,8,0.15000000000000002,0.10593750000000002,58.697222222222237,{"$f":"'RWH Calculator'!$C$56","v":0},58.697222222222237,0,0,0,0,-58.697222222222237,40730.089279391192,5641.8620501612777]
["2010-08-10",0,0,0,8,0.15000000000000002,0.10593750000000002,58.697222222222237,{"$f":"'RWH Calculator'!$C$56","v":0},58.697222222222237,0,0,0,0,-58.697222222222237,40730.089279391192,5641.8620501612777]
["2010-08-11",0,0,0,8,0.15000000000000002,0.10593750000000002,58.697222222222237,{"$f":"'RWH Calculator'!$C$56","v":0},58.697222222222237,0,0,0,0,-58.697222222222237,40730.089279391192,5641.8620501612777]
["2010-08-12",0,0,0,8,0.15000000000000002,0.10593750000000002,58.697222222222237,{"$f":"'RWH Calculator'!$C$56","v":0},58.697222222222237,0,0,0,0,-58.697222222222237,40730.089279391192,5641.8620501612777]
["2010-08-13",0,0,0,8,0.15000000000000002,0.10593750000000002,58.697222222222237,{"$f":"'RWH Calculator'!$C$56","v":0},58.697222222222237,0,0,0,0,-58.697222222222237,40730.089279391192,5641.8620501612777]
["2010-08-14",0,0,0,8,0.15000000000000002,0.10593750000000002,58.697222222222237,{"$f":"'RWH Calculator'!$C$56","v":0},58.697222222222237,0,0,0,0,-58.697222222222237,40730.089279391192,5641.8620501612777]
["2010-08-15",0,0,0,8,0.15000000000000002,0.10593750000000002,58.697222222222237,{"$f":"'RWH Calculator'!$C$56","v":0},58.697222222222237,0,0,0,0,-58.697222222222237,40730.089279391192,5641.8620501612777]
["2010-08-16",0,0,0,8,0.15000000000000002,0.10593750000000002,58.697222222222237,{"$f":"'RWH Calculator'!$C$56","v":0},58.697222222222237,0,0,0,0,-58.697222222222237,40730.089279391192,5641.8620501612777]
["2010-08-17",0,0,0,8,0.15000000000000002,0.10593750000000002,58.697222222222237,{"$f":"'RWH Calculator'!$C$56","v":0},58.697222222222237,0,0,0,0,-58.697222222222237,40730.089279391192,5641.8620501612777]
["2010-08-18",0,0,0,8,0.15000000000000002,0.10593750000000002,58.697222222222237,{"$f":"'RWH Calculator'!$C$56","v":0},58.697222222222237,0,0,0,0,-58.697222222222237,40730.089279391192,5641.8620501612777]
["2010-08-19",0,0,0,8,0.15000000000000002,0.10593750000000002,58.697222222222237,{"$f":"'RWH Calculator'!$C$56","v":0},58.697222222222237,0,0,0,0,-58.697222222222237,40730.089279391192,{"$f":"M3528+Q3527","v":5641.8620501612777}]
["2010-08-20",0,0,0,8,0.15000000000000002,0.10593750000000002,58.697222222222237,{"$f":"'RWH Calculator'!$C$56","v":0},58.697222222222237,0,0,0,0,-58.697222222222237,40730.089279391192,5641.8620501612777]
["2010-08-21",0,0,0,8,0.15000000000000002,0.10593750000000002,58.697222222222237,{"$f":"'RWH Calculator'!$C$56","v":0},58.697222222222237,0,0,0,0,-58.697222222222237,40730.089279391192,5641.8620501612777]
["2010-08-22",0,0,0,8,{"$f":"IF($B$2=\"Western SF\", VLOOKUP(E3531,$R$6:$U$17, 4),VLOOKUP(E3531, $R$6:$V$17,5))","v":0.15000000000000002},0.10593750000000002,58.697222222222237,{"$f":"'RWH Calculator'!$C$56","v":0},58.697222222222237,0,0,0,0,-58.697222222222237,40730.089279391192,5641.8620501612777]
["2010-08-23",0,0,0,{"$f":"MONTH(A3532)","v":8},0.15000000000000002,{"$f":"F3532*$B$6","v":0.10593750000000002},58.697222222222237,{"$f":"'RWH Calculator'!$C$56","v":0},{"$f":"H3532+I3532","v":58.697222222222237},0,0,0,0,-58.697222222222237,40730.089279391192,5641.8620501612777]
["2010-08-24",0,{"$f":"$B$3*$B$4*(B3533/12)*7.48","v":0},{"$f":"C3533","v":0},8,0.15000000000000002,0.10593750000000002,{"$f":"(IF(G3533-B3533>0,(G3533-B3533)/$B$7,0)/12*7.48)*$B$8","v":58.697222222222237},{"$f":"'RWH Calculator'!$C$56","v":0},58.697222222222237,{"$f":"IF(O3533<0, 0, IF(O3533>$H$2, $H$2, O3533))","v":0},{"$f":"IF(J3533>D3533,D3533, K3533-K3532+J3533)","v":0},{"$f":"IF(D3533+K3532>J3533,J3533, D3533+K3532)","v":0},{"$f":"IF(C3533>J3533, C3533-J3533-(K3533-K3532),0)","v":0},{"$f":"K3532+D3533-J3533","v":-58.697222222222237},{"$f":"M3533+P3532","v":40730.089279391192},5641.8620501612777]
["2010-08-25",0,0,0,8,0.15000000000000002,0.10593750000000002,58.697222222222237,{"$f":"'RWH Calculator'!$C$56","v":0},58.697222222222237,0,0,0,0,-58.697222222222237,40730.089279391192,5641.8620501612777]
["2010-08-26",0,0,0,8,0.15000000000000002,0.10593750000000002,58.697222222222237,{"$f":"'RWH Calculator'!$C$56","v":0},58.697222222222237,0,0,0,0,-58.697222222222237,40730.089279391192,5641.8620501612777]
["2010-08-27",0,0,0,8,0.15000000000000002,0.10593750000000002,58.697222222222237,{"$f":"'RWH Calculator'!$C$56","v":0},58.697222222222237,0,0,0,0,-58.697222222222237,40730.089279391192,5641.8620501612777]
["2010-08-28",0,0,0,8,0.15000000000000002,0.10593750000000002,58.697222222222237,{"$f":"'RWH Calculator'!$C$56","v":0},58.697222222222237,0,0,0,0,-58.697222222222237,40730.089279391192,5641.8620501612777]
["2010-08-29",0,0,0,8,0.15000000000000002,0.10593750000000002,58.697222222222237,{"$f":"'RWH Calculator'!$C$56","v":0},58.697222222222237,0,0,0,0,-58.697222222222237,40730.089279391192,5641.8620501612777]
["2010-08-30",0,0,0,8,0.15000000000000002,0.10593750000000002,58.697222222222237,{"$f":"'RWH Calculator'!$C$56","v":0},58.697222222222237,0,0,0,0,-58.697222222222237,40730.089279391192,5641.8620501612777]
["2010-08-31",0,0,0,8,0.15000000000000002,0.10593750000000002,58.697222222222237,{"$f":"'RWH Calculator'!$C$56","v":0},58.697222222222237,0,0,0,0,-58.697222222222237,40730.089279391192,5641.8620501612777]
["2010-09-01",0,0,0,9,0.13,9.1812500000000005E-2,50.870925925925924,{"$f":"'RWH Calculator'!$C$56","v":0},50.870925925925924,0,0,0,0,-50.870925925925924,40730.089279391192,5641.8620501612777]
["2010-09-02",0,0,0,9,0.13,9.1812500000000005E-2,50.870925925925924,{"$f":"'RWH Calculator'!$C$56","v":0},50.870925925925924,0,0,0,0,-50.870925925925924,40730.089279391192,5641.8620501612777]
["2010-09-03",0,0,0,9,0.13,9.1812500000000005E-2,50.870925925925924,{"$f":"'RWH Calculator'!$C$56","v":0},50.870925925925924,0,0,0,0,-50.870925925925924,40730.089279391192,5641.8620501612777]
["2010-09-04",0,0,0,9,0.13,9.1812500000000005E-2,50.870925925925924,{"$f":"'RWH Calculator'!$C$56","v":0},50.870925925925924,0,0,0,0,-50.870925925925924,40730.089279391192,5641.8620501612777]
["2010-09-05",0,0,0,9,0.13,9.1812500000000005E-2,50.870925925925924,{"$f":"'RWH Calculator'!$C$56","v":0},50.870925925925924,0,0,0,0,-50.870925925925924,40730.089279391192,5641.8620501612777]
["2010-09-06",0,0,0,9,0.13,9.1812500000000005E-2,50.870925925925924,{"$f":"'RWH Calculator'!$C$56","v":0},50.870925925925924,0,0,0,0,-50.870925925925924,40730.089279391192,5641.8620501612777]
["2010-09-07",0,0,0,9,0.13,9.1812500000000005E-2,50.870925925925924,{"$f":"'RWH Calculator'!$C$56","v":0},50.870925925925924,0,0,0,0,-50.870925925925924,40730.089279391192,5641.8620501612777]
["2010-09-08",0.02,12.716000000000003,12.716000000000003,9,0.13,9.1812500000000005E-2,39.789444444444442,{"$f":"'RWH Calculator'!$C$56","v":0},39.789444444444442,0,12.716000000000003,12.716000000000003,0,-27.073444444444441,40742.805279391192,5654.578050161278]
["2010-09-09",0,0,0,9,0.13,9.1812500000000005E-2,50.870925925925924,{"$f":"'RWH Calculator'!$C$56","v":0},50.870925925925924,0,0,0,0,-50.870925925925924,40742.805279391192,5654.578050161278]
["2010-09-10",0,0,0,9,0.13,9.1812500000000005E-2,50.870925925925924,{"$f":"'RWH Calculator'!$C$56","v":0},50.870925925925924,0,0,0,0,-50.870925925925924,40742.805279391192,5654.578050161278]
["2010-09-11",0,0,0,9,0.13,9.1812500000000005E-2,50.870925925925924,{"$f":"'RWH Calculator'!$C$56","v":0},50.870925925925924,0,0,0,0,-50.870925925925924,40742.805279391192,5654.578050161278]
["2010-09-12",0,0,0,9,0.13,9.1812500000000005E-2,50.870925925925924,{"$f":"'RWH Calculator'!$C$56","v":0},50.870925925925924,0,0,0,0,-50.870925925925924,40742.805279391192,5654.578050161278]
["2010-09-13",0,0,0,9,0.13,9.1812500000000005E-2,50.870925925925924,{"$f":"'RWH Calculator'!$C$56","v":0},50.870925925925924,0,0,0,0,-50.870925925925924,40742.805279391192,5654.578050161278]
["2010-09-14",0,0,0,9,0.13,9.1812500000000005E-2,50.870925925925924,{"$f":"'RWH Calculator'!$C$56","v":0},50.870925925925924,0,0,0,0,-50.870925925925924,40742.805279391192,5654.578050161278]
["2010-09-15",0,0,0,9,0.13,9.1812500000000005E-2,50.870925925925924,{"$f":"'RWH Calculator'!$C$56","v":0},50.870925925925924,0,0,0,0,-50.870925925925924,40742.805279391192,5654.578050161278]
["2010-09-16",0,0,0,9,0.13,9.1812500000000005E-2,50.870925925925924,{"$f":"'RWH Calculator'!$C$56","v":0},50.870925925925924,0,0,0,0,-50.870925925925924,40742.805279391192,5654.578050161278]
["2010-09-17",0,0,0,9,0.13,9.1812500000000005E-2,50.870925925925924,{"$f":"'RWH Calculator'!$C$56","v":0},50.870925925925924,0,0,0,0,-50.870925925925924,40742.805279391192,5654.578050161278]
["2010-09-18",0,0,0,9,0.13,9.1812500000000005E-2,50.870925925925924,{"$f":"'RWH Calculator'!$C$56","v":0},50.870925925925924,0,0,0,0,-50.870925925925924,40742.805279391192,5654.578050161278]
["2010-09-19",0,0,0,9,0.13,9.1812500000000005E-2,50.870925925925924,{"$f":"'RWH Calculator'!$C$56","v":0},50.870925925925924,0,0,0,0,-50.870925925925924,40742.805279391192,5654.578050161278]
["2010-09-20",0,0,0,9,0.13,9.1812500000000005E-2,50.870925925925924,{"$f":"'RWH Calculator'!$C$56","v":0},50.870925925925924,0,0,0,0,-50.870925925925924,40742.805279391192,5654.578050161278]
["2010-09-21",0,0,0,9,0.13,9.1812500000000005E-2,50.870925925925924,{"$f":"'RWH Calculator'!$C$56","v":0},50.870925925925924,0,0,0,0,-50.870925925925924,40742.805279391192,5654.578050161278]
["2010-09-22",0,0,0,9,0.13,9.1812500000000005E-2,50.870925925925924,{"$f":"'RWH Calculator'!$C$56","v":0},50.870925925925924,0,0,0,0,-50.870925925925924,40742.805279391192,5654.578050161278]
["2010-09-23",0,0,0,9,0.13,9.1812500000000005E-2,50.870925925925924,{"$f":"'RWH Calculator'!$C$56","v":0},50.870925925925924,0,0,0,0,-50.870925925925924,40742.805279391192,5654.578050161278]
["2010-09-24",0,0,0,9,0.13,9.1812500000000005E-2,50.870925925925924,{"$f":"'RWH Calculator'!$C$56","v":0},50.870925925925924,0,0,0,0,-50.870925925925924,40742.805279391192,5654.578050161278]
["2010-09-25",0,0,0,9,0.13,9.1812500000000005E-2,50.870925925925924,{"$f":"'RWH Calculator'!$C$56","v":0},50.870925925925924,0,0,0,0,-50.870925925925924,40742.805279391192,5654.578050161278]
["2010-09-26",0,0,0,9,0.13,9.1812500000000005E-2,50.870925925925924,{"$f":"'RWH Calculator'!$C$56","v":0},50.870925925925924,0,0,0,0,-50.870925925925924,40742.805279391192,5654.578050161278]
["2010-09-27",0,0,0,9,0.13,9.1812500000000005E-2,50.870925925925924,{"$f":"'RWH Calculator'!$C$56","v":0},50.870925925925924,0,0,0,0,-50.870925925925924,40742.805279391192,5654.578050161278]
["2010-09-28",0,0,0,9,0.13,9.1812500000000005E-2,50.870925925925924,{"$f":"'RWH Calculator'!$C$56","v":0},50.870925925925924,0,0,0,0,-50.870925925925924,40742.805279391192,5654.578050161278]
["2010-09-29",0,0,0,9,0.13,9.1812500000000005E-2,50.870925925925924,{"$f":"'RWH Calculator'!$C$56","v":0},50.870925925925924,0,0,0,0,-50.870925925925924,40742.805279391192,5654.578050161278]
["2010-09-30",0,0,0,9,0.13,9.1812500000000005E-2,50.870925925925924,{"$f":"'RWH Calculator'!$C$56","v":0},50.870925925925924,0,0,0,0,-50.870925925925924,40742.805279391192,5654.578050161278]
["2010-10-01",0,0,0,10,0.09,6.3562500000000008E-2,35.218333333333341,{"$f":"'RWH Calculator'!$C$56","v":0},35.218333333333341,0,0,0,0,-35.218333333333341,40742.805279391192]
["2010-10-02",0,0,0,10,0.09,6.3562500000000008E-2,35.218333333333341,{"$f":"'RWH Calculator'!$C$56","v":0},35.218333333333341,0,0,0,0,-35.218333333333341,40742.805279391192]
["2010-10-03",0.01,6.3580000000000014,6.3580000000000014,10,0.09,6.3562500000000008E-2,29.677592592592596,{"$f":"'RWH Calculator'!$C$56","v":0},29.677592592592596,0,6.3580000000000014,6.3580000000000014,0,-23.319592592592596,40749.163279391192]
["2010-10-04",0,0,0,10,0.09,6.3562500000000008E-2,35.218333333333341,{"$f":"'RWH Calculator'!$C$56","v":0},35.218333333333341,0,0,0,0,-35.218333333333341,40749.163279391192]
["2010-10-05",0,0,0,10,0.09,6.3562500000000008E-2,35.218333333333341,{"$f":"'RWH Calculator'!$C$56","v":0},35.218333333333341,0,0,0,0,-35.218333333333341,40749.163279391192]
["2010-10-06",0,0,0,10,0.09,6.3562500000000008E-2,35.218333333333341,{"$f":"'RWH Calculator'!$C$56","v":0},35.218333333333341,0,0,0,0,-35.218333333333341,40749.163279391192]
["2010-10-07",0,0,0,10,0.09,6.3562500000000008E-2,35.218333333333341,{"$f":"'RWH Calculator'!$C$56","v":0},35.218333333333341,0,0,0,0,-35.218333333333341,40749.163279391192]
["2010-10-08",0,0,0,10,0.09,6.3562500000000008E-2,35.218333333333341,{"$f":"'RWH Calculator'!$C$56","v":0},35.218333333333341,0,0,0,0,-35.218333333333341,40749.163279391192]
["2010-10-09",0,0,0,10,0.09,6.3562500000000008E-2,35.218333333333341,{"$f":"'RWH Calculator'!$C$56","v":0},35.218333333333341,0,0,0,0,-35.218333333333341,40749.163279391192]
["2010-10-10",0,0,0,10,0.09,6.3562500000000008E-2,35.218333333333341,{"$f":"'RWH Calculator'!$C$56","v":0},35.218333333333341,0,0,0,0,-35.218333333333341,40749.163279391192]
["2010-10-11",0,0,0,10,0.09,6.3562500000000008E-2,35.218333333333341,{"$f":"'RWH Calculator'!$C$56","v":0},35.218333333333341,0,0,0,0,-35.218333333333341,40749.163279391192]
["2010-10-12",0,0,0,10,0.09,6.3562500000000008E-2,35.218333333333341,{"$f":"'RWH Calculator'!$C$56","v":0},35.218333333333341,0,0,0,0,-35.218333333333341,40749.163279391192]
["2010-10-13",0,0,0,10,0.09,6.3562500000000008E-2,35.218333333333341,{"$f":"'RWH Calculator'!$C$56","v":0},35.218333333333341,0,0,0,0,-35.218333333333341,40749.163279391192]
["2010-10-14",0,0,0,10,0.09,6.3562500000000008E-2,35.218333333333341,{"$f":"'RWH Calculator'!$C$56","v":0},35.218333333333341,0,0,0,0,-35.218333333333341,40749.163279391192]
["2010-10-15",0,0,0,10,0.09,6.3562500000000008E-2,35.218333333333341,{"$f":"'RWH Calculator'!$C$56","v":0},35.218333333333341,0,0,0,0,-35.218333333333341,40749.163279391192]
["2010-10-16",0,0,0,10,0.09,6.3562500000000008E-2,35.218333333333341,{"$f":"'RWH Calculator'!$C$56","v":0},35.218333333333341,0,0,0,0,-35.218333333333341,40749.163279391192]
["2010-10-17",0.11,69.938000000000002,69.938000000000002,10,0.09,6.3562500000000008E-2,0,{"$f":"'RWH Calculator'!$C$56","v":0},0,69.938000000000002,69.938000000000002,0,0,69.938000000000002,40749.163279391192]
["2010-10-18",0,0,0,10,0.09,6.3562500000000008E-2,35.218333333333341,{"$f":"'RWH Calculator'!$C$56","v":0},35.218333333333341,34.719666666666662,0,35.218333333333341,0,34.719666666666662,40784.381612724523]
["2010-10-19",0,0,0,10,0.09,6.3562500000000008E-2,35.218333333333341,{"$f":"'RWH Calculator'!$C$56","v":0},35.218333333333341,0,0,34.719666666666662,0,-0.49866666666667925,40819.101279391187]
["2010-10-20",0,0,0,10,0.09,6.3562500000000008E-2,35.218333333333341,{"$f":"'RWH Calculator'!$C$56","v":0},35.218333333333341,0,0,0,0,-35.218333333333341,40819.101279391187]
["2010-10-21",0,0,0,10,0.09,6.3562500000000008E-2,35.218333333333341,{"$f":"'RWH Calculator'!$C$56","v":0},35.218333333333341,0,0,0,0,-35.218333333333341,40819.101279391187]
["2010-10-22",0.1,63.580000000000005,63.580000000000005,10,0.09,6.3562500000000008E-2,0,{"$f":"'RWH Calculator'!$C$56","v":0},0,63.580000000000005,63.580000000000005,0,0,63.580000000000005,40819.101279391187]
["2010-10-23",0.43000000000000005,273.39400000000006,273.39400000000006,10,0.09,6.3562500000000008E-2,0,{"$f":"'RWH Calculator'!$C$56","v":0},0,336.97400000000005,273.39400000000006,0,0,336.97400000000005,40819.101279391187]
["2010-10-24",0.6100000000000001,387.83800000000008,387.83800000000008,10,0.09,6.3562500000000008E-2,0,{"$f":"'RWH Calculator'!$C$56","v":0},0,724.81200000000013,387.83800000000008,0,0,724.81200000000013,40819.101279391187]
["2010-10-25",0,0,0,10,{"$f":"IF($B$2=\"Western SF\", VLOOKUP(E3595,$R$6:$U$17, 4),VLOOKUP(E3595, $R$6:$V$17,5))","v":0.09},6.3562500000000008E-2,35.218333333333341,{"$f":"'RWH Calculator'!$C$56","v":0},35.218333333333341,689.59366666666676,0,35.218333333333341,0,689.59366666666676,40854.319612724517]
["2010-10-26",0,0,0,{"$f":"MONTH(A3596)","v":10},0.09,{"$f":"F3596*$B$6","v":6.3562500000000008E-2},35.218333333333341,{"$f":"'RWH Calculator'!$C$56","v":0},{"$f":"H3596+I3596","v":35.218333333333341},654.3753333333334,0,35.218333333333341,0,654.3753333333334,40889.537946057848]
["2010-10-27",0,{"$f":"$B$3*$B$4*(B3597/12)*7.48","v":0},{"$f":"C3597","v":0},10,0.09,6.3562500000000008E-2,{"$f":"(IF(G3597-B3597>0,(G3597-B3597)/$B$7,0)/12*7.48)*$B$8","v":35.218333333333341},{"$f":"'RWH Calculator'!$C$56","v":0},35.218333333333341,{"$f":"IF(O3597<0, 0, IF(O3597>$H$2, $H$2, O3597))","v":619.15700000000004},{"$f":"IF(J3597>D3597,D3597, K3597-K3596+J3597)","v":0},{"$f":"IF(D3597+K3596>J3597,J3597, D3597+K3596)","v":35.218333333333341},{"$f":"IF(C3597>J3597, C3597-J3597-(K3597-K3596),0)","v":0},{"$f":"K3596+D3597-J3597","v":619.15700000000004},{"$f":"M3597+P3596","v":40924.756279391178}]
["2010-10-28",0,0,0,10,0.09,6.3562500000000008E-2,35.218333333333341,{"$f":"'RWH Calculator'!$C$56","v":0},35.218333333333341,583.93866666666668,0,35.218333333333341,0,583.93866666666668,40959.974612724509]
["2010-10-29",0.44000000000000006,279.75200000000007,279.75200000000007,10,0.09,6.3562500000000008E-2,0,{"$f":"'RWH Calculator'!$C$56","v":0},0,863.69066666666674,279.75200000000007,0,0,863.69066666666674,40959.974612724509]
["2010-10-30",0.10999999999999999,69.937999999999988,69.937999999999988,10,0.09,6.3562500000000008E-2,0,{"$f":"'RWH Calculator'!$C$56","v":0},0,933.62866666666673,69.937999999999988,0,0,933.62866666666673,40959.974612724509]
["2010-10-31",0,0,0,10,0.09,6.3562500000000008E-2,35.218333333333341,{"$f":"'RWH Calculator'!$C$56","v":0},35.218333333333341,898.41033333333337,0,35.218333333333341,0,898.41033333333337,40995.192946057839]
["2010-11-01",0,0,0,11,6.0000000000000005E-2,4.2375000000000003E-2,23.478888888888889,{"$f":"'RWH Calculator'!$C$56","v":0},23.478888888888889,874.93144444444442,0,23.478888888888889,0,874.93144444444442,41018.671834946726]
["2010-11-02",0,0,0,11,6.0000000000000005E-2,4.2375000000000003E-2,23.478888888888889,{"$f":"'RWH Calculator'!$C$56","v":0},23.478888888888889,851.45255555555559,0,23.478888888888889,0,851.45255555555559,41042.150723835613]
["2010-11-03",0,0,0,11,6.0000000000000005E-2,4.2375000000000003E-2,23.478888888888889,{"$f":"'RWH Calculator'!$C$56","v":0},23.478888888888889,827.97366666666676,0,23.478888888888889,0,827.97366666666676,41065.6296127245]
["2010-11-04",0,0,0,11,6.0000000000000005E-2,4.2375000000000003E-2,23.478888888888889,{"$f":"'RWH Calculator'!$C$56","v":0},23.478888888888889,804.49477777777793,0,23.478888888888889,0,804.49477777777793,41089.108501613387]
["2010-11-05",0,0,0,11,6.0000000000000005E-2,4.2375000000000003E-2,23.478888888888889,{"$f":"'RWH Calculator'!$C$56","v":0},23.478888888888889,781.01588888888909,0,23.478888888888889,0,781.01588888888909,41112.587390502275]
["2010-11-06",0,0,0,11,6.0000000000000005E-2,4.2375000000000003E-2,23.478888888888889,{"$f":"'RWH Calculator'!$C$56","v":0},23.478888888888889,757.53700000000026,0,23.478888888888889,0,757.53700000000026,41136.066279391162]
["2010-11-07",1.1800000000000002,750.24400000000014,750.24400000000014,11,6.0000000000000005E-2,4.2375000000000003E-2,0,{"$f":"'RWH Calculator'!$C$56","v":0},0,1057.4600871983243,299.92308719832408,0,450.32091280167606,1507.7810000000004,41136.066279391162]
["2010-11-08",0,0,0,11,6.0000000000000005E-2,4.2375000000000003E-2,23.478888888888889,{"$f":"'RWH Calculator'!$C$56","v":0},23.478888888888889,1033.9811983094355,0,23.478888888888889,0,1033.9811983094355,41159.545168280049]
["2010-11-09",0.02,12.716000000000003,12.716000000000003,11,6.0000000000000005E-2,4.2375000000000003E-2,12.397407407407409,{"$f":"'RWH Calculator'!$C$56","v":0},12.397407407407409,1034.299790902028,12.715999999999903,12.397407407407409,9.9475983006414026E-14,1034.299790902028,41171.942575687455]
["2010-11-10",0.04,25.432000000000006,25.432000000000006,11,6.0000000000000005E-2,4.2375000000000003E-2,1.3159259259259271,{"$f":"'RWH Calculator'!$C$56","v":0},1.3159259259259271,1057.4600871983243,24.476222222222265,1.3159259259259271,0.95577777777774031,1058.4158649761021,41173.258501613382]
["2010-11-11",0,0,0,11,6.0000000000000005E-2,4.2375000000000003E-2,23.478888888888889,{"$f":"'RWH Calculator'!$C$56","v":0},23.478888888888889,1033.9811983094355,0,23.478888888888889,0,1033.9811983094355,41196.737390502269]
["2010-11-12",0,0,0,11,6.0000000000000005E-2,4.2375000000000003E-2,23.478888888888889,{"$f":"'RWH Calculator'!$C$56","v":0},23.478888888888889,1010.5023094205467,0,23.478888888888889,0,1010.5023094205467,41220.216279391156]
["2010-11-13",0,0,0,11,6.0000000000000005E-2,4.2375000000000003E-2,23.478888888888889,{"$f":"'RWH Calculator'!$C$56","v":0},23.478888888888889,987.02342053165785,0,23.478888888888889,0,987.02342053165785,41243.695168280043]
["2010-11-14",0,0,0,11,6.0000000000000005E-2,4.2375000000000003E-2,23.478888888888889,{"$f":"'RWH Calculator'!$C$56","v":0},23.478888888888889,963.54453164276902,0,23.478888888888889,0,963.54453164276902,41267.17405716893]
["2010-11-15",0,0,0,11,6.0000000000000005E-2,4.2375000000000003E-2,23.478888888888889,{"$f":"'RWH Calculator'!$C$56","v":0},23.478888888888889,940.06564275388018,0,23.478888888888889,0,940.06564275388018,41290.652946057817]
["2010-11-16",0,0,0,11,6.0000000000000005E-2,4.2375000000000003E-2,23.478888888888889,{"$f":"'RWH Calculator'!$C$56","v":0},23.478888888888889,916.58675386499135,0,23.478888888888889,0,916.58675386499135,41314.131834946704]
["2010-11-17",0,0,0,11,6.0000000000000005E-2,4.2375000000000003E-2,23.478888888888889,{"$f":"'RWH Calculator'!$C$56","v":0},23.478888888888889,893.10786497610252,0,23.478888888888889,0,893.10786497610252,41337.610723835591]
["2010-11-18",0,0,0,11,6.0000000000000005E-2,4.2375000000000003E-2,23.478888888888889,{"$f":"'RWH Calculator'!$C$56","v":0},23.478888888888889,869.62897608721369,0,23.478888888888889,0,869.62897608721369,41361.089612724478]
["2010-11-19",0.38,241.60400000000004,241.60400000000004,11,6.0000000000000005E-2,4.2375000000000003E-2,0,{"$f":"'RWH Calculator'!$C$56","v":0},0,1057.4600871983243,187.83111111111066,0,53.772888888889383,1111.2329760872137,41361.089612724478]
["2010-11-20",0.83000000000000007,527.71400000000006,527.71400000000006,11,6.0000000000000005E-2,4.2375000000000003E-2,0,{"$f":"'RWH Calculator'!$C$56","v":0},0,1057.4600871983243,0,0,527.71400000000006,1585.1740871983243,41361.089612724478]
["2010-11-21",0.17,108.08600000000001,108.08600000000001,11,6.0000000000000005E-2,4.2375000000000003E-2,0,{"$f":"'RWH Calculator'!$C$56","v":0},0,1057.4600871983243,0,0,108.08600000000001,1165.5460871983244,41361.089612724478]
["2010-11-22",0.04,25.432000000000006,25.432000000000006,11,6.0000000000000005E-2,4.2375000000000003E-2,1.3159259259259271,{"$f":"'RWH Calculator'!$C$56","v":0},1.3159259259259271,1057.4600871983243,1.3159259259259271,1.3159259259259271,24.116074074074078,1081.5761612723984,41362.405538650404]
["2010-11-23",0.17,108.08600000000001,108.08600000000001,11,6.0000000000000005E-2,4.2375000000000003E-2,0,{"$f":"'RWH Calculator'!$C$56","v":0},0,1057.4600871983243,0,0,108.08600000000001,1165.5460871983244,41362.405538650404]
["2010-11-24",0,0,0,11,6.0000000000000005E-2,4.2375000000000003E-2,23.478888888888889,{"$f":"'RWH Calculator'!$C$56","v":0},23.478888888888889,1033.9811983094355,0,23.478888888888889,0,1033.9811983094355,41385.884427539291]
["2010-11-25",0,0,0,11,6.0000000000000005E-2,4.2375000000000003E-2,23.478888888888889,{"$f":"'RWH Calculator'!$C$56","v":0},23.478888888888889,1010.5023094205467,0,23.478888888888889,0,1010.5023094205467,41409.363316428178]
["2010-11-26",0,0,0,11,6.0000000000000005E-2,4.2375000000000003E-2,23.478888888888889,{"$f":"'RWH Calculator'!$C$56","v":0},23.478888888888889,987.02342053165785,0,23.478888888888889,0,987.02342053165785,41432.842205317065]
["2010-11-27",0.27,171.66600000000003,171.66600000000003,11,6.0000000000000005E-2,4.2375000000000003E-2,0,{"$f":"'RWH Calculator'!$C$56","v":0},0,1057.4600871983243,70.436666666666497,0,101.22933333333353,1158.6894205316578,41432.842205317065]
["2010-11-28",0,0,0,11,6.0000000000000005E-2,4.2375000000000003E-2,23.478888888888889,{"$f":"'RWH Calculator'!$C$56","v":0},23.478888888888889,1033.9811983094355,0,23.478888888888889,0,1033.9811983094355,41456.321094205952]
["2010-11-29",0,0,0,11,6.0000000000000005E-2,4.2375000000000003E-2,23.478888888888889,{"$f":"'RWH Calculator'!$C$56","v":0},23.478888888888889,1010.5023094205467,0,23.478888888888889,0,1010.5023094205467,41479.799983094839]
["2010-11-30",0,0,0,11,6.0000000000000005E-2,4.2375000000000003E-2,23.478888888888889,{"$f":"'RWH Calculator'!$C$56","v":0},23.478888888888889,987.02342053165785,0,23.478888888888889,0,987.02342053165785,41503.278871983726]
["2010-12-01",0,0,0,12,0.04,2.8250000000000001E-2,15.652592592592596,{"$f":"'RWH Calculator'!$C$56","v":0},15.652592592592596,971.37082793906529,0,15.652592592592596,0,971.37082793906529,41518.931464576322]
["2010-12-02",0.02,12.716000000000003,12.716000000000003,12,0.04,2.8250000000000001E-2,4.5711111111111116,{"$f":"'RWH Calculator'!$C$56","v":0},4.5711111111111116,979.51571682795418,12.715999999999998,4.5711111111111116,5.3290705182007514E-15,979.51571682795418,41523.502575687431]
["2010-12-03",0,0,0,12,0.04,2.8250000000000001E-2,15.652592592592596,{"$f":"'RWH Calculator'!$C$56","v":0},15.652592592592596,963.86312423536162,0,15.652592592592596,0,963.86312423536162,41539.155168280027]
["2010-12-04",0.02,12.716000000000003,12.716000000000003,12,0.04,2.8250000000000001E-2,4.5711111111111116,{"$f":"'RWH Calculator'!$C$56","v":0},4.5711111111111116,972.00801312425051,12.715999999999998,4.5711111111111116,5.3290705182007514E-15,972.00801312425051,41543.726279391136]
["2010-12-05",0.37000000000000005,235.24600000000004,235.24600000000004,12,0.04,2.8250000000000001E-2,0,{"$f":"'RWH Calculator'!$C$56","v":0},0,1057.4600871983243,85.452074074073835,0,149.7939259259262,1207.2540131242506,41543.726279391136]
["2010-12-06",0.04,25.432000000000006,25.432000000000006,12,0.04,2.8250000000000001E-2,0,{"$f":"'RWH Calculator'!$C$56","v":0},0,1057.4600871983243,0,0,25.432000000000006,1082.8920871983244,41543.726279391136]
["2010-12-07",0,0,0,12,0.04,2.8250000000000001E-2,15.652592592592596,{"$f":"'RWH Calculator'!$C$56","v":0},15.652592592592596,1041.8074946057318,0,15.652592592592596,0,1041.8074946057318,41559.378871983732]
["2010-12-08",1.02,648.51600000000008,648.51600000000008,12,0.04,2.8250000000000001E-2,0,{"$f":"'RWH Calculator'!$C$56","v":0},0,1057.4600871983243,15.652592592592555,0,632.86340740740752,1690.3234946057319,41559.378871983732]
["2010-12-09",0.01,6.3580000000000014,6.3580000000000014,12,0.04,2.8250000000000001E-2,10.111851851851855,{"$f":"'RWH Calculator'!$C$56","v":0},10.111851851851855,1053.7062353464723,6.3580000000000014,10.111851851851855,0,1053.7062353464723,41569.490723835581]
["2010-12-10",0.02,12.716000000000003,12.716000000000003,12,0.04,2.8250000000000001E-2,4.5711111111111116,{"$f":"'RWH Calculator'!$C$56","v":0},4.5711111111111116,1057.4600871983243,8.3249629629631166,4.5711111111111116,4.3910370370368863,1061.8511242353611,41574.061834946689]
["2010-12-11",0,0,0,12,0.04,2.8250000000000001E-2,15.652592592592596,{"$f":"'RWH Calculator'!$C$56","v":0},15.652592592592596,1041.8074946057318,0,15.652592592592596,0,1041.8074946057318,41589.714427539286]
["2010-12-12",0,0,0,12,0.04,2.8250000000000001E-2,15.652592592592596,{"$f":"'RWH Calculator'!$C$56","v":0},15.652592592592596,1026.1549020131392,0,15.652592592592596,0,1026.1549020131392,41605.367020131882]
["2010-12-13",0,0,0,12,0.04,2.8250000000000001E-2,15.652592592592596,{"$f":"'RWH Calculator'!$C$56","v":0},15.652592592592596,1010.5023094205467,0,15.652592592592596,0,1010.5023094205467,41621.019612724478]
["2010-12-14",0.29000000000000004,184.38200000000003,184.38200000000003,12,0.04,2.8250000000000001E-2,0,{"$f":"'RWH Calculator'!$C$56","v":0},0,1057.4600871983243,46.957777777777665,0,137.42422222222237,1194.8843094205467,41621.019612724478]
["2010-12-15",0,0,0,12,0.04,2.8250000000000001E-2,15.652592592592596,{"$f":"'RWH Calculator'!$C$56","v":0},15.652592592592596,1041.8074946057318,0,15.652592592592596,0,1041.8074946057318,41636.672205317074]
["2010-12-16",0.02,12.716000000000003,12.716000000000003,12,0.04,2.8250000000000001E-2,4.5711111111111116,{"$f":"'RWH Calculator'!$C$56","v":0},4.5711111111111116,1049.9523834946206,12.715999999999884,4.5711111111111116,1.1901590823981678E-13,1049.9523834946206,41641.243316428183]
["2010-12-17",0.82000000000000006,521.35600000000011,521.35600000000011,12,0.04,2.8250000000000001E-2,0,{"$f":"'RWH Calculator'!$C$56","v":0},0,1057.4600871983243,7.5077037037037826,0,513.84829629629633,1571.3083834946206,41641.243316428183]
["2010-12-18",0.28000000000000003,178.02400000000003,178.02400000000003,12,0.04,2.8250000000000001E-2,0,{"$f":"'RWH Calculator'!$C$56","v":0},0,1057.4600871983243,0,0,178.02400000000003,1235.4840871983245,41641.243316428183]
["2010-12-19",1.2200000000000002,775.67600000000016,775.67600000000016,12,0.04,2.8250000000000001E-2,0,{"$f":"'RWH Calculator'!$C$56","v":0},0,1057.4600871983243,0,0,775.67600000000016,1833.1360871983245,41641.243316428183]
["2010-12-20",0.04,25.432000000000006,25.432000000000006,12,0.04,2.8250000000000001E-2,0,{"$f":"'RWH Calculator'!$C$56","v":0},0,1057.4600871983243,0,0,25.432000000000006,1082.8920871983244,41641.243316428183]
["2010-12-21",6.9999999999999993E-2,44.506,44.506,12,0.04,2.8250000000000001E-2,0,{"$f":"'RWH Calculator'!$C$56","v":0},0,1057.4600871983243,0,0,44.506,1101.9660871983244,41641.243316428183]
["2010-12-22",0.52,330.61600000000004,330.61600000000004,12,0.04,2.8250000000000001E-2,0,{"$f":"'RWH Calculator'!$C$56","v":0},0,1057.4600871983243,0,0,330.61600000000004,1388.0760871983243,41641.243316428183]
["2010-12-23",0,0,0,12,0.04,2.8250000000000001E-2,15.652592592592596,{"$f":"'RWH Calculator'!$C$56","v":0},15.652592592592596,1041.8074946057318,0,15.652592592592596,0,1041.8074946057318,41656.895909020779]
["2010-12-24",0,0,0,12,0.04,2.8250000000000001E-2,15.652592592592596,{"$f":"'RWH Calculator'!$C$56","v":0},15.652592592592596,1026.1549020131392,0,15.652592592592596,0,1026.1549020131392,41672.548501613375]
["2010-12-25",0.63,400.55399999999997,400.55399999999997,12,0.04,2.8250000000000001E-2,0,{"$f":"'RWH Calculator'!$C$56","v":0},0,1057.4600871983243,31.30518518518511,0,369.24881481481486,1426.7089020131393,41672.548501613375]
["2010-12-26",0.02,12.716000000000003,12.716000000000003,12,0.04,2.8250000000000001E-2,4.5711111111111116,{"$f":"'RWH Calculator'!$C$56","v":0},4.5711111111111116,1057.4600871983243,4.5711111111111116,4.5711111111111116,8.1448888888888913,1065.6049760872131,41677.119612724484]
["2010-12-27",0,0,0,12,0.04,2.8250000000000001E-2,15.652592592592596,{"$f":"'RWH Calculator'!$C$56","v":0},15.652592592592596,1041.8074946057318,0,15.652592592592596,0,1041.8074946057318,41692.77220531708]
["2010-12-28",1.1100000000000001,705.73800000000006,705.73800000000006,12,{"$f":"IF($B$2=\"Western SF\", VLOOKUP(E3659,$R$6:$U$17, 4),VLOOKUP(E3659, $R$6:$V$17,5))","v":0.04},2.8250000000000001E-2,0,{"$f":"'RWH Calculator'!$C$56","v":0},0,1057.4600871983243,15.652592592592555,0,690.0854074074075,1747.5454946057318,41692.77220531708]
["2010-12-29",0.19,120.80200000000002,120.80200000000002,{"$f":"MONTH(A3660)","v":12},{"$f":"IF($B$2=\"Western SF\", VLOOKUP(E3660,$R$6:$U$17, 4),VLOOKUP(E3660, $R$6:$V$17,5))","v":0.04},{"$f":"F3660*$B$6","v":2.8250000000000001E-2},0,{"$f":"'RWH Calculator'!$C$56","v":0},{"$f":"H3660+I3660","v":0},1057.4600871983243,0,0,120.80200000000002,1178.2620871983245,41692.77220531708]
["2010-12-30",0,{"$f":"$B$3*$B$4*(B3661/12)*7.48","v":0},{"$f":"C3661","v":0},{"$f":"MONTH(A3661)","v":12},{"$f":"IF($B$2=\"Western SF\", VLOOKUP(E3661,$R$6:$U$17, 4),VLOOKUP(E3661, $R$6:$V$17,5))","v":0.04},{"$f":"F3661*$B$6","v":2.8250000000000001E-2},{"$f":"(IF(G3661-B3661>0,(G3661-B3661)/$B$7,0)/12*7.48)*$B$8","v":15.652592592592596},{"$f":"'RWH Calculator'!$C$56","v":0},{"$f":"H3661+I3661","v":15.652592592592596},{"$f":"IF(O3661<0, 0, IF(O3661>$H$2, $H$2, O3661))","v":1041.8074946057318},{"$f":"IF(J3661>D3661,D3661, K3661-K3660+J3661)","v":0},{"$f":"IF(D3661+K3660>J3661,J3661, D3661+K3660)","v":15.652592592592596},{"$f":"IF(C3661>J3661, C3661-J3661-(K3661-K3660),0)","v":0},{"$f":"K3660+D3661-J3661","v":1041.8074946057318},{"$f":"M3661+P3660","v":41708.424797909676}]
["2010-12-31",0,{"$f":"$B$3*$B$4*(B3662/12)*7.48","v":0},{"$f":"C3662","v":0},{"$f":"MONTH(A3662)","v":12},{"$f":"IF($B$2=\"Western SF\", VLOOKUP(E3662,$R$6:$U$17, 4),VLOOKUP(E3662, $R$6:$V$17,5))","v":0.04},{"$f":"F3662*$B$6","v":2.8250000000000001E-2},{"$f":"(IF(G3662-B3662>0,(G3662-B3662)/$B$7,0)/12*7.48)*$B$8","v":15.652592592592596},{"$f":"'RWH Calculator'!$C$56","v":0},{"$f":"H3662+I3662","v":15.652592592592596},{"$f":"IF(O3662<0, 0, IF(O3662>$H$2, $H$2, O3662))","v":1026.1549020131392},{"$f":"IF(J3662>D3662,D3662, K3662-K3661+J3662)","v":0},{"$f":"IF(D3662+K3661>J3662,J3662, D3662+K3661)","v":15.652592592592596},{"$f":"IF(C3662>J3662, C3662-J3662-(K3662-K3661),0)","v":0},{"$f":"K3661+D3662-J3662","v":1026.1549020131392},{"$f":"M3662+P3661","v":41724.077390502272}]

{"sheet":"RWH Performance Evaluation","index":4,"n_rows":711,"n_cols":18,"rows_kept":711,"cut":false,"hidden":true,"merged":[[14,0,14,2],[0,0,0,4],[1,0,1,2],[2,0,2,2],[3,0,3,2],[4,0,4,2],[6,0,6,2],[7,0,7,2],[8,0,8,2],[10,0,10,2],[11,0,11,2],[13,0,13,2],[15,0,15,2],[19,0,19,5],[19,6,19,11],[19,12,19,17],[20,0,20,1],[20,6,20,7],[20,12,20,13],[21,2,21,5],[21,8,21,11],[21,14,21,17],[29,2,29,5],[29,8,29,11],[29,14,29,17]]}
["RAINWATER HARVESTER PERFORMANCE"]
["Runoff",null,null,{"$f":"SUM('RWH 10-yr Simulation'!C11:C3662)","v":147969.73399999968},"gal"]
["Runoff Collected",null,null,{"$f":"SUM('RWH 10-yr Simulation'!D11:D3662)","v":147969.73399999968},"gal"]
["Water Captured",null,null,{"$f":"SUM('RWH 10-yr Simulation'!L11:L3662)","v":42750.232292514906},"gal"]
["System Performance Capture",null,null,{"$f":"D4/D2","v":0.28891200340006695}]
[]
["Non-Potable Water Demand",null,null,{"$f":"SUM('RWH 10-yr Simulation'!J11:J3662)","v":136877.80129629682},"gal"]
["Water Harvested and Reused",null,null,{"$f":"SUM('RWH 10-yr Simulation'!M11:M3662)","v":41724.077390502272},"gal"]
["Non-Potable Demand Met",null,null,{"$f":"D8/D7","v":0.30482720350090181}]
[]
["Total Overflow",null,null,{"$f":"SUM('RWH 10-yr Simulation'!N11:N3662)","v":105219.50170748506},"gal"]
["Peak Overflow",null,null,{"$f":"MAX('RWH 10-yr Simulation'!N11:N3662)","v":1977.3380000000002},"gal//day"]
[]
["Days with Precipitation",null,null,{"$f":"COUNTIF('RWH 10-yr Simulation'!B11:B3662,\">0\")","v":689},"days"]
["Days with Irrigation Demand",null,null,{"$f":"COUNTIF('RWH 10-yr Simulation'!H11:H3662, \">0\")","v":3129},"days"]
["Days with Water in Cistern",null,null,{"$f":"COUNTIF('RWH 10-yr Simulation'!K11:K3662, \">0\")","v":1914},"days"]
[null,null,"Avg Cistern Volume Before Storm",{"$f":"K31","v":822.16724283311908},"gal"]
[]
[]
["Annual Analysis",null,null,null,null,null,"Extended Rainy Season Analysis (October - May)",null,null,null,null,null,"Compacted Rainy Season Analysis (November - April)"]
["Days Prior to Rain Event",null,null,null,null,null,"Days Prior to Rain Event",null,null,null,null,null,"Days Prior to Rain Event"]
["Date","Volume in Storage (gal)","Before Storm Statistics",null,null,null,"Date","Volume in Storage (gal)","Before Storm Statistics",null,null,null,"Date","Volume in Storage (gal)","Before Storm Statistics"]
["2001-01-07",{"$f":"VLOOKUP(A23,'RWH 10-yr Simulation'!$A$11:$N$3662,11)","v":0},null,"Total Rainy Days",{"$f":"COUNT(A23:A711)","v":689},"days","2001-01-07",{"$f":"VLOOKUP(G23,'RWH 10-yr Simulation'!$A$11:$N$3662,11)","v":0},null,"Total Rainy Days",{"$f":"COUNT(G23:G678)","v":656},null,"2001-01-07",{"$f":"VLOOKUP(M23,'RWH 10-yr Simulation'!$A$11:$N$3662,11)","v":0},null,"Total Rainy Days",{"$f":"COUNT(M23:M615)","v":593}]
["2001-01-08",{"$f":"VLOOKUP(A24,'RWH 10-yr Simulation'!$A$11:$N$3662,11)","v":356.04800000000006},null,"No water in cistern",{"$f":"COUNTIF(B23:B711, \"0\")","v":68},"days","2001-01-08",{"$f":"VLOOKUP(G24,'RWH 10-yr Simulation'!$A$11:$N$3662,11)","v":356.04800000000006},null,"No water in cistern",{"$f":"COUNTIF(H23:H678, \"0\")","v":38},"days","2001-01-08",{"$f":"VLOOKUP(M24,'RWH 10-yr Simulation'!$A$11:$N$3662,11)","v":356.04800000000006},null,"No water in cistern",{"$f":"COUNTIF(N23:N615, \"0\")","v":15},"days"]
["2001-01-09",{"$f":"VLOOKUP(A25,'RWH 10-yr Simulation'!$A$11:$N$3662,11)","v":413.27000000000004},null,"No water in cistern",{"$f":"E24/689","v":9.8693759071117562E-2},null,"2001-01-09",{"$f":"VLOOKUP(G25,'RWH 10-yr Simulation'!$A$11:$N$3662,11)","v":413.27000000000004},null,"No water in cistern",{"$f":"K24/689","v":5.5152394775036286E-2},null,"2001-01-09",{"$f":"VLOOKUP(M25,'RWH 10-yr Simulation'!$A$11:$N$3662,11)","v":413.27000000000004},null,"No water in cistern",{"$f":"Q24/689","v":2.1770682148040638E-2}]
["2001-01-10",{"$f":"VLOOKUP(A26,'RWH 10-yr Simulation'!$A$11:$N$3662,11)","v":890.12000000000012},null,"Cistern Full",{"$f":"COUNTIF(B23:B711, \">=\" &'RWH Calculator'!C75)","v":265},"days","2001-01-10",{"$f":"VLOOKUP(G26,'RWH 10-yr Simulation'!$A$11:$N$3662,11)","v":890.12000000000012},null,"Cistern Full",{"$f":"COUNTIF(H23:H678, \">=\" &'RWH Calculator'!C75)","v":265},"days","2001-01-10",{"$f":"VLOOKUP(M26,'RWH 10-yr Simulation'!$A$11:$N$3662,11)","v":890.12000000000012},null,"Cistern Full",{"$f":"COUNTIF(N23:N615, \">=\" &'RWH Calculator'!C75)","v":265},"days"]
["2001-01-11",{"$f":"VLOOKUP(A27,'RWH 10-yr Simulation'!$A$11:$N$3662,11)","v":1057.4600871983243},null,"Cistern Full",{"$f":"E26/689","v":0.38461538461538464},null,"2001-01-11",{"$f":"VLOOKUP(G27,'RWH 10-yr Simulation'!$A$11:$N$3662,11)","v":1057.4600871983243},null,"Cistern Full",{"$f":"K26/689","v":0.38461538461538464},null,"2001-01-11",{"$f":"VLOOKUP(M27,'RWH 10-yr Simulation'!$A$11:$N$3662,11)","v":1057.4600871983243},null,"Cistern Full",{"$f":"Q26/689","v":0.38461538461538464}]
["2001-01-22",{"$f":"VLOOKUP(A28,'RWH 10-yr Simulation'!$A$11:$N$3662,11)","v":897.18030942054679},null,null,null,null,"2001-01-22",{"$f":"VLOOKUP(G28,'RWH 10-yr Simulation'!$A$11:$N$3662,11)","v":897.18030942054679},null,null,null,null,"2001-01-22",{"$f":"VLOOKUP(M28,'RWH 10-yr Simulation'!$A$11:$N$3662,11)","v":897.18030942054679}]
["2001-01-23",{"$f":"VLOOKUP(A29,'RWH 10-yr Simulation'!$A$11:$N$3662,11)","v":1057.4600871983243},null,null,null,null,"2001-01-23",{"$f":"VLOOKUP(G29,'RWH 10-yr Simulation'!$A$11:$N$3662,11)","v":1057.4600871983243},null,null,null,null,"2001-01-23",{"$f":"VLOOKUP(M29,'RWH 10-yr Simulation'!$A$11:$N$3662,11)","v":1057.4600871983243}]
["2001-01-24",{"$f":"VLOOKUP(A30,'RWH 10-yr Simulation'!$A$11:$N$3662,11)","v":1057.4600871983243},"Annual Averages",null,null,null,"2001-01-24",{"$f":"VLOOKUP(G30,'RWH 10-yr Simulation'!$A$11:$N$3662,11)","v":1057.4600871983243},"Seasonal Averages",null,null,null,"2001-01-24",{"$f":"VLOOKUP(M30,'RWH 10-yr Simulation'!$A$11:$N$3662,11)","v":1057.4600871983243},"Seasonal Averages"]
["2001-01-25",{"$f":"VLOOKUP(A31,'RWH 10-yr Simulation'!$A$11:$N$3662,11)","v":1057.4600871983243},null,"Average Volume",{"$f":"AVERAGE(B23:B711)","v":783.56632247810603},"gal","2001-01-25",{"$f":"VLOOKUP(G31,'RWH 10-yr Simulation'!$A$11:$N$3662,11)","v":1057.4600871983243},null,"Average Volume",{"$f":"AVERAGE(H23:H678)","v":822.16724283311908},"gal","2001-01-25",{"$f":"VLOOKUP(M31,'RWH 10-yr Simulation'!$A$11:$N$3662,11)","v":1057.4600871983243},null,"Average Volume",{"$f":"AVERAGE(N23:N615)","v":889.08677535208983},"gal"]
["2001-01-28",{"$f":"VLOOKUP(A32,'RWH 10-yr Simulation'!$A$11:$N$3662,11)","v":1026.1549020131392},null,"Above Average",{"$f":"COUNTIF(B23:B711, \">\" &E31)","v":479},"days","2001-01-28",{"$f":"VLOOKUP(G32,'RWH 10-yr Simulation'!$A$11:$N$3662,11)","v":1026.1549020131392},null,"Above Average",{"$f":"COUNTIF(H23:H678, \">\" &K31)","v":473},"days","2001-01-28",{"$f":"VLOOKUP(M32,'RWH 10-yr Simulation'!$A$11:$N$3662,11)","v":1026.1549020131392},null,"Above Average",{"$f":"COUNTIF(N23:N615, \">\" &Q31)","v":439},"days"]
["2001-02-05",{"$f":"VLOOKUP(A33,'RWH 10-yr Simulation'!$A$11:$N$3662,11)","v":908.76045756869507},null,"Above Average",{"$f":"E32/E23","v":0.69521044992743108},null,"2001-02-05",{"$f":"VLOOKUP(G33,'RWH 10-yr Simulation'!$A$11:$N$3662,11)","v":908.76045756869507},null,"Above Average",{"$f":"K32/K23","v":0.72103658536585369},null,"2001-02-05",{"$f":"VLOOKUP(M33,'RWH 10-yr Simulation'!$A$11:$N$3662,11)","v":908.76045756869507},null,"Above Average",{"$f":"Q32/Q23","v":0.7403035413153457}]
["2001-02-08",{"$f":"VLOOKUP(A34,'RWH 10-yr Simulation'!$A$11:$N$3662,11)","v":885.91875386499146},null,"Below Average",{"$f":"COUNTIF(B23:B711, \"<\" &E31)","v":210},"days","2001-02-08",{"$f":"VLOOKUP(G34,'RWH 10-yr Simulation'!$A$11:$N$3662,11)","v":885.91875386499146},null,"Below Average",{"$f":"COUNTIF(H23:H678, \"<\" &K31)","v":183},"days","2001-02-08",{"$f":"VLOOKUP(M34,'RWH 10-yr Simulation'!$A$11:$N$3662,11)","v":885.91875386499146},null,"Below Average",{"$f":"COUNTIF(N23:N615, \"<\" &Q31)","v":154},"days"]
["2001-02-09",{"$f":"VLOOKUP(A35,'RWH 10-yr Simulation'!$A$11:$N$3662,11)","v":1057.4600871983243},null,"Below Average",{"$f":"E34/E23","v":0.30478955007256892},null,"2001-02-09",{"$f":"VLOOKUP(G35,'RWH 10-yr Simulation'!$A$11:$N$3662,11)","v":1057.4600871983243},null,"Below Average",{"$f":"K34/K23","v":0.27896341463414637},null,"2001-02-09",{"$f":"VLOOKUP(M35,'RWH 10-yr Simulation'!$A$11:$N$3662,11)","v":1057.4600871983243},null,"Below Average",{"$f":"Q34/Q23","v":0.2596964586846543}]
["2001-02-10",{"$f":"VLOOKUP(A36,'RWH 10-yr Simulation'!$A$11:$N$3662,11)","v":1057.4600871983243},null,null,null,null,"2001-02-10",{"$f":"VLOOKUP(G36,'RWH 10-yr Simulation'!$A$11:$N$3662,11)","v":1057.4600871983243},null,null,null,null,"2001-02-10",{"$f":"VLOOKUP(M36,'RWH 10-yr Simulation'!$A$11:$N$3662,11)","v":1057.4600871983243}]
["2001-02-11",{"$f":"VLOOKUP(A37,'RWH 10-yr Simulation'!$A$11:$N$3662,11)","v":1057.4600871983243},null,null,null,null,"2001-02-11",{"$f":"VLOOKUP(G37,'RWH 10-yr Simulation'!$A$11:$N$3662,11)","v":1057.4600871983243},null,null,null,null,"2001-02-11",{"$f":"VLOOKUP(M37,'RWH 10-yr Simulation'!$A$11:$N$3662,11)","v":1057.4600871983243}]
["2001-02-16",{"$f":"VLOOKUP(A38,'RWH 10-yr Simulation'!$A$11:$N$3662,11)","v":963.54453164276902},null,null,null,null,"2001-02-16",{"$f":"VLOOKUP(G38,'RWH 10-yr Simulation'!$A$11:$N$3662,11)","v":963.54453164276902},null,null,null,null,"2001-02-16",{"$f":"VLOOKUP(M38,'RWH 10-yr Simulation'!$A$11:$N$3662,11)","v":963.54453164276902}]
["2001-02-17",{"$f":"VLOOKUP(A39,'RWH 10-yr Simulation'!$A$11:$N$3662,11)","v":1057.4600871983243},null,null,null,null,"2001-02-17",{"$f":"VLOOKUP(G39,'RWH 10-yr Simulation'!$A$11:$N$3662,11)","v":1057.4600871983243},null,null,null,null,"2001-02-17",{"$f":"VLOOKUP(M39,'RWH 10-yr Simulation'!$A$11:$N$3662,11)","v":1057.4600871983243}]
["2001-02-18",{"$f":"VLOOKUP(A40,'RWH 10-yr Simulation'!$A$11:$N$3662,11)","v":1057.4600871983243},null,null,null,null,"2001-02-18",{"$f":"VLOOKUP(G40,'RWH 10-yr Simulation'!$A$11:$N$3662,11)","v":1057.4600871983243},null,null,null,null,"2001-02-18",{"$f":"VLOOKUP(M40,'RWH 10-yr Simulation'!$A$11:$N$3662,11)","v":1057.4600871983243}]
["2001-02-19",{"$f":"VLOOKUP(A41,'RWH 10-yr Simulation'!$A$11:$N$3662,11)","v":1057.4600871983243},null,null,null,null,"2001-02-19",{"$f":"VLOOKUP(G41,'RWH 10-yr Simulation'!$A$11:$N$3662,11)","v":1057.4600871983243},null,null,null,null,"2001-02-19",{"$f":"VLOOKUP(M41,'RWH 10-yr Simulation'!$A$11:$N$3662,11)","v":1057.4600871983243}]
["2001-02-20",{"$f":"VLOOKUP(A42,'RWH 10-yr Simulation'!$A$11:$N$3662,11)","v":1057.4600871983243},null,null,null,null,"2001-02-20",{"$f":"VLOOKUP(G42,'RWH 10-yr Simulation'!$A$11:$N$3662,11)","v":1057.4600871983243},null,null,null,null,"2001-02-20",{"$f":"VLOOKUP(M42,'RWH 10-yr Simulation'!$A$11:$N$3662,11)","v":1057.4600871983243}]
["2001-02-21",{"$f":"VLOOKUP(A43,'RWH 10-yr Simulation'!$A$11:$N$3662,11)","v":1057.4600871983243},null,null,null,null,"2001-02-21",{"$f":"VLOOKUP(G43,'RWH 10-yr Simulation'!$A$11:$N$3662,11)","v":1057.4600871983243},null,null,null,null,"2001-02-21",{"$f":"VLOOKUP(M43,'RWH 10-yr Simulation'!$A$11:$N$3662,11)","v":1057.4600871983243}]
["2001-02-22",{"$f":"VLOOKUP(A44,'RWH 10-yr Simulation'!$A$11:$N$3662,11)","v":1057.4600871983243},null,null,null,null,"2001-02-22",{"$f":"VLOOKUP(G44,'RWH 10-yr Simulation'!$A$11:$N$3662,11)","v":1057.4600871983243},null,null,null,null,"2001-02-22",{"$f":"VLOOKUP(M44,'RWH 10-yr Simulation'!$A$11:$N$3662,11)","v":1057.4600871983243}]
["2001-02-23",{"$f":"VLOOKUP(A45,'RWH 10-yr Simulation'!$A$11:$N$3662,11)","v":1057.4600871983243},null,null,null,null,"2001-02-23",{"$f":"VLOOKUP(G45,'RWH 10-yr Simulation'!$A$11:$N$3662,11)","v":1057.4600871983243},null,null,null,null,"2001-02-23",{"$f":"VLOOKUP(M45,'RWH 10-yr Simulation'!$A$11:$N$3662,11)","v":1057.4600871983243}]
["2001-02-24",{"$f":"VLOOKUP(A46,'RWH 10-yr Simulation'!$A$11:$N$3662,11)","v":1057.4600871983243},null,null,null,null,"2001-02-24",{"$f":"VLOOKUP(G46,'RWH 10-yr Simulation'!$A$11:$N$3662,11)","v":1057.4600871983243},null,null,null,null,"2001-02-24",{"$f":"VLOOKUP(M46,'RWH 10-yr Simulation'!$A$11:$N$3662,11)","v":1057.4600871983243}]
["2001-02-28",{"$f":"VLOOKUP(A47,'RWH 10-yr Simulation'!$A$11:$N$3662,11)","v":987.02342053165785},null,null,null,null,"2001-02-28",{"$f":"VLOOKUP(G47,'RWH 10-yr Simulation'!$A$11:$N$3662,11)","v":987.02342053165785},null,null,null,null,"2001-02-28",{"$f":"VLOOKUP(M47,'RWH 10-yr Simulation'!$A$11:$N$3662,11)","v":987.02342053165785}]
["2001-03-01",{"$f":"VLOOKUP(A48,'RWH 10-yr Simulation'!$A$11:$N$3662,11)","v":1019.2843834946207},null,null,null,null,"2001-03-01",{"$f":"VLOOKUP(G48,'RWH 10-yr Simulation'!$A$11:$N$3662,11)","v":1019.2843834946207},null,null,null,null,"2001-03-01",{"$f":"VLOOKUP(M48,'RWH 10-yr Simulation'!$A$11:$N$3662,11)","v":1019.2843834946207}]
["2001-03-02",{"$f":"VLOOKUP(A49,'RWH 10-yr Simulation'!$A$11:$N$3662,11)","v":1057.4600871983243},null,null,null,null,"2001-03-02",{"$f":"VLOOKUP(G49,'RWH 10-yr Simulation'!$A$11:$N$3662,11)","v":1057.4600871983243},null,null,null,null,"2001-03-02",{"$f":"VLOOKUP(M49,'RWH 10-yr Simulation'!$A$11:$N$3662,11)","v":1057.4600871983243}]
["2001-03-03",{"$f":"VLOOKUP(A50,'RWH 10-yr Simulation'!$A$11:$N$3662,11)","v":1057.4600871983243},null,null,null,null,"2001-03-03",{"$f":"VLOOKUP(G50,'RWH 10-yr Simulation'!$A$11:$N$3662,11)","v":1057.4600871983243},null,null,null,null,"2001-03-03",{"$f":"VLOOKUP(M50,'RWH 10-yr Simulation'!$A$11:$N$3662,11)","v":1057.4600871983243}]
["2001-03-04",{"$f":"VLOOKUP(A51,'RWH 10-yr Simulation'!$A$11:$N$3662,11)","v":1057.4600871983243},null,null,null,null,"2001-03-04",{"$f":"VLOOKUP(G51,'RWH 10-yr Simulation'!$A$11:$N$3662,11)","v":1057.4600871983243},null,null,null,null,"2001-03-04",{"$f":"VLOOKUP(M51,'RWH 10-yr Simulation'!$A$11:$N$3662,11)","v":1057.4600871983243}]
["2001-03-05",{"$f":"VLOOKUP(A52,'RWH 10-yr Simulation'!$A$11:$N$3662,11)","v":1057.4600871983243},null,null,null,null,"2001-03-05",{"$f":"VLOOKUP(G52,'RWH 10-yr Simulation'!$A$11:$N$3662,11)","v":1057.4600871983243},null,null,null,null,"2001-03-05",{"$f":"VLOOKUP(M52,'RWH 10-yr Simulation'!$A$11:$N$3662,11)","v":1057.4600871983243}]
["2001-03-23",{"$f":"VLOOKUP(A53,'RWH 10-yr Simulation'!$A$11:$N$3662,11)","v":364.99216127239799},null,null,null,null,"2001-03-23",{"$f":"VLOOKUP(G53,'RWH 10-yr Simulation'!$A$11:$N$3662,11)","v":364.99216127239799},null,null,null,null,"2001-03-23",{"$f":"VLOOKUP(M53,'RWH 10-yr Simulation'!$A$11:$N$3662,11)","v":364.99216127239799}]
["2001-03-24",{"$f":"VLOOKUP(A54,'RWH 10-yr Simulation'!$A$11:$N$3662,11)","v":397.25312423536099},null,null,null,null,"2001-03-24",{"$f":"VLOOKUP(G54,'RWH 10-yr Simulation'!$A$11:$N$3662,11)","v":397.25312423536099},null,null,null,null,"2001-03-24",{"$f":"VLOOKUP(M54,'RWH 10-yr Simulation'!$A$11:$N$3662,11)","v":397.25312423536099}]
["2001-04-05",{"$f":"VLOOKUP(A55,'RWH 10-yr Simulation'!$A$11:$N$3662,11)","v":0},null,null,null,null,"2001-04-05",{"$f":"VLOOKUP(G55,'RWH 10-yr Simulation'!$A$11:$N$3662,11)","v":0},null,null,null,null,"2001-04-05",{"$f":"VLOOKUP(M55,'RWH 10-yr Simulation'!$A$11:$N$3662,11)","v":0}]
["2001-04-06",{"$f":"VLOOKUP(A56,'RWH 10-yr Simulation'!$A$11:$N$3662,11)","v":158.95000000000002},null,null,null,null,"2001-04-06",{"$f":"VLOOKUP(G56,'RWH 10-yr Simulation'!$A$11:$N$3662,11)","v":158.95000000000002},null,null,null,null,"2001-04-06",{"$f":"VLOOKUP(M56,'RWH 10-yr Simulation'!$A$11:$N$3662,11)","v":158.95000000000002}]
["2001-04-08",{"$f":"VLOOKUP(A57,'RWH 10-yr Simulation'!$A$11:$N$3662,11)","v":273.38707407407412},null,null,null,null,"2001-04-08",{"$f":"VLOOKUP(G57,'RWH 10-yr Simulation'!$A$11:$N$3662,11)","v":273.38707407407412},null,null,null,null,"2001-04-08",{"$f":"VLOOKUP(M57,'RWH 10-yr Simulation'!$A$11:$N$3662,11)","v":273.38707407407412}]
["2001-04-10",{"$f":"VLOOKUP(A58,'RWH 10-yr Simulation'!$A$11:$N$3662,11)","v":400.54014814814821},null,null,null,null,"2001-04-10",{"$f":"VLOOKUP(G58,'RWH 10-yr Simulation'!$A$11:$N$3662,11)","v":400.54014814814821},null,null,null,null,"2001-04-10",{"$f":"VLOOKUP(M58,'RWH 10-yr Simulation'!$A$11:$N$3662,11)","v":400.54014814814821}]
["2001-04-17",{"$f":"VLOOKUP(A59,'RWH 10-yr Simulation'!$A$11:$N$3662,11)","v":139.63359259259266},null,null,null,null,"2001-04-17",{"$f":"VLOOKUP(G59,'RWH 10-yr Simulation'!$A$11:$N$3662,11)","v":139.63359259259266},null,null,null,null,"2001-04-17",{"$f":"VLOOKUP(M59,'RWH 10-yr Simulation'!$A$11:$N$3662,11)","v":139.63359259259266}]
["2001-04-18",{"$f":"VLOOKUP(A60,'RWH 10-yr Simulation'!$A$11:$N$3662,11)","v":160.15511111111118},null,null,null,null,"2001-04-18",{"$f":"VLOOKUP(G60,'RWH 10-yr Simulation'!$A$11:$N$3662,11)","v":160.15511111111118},null,null,null,null,"2001-04-18",{"$f":"VLOOKUP(M60,'RWH 10-yr Simulation'!$A$11:$N$3662,11)","v":160.15511111111118}]
["2001-04-19",{"$f":"VLOOKUP(A61,'RWH 10-yr Simulation'!$A$11:$N$3662,11)","v":121.182925925926},null,null,null,null,"2001-04-19",{"$f":"VLOOKUP(G61,'RWH 10-yr Simulation'!$A$11:$N$3662,11)","v":121.182925925926},null,null,null,null,"2001-04-19",{"$f":"VLOOKUP(M61,'RWH 10-yr Simulation'!$A$11:$N$3662,11)","v":121.182925925926}]
["2001-04-26",{"$f":"VLOOKUP(A62,'RWH 10-yr Simulation'!$A$11:$N$3662,11)","v":400.89337037037058},null,null,null,null,"2001-04-26",{"$f":"VLOOKUP(G62,'RWH 10-yr Simulation'!$A$11:$N$3662,11)","v":400.89337037037058},null,null,null,null,"2001-04-26",{"$f":"VLOOKUP(M62,'RWH 10-yr Simulation'!$A$11:$N$3662,11)","v":400.89337037037058}]
["2001-04-27",{"$f":"VLOOKUP(A63,'RWH 10-yr Simulation'!$A$11:$N$3662,11)","v":361.92118518518538},null,null,null,null,"2001-04-27",{"$f":"VLOOKUP(G63,'RWH 10-yr Simulation'!$A$11:$N$3662,11)","v":361.92118518518538},null,null,null,null,"2001-04-27",{"$f":"VLOOKUP(M63,'RWH 10-yr Simulation'!$A$11:$N$3662,11)","v":361.92118518518538}]
["2001-06-24",{"$f":"VLOOKUP(A64,'RWH 10-yr Simulation'!$A$11:$N$3662,11)","v":0},null,null,null,null,"2001-10-28",{"$f":"VLOOKUP(G64,'RWH 10-yr Simulation'!$A$11:$N$3662,11)","v":0},null,null,null,null,"2001-11-02",{"$f":"VLOOKUP(M64,'RWH 10-yr Simulation'!$A$11:$N$3662,11)","v":223.00788888888889}]
["2001-07-29",{"$f":"VLOOKUP(A65,'RWH 10-yr Simulation'!$A$11:$N$3662,11)","v":0},null,null,null,null,"2001-10-29",{"$f":"VLOOKUP(G65,'RWH 10-yr Simulation'!$A$11:$N$3662,11)","v":0},null,null,null,null,"2001-11-09",{"$f":"VLOOKUP(M65,'RWH 10-yr Simulation'!$A$11:$N$3662,11)","v":70.55440740740741}]
["2001-08-03",{"$f":"VLOOKUP(A66,'RWH 10-yr Simulation'!$A$11:$N$3662,11)","v":0},null,null,null,null,"2001-11-02",{"$f":"VLOOKUP(G66,'RWH 10-yr Simulation'!$A$11:$N$3662,11)","v":223.00788888888889},null,null,null,null,"2001-11-10",{"$f":"VLOOKUP(M66,'RWH 10-yr Simulation'!$A$11:$N$3662,11)","v":445.67640740740751}]
["2001-09-16",{"$f":"VLOOKUP(A67,'RWH 10-yr Simulation'!$A$11:$N$3662,11)","v":0},null,null,null,null,"2001-11-09",{"$f":"VLOOKUP(G67,'RWH 10-yr Simulation'!$A$11:$N$3662,11)","v":70.55440740740741},null,null,null,null,"2001-11-11",{"$f":"VLOOKUP(M67,'RWH 10-yr Simulation'!$A$11:$N$3662,11)","v":490.18240740740748}]
["2001-09-23",{"$f":"VLOOKUP(A68,'RWH 10-yr Simulation'!$A$11:$N$3662,11)","v":0},null,null,null,null,"2001-11-10",{"$f":"VLOOKUP(G68,'RWH 10-yr Simulation'!$A$11:$N$3662,11)","v":445.67640740740751},null,null,null,null,"2001-11-12",{"$f":"VLOOKUP(M68,'RWH 10-yr Simulation'!$A$11:$N$3662,11)","v":1057.4600871983243}]
["2001-09-24",{"$f":"VLOOKUP(A69,'RWH 10-yr Simulation'!$A$11:$N$3662,11)","v":101.72800000000002},null,null,null,null,"2001-11-11",{"$f":"VLOOKUP(G69,'RWH 10-yr Simulation'!$A$11:$N$3662,11)","v":490.18240740740748},null,null,null,null,"2001-11-13",{"$f":"VLOOKUP(M69,'RWH 10-yr Simulation'!$A$11:$N$3662,11)","v":1045.8799390501761}]
["2001-10-28",{"$f":"VLOOKUP(A70,'RWH 10-yr Simulation'!$A$11:$N$3662,11)","v":0},null,null,null,null,"2001-11-12",{"$f":"VLOOKUP(G70,'RWH 10-yr Simulation'!$A$11:$N$3662,11)","v":1057.4600871983243},null,null,null,null,"2001-11-15",{"$f":"VLOOKUP(M70,'RWH 10-yr Simulation'!$A$11:$N$3662,11)","v":1033.9811983094355}]
["2001-10-29",{"$f":"VLOOKUP(A71,'RWH 10-yr Simulation'!$A$11:$N$3662,11)","v":0},null,null,null,null,"2001-11-13",{"$f":"VLOOKUP(G71,'RWH 10-yr Simulation'!$A$11:$N$3662,11)","v":1045.8799390501761},null,null,null,null,"2001-11-20",{"$f":"VLOOKUP(M71,'RWH 10-yr Simulation'!$A$11:$N$3662,11)","v":963.54453164276902}]
["2001-11-02",{"$f":"VLOOKUP(A72,'RWH 10-yr Simulation'!$A$11:$N$3662,11)","v":223.00788888888889},null,null,null,null,"2001-11-15",{"$f":"VLOOKUP(G72,'RWH 10-yr Simulation'!$A$11:$N$3662,11)","v":1033.9811983094355},null,null,null,null,"2001-11-21",{"$f":"VLOOKUP(M72,'RWH 10-yr Simulation'!$A$11:$N$3662,11)","v":1057.4600871983243}]
["2001-11-09",{"$f":"VLOOKUP(A73,'RWH 10-yr Simulation'!$A$11:$N$3662,11)","v":70.55440740740741},null,null,null,null,"2001-11-20",{"$f":"VLOOKUP(G73,'RWH 10-yr Simulation'!$A$11:$N$3662,11)","v":963.54453164276902},null,null,null,null,"2001-11-23",{"$f":"VLOOKUP(M73,'RWH 10-yr Simulation'!$A$11:$N$3662,11)","v":1022.4010501612872}]
["2001-11-10",{"$f":"VLOOKUP(A74,'RWH 10-yr Simulation'!$A$11:$N$3662,11)","v":445.67640740740751},null,null,null,null,"2001-11-21",{"$f":"VLOOKUP(G74,'RWH 10-yr Simulation'!$A$11:$N$3662,11)","v":1057.4600871983243},null,null,null,null,"2001-11-27",{"$f":"VLOOKUP(M74,'RWH 10-yr Simulation'!$A$11:$N$3662,11)","v":987.02342053165785}]
["2001-11-11",{"$f":"VLOOKUP(A75,'RWH 10-yr Simulation'!$A$11:$N$3662,11)","v":490.18240740740748},null,null,null,null,"2001-11-23",{"$f":"VLOOKUP(G75,'RWH 10-yr Simulation'!$A$11:$N$3662,11)","v":1022.4010501612872},null,null,null,null,"2001-11-28",{"$f":"VLOOKUP(M75,'RWH 10-yr Simulation'!$A$11:$N$3662,11)","v":1057.4600871983243}]
["2001-11-12",{"$f":"VLOOKUP(A76,'RWH 10-yr Simulation'!$A$11:$N$3662,11)","v":1057.4600871983243},null,null,null,null,"2001-11-27",{"$f":"VLOOKUP(G76,'RWH 10-yr Simulation'!$A$11:$N$3662,11)","v":987.02342053165785},null,null,null,null,"2001-11-29",{"$f":"VLOOKUP(M76,'RWH 10-yr Simulation'!$A$11:$N$3662,11)","v":1057.4600871983243}]
["2001-11-13",{"$f":"VLOOKUP(A77,'RWH 10-yr Simulation'!$A$11:$N$3662,11)","v":1045.8799390501761},null,null,null,null,"2001-11-28",{"$f":"VLOOKUP(G77,'RWH 10-yr Simulation'!$A$11:$N$3662,11)","v":1057.4600871983243},null,null,null,null,"2001-11-30",{"$f":"VLOOKUP(M77,'RWH 10-yr Simulation'!$A$11:$N$3662,11)","v":1057.4600871983243}]
["2001-11-15",{"$f":"VLOOKUP(A78,'RWH 10-yr Simulation'!$A$11:$N$3662,11)","v":1033.9811983094355},null,null,null,null,"2001-11-29",{"$f":"VLOOKUP(G78,'RWH 10-yr Simulation'!$A$11:$N$3662,11)","v":1057.4600871983243},null,null,null,null,"2001-12-01",{"$f":"VLOOKUP(M78,'RWH 10-yr Simulation'!$A$11:$N$3662,11)","v":1057.4600871983243}]
["2001-11-20",{"$f":"VLOOKUP(A79,'RWH 10-yr Simulation'!$A$11:$N$3662,11)","v":963.54453164276902},null,null,null,null,"2001-11-30",{"$f":"VLOOKUP(G79,'RWH 10-yr Simulation'!$A$11:$N$3662,11)","v":1057.4600871983243},null,null,null,null,"2001-12-02",{"$f":"VLOOKUP(M79,'RWH 10-yr Simulation'!$A$11:$N$3662,11)","v":1057.4600871983243}]
["2001-11-21",{"$f":"VLOOKUP(A80,'RWH 10-yr Simulation'!$A$11:$N$3662,11)","v":1057.4600871983243},null,null,null,null,"2001-12-01",{"$f":"VLOOKUP(G80,'RWH 10-yr Simulation'!$A$11:$N$3662,11)","v":1057.4600871983243},null,null,null,null,"2001-12-04",{"$f":"VLOOKUP(M80,'RWH 10-yr Simulation'!$A$11:$N$3662,11)","v":1041.8074946057318}]
["2001-11-23",{"$f":"VLOOKUP(A81,'RWH 10-yr Simulation'!$A$11:$N$3662,11)","v":1022.4010501612872},null,null,null,null,"2001-12-02",{"$f":"VLOOKUP(G81,'RWH 10-yr Simulation'!$A$11:$N$3662,11)","v":1057.4600871983243},null,null,null,null,"2001-12-05",{"$f":"VLOOKUP(M81,'RWH 10-yr Simulation'!$A$11:$N$3662,11)","v":1057.4600871983243}]
["2001-11-27",{"$f":"VLOOKUP(A82,'RWH 10-yr Simulation'!$A$11:$N$3662,11)","v":987.02342053165785},null,null,null,null,"2001-12-04",{"$f":"VLOOKUP(G82,'RWH 10-yr Simulation'!$A$11:$N$3662,11)","v":1041.8074946057318},null,null,null,null,"2001-12-07",{"$f":"VLOOKUP(M82,'RWH 10-yr Simulation'!$A$11:$N$3662,11)","v":1041.8074946057318}]
["2001-11-28",{"$f":"VLOOKUP(A83,'RWH 10-yr Simulation'!$A$11:$N$3662,11)","v":1057.4600871983243},null,null,null,null,"2001-12-05",{"$f":"VLOOKUP(G83,'RWH 10-yr Simulation'!$A$11:$N$3662,11)","v":1057.4600871983243},null,null,null,null,"2001-12-12",{"$f":"VLOOKUP(M83,'RWH 10-yr Simulation'!$A$11:$N$3662,11)","v":987.34201312425034}]
["2001-11-29",{"$f":"VLOOKUP(A84,'RWH 10-yr Simulation'!$A$11:$N$3662,11)","v":1057.4600871983243},null,null,null,null,"2001-12-07",{"$f":"VLOOKUP(G84,'RWH 10-yr Simulation'!$A$11:$N$3662,11)","v":1041.8074946057318},null,null,null,null,"2001-12-13",{"$f":"VLOOKUP(M84,'RWH 10-yr Simulation'!$A$11:$N$3662,11)","v":1057.4600871983243}]
["2001-11-30",{"$f":"VLOOKUP(A85,'RWH 10-yr Simulation'!$A$11:$N$3662,11)","v":1057.4600871983243},null,null,null,null,"2001-12-12",{"$f":"VLOOKUP(G85,'RWH 10-yr Simulation'!$A$11:$N$3662,11)","v":987.34201312425034},null,null,null,null,"2001-12-16",{"$f":"VLOOKUP(M85,'RWH 10-yr Simulation'!$A$11:$N$3662,11)","v":1026.1549020131392}]
["2001-12-01",{"$f":"VLOOKUP(A86,'RWH 10-yr Simulation'!$A$11:$N$3662,11)","v":1057.4600871983243},null,null,null,null,"2001-12-13",{"$f":"VLOOKUP(G86,'RWH 10-yr Simulation'!$A$11:$N$3662,11)","v":1057.4600871983243},null,null,null,null,"2001-12-18",{"$f":"VLOOKUP(M86,'RWH 10-yr Simulation'!$A$11:$N$3662,11)","v":1041.8074946057318}]
["2001-12-02",{"$f":"VLOOKUP(A87,'RWH 10-yr Simulation'!$A$11:$N$3662,11)","v":1057.4600871983243},null,null,null,null,"2001-12-16",{"$f":"VLOOKUP(G87,'RWH 10-yr Simulation'!$A$11:$N$3662,11)","v":1026.1549020131392},null,null,null,null,"2001-12-19",{"$f":"VLOOKUP(M87,'RWH 10-yr Simulation'!$A$11:$N$3662,11)","v":1057.4600871983243}]
["2001-12-04",{"$f":"VLOOKUP(A88,'RWH 10-yr Simulation'!$A$11:$N$3662,11)","v":1041.8074946057318},null,null,null,null,"2001-12-18",{"$f":"VLOOKUP(G88,'RWH 10-yr Simulation'!$A$11:$N$3662,11)","v":1041.8074946057318},null,null,null,null,"2001-12-20",{"$f":"VLOOKUP(M88,'RWH 10-yr Simulation'!$A$11:$N$3662,11)","v":1057.4600871983243}]
["2001-12-05",{"$f":"VLOOKUP(A89,'RWH 10-yr Simulation'!$A$11:$N$3662,11)","v":1057.4600871983243},null,null,null,null,"2001-12-19",{"$f":"VLOOKUP(G89,'RWH 10-yr Simulation'!$A$11:$N$3662,11)","v":1057.4600871983243},null,null,null,null,"2001-12-21",{"$f":"VLOOKUP(M89,'RWH 10-yr Simulation'!$A$11:$N$3662,11)","v":1057.4600871983243}]
["2001-12-07",{"$f":"VLOOKUP(A90,'RWH 10-yr Simulation'!$A$11:$N$3662,11)","v":1041.8074946057318},null,null,null,null,"2001-12-20",{"$f":"VLOOKUP(G90,'RWH 10-yr Simulation'!$A$11:$N$3662,11)","v":1057.4600871983243},null,null,null,null,"2001-12-22",{"$f":"VLOOKUP(M90,'RWH 10-yr Simulation'!$A$11:$N$3662,11)","v":1057.4600871983243}]
["2001-12-12",{"$f":"VLOOKUP(A91,'RWH 10-yr Simulation'!$A$11:$N$3662,11)","v":987.34201312425034},null,null,null,null,"2001-12-21",{"$f":"VLOOKUP(G91,'RWH 10-yr Simulation'!$A$11:$N$3662,11)","v":1057.4600871983243},null,null,null,null,"2001-12-25",{"$f":"VLOOKUP(M91,'RWH 10-yr Simulation'!$A$11:$N$3662,11)","v":1026.1549020131392}]
["2001-12-13",{"$f":"VLOOKUP(A92,'RWH 10-yr Simulation'!$A$11:$N$3662,11)","v":1057.4600871983243},null,null,null,null,"2001-12-22",{"$f":"VLOOKUP(G92,'RWH 10-yr Simulation'!$A$11:$N$3662,11)","v":1057.4600871983243},null,null,null,null,"2001-12-26",{"$f":"VLOOKUP(M92,'RWH 10-yr Simulation'!$A$11:$N$3662,11)","v":1034.299790902028}]
["2001-12-16",{"$f":"VLOOKUP(A93,'RWH 10-yr Simulation'!$A$11:$N$3662,11)","v":1026.1549020131392},null,null,null,null,"2001-12-25",{"$f":"VLOOKUP(G93,'RWH 10-yr Simulation'!$A$11:$N$3662,11)","v":1026.1549020131392},null,null,null,null,"2001-12-27",{"$f":"VLOOKUP(M93,'RWH 10-yr Simulation'!$A$11:$N$3662,11)","v":1057.4600871983243}]
["2001-12-18",{"$f":"VLOOKUP(A94,'RWH 10-yr Simulation'!$A$11:$N$3662,11)","v":1041.8074946057318},null,null,null,null,"2001-12-26",{"$f":"VLOOKUP(G94,'RWH 10-yr Simulation'!$A$11:$N$3662,11)","v":1034.299790902028},null,null,null,null,"2001-12-28",{"$f":"VLOOKUP(M94,'RWH 10-yr Simulation'!$A$11:$N$3662,11)","v":1057.4600871983243}]
["2001-12-19",{"$f":"VLOOKUP(A95,'RWH 10-yr Simulation'!$A$11:$N$3662,11)","v":1057.4600871983243},null,null,null,null,"2001-12-27",{"$f":"VLOOKUP(G95,'RWH 10-yr Simulation'!$A$11:$N$3662,11)","v":1057.4600871983243},null,null,null,null,"2001-12-29",{"$f":"VLOOKUP(M95,'RWH 10-yr Simulation'!$A$11:$N$3662,11)","v":1057.4600871983243}]
["2001-12-20",{"$f":"VLOOKUP(A96,'RWH 10-yr Simulation'!$A$11:$N$3662,11)","v":1057.4600871983243},null,null,null,null,"2001-12-28",{"$f":"VLOOKUP(G96,'RWH 10-yr Simulation'!$A$11:$N$3662,11)","v":1057.4600871983243},null,null,null,null,"2001-12-30",{"$f":"VLOOKUP(M96,'RWH 10-yr Simulation'!$A$11:$N$3662,11)","v":1057.4600871983243}]
["2001-12-21",{"$f":"VLOOKUP(A97,'RWH 10-yr Simulation'!$A$11:$N$3662,11)","v":1057.4600871983243},null,null,null,null,"2001-12-29",{"$f":"VLOOKUP(G97,'RWH 10-yr Simulation'!$A$11:$N$3662,11)","v":1057.4600871983243},null,null,null,null,"2001-12-31",{"$f":"VLOOKUP(M97,'RWH 10-yr Simulation'!$A$11:$N$3662,11)","v":1057.4600871983243}]
["2001-12-22",{"$f":"VLOOKUP(A98,'RWH 10-yr Simulation'!$A$11:$N$3662,11)","v":1057.4600871983243},null,null,null,null,"2001-12-30",{"$f":"VLOOKUP(G98,'RWH 10-yr Simulation'!$A$11:$N$3662,11)","v":1057.4600871983243},null,null,null,null,"2002-01-01",{"$f":"VLOOKUP(M98,'RWH 10-yr Simulation'!$A$11:$N$3662,11)","v":1057.4600871983243}]
["2001-12-25",{"$f":"VLOOKUP(A99,'RWH 10-yr Simulation'!$A$11:$N$3662,11)","v":1026.1549020131392},null,null,null,null,"2001-12-31",{"$f":"VLOOKUP(G99,'RWH 10-yr Simulation'!$A$11:$N$3662,11)","v":1057.4600871983243},null,null,null,null,"2002-01-05",{"$f":"VLOOKUP(M99,'RWH 10-yr Simulation'!$A$11:$N$3662,11)","v":1010.5023094205467}]
["2001-12-26",{"$f":"VLOOKUP(A100,'RWH 10-yr Simulation'!$A$11:$N$3662,11)","v":1034.299790902028},null,null,null,null,"2002-01-01",{"$f":"VLOOKUP(G100,'RWH 10-yr Simulation'!$A$11:$N$3662,11)","v":1057.4600871983243},null,null,null,null,"2002-01-20",{"$f":"VLOOKUP(M100,'RWH 10-yr Simulation'!$A$11:$N$3662,11)","v":799.5109020131398}]
["2001-12-27",{"$f":"VLOOKUP(A101,'RWH 10-yr Simulation'!$A$11:$N$3662,11)","v":1057.4600871983243},null,null,null,null,"2002-01-05",{"$f":"VLOOKUP(G101,'RWH 10-yr Simulation'!$A$11:$N$3662,11)","v":1010.5023094205467},null,null,null,null,"2002-01-25",{"$f":"VLOOKUP(M101,'RWH 10-yr Simulation'!$A$11:$N$3662,11)","v":864.06053164276955}]
["2001-12-28",{"$f":"VLOOKUP(A102,'RWH 10-yr Simulation'!$A$11:$N$3662,11)","v":1057.4600871983243},null,null,null,null,"2002-01-20",{"$f":"VLOOKUP(G102,'RWH 10-yr Simulation'!$A$11:$N$3662,11)","v":799.5109020131398},null,null,null,null,"2002-01-27",{"$f":"VLOOKUP(M102,'RWH 10-yr Simulation'!$A$11:$N$3662,11)","v":1041.8074946057318}]
["2001-12-29",{"$f":"VLOOKUP(A103,'RWH 10-yr Simulation'!$A$11:$N$3662,11)","v":1057.4600871983243},null,null,null,null,"2002-01-25",{"$f":"VLOOKUP(G103,'RWH 10-yr Simulation'!$A$11:$N$3662,11)","v":864.06053164276955},null,null,null,null,"2002-02-05",{"$f":"VLOOKUP(M103,'RWH 10-yr Simulation'!$A$11:$N$3662,11)","v":893.10786497610252}]
["2001-12-30",{"$f":"VLOOKUP(A104,'RWH 10-yr Simulation'!$A$11:$N$3662,11)","v":1057.4600871983243},null,null,null,null,"2002-01-27",{"$f":"VLOOKUP(G104,'RWH 10-yr Simulation'!$A$11:$N$3662,11)","v":1041.8074946057318},null,null,null,null,"2002-02-06",{"$f":"VLOOKUP(M104,'RWH 10-yr Simulation'!$A$11:$N$3662,11)","v":881.52771682795435}]
["2001-12-31",{"$f":"VLOOKUP(A105,'RWH 10-yr Simulation'!$A$11:$N$3662,11)","v":1057.4600871983243},null,null,null,null,"2002-02-05",{"$f":"VLOOKUP(G105,'RWH 10-yr Simulation'!$A$11:$N$3662,11)","v":893.10786497610252},null,null,null,null,"2002-02-07",{"$f":"VLOOKUP(M105,'RWH 10-yr Simulation'!$A$11:$N$3662,11)","v":1057.4600871983243}]
["2002-01-01",{"$f":"VLOOKUP(A106,'RWH 10-yr Simulation'!$A$11:$N$3662,11)","v":1057.4600871983243},null,null,null,null,"2002-02-06",{"$f":"VLOOKUP(G106,'RWH 10-yr Simulation'!$A$11:$N$3662,11)","v":881.52771682795435},null,null,null,null,"2002-02-12",{"$f":"VLOOKUP(M106,'RWH 10-yr Simulation'!$A$11:$N$3662,11)","v":951.96438349462073}]
["2002-01-05",{"$f":"VLOOKUP(A107,'RWH 10-yr Simulation'!$A$11:$N$3662,11)","v":1010.5023094205467},null,null,null,null,"2002-02-07",{"$f":"VLOOKUP(G107,'RWH 10-yr Simulation'!$A$11:$N$3662,11)","v":1057.4600871983243},null,null,null,null,"2002-02-15",{"$f":"VLOOKUP(M107,'RWH 10-yr Simulation'!$A$11:$N$3662,11)","v":962.22860571684305}]
["2002-01-20",{"$f":"VLOOKUP(A108,'RWH 10-yr Simulation'!$A$11:$N$3662,11)","v":799.5109020131398},null,null,null,null,"2002-02-12",{"$f":"VLOOKUP(G108,'RWH 10-yr Simulation'!$A$11:$N$3662,11)","v":951.96438349462073},null,null,null,null,"2002-02-16",{"$f":"VLOOKUP(M108,'RWH 10-yr Simulation'!$A$11:$N$3662,11)","v":1057.4600871983243}]
["2002-01-25",{"$f":"VLOOKUP(A109,'RWH 10-yr Simulation'!$A$11:$N$3662,11)","v":864.06053164276955},null,null,null,null,"2002-02-15",{"$f":"VLOOKUP(G109,'RWH 10-yr Simulation'!$A$11:$N$3662,11)","v":962.22860571684305},null,null,null,null,"2002-02-17",{"$f":"VLOOKUP(M109,'RWH 10-yr Simulation'!$A$11:$N$3662,11)","v":1057.4600871983243}]
["2002-01-27",{"$f":"VLOOKUP(A110,'RWH 10-yr Simulation'!$A$11:$N$3662,11)","v":1041.8074946057318},null,null,null,null,"2002-02-16",{"$f":"VLOOKUP(G110,'RWH 10-yr Simulation'!$A$11:$N$3662,11)","v":1057.4600871983243},null,null,null,null,"2002-02-18",{"$f":"VLOOKUP(M110,'RWH 10-yr Simulation'!$A$11:$N$3662,11)","v":1057.4600871983243}]
["2002-02-05",{"$f":"VLOOKUP(A111,'RWH 10-yr Simulation'!$A$11:$N$3662,11)","v":893.10786497610252},null,null,null,null,"2002-02-17",{"$f":"VLOOKUP(G111,'RWH 10-yr Simulation'!$A$11:$N$3662,11)","v":1057.4600871983243},null,null,null,null,"2002-02-19",{"$f":"VLOOKUP(M111,'RWH 10-yr Simulation'!$A$11:$N$3662,11)","v":1057.4600871983243}]
["2002-02-06",{"$f":"VLOOKUP(A112,'RWH 10-yr Simulation'!$A$11:$N$3662,11)","v":881.52771682795435},null,null,null,null,"2002-02-18",{"$f":"VLOOKUP(G112,'RWH 10-yr Simulation'!$A$11:$N$3662,11)","v":1057.4600871983243},null,null,null,null,"2002-02-21",{"$f":"VLOOKUP(M112,'RWH 10-yr Simulation'!$A$11:$N$3662,11)","v":1033.9811983094355}]
["2002-02-07",{"$f":"VLOOKUP(A113,'RWH 10-yr Simulation'!$A$11:$N$3662,11)","v":1057.4600871983243},null,null,null,null,"2002-02-19",{"$f":"VLOOKUP(G113,'RWH 10-yr Simulation'!$A$11:$N$3662,11)","v":1057.4600871983243},null,null,null,null,"2002-02-22",{"$f":"VLOOKUP(M113,'RWH 10-yr Simulation'!$A$11:$N$3662,11)","v":1022.4010501612873}]
["2002-02-12",{"$f":"VLOOKUP(A114,'RWH 10-yr Simulation'!$A$11:$N$3662,11)","v":951.96438349462073},null,null,null,null,"2002-02-21",{"$f":"VLOOKUP(G114,'RWH 10-yr Simulation'!$A$11:$N$3662,11)","v":1033.9811983094355},null,null,null,null,"2002-03-04",{"$f":"VLOOKUP(M114,'RWH 10-yr Simulation'!$A$11:$N$3662,11)","v":783.53971682795418}]
["2002-02-15",{"$f":"VLOOKUP(A115,'RWH 10-yr Simulation'!$A$11:$N$3662,11)","v":962.22860571684305},null,null,null,null,"2002-02-22",{"$f":"VLOOKUP(G115,'RWH 10-yr Simulation'!$A$11:$N$3662,11)","v":1022.4010501612873},null,null,null,null,"2002-03-05",{"$f":"VLOOKUP(M115,'RWH 10-yr Simulation'!$A$11:$N$3662,11)","v":756.30697608721334}]
["2002-02-16",{"$f":"VLOOKUP(A116,'RWH 10-yr Simulation'!$A$11:$N$3662,11)","v":1057.4600871983243},null,null,null,null,"2002-03-04",{"$f":"VLOOKUP(G116,'RWH 10-yr Simulation'!$A$11:$N$3662,11)","v":783.53971682795418},null,null,null,null,"2002-03-06",{"$f":"VLOOKUP(M116,'RWH 10-yr Simulation'!$A$11:$N$3662,11)","v":1057.4600871983243}]
["2002-02-17",{"$f":"VLOOKUP(A117,'RWH 10-yr Simulation'!$A$11:$N$3662,11)","v":1057.4600871983243},null,null,null,null,"2002-03-05",{"$f":"VLOOKUP(G117,'RWH 10-yr Simulation'!$A$11:$N$3662,11)","v":756.30697608721334},null,null,null,null,"2002-03-08",{"$f":"VLOOKUP(M117,'RWH 10-yr Simulation'!$A$11:$N$3662,11)","v":1018.3286057168428}]
["2002-02-18",{"$f":"VLOOKUP(A118,'RWH 10-yr Simulation'!$A$11:$N$3662,11)","v":1057.4600871983243},null,null,null,null,"2002-03-06",{"$f":"VLOOKUP(G118,'RWH 10-yr Simulation'!$A$11:$N$3662,11)","v":1057.4600871983243},null,null,null,null,"2002-03-09",{"$f":"VLOOKUP(M118,'RWH 10-yr Simulation'!$A$11:$N$3662,11)","v":1057.4600871983243}]
["2002-02-19",{"$f":"VLOOKUP(A119,'RWH 10-yr Simulation'!$A$11:$N$3662,11)","v":1057.4600871983243},null,null,null,null,"2002-03-08",{"$f":"VLOOKUP(G119,'RWH 10-yr Simulation'!$A$11:$N$3662,11)","v":1018.3286057168428},null,null,null,null,"2002-03-16",{"$f":"VLOOKUP(M119,'RWH 10-yr Simulation'!$A$11:$N$3662,11)","v":822.67119830943534}]
["2002-02-21",{"$f":"VLOOKUP(A120,'RWH 10-yr Simulation'!$A$11:$N$3662,11)","v":1033.9811983094355},null,null,null,null,"2002-03-09",{"$f":"VLOOKUP(G120,'RWH 10-yr Simulation'!$A$11:$N$3662,11)","v":1057.4600871983243},null,null,null,null,"2002-03-21",{"$f":"VLOOKUP(M120,'RWH 10-yr Simulation'!$A$11:$N$3662,11)","v":900.93416127239834}]
["2002-02-22",{"$f":"VLOOKUP(A121,'RWH 10-yr Simulation'!$A$11:$N$3662,11)","v":1022.4010501612873},null,null,null,null,"2002-03-16",{"$f":"VLOOKUP(G121,'RWH 10-yr Simulation'!$A$11:$N$3662,11)","v":822.67119830943534},null,null,null,null,"2002-03-22",{"$f":"VLOOKUP(M121,'RWH 10-yr Simulation'!$A$11:$N$3662,11)","v":1015.3781612723983}]
["2002-03-04",{"$f":"VLOOKUP(A122,'RWH 10-yr Simulation'!$A$11:$N$3662,11)","v":783.53971682795418},null,null,null,null,"2002-03-21",{"$f":"VLOOKUP(G122,'RWH 10-yr Simulation'!$A$11:$N$3662,11)","v":900.93416127239834},null,null,null,null,"2002-04-05",{"$f":"VLOOKUP(M122,'RWH 10-yr Simulation'!$A$11:$N$3662,11)","v":490.05360571684275}]
["2002-03-05",{"$f":"VLOOKUP(A123,'RWH 10-yr Simulation'!$A$11:$N$3662,11)","v":756.30697608721334},null,null,null,null,"2002-03-22",{"$f":"VLOOKUP(G123,'RWH 10-yr Simulation'!$A$11:$N$3662,11)","v":1015.3781612723983},null,null,null,null,"2002-04-08",{"$f":"VLOOKUP(M123,'RWH 10-yr Simulation'!$A$11:$N$3662,11)","v":349.33956867980572}]
["2002-03-06",{"$f":"VLOOKUP(A124,'RWH 10-yr Simulation'!$A$11:$N$3662,11)","v":1057.4600871983243},null,null,null,null,"2002-04-05",{"$f":"VLOOKUP(G124,'RWH 10-yr Simulation'!$A$11:$N$3662,11)","v":490.05360571684275},null,null,null,null,"2002-04-15",{"$f":"VLOOKUP(M124,'RWH 10-yr Simulation'!$A$11:$N$3662,11)","v":40.838050161287235}]
["2002-03-08",{"$f":"VLOOKUP(A125,'RWH 10-yr Simulation'!$A$11:$N$3662,11)","v":1018.3286057168428},null,null,null,null,"2002-04-08",{"$f":"VLOOKUP(G125,'RWH 10-yr Simulation'!$A$11:$N$3662,11)","v":349.33956867980572},null,null,null,null,"2002-04-28",{"$f":"VLOOKUP(M125,'RWH 10-yr Simulation'!$A$11:$N$3662,11)","v":0}]
["2002-03-09",{"$f":"VLOOKUP(A126,'RWH 10-yr Simulation'!$A$11:$N$3662,11)","v":1057.4600871983243},null,null,null,null,"2002-04-15",{"$f":"VLOOKUP(G126,'RWH 10-yr Simulation'!$A$11:$N$3662,11)","v":40.838050161287235},null,null,null,null,"2002-11-06",{"$f":"VLOOKUP(M126,'RWH 10-yr Simulation'!$A$11:$N$3662,11)","v":0}]
["2002-03-16",{"$f":"VLOOKUP(A127,'RWH 10-yr Simulation'!$A$11:$N$3662,11)","v":822.67119830943534},null,null,null,null,"2002-04-28",{"$f":"VLOOKUP(G127,'RWH 10-yr Simulation'!$A$11:$N$3662,11)","v":0},null,null,null,null,"2002-11-07",{"$f":"VLOOKUP(M127,'RWH 10-yr Simulation'!$A$11:$N$3662,11)","v":527.71400000000006}]
["2002-03-21",{"$f":"VLOOKUP(A128,'RWH 10-yr Simulation'!$A$11:$N$3662,11)","v":900.93416127239834},null,null,null,null,"2002-05-18",{"$f":"VLOOKUP(G128,'RWH 10-yr Simulation'!$A$11:$N$3662,11)","v":0},null,null,null,null,"2002-11-08",{"$f":"VLOOKUP(M128,'RWH 10-yr Simulation'!$A$11:$N$3662,11)","v":1057.4600871983243}]
["2002-03-22",{"$f":"VLOOKUP(A129,'RWH 10-yr Simulation'!$A$11:$N$3662,11)","v":1015.3781612723983},null,null,null,null,"2002-05-19",{"$f":"VLOOKUP(G129,'RWH 10-yr Simulation'!$A$11:$N$3662,11)","v":273.39400000000006},null,null,null,null,"2002-11-09",{"$f":"VLOOKUP(M129,'RWH 10-yr Simulation'!$A$11:$N$3662,11)","v":1045.8799390501761}]
["2002-04-05",{"$f":"VLOOKUP(A130,'RWH 10-yr Simulation'!$A$11:$N$3662,11)","v":490.05360571684275},null,null,null,null,"2002-05-20",{"$f":"VLOOKUP(G130,'RWH 10-yr Simulation'!$A$11:$N$3662,11)","v":432.34400000000016},null,null,null,null,"2002-11-12",{"$f":"VLOOKUP(M130,'RWH 10-yr Simulation'!$A$11:$N$3662,11)","v":1010.5023094205467}]
["2002-04-08",{"$f":"VLOOKUP(A131,'RWH 10-yr Simulation'!$A$11:$N$3662,11)","v":349.33956867980572},null,null,null,null,"2002-10-22",{"$f":"VLOOKUP(G131,'RWH 10-yr Simulation'!$A$11:$N$3662,11)","v":0},null,null,null,null,"2002-12-08",{"$f":"VLOOKUP(M131,'RWH 10-yr Simulation'!$A$11:$N$3662,11)","v":510.25653164277008}]
["2002-04-15",{"$f":"VLOOKUP(A132,'RWH 10-yr Simulation'!$A$11:$N$3662,11)","v":40.838050161287235},null,null,null,null,"2002-11-06",{"$f":"VLOOKUP(G132,'RWH 10-yr Simulation'!$A$11:$N$3662,11)","v":0},null,null,null,null,"2002-12-09",{"$f":"VLOOKUP(M132,'RWH 10-yr Simulation'!$A$11:$N$3662,11)","v":891.73653164277016}]
["2002-04-28",{"$f":"VLOOKUP(A133,'RWH 10-yr Simulation'!$A$11:$N$3662,11)","v":0},null,null,null,null,"2002-11-07",{"$f":"VLOOKUP(G133,'RWH 10-yr Simulation'!$A$11:$N$3662,11)","v":527.71400000000006},null,null,null,null,"2002-12-12",{"$f":"VLOOKUP(M133,'RWH 10-yr Simulation'!$A$11:$N$3662,11)","v":968.51734645758506}]
["2002-05-18",{"$f":"VLOOKUP(A134,'RWH 10-yr Simulation'!$A$11:$N$3662,11)","v":0},null,null,null,null,"2002-11-08",{"$f":"VLOOKUP(G134,'RWH 10-yr Simulation'!$A$11:$N$3662,11)","v":1057.4600871983243},null,null,null,null,"2002-12-13",{"$f":"VLOOKUP(M134,'RWH 10-yr Simulation'!$A$11:$N$3662,11)","v":1057.4600871983243}]
["2002-05-19",{"$f":"VLOOKUP(A135,'RWH 10-yr Simulation'!$A$11:$N$3662,11)","v":273.39400000000006},null,null,null,null,"2002-11-09",{"$f":"VLOOKUP(G135,'RWH 10-yr Simulation'!$A$11:$N$3662,11)","v":1045.8799390501761},null,null,null,null,"2002-12-14",{"$f":"VLOOKUP(M135,'RWH 10-yr Simulation'!$A$11:$N$3662,11)","v":1057.4600871983243}]
["2002-05-20",{"$f":"VLOOKUP(A136,'RWH 10-yr Simulation'!$A$11:$N$3662,11)","v":432.34400000000016},null,null,null,null,"2002-11-12",{"$f":"VLOOKUP(G136,'RWH 10-yr Simulation'!$A$11:$N$3662,11)","v":1010.5023094205467},null,null,null,null,"2002-12-15",{"$f":"VLOOKUP(M136,'RWH 10-yr Simulation'!$A$11:$N$3662,11)","v":1057.4600871983243}]
["2002-06-21",{"$f":"VLOOKUP(A137,'RWH 10-yr Simulation'!$A$11:$N$3662,11)","v":0},null,null,null,null,"2002-12-08",{"$f":"VLOOKUP(G137,'RWH 10-yr Simulation'!$A$11:$N$3662,11)","v":510.25653164277008},null,null,null,null,"2002-12-16",{"$f":"VLOOKUP(M137,'RWH 10-yr Simulation'!$A$11:$N$3662,11)","v":1057.4600871983243}]
["2002-06-26",{"$f":"VLOOKUP(A138,'RWH 10-yr Simulation'!$A$11:$N$3662,11)","v":0},null,null,null,null,"2002-12-09",{"$f":"VLOOKUP(G138,'RWH 10-yr Simulation'!$A$11:$N$3662,11)","v":891.73653164277016},null,null,null,null,"2002-12-17",{"$f":"VLOOKUP(M138,'RWH 10-yr Simulation'!$A$11:$N$3662,11)","v":1057.4600871983243}]
["2002-08-01",{"$f":"VLOOKUP(A139,'RWH 10-yr Simulation'!$A$11:$N$3662,11)","v":0},null,null,null,null,"2002-12-12",{"$f":"VLOOKUP(G139,'RWH 10-yr Simulation'!$A$11:$N$3662,11)","v":968.51734645758506},null,null,null,null,"2002-12-18",{"$f":"VLOOKUP(M139,'RWH 10-yr Simulation'!$A$11:$N$3662,11)","v":1057.4600871983243}]
["2002-08-24",{"$f":"VLOOKUP(A140,'RWH 10-yr Simulation'!$A$11:$N$3662,11)","v":0},null,null,null,null,"2002-12-13",{"$f":"VLOOKUP(G140,'RWH 10-yr Simulation'!$A$11:$N$3662,11)","v":1057.4600871983243},null,null,null,null,"2002-12-19",{"$f":"VLOOKUP(M140,'RWH 10-yr Simulation'!$A$11:$N$3662,11)","v":1057.4600871983243}]
["2002-09-24",{"$f":"VLOOKUP(A141,'RWH 10-yr Simulation'!$A$11:$N$3662,11)","v":0},null,null,null,null,"2002-12-14",{"$f":"VLOOKUP(G141,'RWH 10-yr Simulation'!$A$11:$N$3662,11)","v":1057.4600871983243},null,null,null,null,"2002-12-20",{"$f":"VLOOKUP(M141,'RWH 10-yr Simulation'!$A$11:$N$3662,11)","v":1057.4600871983243}]
["2002-10-22",{"$f":"VLOOKUP(A142,'RWH 10-yr Simulation'!$A$11:$N$3662,11)","v":0},null,null,null,null,"2002-12-15",{"$f":"VLOOKUP(G142,'RWH 10-yr Simulation'!$A$11:$N$3662,11)","v":1057.4600871983243},null,null,null,null,"2002-12-25",{"$f":"VLOOKUP(M142,'RWH 10-yr Simulation'!$A$11:$N$3662,11)","v":994.84971682795413}]
["2002-11-06",{"$f":"VLOOKUP(A143,'RWH 10-yr Simulation'!$A$11:$N$3662,11)","v":0},null,null,null,null,"2002-12-16",{"$f":"VLOOKUP(G143,'RWH 10-yr Simulation'!$A$11:$N$3662,11)","v":1057.4600871983243},null,null,null,null,"2002-12-26",{"$f":"VLOOKUP(M143,'RWH 10-yr Simulation'!$A$11:$N$3662,11)","v":1057.4600871983243}]
["2002-11-07",{"$f":"VLOOKUP(A144,'RWH 10-yr Simulation'!$A$11:$N$3662,11)","v":527.71400000000006},null,null,null,null,"2002-12-17",{"$f":"VLOOKUP(G144,'RWH 10-yr Simulation'!$A$11:$N$3662,11)","v":1057.4600871983243},null,null,null,null,"2002-12-27",{"$f":"VLOOKUP(M144,'RWH 10-yr Simulation'!$A$11:$N$3662,11)","v":1057.4600871983243}]
["2002-11-08",{"$f":"VLOOKUP(A145,'RWH 10-yr Simulation'!$A$11:$N$3662,11)","v":1057.4600871983243},null,null,null,null,"2002-12-18",{"$f":"VLOOKUP(G145,'RWH 10-yr Simulation'!$A$11:$N$3662,11)","v":1057.4600871983243},null,null,null,null,"2002-12-28",{"$f":"VLOOKUP(M145,'RWH 10-yr Simulation'!$A$11:$N$3662,11)","v":1057.4600871983243}]
["2002-11-09",{"$f":"VLOOKUP(A146,'RWH 10-yr Simulation'!$A$11:$N$3662,11)","v":1045.8799390501761},null,null,null,null,"2002-12-19",{"$f":"VLOOKUP(G146,'RWH 10-yr Simulation'!$A$11:$N$3662,11)","v":1057.4600871983243},null,null,null,null,"2002-12-29",{"$f":"VLOOKUP(M146,'RWH 10-yr Simulation'!$A$11:$N$3662,11)","v":1057.4600871983243}]
["2002-11-12",{"$f":"VLOOKUP(A147,'RWH 10-yr Simulation'!$A$11:$N$3662,11)","v":1010.5023094205467},null,null,null,null,"2002-12-20",{"$f":"VLOOKUP(G147,'RWH 10-yr Simulation'!$A$11:$N$3662,11)","v":1057.4600871983243},null,null,null,null,"2002-12-30",{"$f":"VLOOKUP(M147,'RWH 10-yr Simulation'!$A$11:$N$3662,11)","v":1057.4600871983243}]
["2002-12-08",{"$f":"VLOOKUP(A148,'RWH 10-yr Simulation'!$A$11:$N$3662,11)","v":510.25653164277008},null,null,null,null,"2002-12-25",{"$f":"VLOOKUP(G148,'RWH 10-yr Simulation'!$A$11:$N$3662,11)","v":994.84971682795413},null,null,null,null,"2003-01-08",{"$f":"VLOOKUP(M148,'RWH 10-yr Simulation'!$A$11:$N$3662,11)","v":932.23934645758391}]
["2002-12-09",{"$f":"VLOOKUP(A149,'RWH 10-yr Simulation'!$A$11:$N$3662,11)","v":891.73653164277016},null,null,null,null,"2002-12-26",{"$f":"VLOOKUP(G149,'RWH 10-yr Simulation'!$A$11:$N$3662,11)","v":1057.4600871983243},null,null,null,null,"2003-01-09",{"$f":"VLOOKUP(M149,'RWH 10-yr Simulation'!$A$11:$N$3662,11)","v":1057.4600871983243}]
["2002-12-12",{"$f":"VLOOKUP(A150,'RWH 10-yr Simulation'!$A$11:$N$3662,11)","v":968.51734645758506},null,null,null,null,"2002-12-27",{"$f":"VLOOKUP(G150,'RWH 10-yr Simulation'!$A$11:$N$3662,11)","v":1057.4600871983243},null,null,null,null,"2003-01-11",{"$f":"VLOOKUP(M150,'RWH 10-yr Simulation'!$A$11:$N$3662,11)","v":1041.8074946057318}]
["2002-12-13",{"$f":"VLOOKUP(A151,'RWH 10-yr Simulation'!$A$11:$N$3662,11)","v":1057.4600871983243},null,null,null,null,"2002-12-28",{"$f":"VLOOKUP(G151,'RWH 10-yr Simulation'!$A$11:$N$3662,11)","v":1057.4600871983243},null,null,null,null,"2003-01-19",{"$f":"VLOOKUP(M151,'RWH 10-yr Simulation'!$A$11:$N$3662,11)","v":947.89193905017646}]
["2002-12-14",{"$f":"VLOOKUP(A152,'RWH 10-yr Simulation'!$A$11:$N$3662,11)","v":1057.4600871983243},null,null,null,null,"2002-12-29",{"$f":"VLOOKUP(G152,'RWH 10-yr Simulation'!$A$11:$N$3662,11)","v":1057.4600871983243},null,null,null,null,"2003-01-20",{"$f":"VLOOKUP(M152,'RWH 10-yr Simulation'!$A$11:$N$3662,11)","v":956.03682793906535}]
["2002-12-15",{"$f":"VLOOKUP(A153,'RWH 10-yr Simulation'!$A$11:$N$3662,11)","v":1057.4600871983243},null,null,null,null,"2002-12-30",{"$f":"VLOOKUP(G153,'RWH 10-yr Simulation'!$A$11:$N$3662,11)","v":1057.4600871983243},null,null,null,null,"2003-01-21",{"$f":"VLOOKUP(M153,'RWH 10-yr Simulation'!$A$11:$N$3662,11)","v":1057.4600871983243}]
["2002-12-16",{"$f":"VLOOKUP(A154,'RWH 10-yr Simulation'!$A$11:$N$3662,11)","v":1057.4600871983243},null,null,null,null,"2003-01-08",{"$f":"VLOOKUP(G154,'RWH 10-yr Simulation'!$A$11:$N$3662,11)","v":932.23934645758391},null,null,null,null,"2003-01-22",{"$f":"VLOOKUP(M154,'RWH 10-yr Simulation'!$A$11:$N$3662,11)","v":1057.4600871983243}]
["2002-12-17",{"$f":"VLOOKUP(A155,'RWH 10-yr Simulation'!$A$11:$N$3662,11)","v":1057.4600871983243},null,null,null,null,"2003-01-09",{"$f":"VLOOKUP(G155,'RWH 10-yr Simulation'!$A$11:$N$3662,11)","v":1057.4600871983243},null,null,null,null,"2003-02-11",{"$f":"VLOOKUP(M155,'RWH 10-yr Simulation'!$A$11:$N$3662,11)","v":673.97156867980675}]
["2002-12-18",{"$f":"VLOOKUP(A156,'RWH 10-yr Simulation'!$A$11:$N$3662,11)","v":1057.4600871983243},null,null,null,null,"2003-01-11",{"$f":"VLOOKUP(G156,'RWH 10-yr Simulation'!$A$11:$N$3662,11)","v":1041.8074946057318},null,null,null,null,"2003-02-12",{"$f":"VLOOKUP(M156,'RWH 10-yr Simulation'!$A$11:$N$3662,11)","v":902.85956867980678}]
["2002-12-19",{"$f":"VLOOKUP(A157,'RWH 10-yr Simulation'!$A$11:$N$3662,11)","v":1057.4600871983243},null,null,null,null,"2003-01-19",{"$f":"VLOOKUP(G157,'RWH 10-yr Simulation'!$A$11:$N$3662,11)","v":947.89193905017646},null,null,null,null,"2003-02-14",{"$f":"VLOOKUP(M157,'RWH 10-yr Simulation'!$A$11:$N$3662,11)","v":1033.9811983094355}]
["2002-12-20",{"$f":"VLOOKUP(A158,'RWH 10-yr Simulation'!$A$11:$N$3662,11)","v":1057.4600871983243},null,null,null,null,"2003-01-20",{"$f":"VLOOKUP(G158,'RWH 10-yr Simulation'!$A$11:$N$3662,11)","v":956.03682793906535},null,null,null,null,"2003-02-15",{"$f":"VLOOKUP(M158,'RWH 10-yr Simulation'!$A$11:$N$3662,11)","v":1057.4600871983243}]
["2002-12-25",{"$f":"VLOOKUP(A159,'RWH 10-yr Simulation'!$A$11:$N$3662,11)","v":994.84971682795413},null,null,null,null,"2003-01-21",{"$f":"VLOOKUP(G159,'RWH 10-yr Simulation'!$A$11:$N$3662,11)","v":1057.4600871983243},null,null,null,null,"2003-02-18",{"$f":"VLOOKUP(M159,'RWH 10-yr Simulation'!$A$11:$N$3662,11)","v":1010.5023094205467}]
["2002-12-26",{"$f":"VLOOKUP(A160,'RWH 10-yr Simulation'!$A$11:$N$3662,11)","v":1057.4600871983243},null,null,null,null,"2003-01-22",{"$f":"VLOOKUP(G160,'RWH 10-yr Simulation'!$A$11:$N$3662,11)","v":1057.4600871983243},null,null,null,null,"2003-02-23",{"$f":"VLOOKUP(M160,'RWH 10-yr Simulation'!$A$11:$N$3662,11)","v":928.80408719832462}]
["2002-12-27",{"$f":"VLOOKUP(A161,'RWH 10-yr Simulation'!$A$11:$N$3662,11)","v":1057.4600871983243},null,null,null,null,"2003-02-11",{"$f":"VLOOKUP(G161,'RWH 10-yr Simulation'!$A$11:$N$3662,11)","v":673.97156867980675},null,null,null,null,"2003-02-24",{"$f":"VLOOKUP(M161,'RWH 10-yr Simulation'!$A$11:$N$3662,11)","v":952.92016127239867}]
["2002-12-28",{"$f":"VLOOKUP(A162,'RWH 10-yr Simulation'!$A$11:$N$3662,11)","v":1057.4600871983243},null,null,null,null,"2003-02-12",{"$f":"VLOOKUP(G162,'RWH 10-yr Simulation'!$A$11:$N$3662,11)","v":902.85956867980678},null,null,null,null,"2003-02-25",{"$f":"VLOOKUP(M162,'RWH 10-yr Simulation'!$A$11:$N$3662,11)","v":953.23875386499128}]
["2002-12-29",{"$f":"VLOOKUP(A163,'RWH 10-yr Simulation'!$A$11:$N$3662,11)","v":1057.4600871983243},null,null,null,null,"2003-02-14",{"$f":"VLOOKUP(G163,'RWH 10-yr Simulation'!$A$11:$N$3662,11)","v":1033.9811983094355},null,null,null,null,"2003-02-26",{"$f":"VLOOKUP(M163,'RWH 10-yr Simulation'!$A$11:$N$3662,11)","v":1057.4600871983243}]
["2002-12-30",{"$f":"VLOOKUP(A164,'RWH 10-yr Simulation'!$A$11:$N$3662,11)","v":1057.4600871983243},null,null,null,null,"2003-02-15",{"$f":"VLOOKUP(G164,'RWH 10-yr Simulation'!$A$11:$N$3662,11)","v":1057.4600871983243},null,null,null,null,"2003-03-13",{"$f":"VLOOKUP(M164,'RWH 10-yr Simulation'!$A$11:$N$3662,11)","v":525.271939050176}]
["2003-01-08",{"$f":"VLOOKUP(A165,'RWH 10-yr Simulation'!$A$11:$N$3662,11)","v":932.23934645758391},null,null,null,null,"2003-02-18",{"$f":"VLOOKUP(G165,'RWH 10-yr Simulation'!$A$11:$N$3662,11)","v":1010.5023094205467},null,null,null,null,"2003-03-14",{"$f":"VLOOKUP(M165,'RWH 10-yr Simulation'!$A$11:$N$3662,11)","v":677.86393905017599}]
["2003-01-09",{"$f":"VLOOKUP(A166,'RWH 10-yr Simulation'!$A$11:$N$3662,11)","v":1057.4600871983243},null,null,null,null,"2003-02-23",{"$f":"VLOOKUP(G166,'RWH 10-yr Simulation'!$A$11:$N$3662,11)","v":928.80408719832462},null,null,null,null,"2003-03-15",{"$f":"VLOOKUP(M166,'RWH 10-yr Simulation'!$A$11:$N$3662,11)","v":1046.6279390501761}]
["2003-01-11",{"$f":"VLOOKUP(A167,'RWH 10-yr Simulation'!$A$11:$N$3662,11)","v":1041.8074946057318},null,null,null,null,"2003-02-24",{"$f":"VLOOKUP(G167,'RWH 10-yr Simulation'!$A$11:$N$3662,11)","v":952.92016127239867},null,null,null,null,"2003-11-01",{"$f":"VLOOKUP(M167,'RWH 10-yr Simulation'!$A$11:$N$3662,11)","v":0}]
["2003-01-19",{"$f":"VLOOKUP(A168,'RWH 10-yr Simulation'!$A$11:$N$3662,11)","v":947.89193905017646},null,null,null,null,"2003-02-25",{"$f":"VLOOKUP(G168,'RWH 10-yr Simulation'!$A$11:$N$3662,11)","v":953.23875386499128},null,null,null,null,"2003-11-02",{"$f":"VLOOKUP(M168,'RWH 10-yr Simulation'!$A$11:$N$3662,11)","v":0.31859259259259431}]
["2003-01-20",{"$f":"VLOOKUP(A169,'RWH 10-yr Simulation'!$A$11:$N$3662,11)","v":956.03682793906535},null,null,null,null,"2003-02-26",{"$f":"VLOOKUP(G169,'RWH 10-yr Simulation'!$A$11:$N$3662,11)","v":1057.4600871983243},null,null,null,null,"2003-11-04",{"$f":"VLOOKUP(M169,'RWH 10-yr Simulation'!$A$11:$N$3662,11)","v":123.0737037037037}]
["2003-01-21",{"$f":"VLOOKUP(A170,'RWH 10-yr Simulation'!$A$11:$N$3662,11)","v":1057.4600871983243},null,null,null,null,"2003-03-13",{"$f":"VLOOKUP(G170,'RWH 10-yr Simulation'!$A$11:$N$3662,11)","v":525.271939050176},null,null,null,null,"2003-11-05",{"$f":"VLOOKUP(M170,'RWH 10-yr Simulation'!$A$11:$N$3662,11)","v":154.86370370370369}]
["2003-01-22",{"$f":"VLOOKUP(A171,'RWH 10-yr Simulation'!$A$11:$N$3662,11)","v":1057.4600871983243},null,null,null,null,"2003-03-14",{"$f":"VLOOKUP(G171,'RWH 10-yr Simulation'!$A$11:$N$3662,11)","v":677.86393905017599},null,null,null,null,"2003-11-06",{"$f":"VLOOKUP(M171,'RWH 10-yr Simulation'!$A$11:$N$3662,11)","v":294.73970370370375}]
["2003-02-11",{"$f":"VLOOKUP(A172,'RWH 10-yr Simulation'!$A$11:$N$3662,11)","v":673.97156867980675},null,null,null,null,"2003-03-15",{"$f":"VLOOKUP(G172,'RWH 10-yr Simulation'!$A$11:$N$3662,11)","v":1046.6279390501761},null,null,null,null,"2003-11-07",{"$f":"VLOOKUP(M172,'RWH 10-yr Simulation'!$A$11:$N$3662,11)","v":318.85577777777786}]
["2003-02-12",{"$f":"VLOOKUP(A173,'RWH 10-yr Simulation'!$A$11:$N$3662,11)","v":902.85956867980678},null,null,null,null,"2003-11-01",{"$f":"VLOOKUP(G173,'RWH 10-yr Simulation'!$A$11:$N$3662,11)","v":0},null,null,null,null,"2003-11-13",{"$f":"VLOOKUP(M173,'RWH 10-yr Simulation'!$A$11:$N$3662,11)","v":436.70733333333351}]
["2003-02-14",{"$f":"VLOOKUP(A174,'RWH 10-yr Simulation'!$A$11:$N$3662,11)","v":1033.9811983094355},null,null,null,null,"2003-11-02",{"$f":"VLOOKUP(G174,'RWH 10-yr Simulation'!$A$11:$N$3662,11)","v":0.31859259259259431},null,null,null,null,"2003-11-14",{"$f":"VLOOKUP(M174,'RWH 10-yr Simulation'!$A$11:$N$3662,11)","v":544.79333333333352}]
["2003-02-15",{"$f":"VLOOKUP(A175,'RWH 10-yr Simulation'!$A$11:$N$3662,11)","v":1057.4600871983243},null,null,null,null,"2003-11-04",{"$f":"VLOOKUP(G175,'RWH 10-yr Simulation'!$A$11:$N$3662,11)","v":123.0737037037037},null,null,null,null,"2003-11-16",{"$f":"VLOOKUP(M175,'RWH 10-yr Simulation'!$A$11:$N$3662,11)","v":591.25244444444456}]
["2003-02-18",{"$f":"VLOOKUP(A176,'RWH 10-yr Simulation'!$A$11:$N$3662,11)","v":1010.5023094205467},null,null,null,null,"2003-11-05",{"$f":"VLOOKUP(G176,'RWH 10-yr Simulation'!$A$11:$N$3662,11)","v":154.86370370370369},null,null,null,null,"2003-11-29",{"$f":"VLOOKUP(M176,'RWH 10-yr Simulation'!$A$11:$N$3662,11)","v":392.15977777777823}]
["2003-02-23",{"$f":"VLOOKUP(A177,'RWH 10-yr Simulation'!$A$11:$N$3662,11)","v":928.80408719832462},null,null,null,null,"2003-11-06",{"$f":"VLOOKUP(G177,'RWH 10-yr Simulation'!$A$11:$N$3662,11)","v":294.73970370370375},null,null,null,null,"2003-11-30",{"$f":"VLOOKUP(M177,'RWH 10-yr Simulation'!$A$11:$N$3662,11)","v":951.66377777777825}]
["2003-02-24",{"$f":"VLOOKUP(A178,'RWH 10-yr Simulation'!$A$11:$N$3662,11)","v":952.92016127239867},null,null,null,null,"2003-11-07",{"$f":"VLOOKUP(G178,'RWH 10-yr Simulation'!$A$11:$N$3662,11)","v":318.85577777777786},null,null,null,null,"2003-12-01",{"$f":"VLOOKUP(M178,'RWH 10-yr Simulation'!$A$11:$N$3662,11)","v":1057.4600871983243}]
["2003-02-25",{"$f":"VLOOKUP(A179,'RWH 10-yr Simulation'!$A$11:$N$3662,11)","v":953.23875386499128},null,null,null,null,"2003-11-13",{"$f":"VLOOKUP(G179,'RWH 10-yr Simulation'!$A$11:$N$3662,11)","v":436.70733333333351},null,null,null,null,"2003-12-03",{"$f":"VLOOKUP(M179,'RWH 10-yr Simulation'!$A$11:$N$3662,11)","v":1041.8074946057318}]
["2003-02-26",{"$f":"VLOOKUP(A180,'RWH 10-yr Simulation'!$A$11:$N$3662,11)","v":1057.4600871983243},null,null,null,null,"2003-11-14",{"$f":"VLOOKUP(G180,'RWH 10-yr Simulation'!$A$11:$N$3662,11)","v":544.79333333333352},null,null,null,null,"2003-12-04",{"$f":"VLOOKUP(M180,'RWH 10-yr Simulation'!$A$11:$N$3662,11)","v":1057.4600871983243}]
["2003-03-13",{"$f":"VLOOKUP(A181,'RWH 10-yr Simulation'!$A$11:$N$3662,11)","v":525.271939050176},null,null,null,null,"2003-11-16",{"$f":"VLOOKUP(G181,'RWH 10-yr Simulation'!$A$11:$N$3662,11)","v":591.25244444444456},null,null,null,null,"2003-12-05",{"$f":"VLOOKUP(M181,'RWH 10-yr Simulation'!$A$11:$N$3662,11)","v":1057.4600871983243}]
["2003-03-14",{"$f":"VLOOKUP(A182,'RWH 10-yr Simulation'!$A$11:$N$3662,11)","v":677.86393905017599},null,null,null,null,"2003-11-29",{"$f":"VLOOKUP(G182,'RWH 10-yr Simulation'!$A$11:$N$3662,11)","v":392.15977777777823},null,null,null,null,"2003-12-06",{"$f":"VLOOKUP(M182,'RWH 10-yr Simulation'!$A$11:$N$3662,11)","v":1057.4600871983243}]
["2003-03-15",{"$f":"VLOOKUP(A183,'RWH 10-yr Simulation'!$A$11:$N$3662,11)","v":1046.6279390501761},null,null,null,null,"2003-11-30",{"$f":"VLOOKUP(G183,'RWH 10-yr Simulation'!$A$11:$N$3662,11)","v":951.66377777777825},null,null,null,null,"2003-12-08",{"$f":"VLOOKUP(M183,'RWH 10-yr Simulation'!$A$11:$N$3662,11)","v":1038.0536427538798}]
["2003-11-01",{"$f":"VLOOKUP(A184,'RWH 10-yr Simulation'!$A$11:$N$3662,11)","v":0},null,null,null,null,"2003-12-01",{"$f":"VLOOKUP(G184,'RWH 10-yr Simulation'!$A$11:$N$3662,11)","v":1057.4600871983243},null,null,null,null,"2003-12-09",{"$f":"VLOOKUP(M184,'RWH 10-yr Simulation'!$A$11:$N$3662,11)","v":1057.4600871983243}]
["2003-11-02",{"$f":"VLOOKUP(A185,'RWH 10-yr Simulation'!$A$11:$N$3662,11)","v":0.31859259259259431},null,null,null,null,"2003-12-03",{"$f":"VLOOKUP(G185,'RWH 10-yr Simulation'!$A$11:$N$3662,11)","v":1041.8074946057318},null,null,null,null,"2003-12-11",{"$f":"VLOOKUP(M185,'RWH 10-yr Simulation'!$A$11:$N$3662,11)","v":1041.8074946057318}]
["2003-11-04",{"$f":"VLOOKUP(A186,'RWH 10-yr Simulation'!$A$11:$N$3662,11)","v":123.0737037037037},null,null,null,null,"2003-12-04",{"$f":"VLOOKUP(G186,'RWH 10-yr Simulation'!$A$11:$N$3662,11)","v":1057.4600871983243},null,null,null,null,"2003-12-12",{"$f":"VLOOKUP(M186,'RWH 10-yr Simulation'!$A$11:$N$3662,11)","v":1057.4600871983243}]
["2003-11-05",{"$f":"VLOOKUP(A187,'RWH 10-yr Simulation'!$A$11:$N$3662,11)","v":154.86370370370369},null,null,null,null,"2003-12-05",{"$f":"VLOOKUP(G187,'RWH 10-yr Simulation'!$A$11:$N$3662,11)","v":1057.4600871983243},null,null,null,null,"2003-12-13",{"$f":"VLOOKUP(M187,'RWH 10-yr Simulation'!$A$11:$N$3662,11)","v":1057.4600871983243}]
["2003-11-06",{"$f":"VLOOKUP(A188,'RWH 10-yr Simulation'!$A$11:$N$3662,11)","v":294.73970370370375},null,null,null,null,"2003-12-06",{"$f":"VLOOKUP(G188,'RWH 10-yr Simulation'!$A$11:$N$3662,11)","v":1057.4600871983243},null,null,null,null,"2003-12-18",{"$f":"VLOOKUP(M188,'RWH 10-yr Simulation'!$A$11:$N$3662,11)","v":994.84971682795413}]
["2003-11-07",{"$f":"VLOOKUP(A189,'RWH 10-yr Simulation'!$A$11:$N$3662,11)","v":318.85577777777786},null,null,null,null,"2003-12-08",{"$f":"VLOOKUP(G189,'RWH 10-yr Simulation'!$A$11:$N$3662,11)","v":1038.0536427538798},null,null,null,null,"2003-12-19",{"$f":"VLOOKUP(M189,'RWH 10-yr Simulation'!$A$11:$N$3662,11)","v":1057.4600871983243}]
["2003-11-13",{"$f":"VLOOKUP(A190,'RWH 10-yr Simulation'!$A$11:$N$3662,11)","v":436.70733333333351},null,null,null,null,"2003-12-09",{"$f":"VLOOKUP(G190,'RWH 10-yr Simulation'!$A$11:$N$3662,11)","v":1057.4600871983243},null,null,null,null,"2003-12-22",{"$f":"VLOOKUP(M190,'RWH 10-yr Simulation'!$A$11:$N$3662,11)","v":1026.1549020131392}]
["2003-11-14",{"$f":"VLOOKUP(A191,'RWH 10-yr Simulation'!$A$11:$N$3662,11)","v":544.79333333333352},null,null,null,null,"2003-12-11",{"$f":"VLOOKUP(G191,'RWH 10-yr Simulation'!$A$11:$N$3662,11)","v":1041.8074946057318},null,null,null,null,"2003-12-23",{"$f":"VLOOKUP(M191,'RWH 10-yr Simulation'!$A$11:$N$3662,11)","v":1057.4600871983243}]
["2003-11-16",{"$f":"VLOOKUP(A192,'RWH 10-yr Simulation'!$A$11:$N$3662,11)","v":591.25244444444456},null,null,null,null,"2003-12-12",{"$f":"VLOOKUP(G192,'RWH 10-yr Simulation'!$A$11:$N$3662,11)","v":1057.4600871983243},null,null,null,null,"2003-12-24",{"$f":"VLOOKUP(M192,'RWH 10-yr Simulation'!$A$11:$N$3662,11)","v":1057.4600871983243}]
["2003-11-29",{"$f":"VLOOKUP(A193,'RWH 10-yr Simulation'!$A$11:$N$3662,11)","v":392.15977777777823},null,null,null,null,"2003-12-13",{"$f":"VLOOKUP(G193,'RWH 10-yr Simulation'!$A$11:$N$3662,11)","v":1057.4600871983243},null,null,null,null,"2003-12-27",{"$f":"VLOOKUP(M193,'RWH 10-yr Simulation'!$A$11:$N$3662,11)","v":1022.4010501612872}]
["2003-11-30",{"$f":"VLOOKUP(A194,'RWH 10-yr Simulation'!$A$11:$N$3662,11)","v":951.66377777777825},null,null,null,null,"2003-12-18",{"$f":"VLOOKUP(G194,'RWH 10-yr Simulation'!$A$11:$N$3662,11)","v":994.84971682795413},null,null,null,null,"2003-12-28",{"$f":"VLOOKUP(M194,'RWH 10-yr Simulation'!$A$11:$N$3662,11)","v":1018.6471983094353}]
["2003-12-01",{"$f":"VLOOKUP(A195,'RWH 10-yr Simulation'!$A$11:$N$3662,11)","v":1057.4600871983243},null,null,null,null,"2003-12-19",{"$f":"VLOOKUP(G195,'RWH 10-yr Simulation'!$A$11:$N$3662,11)","v":1057.4600871983243},null,null,null,null,"2003-12-29",{"$f":"VLOOKUP(M195,'RWH 10-yr Simulation'!$A$11:$N$3662,11)","v":1057.4600871983243}]
["2003-12-03",{"$f":"VLOOKUP(A196,'RWH 10-yr Simulation'!$A$11:$N$3662,11)","v":1041.8074946057318},null,null,null,null,"2003-12-22",{"$f":"VLOOKUP(G196,'RWH 10-yr Simulation'!$A$11:$N$3662,11)","v":1026.1549020131392},null,null,null,null,"2003-12-31",{"$f":"VLOOKUP(M196,'RWH 10-yr Simulation'!$A$11:$N$3662,11)","v":1041.8074946057318}]
["2003-12-04",{"$f":"VLOOKUP(A197,'RWH 10-yr Simulation'!$A$11:$N$3662,11)","v":1057.4600871983243},null,null,null,null,"2003-12-23",{"$f":"VLOOKUP(G197,'RWH 10-yr Simulation'!$A$11:$N$3662,11)","v":1057.4600871983243},null,null,null,null,"2004-01-01",{"$f":"VLOOKUP(M197,'RWH 10-yr Simulation'!$A$11:$N$3662,11)","v":1057.4600871983243}]
["2003-12-05",{"$f":"VLOOKUP(A198,'RWH 10-yr Simulation'!$A$11:$N$3662,11)","v":1057.4600871983243},null,null,null,null,"2003-12-24",{"$f":"VLOOKUP(G198,'RWH 10-yr Simulation'!$A$11:$N$3662,11)","v":1057.4600871983243},null,null,null,null,"2004-01-05",{"$f":"VLOOKUP(M198,'RWH 10-yr Simulation'!$A$11:$N$3662,11)","v":1010.5023094205467}]
["2003-12-06",{"$f":"VLOOKUP(A199,'RWH 10-yr Simulation'!$A$11:$N$3662,11)","v":1057.4600871983243},null,null,null,null,"2003-12-27",{"$f":"VLOOKUP(G199,'RWH 10-yr Simulation'!$A$11:$N$3662,11)","v":1022.4010501612872},null,null,null,null,"2004-01-06",{"$f":"VLOOKUP(M199,'RWH 10-yr Simulation'!$A$11:$N$3662,11)","v":1042.2923094205466}]
["2003-12-08",{"$f":"VLOOKUP(A200,'RWH 10-yr Simulation'!$A$11:$N$3662,11)","v":1038.0536427538798},null,null,null,null,"2003-12-28",{"$f":"VLOOKUP(G200,'RWH 10-yr Simulation'!$A$11:$N$3662,11)","v":1018.6471983094353},null,null,null,null,"2004-01-08",{"$f":"VLOOKUP(M200,'RWH 10-yr Simulation'!$A$11:$N$3662,11)","v":1041.8074946057318}]
["2003-12-09",{"$f":"VLOOKUP(A201,'RWH 10-yr Simulation'!$A$11:$N$3662,11)","v":1057.4600871983243},null,null,null,null,"2003-12-29",{"$f":"VLOOKUP(G201,'RWH 10-yr Simulation'!$A$11:$N$3662,11)","v":1057.4600871983243},null,null,null,null,"2004-01-09",{"$f":"VLOOKUP(M201,'RWH 10-yr Simulation'!$A$11:$N$3662,11)","v":1057.4600871983243}]
["2003-12-11",{"$f":"VLOOKUP(A202,'RWH 10-yr Simulation'!$A$11:$N$3662,11)","v":1041.8074946057318},null,null,null,null,"2003-12-31",{"$f":"VLOOKUP(G202,'RWH 10-yr Simulation'!$A$11:$N$3662,11)","v":1041.8074946057318},null,null,null,null,"2004-01-13",{"$f":"VLOOKUP(M202,'RWH 10-yr Simulation'!$A$11:$N$3662,11)","v":1010.5023094205467}]
["2003-12-12",{"$f":"VLOOKUP(A203,'RWH 10-yr Simulation'!$A$11:$N$3662,11)","v":1057.4600871983243},null,null,null,null,"2004-01-01",{"$f":"VLOOKUP(G203,'RWH 10-yr Simulation'!$A$11:$N$3662,11)","v":1057.4600871983243},null,null,null,null,"2004-01-22",{"$f":"VLOOKUP(M203,'RWH 10-yr Simulation'!$A$11:$N$3662,11)","v":910.71356867980626}]
["2003-12-13",{"$f":"VLOOKUP(A204,'RWH 10-yr Simulation'!$A$11:$N$3662,11)","v":1057.4600871983243},null,null,null,null,"2004-01-05",{"$f":"VLOOKUP(G204,'RWH 10-yr Simulation'!$A$11:$N$3662,11)","v":1010.5023094205467},null,null,null,null,"2004-01-23",{"$f":"VLOOKUP(M204,'RWH 10-yr Simulation'!$A$11:$N$3662,11)","v":929.78756867980621}]
["2003-12-18",{"$f":"VLOOKUP(A205,'RWH 10-yr Simulation'!$A$11:$N$3662,11)","v":994.84971682795413},null,null,null,null,"2004-01-06",{"$f":"VLOOKUP(G205,'RWH 10-yr Simulation'!$A$11:$N$3662,11)","v":1042.2923094205466},null,null,null,null,"2004-01-26",{"$f":"VLOOKUP(M205,'RWH 10-yr Simulation'!$A$11:$N$3662,11)","v":1006.5683834946212}]
["2003-12-19",{"$f":"VLOOKUP(A206,'RWH 10-yr Simulation'!$A$11:$N$3662,11)","v":1057.4600871983243},null,null,null,null,"2004-01-08",{"$f":"VLOOKUP(G206,'RWH 10-yr Simulation'!$A$11:$N$3662,11)","v":1041.8074946057318},null,null,null,null,"2004-01-27",{"$f":"VLOOKUP(M206,'RWH 10-yr Simulation'!$A$11:$N$3662,11)","v":1057.4600871983243}]
["2003-12-22",{"$f":"VLOOKUP(A207,'RWH 10-yr Simulation'!$A$11:$N$3662,11)","v":1026.1549020131392},null,null,null,null,"2004-01-09",{"$f":"VLOOKUP(G207,'RWH 10-yr Simulation'!$A$11:$N$3662,11)","v":1057.4600871983243},null,null,null,null,"2004-01-29",{"$f":"VLOOKUP(M207,'RWH 10-yr Simulation'!$A$11:$N$3662,11)","v":1038.0536427538798}]
["2003-12-23",{"$f":"VLOOKUP(A208,'RWH 10-yr Simulation'!$A$11:$N$3662,11)","v":1057.4600871983243},null,null,null,null,"2004-01-13",{"$f":"VLOOKUP(G208,'RWH 10-yr Simulation'!$A$11:$N$3662,11)","v":1010.5023094205467},null,null,null,null,"2004-01-31",{"$f":"VLOOKUP(M208,'RWH 10-yr Simulation'!$A$11:$N$3662,11)","v":1041.8074946057318}]
["2003-12-24",{"$f":"VLOOKUP(A209,'RWH 10-yr Simulation'!$A$11:$N$3662,11)","v":1057.4600871983243},null,null,null,null,"2004-01-22",{"$f":"VLOOKUP(G209,'RWH 10-yr Simulation'!$A$11:$N$3662,11)","v":910.71356867980626},null,null,null,null,"2004-02-01",{"$f":"VLOOKUP(M209,'RWH 10-yr Simulation'!$A$11:$N$3662,11)","v":1057.4600871983243}]
["2003-12-27",{"$f":"VLOOKUP(A210,'RWH 10-yr Simulation'!$A$11:$N$3662,11)","v":1022.4010501612872},null,null,null,null,"2004-01-23",{"$f":"VLOOKUP(G210,'RWH 10-yr Simulation'!$A$11:$N$3662,11)","v":929.78756867980621},null,null,null,null,"2004-02-02",{"$f":"VLOOKUP(M210,'RWH 10-yr Simulation'!$A$11:$N$3662,11)","v":1057.4600871983243}]
["2003-12-28",{"$f":"VLOOKUP(A211,'RWH 10-yr Simulation'!$A$11:$N$3662,11)","v":1018.6471983094353},null,null,null,null,"2004-01-26",{"$f":"VLOOKUP(G211,'RWH 10-yr Simulation'!$A$11:$N$3662,11)","v":1006.5683834946212},null,null,null,null,"2004-02-03",{"$f":"VLOOKUP(M211,'RWH 10-yr Simulation'!$A$11:$N$3662,11)","v":1057.4600871983243}]
["2003-12-29",{"$f":"VLOOKUP(A212,'RWH 10-yr Simulation'!$A$11:$N$3662,11)","v":1057.4600871983243},null,null,null,null,"2004-01-27",{"$f":"VLOOKUP(G212,'RWH 10-yr Simulation'!$A$11:$N$3662,11)","v":1057.4600871983243},null,null,null,null,"2004-02-05",{"$f":"VLOOKUP(M212,'RWH 10-yr Simulation'!$A$11:$N$3662,11)","v":1022.4010501612872}]
["2003-12-31",{"$f":"VLOOKUP(A213,'RWH 10-yr Simulation'!$A$11:$N$3662,11)","v":1041.8074946057318},null,null,null,null,"2004-01-29",{"$f":"VLOOKUP(G213,'RWH 10-yr Simulation'!$A$11:$N$3662,11)","v":1038.0536427538798},null,null,null,null,"2004-02-14",{"$f":"VLOOKUP(M213,'RWH 10-yr Simulation'!$A$11:$N$3662,11)","v":869.62897608721369}]
["2004-01-01",{"$f":"VLOOKUP(A214,'RWH 10-yr Simulation'!$A$11:$N$3662,11)","v":1057.4600871983243},null,null,null,null,"2004-01-31",{"$f":"VLOOKUP(G214,'RWH 10-yr Simulation'!$A$11:$N$3662,11)","v":1041.8074946057318},null,null,null,null,"2004-02-15",{"$f":"VLOOKUP(M214,'RWH 10-yr Simulation'!$A$11:$N$3662,11)","v":881.84630942054696}]
["2004-01-05",{"$f":"VLOOKUP(A215,'RWH 10-yr Simulation'!$A$11:$N$3662,11)","v":1010.5023094205467},null,null,null,null,"2004-02-01",{"$f":"VLOOKUP(G215,'RWH 10-yr Simulation'!$A$11:$N$3662,11)","v":1057.4600871983243},null,null,null,null,"2004-02-16",{"$f":"VLOOKUP(M215,'RWH 10-yr Simulation'!$A$11:$N$3662,11)","v":1057.4600871983243}]
["2004-01-06",{"$f":"VLOOKUP(A216,'RWH 10-yr Simulation'!$A$11:$N$3662,11)","v":1042.2923094205466},null,null,null,null,"2004-02-02",{"$f":"VLOOKUP(G216,'RWH 10-yr Simulation'!$A$11:$N$3662,11)","v":1057.4600871983243},null,null,null,null,"2004-02-17",{"$f":"VLOOKUP(M216,'RWH 10-yr Simulation'!$A$11:$N$3662,11)","v":1057.4600871983243}]
["2004-01-08",{"$f":"VLOOKUP(A217,'RWH 10-yr Simulation'!$A$11:$N$3662,11)","v":1041.8074946057318},null,null,null,null,"2004-02-03",{"$f":"VLOOKUP(G217,'RWH 10-yr Simulation'!$A$11:$N$3662,11)","v":1057.4600871983243},null,null,null,null,"2004-02-20",{"$f":"VLOOKUP(M217,'RWH 10-yr Simulation'!$A$11:$N$3662,11)","v":1010.5023094205467}]
["2004-01-09",{"$f":"VLOOKUP(A218,'RWH 10-yr Simulation'!$A$11:$N$3662,11)","v":1057.4600871983243},null,null,null,null,"2004-02-05",{"$f":"VLOOKUP(G218,'RWH 10-yr Simulation'!$A$11:$N$3662,11)","v":1022.4010501612872},null,null,null,null,"2004-02-21",{"$f":"VLOOKUP(M218,'RWH 10-yr Simulation'!$A$11:$N$3662,11)","v":1010.8209020131393}]
["2004-01-13",{"$f":"VLOOKUP(A219,'RWH 10-yr Simulation'!$A$11:$N$3662,11)","v":1010.5023094205467},null,null,null,null,"2004-02-14",{"$f":"VLOOKUP(G219,'RWH 10-yr Simulation'!$A$11:$N$3662,11)","v":869.62897608721369},null,null,null,null,"2004-02-23",{"$f":"VLOOKUP(M219,'RWH 10-yr Simulation'!$A$11:$N$3662,11)","v":1033.9811983094355}]
["2004-01-22",{"$f":"VLOOKUP(A220,'RWH 10-yr Simulation'!$A$11:$N$3662,11)","v":910.71356867980626},null,null,null,null,"2004-02-15",{"$f":"VLOOKUP(G220,'RWH 10-yr Simulation'!$A$11:$N$3662,11)","v":881.84630942054696},null,null,null,null,"2004-02-24",{"$f":"VLOOKUP(M220,'RWH 10-yr Simulation'!$A$11:$N$3662,11)","v":1057.4600871983243}]
["2004-01-23",{"$f":"VLOOKUP(A221,'RWH 10-yr Simulation'!$A$11:$N$3662,11)","v":929.78756867980621},null,null,null,null,"2004-02-16",{"$f":"VLOOKUP(G221,'RWH 10-yr Simulation'!$A$11:$N$3662,11)","v":1057.4600871983243},null,null,null,null,"2004-02-25",{"$f":"VLOOKUP(M221,'RWH 10-yr Simulation'!$A$11:$N$3662,11)","v":1057.4600871983243}]
["2004-01-26",{"$f":"VLOOKUP(A222,'RWH 10-yr Simulation'!$A$11:$N$3662,11)","v":1006.5683834946212},null,null,null,null,"2004-02-17",{"$f":"VLOOKUP(G222,'RWH 10-yr Simulation'!$A$11:$N$3662,11)","v":1057.4600871983243},null,null,null,null,"2004-02-26",{"$f":"VLOOKUP(M222,'RWH 10-yr Simulation'!$A$11:$N$3662,11)","v":1057.4600871983243}]
["2004-01-27",{"$f":"VLOOKUP(A223,'RWH 10-yr Simulation'!$A$11:$N$3662,11)","v":1057.4600871983243},null,null,null,null,"2004-02-20",{"$f":"VLOOKUP(G223,'RWH 10-yr Simulation'!$A$11:$N$3662,11)","v":1010.5023094205467},null,null,null,null,"2004-02-29",{"$f":"VLOOKUP(M223,'RWH 10-yr Simulation'!$A$11:$N$3662,11)","v":1010.5023094205467}]
["2004-01-29",{"$f":"VLOOKUP(A224,'RWH 10-yr Simulation'!$A$11:$N$3662,11)","v":1038.0536427538798},null,null,null,null,"2004-02-21",{"$f":"VLOOKUP(G224,'RWH 10-yr Simulation'!$A$11:$N$3662,11)","v":1010.8209020131393},null,null,null,null,"2004-03-24",{"$f":"VLOOKUP(M224,'RWH 10-yr Simulation'!$A$11:$N$3662,11)","v":157.43601312424983}]
["2004-01-31",{"$f":"VLOOKUP(A225,'RWH 10-yr Simulation'!$A$11:$N$3662,11)","v":1041.8074946057318},null,null,null,null,"2004-02-23",{"$f":"VLOOKUP(G225,'RWH 10-yr Simulation'!$A$11:$N$3662,11)","v":1033.9811983094355},null,null,null,null,"2004-03-26",{"$f":"VLOOKUP(M225,'RWH 10-yr Simulation'!$A$11:$N$3662,11)","v":652.37653164276844}]
["2004-02-01",{"$f":"VLOOKUP(A226,'RWH 10-yr Simulation'!$A$11:$N$3662,11)","v":1057.4600871983243},null,null,null,null,"2004-02-24",{"$f":"VLOOKUP(G226,'RWH 10-yr Simulation'!$A$11:$N$3662,11)","v":1057.4600871983243},null,null,null,null,"2004-03-29",{"$f":"VLOOKUP(M226,'RWH 10-yr Simulation'!$A$11:$N$3662,11)","v":570.67830942054616}]
["2004-02-02",{"$f":"VLOOKUP(A227,'RWH 10-yr Simulation'!$A$11:$N$3662,11)","v":1057.4600871983243},null,null,null,null,"2004-02-25",{"$f":"VLOOKUP(G227,'RWH 10-yr Simulation'!$A$11:$N$3662,11)","v":1057.4600871983243},null,null,null,null,"2004-04-13",{"$f":"VLOOKUP(M227,'RWH 10-yr Simulation'!$A$11:$N$3662,11)","v":0}]
["2004-02-03",{"$f":"VLOOKUP(A228,'RWH 10-yr Simulation'!$A$11:$N$3662,11)","v":1057.4600871983243},null,null,null,null,"2004-02-26",{"$f":"VLOOKUP(G228,'RWH 10-yr Simulation'!$A$11:$N$3662,11)","v":1057.4600871983243},null,null,null,null,"2004-04-17",{"$f":"VLOOKUP(M228,'RWH 10-yr Simulation'!$A$11:$N$3662,11)","v":0}]
["2004-02-05",{"$f":"VLOOKUP(A229,'RWH 10-yr Simulation'!$A$11:$N$3662,11)","v":1022.4010501612872},null,null,null,null,"2004-02-29",{"$f":"VLOOKUP(G229,'RWH 10-yr Simulation'!$A$11:$N$3662,11)","v":1010.5023094205467},null,null,null,null,"2004-04-19",{"$f":"VLOOKUP(M229,'RWH 10-yr Simulation'!$A$11:$N$3662,11)","v":0}]
["2004-02-14",{"$f":"VLOOKUP(A230,'RWH 10-yr Simulation'!$A$11:$N$3662,11)","v":869.62897608721369},null,null,null,null,"2004-03-24",{"$f":"VLOOKUP(G230,'RWH 10-yr Simulation'!$A$11:$N$3662,11)","v":157.43601312424983},null,null,null,null,"2004-04-20",{"$f":"VLOOKUP(M230,'RWH 10-yr Simulation'!$A$11:$N$3662,11)","v":20.521518518518516}]
["2004-02-15",{"$f":"VLOOKUP(A231,'RWH 10-yr Simulation'!$A$11:$N$3662,11)","v":881.84630942054696},null,null,null,null,"2004-03-26",{"$f":"VLOOKUP(G231,'RWH 10-yr Simulation'!$A$11:$N$3662,11)","v":652.37653164276844},null,null,null,null,"2004-11-02",{"$f":"VLOOKUP(M231,'RWH 10-yr Simulation'!$A$11:$N$3662,11)","v":834.41064275387976}]
["2004-02-16",{"$f":"VLOOKUP(A232,'RWH 10-yr Simulation'!$A$11:$N$3662,11)","v":1057.4600871983243},null,null,null,null,"2004-03-29",{"$f":"VLOOKUP(G232,'RWH 10-yr Simulation'!$A$11:$N$3662,11)","v":570.67830942054616},null,null,null,null,"2004-11-03",{"$f":"VLOOKUP(M232,'RWH 10-yr Simulation'!$A$11:$N$3662,11)","v":866.20064275387972}]
["2004-02-17",{"$f":"VLOOKUP(A233,'RWH 10-yr Simulation'!$A$11:$N$3662,11)","v":1057.4600871983243},null,null,null,null,"2004-04-13",{"$f":"VLOOKUP(G233,'RWH 10-yr Simulation'!$A$11:$N$3662,11)","v":0},null,null,null,null,"2004-11-09",{"$f":"VLOOKUP(M233,'RWH 10-yr Simulation'!$A$11:$N$3662,11)","v":933.18819830943562}]
["2004-02-20",{"$f":"VLOOKUP(A234,'RWH 10-yr Simulation'!$A$11:$N$3662,11)","v":1010.5023094205467},null,null,null,null,"2004-04-17",{"$f":"VLOOKUP(G234,'RWH 10-yr Simulation'!$A$11:$N$3662,11)","v":0},null,null,null,null,"2004-11-10",{"$f":"VLOOKUP(M234,'RWH 10-yr Simulation'!$A$11:$N$3662,11)","v":1057.4600871983243}]
["2004-02-21",{"$f":"VLOOKUP(A235,'RWH 10-yr Simulation'!$A$11:$N$3662,11)","v":1010.8209020131393},null,null,null,null,"2004-04-19",{"$f":"VLOOKUP(G235,'RWH 10-yr Simulation'!$A$11:$N$3662,11)","v":0},null,null,null,null,"2004-11-24",{"$f":"VLOOKUP(M235,'RWH 10-yr Simulation'!$A$11:$N$3662,11)","v":752.23453164276953}]
["2004-02-23",{"$f":"VLOOKUP(A236,'RWH 10-yr Simulation'!$A$11:$N$3662,11)","v":1033.9811983094355},null,null,null,null,"2004-04-20",{"$f":"VLOOKUP(G236,'RWH 10-yr Simulation'!$A$11:$N$3662,11)","v":20.521518518518516},null,null,null,null,"2004-11-25",{"$f":"VLOOKUP(M236,'RWH 10-yr Simulation'!$A$11:$N$3662,11)","v":752.55312423536213}]
["2004-02-24",{"$f":"VLOOKUP(A237,'RWH 10-yr Simulation'!$A$11:$N$3662,11)","v":1057.4600871983243},null,null,null,null,"2004-05-27",{"$f":"VLOOKUP(G237,'RWH 10-yr Simulation'!$A$11:$N$3662,11)","v":0},null,null,null,null,"2004-11-26",{"$f":"VLOOKUP(M237,'RWH 10-yr Simulation'!$A$11:$N$3662,11)","v":764.77045756869541}]
["2004-02-25",{"$f":"VLOOKUP(A238,'RWH 10-yr Simulation'!$A$11:$N$3662,11)","v":1057.4600871983243},null,null,null,null,"2004-10-16",{"$f":"VLOOKUP(G238,'RWH 10-yr Simulation'!$A$11:$N$3662,11)","v":0},null,null,null,null,"2004-12-05",{"$f":"VLOOKUP(M238,'RWH 10-yr Simulation'!$A$11:$N$3662,11)","v":883.10682793906608}]
["2004-02-26",{"$f":"VLOOKUP(A239,'RWH 10-yr Simulation'!$A$11:$N$3662,11)","v":1057.4600871983243},null,null,null,null,"2004-10-18",{"$f":"VLOOKUP(G239,'RWH 10-yr Simulation'!$A$11:$N$3662,11)","v":98.299666666666667},null,null,null,null,"2004-12-06",{"$f":"VLOOKUP(M239,'RWH 10-yr Simulation'!$A$11:$N$3662,11)","v":984.83482793906614}]
["2004-02-29",{"$f":"VLOOKUP(A240,'RWH 10-yr Simulation'!$A$11:$N$3662,11)","v":1010.5023094205467},null,null,null,null,"2004-10-19",{"$f":"VLOOKUP(G240,'RWH 10-yr Simulation'!$A$11:$N$3662,11)","v":753.17366666666669},null,null,null,null,"2004-12-07",{"$f":"VLOOKUP(M240,'RWH 10-yr Simulation'!$A$11:$N$3662,11)","v":1057.4600871983243}]
["2004-03-24",{"$f":"VLOOKUP(A241,'RWH 10-yr Simulation'!$A$11:$N$3662,11)","v":157.43601312424983},null,null,null,null,"2004-10-22",{"$f":"VLOOKUP(G241,'RWH 10-yr Simulation'!$A$11:$N$3662,11)","v":778.10699999999997},null,null,null,null,"2004-12-25",{"$f":"VLOOKUP(M241,'RWH 10-yr Simulation'!$A$11:$N$3662,11)","v":791.36601312425091}]
["2004-03-26",{"$f":"VLOOKUP(A242,'RWH 10-yr Simulation'!$A$11:$N$3662,11)","v":652.37653164276844},null,null,null,null,"2004-10-24",{"$f":"VLOOKUP(G242,'RWH 10-yr Simulation'!$A$11:$N$3662,11)","v":844.61666666666667},null,null,null,null,"2004-12-26",{"$f":"VLOOKUP(M242,'RWH 10-yr Simulation'!$A$11:$N$3662,11)","v":1057.4600871983243}]
["2004-03-29",{"$f":"VLOOKUP(A243,'RWH 10-yr Simulation'!$A$11:$N$3662,11)","v":570.67830942054616},null,null,null,null,"2004-10-25",{"$f":"VLOOKUP(G243,'RWH 10-yr Simulation'!$A$11:$N$3662,11)","v":856.99329629629631},null,null,null,null,"2004-12-27",{"$f":"VLOOKUP(M243,'RWH 10-yr Simulation'!$A$11:$N$3662,11)","v":1057.4600871983243}]
["2004-04-13",{"$f":"VLOOKUP(A244,'RWH 10-yr Simulation'!$A$11:$N$3662,11)","v":0},null,null,null,null,"2004-11-02",{"$f":"VLOOKUP(G244,'RWH 10-yr Simulation'!$A$11:$N$3662,11)","v":834.41064275387976},null,null,null,null,"2004-12-28",{"$f":"VLOOKUP(M244,'RWH 10-yr Simulation'!$A$11:$N$3662,11)","v":1057.4600871983243}]
["2004-04-17",{"$f":"VLOOKUP(A245,'RWH 10-yr Simulation'!$A$11:$N$3662,11)","v":0},null,null,null,null,"2004-11-03",{"$f":"VLOOKUP(G245,'RWH 10-yr Simulation'!$A$11:$N$3662,11)","v":866.20064275387972},null,null,null,null,"2004-12-29",{"$f":"VLOOKUP(M245,'RWH 10-yr Simulation'!$A$11:$N$3662,11)","v":1057.4600871983243}]
["2004-04-19",{"$f":"VLOOKUP(A246,'RWH 10-yr Simulation'!$A$11:$N$3662,11)","v":0},null,null,null,null,"2004-11-09",{"$f":"VLOOKUP(G246,'RWH 10-yr Simulation'!$A$11:$N$3662,11)","v":933.18819830943562},null,null,null,null,"2004-12-30",{"$f":"VLOOKUP(M246,'RWH 10-yr Simulation'!$A$11:$N$3662,11)","v":1057.4600871983243}]
["2004-04-20",{"$f":"VLOOKUP(A247,'RWH 10-yr Simulation'!$A$11:$N$3662,11)","v":20.521518518518516},null,null,null,null,"2004-11-10",{"$f":"VLOOKUP(G247,'RWH 10-yr Simulation'!$A$11:$N$3662,11)","v":1057.4600871983243},null,null,null,null,"2004-12-31",{"$f":"VLOOKUP(M247,'RWH 10-yr Simulation'!$A$11:$N$3662,11)","v":1057.4600871983243}]
["2004-05-27",{"$f":"VLOOKUP(A248,'RWH 10-yr Simulation'!$A$11:$N$3662,11)","v":0},null,null,null,null,"2004-11-24",{"$f":"VLOOKUP(G248,'RWH 10-yr Simulation'!$A$11:$N$3662,11)","v":752.23453164276953},null,null,null,null,"2005-01-01",{"$f":"VLOOKUP(M248,'RWH 10-yr Simulation'!$A$11:$N$3662,11)","v":1057.4600871983243}]
["2004-07-31",{"$f":"VLOOKUP(A249,'RWH 10-yr Simulation'!$A$11:$N$3662,11)","v":0},null,null,null,null,"2004-11-25",{"$f":"VLOOKUP(G249,'RWH 10-yr Simulation'!$A$11:$N$3662,11)","v":752.55312423536213},null,null,null,null,"2005-01-02",{"$f":"VLOOKUP(M249,'RWH 10-yr Simulation'!$A$11:$N$3662,11)","v":1057.4600871983243}]
["2004-08-01",{"$f":"VLOOKUP(A250,'RWH 10-yr Simulation'!$A$11:$N$3662,11)","v":0},null,null,null,null,"2004-11-26",{"$f":"VLOOKUP(G250,'RWH 10-yr Simulation'!$A$11:$N$3662,11)","v":764.77045756869541},null,null,null,null,"2005-01-03",{"$f":"VLOOKUP(M250,'RWH 10-yr Simulation'!$A$11:$N$3662,11)","v":1057.4600871983243}]
["2004-08-22",{"$f":"VLOOKUP(A251,'RWH 10-yr Simulation'!$A$11:$N$3662,11)","v":0},null,null,null,null,"2004-12-05",{"$f":"VLOOKUP(G251,'RWH 10-yr Simulation'!$A$11:$N$3662,11)","v":883.10682793906608},null,null,null,null,"2005-01-04",{"$f":"VLOOKUP(M251,'RWH 10-yr Simulation'!$A$11:$N$3662,11)","v":1057.4600871983243}]
["2004-09-18",{"$f":"VLOOKUP(A252,'RWH 10-yr Simulation'!$A$11:$N$3662,11)","v":0},null,null,null,null,"2004-12-06",{"$f":"VLOOKUP(G252,'RWH 10-yr Simulation'!$A$11:$N$3662,11)","v":984.83482793906614},null,null,null,null,"2005-01-06",{"$f":"VLOOKUP(M252,'RWH 10-yr Simulation'!$A$11:$N$3662,11)","v":1041.8074946057318}]
["2004-10-16",{"$f":"VLOOKUP(A253,'RWH 10-yr Simulation'!$A$11:$N$3662,11)","v":0},null,null,null,null,"2004-12-07",{"$f":"VLOOKUP(G253,'RWH 10-yr Simulation'!$A$11:$N$3662,11)","v":1057.4600871983243},null,null,null,null,"2005-01-07",{"$f":"VLOOKUP(M253,'RWH 10-yr Simulation'!$A$11:$N$3662,11)","v":1057.4600871983243}]
["2004-10-18",{"$f":"VLOOKUP(A254,'RWH 10-yr Simulation'!$A$11:$N$3662,11)","v":98.299666666666667},null,null,null,null,"2004-12-25",{"$f":"VLOOKUP(G254,'RWH 10-yr Simulation'!$A$11:$N$3662,11)","v":791.36601312425091},null,null,null,null,"2005-01-08",{"$f":"VLOOKUP(M254,'RWH 10-yr Simulation'!$A$11:$N$3662,11)","v":1057.4600871983243}]
["2004-10-19",{"$f":"VLOOKUP(A255,'RWH 10-yr Simulation'!$A$11:$N$3662,11)","v":753.17366666666669},null,null,null,null,"2004-12-26",{"$f":"VLOOKUP(G255,'RWH 10-yr Simulation'!$A$11:$N$3662,11)","v":1057.4600871983243},null,null,null,null,"2005-01-09",{"$f":"VLOOKUP(M255,'RWH 10-yr Simulation'!$A$11:$N$3662,11)","v":1053.7062353464723}]
["2004-10-22",{"$f":"VLOOKUP(A256,'RWH 10-yr Simulation'!$A$11:$N$3662,11)","v":778.10699999999997},null,null,null,null,"2004-12-27",{"$f":"VLOOKUP(G256,'RWH 10-yr Simulation'!$A$11:$N$3662,11)","v":1057.4600871983243},null,null,null,null,"2005-01-10",{"$f":"VLOOKUP(M256,'RWH 10-yr Simulation'!$A$11:$N$3662,11)","v":1057.4600871983243}]
["2004-10-24",{"$f":"VLOOKUP(A257,'RWH 10-yr Simulation'!$A$11:$N$3662,11)","v":844.61666666666667},null,null,null,null,"2004-12-28",{"$f":"VLOOKUP(G257,'RWH 10-yr Simulation'!$A$11:$N$3662,11)","v":1057.4600871983243},null,null,null,null,"2005-01-25",{"$f":"VLOOKUP(M257,'RWH 10-yr Simulation'!$A$11:$N$3662,11)","v":838.32379090202858}]
["2004-10-25",{"$f":"VLOOKUP(A258,'RWH 10-yr Simulation'!$A$11:$N$3662,11)","v":856.99329629629631},null,null,null,null,"2004-12-29",{"$f":"VLOOKUP(G258,'RWH 10-yr Simulation'!$A$11:$N$3662,11)","v":1057.4600871983243},null,null,null,null,"2005-01-26",{"$f":"VLOOKUP(M258,'RWH 10-yr Simulation'!$A$11:$N$3662,11)","v":1057.4600871983243}]
["2004-11-02",{"$f":"VLOOKUP(A259,'RWH 10-yr Simulation'!$A$11:$N$3662,11)","v":834.41064275387976},null,null,null,null,"2004-12-30",{"$f":"VLOOKUP(G259,'RWH 10-yr Simulation'!$A$11:$N$3662,11)","v":1057.4600871983243},null,null,null,null,"2005-01-27",{"$f":"VLOOKUP(M259,'RWH 10-yr Simulation'!$A$11:$N$3662,11)","v":1057.4600871983243}]
["2004-11-03",{"$f":"VLOOKUP(A260,'RWH 10-yr Simulation'!$A$11:$N$3662,11)","v":866.20064275387972},null,null,null,null,"2004-12-31",{"$f":"VLOOKUP(G260,'RWH 10-yr Simulation'!$A$11:$N$3662,11)","v":1057.4600871983243},null,null,null,null,"2005-02-06",{"$f":"VLOOKUP(M260,'RWH 10-yr Simulation'!$A$11:$N$3662,11)","v":869.62897608721369}]
["2004-11-09",{"$f":"VLOOKUP(A261,'RWH 10-yr Simulation'!$A$11:$N$3662,11)","v":933.18819830943562},null,null,null,null,"2005-01-01",{"$f":"VLOOKUP(G261,'RWH 10-yr Simulation'!$A$11:$N$3662,11)","v":1057.4600871983243},null,null,null,null,"2005-02-13",{"$f":"VLOOKUP(M261,'RWH 10-yr Simulation'!$A$11:$N$3662,11)","v":836.84164275388071}]
["2004-11-10",{"$f":"VLOOKUP(A262,'RWH 10-yr Simulation'!$A$11:$N$3662,11)","v":1057.4600871983243},null,null,null,null,"2005-01-02",{"$f":"VLOOKUP(G262,'RWH 10-yr Simulation'!$A$11:$N$3662,11)","v":1057.4600871983243},null,null,null,null,"2005-02-14",{"$f":"VLOOKUP(M262,'RWH 10-yr Simulation'!$A$11:$N$3662,11)","v":1057.4600871983243}]
["2004-11-24",{"$f":"VLOOKUP(A263,'RWH 10-yr Simulation'!$A$11:$N$3662,11)","v":752.23453164276953},null,null,null,null,"2005-01-03",{"$f":"VLOOKUP(G263,'RWH 10-yr Simulation'!$A$11:$N$3662,11)","v":1057.4600871983243},null,null,null,null,"2005-02-16",{"$f":"VLOOKUP(M263,'RWH 10-yr Simulation'!$A$11:$N$3662,11)","v":1033.9811983094355}]
["2004-11-25",{"$f":"VLOOKUP(A264,'RWH 10-yr Simulation'!$A$11:$N$3662,11)","v":752.55312423536213},null,null,null,null,"2005-01-04",{"$f":"VLOOKUP(G264,'RWH 10-yr Simulation'!$A$11:$N$3662,11)","v":1057.4600871983243},null,null,null,null,"2005-02-17",{"$f":"VLOOKUP(M264,'RWH 10-yr Simulation'!$A$11:$N$3662,11)","v":1057.4600871983243}]
["2004-11-26",{"$f":"VLOOKUP(A265,'RWH 10-yr Simulation'!$A$11:$N$3662,11)","v":764.77045756869541},null,null,null,null,"2005-01-06",{"$f":"VLOOKUP(G265,'RWH 10-yr Simulation'!$A$11:$N$3662,11)","v":1041.8074946057318},null,null,null,null,"2005-02-18",{"$f":"VLOOKUP(M265,'RWH 10-yr Simulation'!$A$11:$N$3662,11)","v":1057.4600871983243}]
["2004-12-05",{"$f":"VLOOKUP(A266,'RWH 10-yr Simulation'!$A$11:$N$3662,11)","v":883.10682793906608},null,null,null,null,"2005-01-07",{"$f":"VLOOKUP(G266,'RWH 10-yr Simulation'!$A$11:$N$3662,11)","v":1057.4600871983243},null,null,null,null,"2005-02-19",{"$f":"VLOOKUP(M266,'RWH 10-yr Simulation'!$A$11:$N$3662,11)","v":1057.4600871983243}]
["2004-12-06",{"$f":"VLOOKUP(A267,'RWH 10-yr Simulation'!$A$11:$N$3662,11)","v":984.83482793906614},null,null,null,null,"2005-01-08",{"$f":"VLOOKUP(G267,'RWH 10-yr Simulation'!$A$11:$N$3662,11)","v":1057.4600871983243},null,null,null,null,"2005-02-20",{"$f":"VLOOKUP(M267,'RWH 10-yr Simulation'!$A$11:$N$3662,11)","v":1057.4600871983243}]
["2004-12-07",{"$f":"VLOOKUP(A268,'RWH 10-yr Simulation'!$A$11:$N$3662,11)","v":1057.4600871983243},null,null,null,null,"2005-01-09",{"$f":"VLOOKUP(G268,'RWH 10-yr Simulation'!$A$11:$N$3662,11)","v":1053.7062353464723},null,null,null,null,"2005-02-26",{"$f":"VLOOKUP(M268,'RWH 10-yr Simulation'!$A$11:$N$3662,11)","v":940.06564275388018}]
["2004-12-25",{"$f":"VLOOKUP(A269,'RWH 10-yr Simulation'!$A$11:$N$3662,11)","v":791.36601312425091},null,null,null,null,"2005-01-10",{"$f":"VLOOKUP(G269,'RWH 10-yr Simulation'!$A$11:$N$3662,11)","v":1057.4600871983243},null,null,null,null,"2005-02-27",{"$f":"VLOOKUP(M269,'RWH 10-yr Simulation'!$A$11:$N$3662,11)","v":1057.4600871983243}]
["2004-12-26",{"$f":"VLOOKUP(A270,'RWH 10-yr Simulation'!$A$11:$N$3662,11)","v":1057.4600871983243},null,null,null,null,"2005-01-25",{"$f":"VLOOKUP(G270,'RWH 10-yr Simulation'!$A$11:$N$3662,11)","v":838.32379090202858},null,null,null,null,"2005-02-28",{"$f":"VLOOKUP(M270,'RWH 10-yr Simulation'!$A$11:$N$3662,11)","v":1057.4600871983243}]
["2004-12-27",{"$f":"VLOOKUP(A271,'RWH 10-yr Simulation'!$A$11:$N$3662,11)","v":1057.4600871983243},null,null,null,null,"2005-01-26",{"$f":"VLOOKUP(G271,'RWH 10-yr Simulation'!$A$11:$N$3662,11)","v":1057.4600871983243},null,null,null,null,"2005-03-01",{"$f":"VLOOKUP(M271,'RWH 10-yr Simulation'!$A$11:$N$3662,11)","v":1057.4600871983243}]
["2004-12-28",{"$f":"VLOOKUP(A272,'RWH 10-yr Simulation'!$A$11:$N$3662,11)","v":1057.4600871983243},null,null,null,null,"2005-01-27",{"$f":"VLOOKUP(G272,'RWH 10-yr Simulation'!$A$11:$N$3662,11)","v":1057.4600871983243},null,null,null,null,"2005-03-02",{"$f":"VLOOKUP(M272,'RWH 10-yr Simulation'!$A$11:$N$3662,11)","v":1057.4600871983243}]
["2004-12-29",{"$f":"VLOOKUP(A273,'RWH 10-yr Simulation'!$A$11:$N$3662,11)","v":1057.4600871983243},null,null,null,null,"2005-02-06",{"$f":"VLOOKUP(G273,'RWH 10-yr Simulation'!$A$11:$N$3662,11)","v":869.62897608721369},null,null,null,null,"2005-03-03",{"$f":"VLOOKUP(M273,'RWH 10-yr Simulation'!$A$11:$N$3662,11)","v":1057.4600871983243}]
["2004-12-30",{"$f":"VLOOKUP(A274,'RWH 10-yr Simulation'!$A$11:$N$3662,11)","v":1057.4600871983243},null,null,null,null,"2005-02-13",{"$f":"VLOOKUP(G274,'RWH 10-yr Simulation'!$A$11:$N$3662,11)","v":836.84164275388071},null,null,null,null,"2005-03-17",{"$f":"VLOOKUP(M274,'RWH 10-yr Simulation'!$A$11:$N$3662,11)","v":548.75082793906483}]
["2004-12-31",{"$f":"VLOOKUP(A275,'RWH 10-yr Simulation'!$A$11:$N$3662,11)","v":1057.4600871983243},null,null,null,null,"2005-02-14",{"$f":"VLOOKUP(G275,'RWH 10-yr Simulation'!$A$11:$N$3662,11)","v":1057.4600871983243},null,null,null,null,"2005-03-18",{"$f":"VLOOKUP(M275,'RWH 10-yr Simulation'!$A$11:$N$3662,11)","v":853.93482793906492}]
["2005-01-01",{"$f":"VLOOKUP(A276,'RWH 10-yr Simulation'!$A$11:$N$3662,11)","v":1057.4600871983243},null,null,null,null,"2005-02-16",{"$f":"VLOOKUP(G276,'RWH 10-yr Simulation'!$A$11:$N$3662,11)","v":1033.9811983094355},null,null,null,null,"2005-03-19",{"$f":"VLOOKUP(M276,'RWH 10-yr Simulation'!$A$11:$N$3662,11)","v":1044.6748279390649}]
["2005-01-02",{"$f":"VLOOKUP(A277,'RWH 10-yr Simulation'!$A$11:$N$3662,11)","v":1057.4600871983243},null,null,null,null,"2005-02-17",{"$f":"VLOOKUP(G277,'RWH 10-yr Simulation'!$A$11:$N$3662,11)","v":1057.4600871983243},null,null,null,null,"2005-03-20",{"$f":"VLOOKUP(M277,'RWH 10-yr Simulation'!$A$11:$N$3662,11)","v":1029.3408279390649}]
["2005-01-03",{"$f":"VLOOKUP(A278,'RWH 10-yr Simulation'!$A$11:$N$3662,11)","v":1057.4600871983243},null,null,null,null,"2005-02-18",{"$f":"VLOOKUP(G278,'RWH 10-yr Simulation'!$A$11:$N$3662,11)","v":1057.4600871983243},null,null,null,null,"2005-03-21",{"$f":"VLOOKUP(M278,'RWH 10-yr Simulation'!$A$11:$N$3662,11)","v":1057.4600871983243}]
["2005-01-04",{"$f":"VLOOKUP(A279,'RWH 10-yr Simulation'!$A$11:$N$3662,11)","v":1057.4600871983243},null,null,null,null,"2005-02-19",{"$f":"VLOOKUP(G279,'RWH 10-yr Simulation'!$A$11:$N$3662,11)","v":1057.4600871983243},null,null,null,null,"2005-03-22",{"$f":"VLOOKUP(M279,'RWH 10-yr Simulation'!$A$11:$N$3662,11)","v":1057.4600871983243}]
["2005-01-06",{"$f":"VLOOKUP(A280,'RWH 10-yr Simulation'!$A$11:$N$3662,11)","v":1041.8074946057318},null,null,null,null,"2005-02-20",{"$f":"VLOOKUP(G280,'RWH 10-yr Simulation'!$A$11:$N$3662,11)","v":1057.4600871983243},null,null,null,null,"2005-03-23",{"$f":"VLOOKUP(M280,'RWH 10-yr Simulation'!$A$11:$N$3662,11)","v":1057.4600871983243}]
["2005-01-07",{"$f":"VLOOKUP(A281,'RWH 10-yr Simulation'!$A$11:$N$3662,11)","v":1057.4600871983243},null,null,null,null,"2005-02-26",{"$f":"VLOOKUP(G281,'RWH 10-yr Simulation'!$A$11:$N$3662,11)","v":940.06564275388018},null,null,null,null,"2005-03-26",{"$f":"VLOOKUP(M281,'RWH 10-yr Simulation'!$A$11:$N$3662,11)","v":975.76186497610206}]
["2005-01-08",{"$f":"VLOOKUP(A282,'RWH 10-yr Simulation'!$A$11:$N$3662,11)","v":1057.4600871983243},null,null,null,null,"2005-02-27",{"$f":"VLOOKUP(G282,'RWH 10-yr Simulation'!$A$11:$N$3662,11)","v":1057.4600871983243},null,null,null,null,"2005-03-27",{"$f":"VLOOKUP(M282,'RWH 10-yr Simulation'!$A$11:$N$3662,11)","v":1057.4600871983243}]
["2005-01-09",{"$f":"VLOOKUP(A283,'RWH 10-yr Simulation'!$A$11:$N$3662,11)","v":1053.7062353464723},null,null,null,null,"2005-02-28",{"$f":"VLOOKUP(G283,'RWH 10-yr Simulation'!$A$11:$N$3662,11)","v":1057.4600871983243},null,null,null,null,"2005-03-28",{"$f":"VLOOKUP(M283,'RWH 10-yr Simulation'!$A$11:$N$3662,11)","v":1057.4600871983243}]
["2005-01-10",{"$f":"VLOOKUP(A284,'RWH 10-yr Simulation'!$A$11:$N$3662,11)","v":1057.4600871983243},null,null,null,null,"2005-03-01",{"$f":"VLOOKUP(G284,'RWH 10-yr Simulation'!$A$11:$N$3662,11)","v":1057.4600871983243},null,null,null,null,"2005-04-02",{"$f":"VLOOKUP(M284,'RWH 10-yr Simulation'!$A$11:$N$3662,11)","v":877.45527238350951}]
["2005-01-25",{"$f":"VLOOKUP(A285,'RWH 10-yr Simulation'!$A$11:$N$3662,11)","v":838.32379090202858},null,null,null,null,"2005-03-02",{"$f":"VLOOKUP(G285,'RWH 10-yr Simulation'!$A$11:$N$3662,11)","v":1057.4600871983243},null,null,null,null,"2005-04-03",{"$f":"VLOOKUP(M285,'RWH 10-yr Simulation'!$A$11:$N$3662,11)","v":1057.4600871983243}]
["2005-01-26",{"$f":"VLOOKUP(A286,'RWH 10-yr Simulation'!$A$11:$N$3662,11)","v":1057.4600871983243},null,null,null,null,"2005-03-03",{"$f":"VLOOKUP(G286,'RWH 10-yr Simulation'!$A$11:$N$3662,11)","v":1057.4600871983243},null,null,null,null,"2005-04-06",{"$f":"VLOOKUP(M286,'RWH 10-yr Simulation'!$A$11:$N$3662,11)","v":916.74605016128726}]
["2005-01-27",{"$f":"VLOOKUP(A287,'RWH 10-yr Simulation'!$A$11:$N$3662,11)","v":1057.4600871983243},null,null,null,null,"2005-03-17",{"$f":"VLOOKUP(G287,'RWH 10-yr Simulation'!$A$11:$N$3662,11)","v":548.75082793906483},null,null,null,null,"2005-04-22",{"$f":"VLOOKUP(M287,'RWH 10-yr Simulation'!$A$11:$N$3662,11)","v":294.39619830943559}]
["2005-02-06",{"$f":"VLOOKUP(A288,'RWH 10-yr Simulation'!$A$11:$N$3662,11)","v":869.62897608721369},null,null,null,null,"2005-03-18",{"$f":"VLOOKUP(G288,'RWH 10-yr Simulation'!$A$11:$N$3662,11)","v":853.93482793906492},null,null,null,null,"2005-04-26",{"$f":"VLOOKUP(M288,'RWH 10-yr Simulation'!$A$11:$N$3662,11)","v":102.81123534647264}]
["2005-02-13",{"$f":"VLOOKUP(A289,'RWH 10-yr Simulation'!$A$11:$N$3662,11)","v":836.84164275388071},null,null,null,null,"2005-03-19",{"$f":"VLOOKUP(G289,'RWH 10-yr Simulation'!$A$11:$N$3662,11)","v":1044.6748279390649},null,null,null,null,"2005-04-28",{"$f":"VLOOKUP(M289,'RWH 10-yr Simulation'!$A$11:$N$3662,11)","v":60.563087198324489}]
["2005-02-14",{"$f":"VLOOKUP(A290,'RWH 10-yr Simulation'!$A$11:$N$3662,11)","v":1057.4600871983243},null,null,null,null,"2005-03-20",{"$f":"VLOOKUP(G290,'RWH 10-yr Simulation'!$A$11:$N$3662,11)","v":1029.3408279390649},null,null,null,null,"2005-11-02",{"$f":"VLOOKUP(M290,'RWH 10-yr Simulation'!$A$11:$N$3662,11)","v":57.679111111111069}]
["2005-02-16",{"$f":"VLOOKUP(A291,'RWH 10-yr Simulation'!$A$11:$N$3662,11)","v":1033.9811983094355},null,null,null,null,"2005-03-21",{"$f":"VLOOKUP(G291,'RWH 10-yr Simulation'!$A$11:$N$3662,11)","v":1057.4600871983243},null,null,null,null,"2005-11-03",{"$f":"VLOOKUP(M291,'RWH 10-yr Simulation'!$A$11:$N$3662,11)","v":114.90111111111108}]
["2005-02-17",{"$f":"VLOOKUP(A292,'RWH 10-yr Simulation'!$A$11:$N$3662,11)","v":1057.4600871983243},null,null,null,null,"2005-03-22",{"$f":"VLOOKUP(G292,'RWH 10-yr Simulation'!$A$11:$N$3662,11)","v":1057.4600871983243},null,null,null,null,"2005-11-05",{"$f":"VLOOKUP(M292,'RWH 10-yr Simulation'!$A$11:$N$3662,11)","v":155.0022222222222}]
["2005-02-18",{"$f":"VLOOKUP(A293,'RWH 10-yr Simulation'!$A$11:$N$3662,11)","v":1057.4600871983243},null,null,null,null,"2005-03-23",{"$f":"VLOOKUP(G293,'RWH 10-yr Simulation'!$A$11:$N$3662,11)","v":1057.4600871983243},null,null,null,null,"2005-11-06",{"$f":"VLOOKUP(M293,'RWH 10-yr Simulation'!$A$11:$N$3662,11)","v":143.42207407407406}]
["2005-02-19",{"$f":"VLOOKUP(A294,'RWH 10-yr Simulation'!$A$11:$N$3662,11)","v":1057.4600871983243},null,null,null,null,"2005-03-26",{"$f":"VLOOKUP(G294,'RWH 10-yr Simulation'!$A$11:$N$3662,11)","v":975.76186497610206},null,null,null,null,"2005-11-07",{"$f":"VLOOKUP(M294,'RWH 10-yr Simulation'!$A$11:$N$3662,11)","v":327.80407407407409}]
["2005-02-20",{"$f":"VLOOKUP(A295,'RWH 10-yr Simulation'!$A$11:$N$3662,11)","v":1057.4600871983243},null,null,null,null,"2005-03-27",{"$f":"VLOOKUP(G295,'RWH 10-yr Simulation'!$A$11:$N$3662,11)","v":1057.4600871983243},null,null,null,null,"2005-11-08",{"$f":"VLOOKUP(M295,'RWH 10-yr Simulation'!$A$11:$N$3662,11)","v":467.68007407407413}]
["2005-02-26",{"$f":"VLOOKUP(A296,'RWH 10-yr Simulation'!$A$11:$N$3662,11)","v":940.06564275388018},null,null,null,null,"2005-03-28",{"$f":"VLOOKUP(G296,'RWH 10-yr Simulation'!$A$11:$N$3662,11)","v":1057.4600871983243},null,null,null,null,"2005-11-24",{"$f":"VLOOKUP(M296,'RWH 10-yr Simulation'!$A$11:$N$3662,11)","v":115.8153333333334}]
["2005-02-27",{"$f":"VLOOKUP(A297,'RWH 10-yr Simulation'!$A$11:$N$3662,11)","v":1057.4600871983243},null,null,null,null,"2005-04-02",{"$f":"VLOOKUP(G297,'RWH 10-yr Simulation'!$A$11:$N$3662,11)","v":877.45527238350951},null,null,null,null,"2005-11-27",{"$f":"VLOOKUP(M297,'RWH 10-yr Simulation'!$A$11:$N$3662,11)","v":265.95555555555563}]
["2005-02-28",{"$f":"VLOOKUP(A298,'RWH 10-yr Simulation'!$A$11:$N$3662,11)","v":1057.4600871983243},null,null,null,null,"2005-04-03",{"$f":"VLOOKUP(G298,'RWH 10-yr Simulation'!$A$11:$N$3662,11)","v":1057.4600871983243},null,null,null,null,"2005-11-28",{"$f":"VLOOKUP(M298,'RWH 10-yr Simulation'!$A$11:$N$3662,11)","v":730.08955555555576}]
["2005-03-01",{"$f":"VLOOKUP(A299,'RWH 10-yr Simulation'!$A$11:$N$3662,11)","v":1057.4600871983243},null,null,null,null,"2005-04-06",{"$f":"VLOOKUP(G299,'RWH 10-yr Simulation'!$A$11:$N$3662,11)","v":916.74605016128726},null,null,null,null,"2005-11-30",{"$f":"VLOOKUP(M299,'RWH 10-yr Simulation'!$A$11:$N$3662,11)","v":980.00466666666694}]
["2005-03-02",{"$f":"VLOOKUP(A300,'RWH 10-yr Simulation'!$A$11:$N$3662,11)","v":1057.4600871983243},null,null,null,null,"2005-04-22",{"$f":"VLOOKUP(G300,'RWH 10-yr Simulation'!$A$11:$N$3662,11)","v":294.39619830943559},null,null,null,null,"2005-12-01",{"$f":"VLOOKUP(M300,'RWH 10-yr Simulation'!$A$11:$N$3662,11)","v":1057.4600871983243}]
["2005-03-03",{"$f":"VLOOKUP(A301,'RWH 10-yr Simulation'!$A$11:$N$3662,11)","v":1057.4600871983243},null,null,null,null,"2005-04-26",{"$f":"VLOOKUP(G301,'RWH 10-yr Simulation'!$A$11:$N$3662,11)","v":102.81123534647264},null,null,null,null,"2005-12-06",{"$f":"VLOOKUP(M301,'RWH 10-yr Simulation'!$A$11:$N$3662,11)","v":994.84971682795413}]
["2005-03-17",{"$f":"VLOOKUP(A302,'RWH 10-yr Simulation'!$A$11:$N$3662,11)","v":548.75082793906483},null,null,null,null,"2005-04-28",{"$f":"VLOOKUP(G302,'RWH 10-yr Simulation'!$A$11:$N$3662,11)","v":60.563087198324489},null,null,null,null,"2005-12-16",{"$f":"VLOOKUP(M302,'RWH 10-yr Simulation'!$A$11:$N$3662,11)","v":873.05038349462109}]
["2005-03-18",{"$f":"VLOOKUP(A303,'RWH 10-yr Simulation'!$A$11:$N$3662,11)","v":853.93482793906492},null,null,null,null,"2005-05-03",{"$f":"VLOOKUP(G303,'RWH 10-yr Simulation'!$A$11:$N$3662,11)","v":119.71049460573182},null,null,null,null,"2005-12-17",{"$f":"VLOOKUP(M303,'RWH 10-yr Simulation'!$A$11:$N$3662,11)","v":1057.4600871983243}]
["2005-03-19",{"$f":"VLOOKUP(A304,'RWH 10-yr Simulation'!$A$11:$N$3662,11)","v":1044.6748279390649},null,null,null,null,"2005-05-04",{"$f":"VLOOKUP(G304,'RWH 10-yr Simulation'!$A$11:$N$3662,11)","v":335.88249460573184},null,null,null,null,"2005-12-18",{"$f":"VLOOKUP(M304,'RWH 10-yr Simulation'!$A$11:$N$3662,11)","v":1057.4600871983243}]
["2005-03-20",{"$f":"VLOOKUP(A305,'RWH 10-yr Simulation'!$A$11:$N$3662,11)","v":1029.3408279390649},null,null,null,null,"2005-05-07",{"$f":"VLOOKUP(G305,'RWH 10-yr Simulation'!$A$11:$N$3662,11)","v":332.93205016128735},null,null,null,null,"2005-12-19",{"$f":"VLOOKUP(M305,'RWH 10-yr Simulation'!$A$11:$N$3662,11)","v":1057.4600871983243}]
["2005-03-21",{"$f":"VLOOKUP(A306,'RWH 10-yr Simulation'!$A$11:$N$3662,11)","v":1057.4600871983243},null,null,null,null,"2005-05-14",{"$f":"VLOOKUP(G306,'RWH 10-yr Simulation'!$A$11:$N$3662,11)","v":196.92071682795392},null,null,null,null,"2005-12-20",{"$f":"VLOOKUP(M306,'RWH 10-yr Simulation'!$A$11:$N$3662,11)","v":1057.4600871983243}]
["2005-03-22",{"$f":"VLOOKUP(A307,'RWH 10-yr Simulation'!$A$11:$N$3662,11)","v":1057.4600871983243},null,null,null,null,"2005-05-17",{"$f":"VLOOKUP(G307,'RWH 10-yr Simulation'!$A$11:$N$3662,11)","v":44.626531642768697},null,null,null,null,"2005-12-21",{"$f":"VLOOKUP(M307,'RWH 10-yr Simulation'!$A$11:$N$3662,11)","v":1057.4600871983243}]
["2005-03-23",{"$f":"VLOOKUP(A308,'RWH 10-yr Simulation'!$A$11:$N$3662,11)","v":1057.4600871983243},null,null,null,null,"2005-05-18",{"$f":"VLOOKUP(G308,'RWH 10-yr Simulation'!$A$11:$N$3662,11)","v":229.0085316427687},null,null,null,null,"2005-12-24",{"$f":"VLOOKUP(M308,'RWH 10-yr Simulation'!$A$11:$N$3662,11)","v":1026.1549020131392}]
["2005-03-26",{"$f":"VLOOKUP(A309,'RWH 10-yr Simulation'!$A$11:$N$3662,11)","v":975.76186497610206},null,null,null,null,"2005-10-14",{"$f":"VLOOKUP(G309,'RWH 10-yr Simulation'!$A$11:$N$3662,11)","v":0},null,null,null,null,"2005-12-25",{"$f":"VLOOKUP(M309,'RWH 10-yr Simulation'!$A$11:$N$3662,11)","v":1057.4600871983243}]
["2005-03-27",{"$f":"VLOOKUP(A310,'RWH 10-yr Simulation'!$A$11:$N$3662,11)","v":1057.4600871983243},null,null,null,null,"2005-10-23",{"$f":"VLOOKUP(G310,'RWH 10-yr Simulation'!$A$11:$N$3662,11)","v":0},null,null,null,null,"2005-12-26",{"$f":"VLOOKUP(M310,'RWH 10-yr Simulation'!$A$11:$N$3662,11)","v":1057.4600871983243}]
["2005-03-28",{"$f":"VLOOKUP(A311,'RWH 10-yr Simulation'!$A$11:$N$3662,11)","v":1057.4600871983243},null,null,null,null,"2005-10-24",{"$f":"VLOOKUP(G311,'RWH 10-yr Simulation'!$A$11:$N$3662,11)","v":0},null,null,null,null,"2005-12-27",{"$f":"VLOOKUP(M311,'RWH 10-yr Simulation'!$A$11:$N$3662,11)","v":1057.4600871983243}]
["2005-04-02",{"$f":"VLOOKUP(A312,'RWH 10-yr Simulation'!$A$11:$N$3662,11)","v":877.45527238350951},null,null,null,null,"2005-10-25",{"$f":"VLOOKUP(G312,'RWH 10-yr Simulation'!$A$11:$N$3662,11)","v":0},null,null,null,null,"2005-12-28",{"$f":"VLOOKUP(M312,'RWH 10-yr Simulation'!$A$11:$N$3662,11)","v":1057.4600871983243}]
["2005-04-03",{"$f":"VLOOKUP(A313,'RWH 10-yr Simulation'!$A$11:$N$3662,11)","v":1057.4600871983243},null,null,null,null,"2005-10-27",{"$f":"VLOOKUP(G313,'RWH 10-yr Simulation'!$A$11:$N$3662,11)","v":79.225666666666655},null,null,null,null,"2005-12-29",{"$f":"VLOOKUP(M313,'RWH 10-yr Simulation'!$A$11:$N$3662,11)","v":1053.7062353464723}]
["2005-04-06",{"$f":"VLOOKUP(A314,'RWH 10-yr Simulation'!$A$11:$N$3662,11)","v":916.74605016128726},null,null,null,null,"2005-10-28",{"$f":"VLOOKUP(G314,'RWH 10-yr Simulation'!$A$11:$N$3662,11)","v":79.703555555555539},null,null,null,null,"2005-12-30",{"$f":"VLOOKUP(M314,'RWH 10-yr Simulation'!$A$11:$N$3662,11)","v":1057.4600871983243}]
["2005-04-22",{"$f":"VLOOKUP(A315,'RWH 10-yr Simulation'!$A$11:$N$3662,11)","v":294.39619830943559},null,null,null,null,"2005-11-02",{"$f":"VLOOKUP(G315,'RWH 10-yr Simulation'!$A$11:$N$3662,11)","v":57.679111111111069},null,null,null,null,"2005-12-31",{"$f":"VLOOKUP(M315,'RWH 10-yr Simulation'!$A$11:$N$3662,11)","v":1057.4600871983243}]
["2005-04-26",{"$f":"VLOOKUP(A316,'RWH 10-yr Simulation'!$A$11:$N$3662,11)","v":102.81123534647264},null,null,null,null,"2005-11-03",{"$f":"VLOOKUP(G316,'RWH 10-yr Simulation'!$A$11:$N$3662,11)","v":114.90111111111108},null,null,null,null,"2006-01-01",{"$f":"VLOOKUP(M316,'RWH 10-yr Simulation'!$A$11:$N$3662,11)","v":1057.4600871983243}]
["2005-04-28",{"$f":"VLOOKUP(A317,'RWH 10-yr Simulation'!$A$11:$N$3662,11)","v":60.563087198324489},null,null,null,null,"2005-11-05",{"$f":"VLOOKUP(G317,'RWH 10-yr Simulation'!$A$11:$N$3662,11)","v":155.0022222222222},null,null,null,null,"2006-01-02",{"$f":"VLOOKUP(M317,'RWH 10-yr Simulation'!$A$11:$N$3662,11)","v":1057.4600871983243}]
["2005-05-03",{"$f":"VLOOKUP(A318,'RWH 10-yr Simulation'!$A$11:$N$3662,11)","v":119.71049460573182},null,null,null,null,"2005-11-06",{"$f":"VLOOKUP(G318,'RWH 10-yr Simulation'!$A$11:$N$3662,11)","v":143.42207407407406},null,null,null,null,"2006-01-03",{"$f":"VLOOKUP(M318,'RWH 10-yr Simulation'!$A$11:$N$3662,11)","v":1057.4600871983243}]
["2005-05-04",{"$f":"VLOOKUP(A319,'RWH 10-yr Simulation'!$A$11:$N$3662,11)","v":335.88249460573184},null,null,null,null,"2005-11-07",{"$f":"VLOOKUP(G319,'RWH 10-yr Simulation'!$A$11:$N$3662,11)","v":327.80407407407409},null,null,null,null,"2006-01-06",{"$f":"VLOOKUP(M319,'RWH 10-yr Simulation'!$A$11:$N$3662,11)","v":1026.1549020131392}]
["2005-05-07",{"$f":"VLOOKUP(A320,'RWH 10-yr Simulation'!$A$11:$N$3662,11)","v":332.93205016128735},null,null,null,null,"2005-11-08",{"$f":"VLOOKUP(G320,'RWH 10-yr Simulation'!$A$11:$N$3662,11)","v":467.68007407407413},null,null,null,null,"2006-01-07",{"$f":"VLOOKUP(M320,'RWH 10-yr Simulation'!$A$11:$N$3662,11)","v":1057.4600871983243}]
["2005-05-14",{"$f":"VLOOKUP(A321,'RWH 10-yr Simulation'!$A$11:$N$3662,11)","v":196.92071682795392},null,null,null,null,"2005-11-24",{"$f":"VLOOKUP(G321,'RWH 10-yr Simulation'!$A$11:$N$3662,11)","v":115.8153333333334},null,null,null,null,"2006-01-10",{"$f":"VLOOKUP(M321,'RWH 10-yr Simulation'!$A$11:$N$3662,11)","v":1026.1549020131392}]
["2005-05-17",{"$f":"VLOOKUP(A322,'RWH 10-yr Simulation'!$A$11:$N$3662,11)","v":44.626531642768697},null,null,null,null,"2005-11-27",{"$f":"VLOOKUP(G322,'RWH 10-yr Simulation'!$A$11:$N$3662,11)","v":265.95555555555563},null,null,null,null,"2006-01-12",{"$f":"VLOOKUP(M322,'RWH 10-yr Simulation'!$A$11:$N$3662,11)","v":1041.8074946057318}]
["2005-05-18",{"$f":"VLOOKUP(A323,'RWH 10-yr Simulation'!$A$11:$N$3662,11)","v":229.0085316427687},null,null,null,null,"2005-11-28",{"$f":"VLOOKUP(G323,'RWH 10-yr Simulation'!$A$11:$N$3662,11)","v":730.08955555555576},null,null,null,null,"2006-01-13",{"$f":"VLOOKUP(M323,'RWH 10-yr Simulation'!$A$11:$N$3662,11)","v":1038.0536427538798}]
["2005-06-07",{"$f":"VLOOKUP(A324,'RWH 10-yr Simulation'!$A$11:$N$3662,11)","v":0},null,null,null,null,"2005-11-30",{"$f":"VLOOKUP(G324,'RWH 10-yr Simulation'!$A$11:$N$3662,11)","v":980.00466666666694},null,null,null,null,"2006-01-16",{"$f":"VLOOKUP(M324,'RWH 10-yr Simulation'!$A$11:$N$3662,11)","v":1026.1549020131392}]
["2005-06-08",{"$f":"VLOOKUP(A325,'RWH 10-yr Simulation'!$A$11:$N$3662,11)","v":343.33200000000005},null,null,null,null,"2005-12-01",{"$f":"VLOOKUP(G325,'RWH 10-yr Simulation'!$A$11:$N$3662,11)","v":1057.4600871983243},null,null,null,null,"2006-01-17",{"$f":"VLOOKUP(M325,'RWH 10-yr Simulation'!$A$11:$N$3662,11)","v":1057.4600871983243}]
["2005-06-15",{"$f":"VLOOKUP(A326,'RWH 10-yr Simulation'!$A$11:$N$3662,11)","v":90.424888888888873},null,null,null,null,"2005-12-06",{"$f":"VLOOKUP(G326,'RWH 10-yr Simulation'!$A$11:$N$3662,11)","v":994.84971682795413},null,null,null,null,"2006-01-18",{"$f":"VLOOKUP(M326,'RWH 10-yr Simulation'!$A$11:$N$3662,11)","v":1057.4600871983243}]
["2005-06-25",{"$f":"VLOOKUP(A327,'RWH 10-yr Simulation'!$A$11:$N$3662,11)","v":0},null,null,null,null,"2005-12-16",{"$f":"VLOOKUP(G327,'RWH 10-yr Simulation'!$A$11:$N$3662,11)","v":873.05038349462109},null,null,null,null,"2006-01-20",{"$f":"VLOOKUP(M327,'RWH 10-yr Simulation'!$A$11:$N$3662,11)","v":1038.0536427538798}]
["2005-06-28",{"$f":"VLOOKUP(A328,'RWH 10-yr Simulation'!$A$11:$N$3662,11)","v":0},null,null,null,null,"2005-12-17",{"$f":"VLOOKUP(G328,'RWH 10-yr Simulation'!$A$11:$N$3662,11)","v":1057.4600871983243},null,null,null,null,"2006-01-24",{"$f":"VLOOKUP(M328,'RWH 10-yr Simulation'!$A$11:$N$3662,11)","v":1010.5023094205467}]
["2005-07-05",{"$f":"VLOOKUP(A329,'RWH 10-yr Simulation'!$A$11:$N$3662,11)","v":0},null,null,null,null,"2005-12-18",{"$f":"VLOOKUP(G329,'RWH 10-yr Simulation'!$A$11:$N$3662,11)","v":1057.4600871983243},null,null,null,null,"2006-01-26",{"$f":"VLOOKUP(M329,'RWH 10-yr Simulation'!$A$11:$N$3662,11)","v":1020.2817168279541}]
["2005-07-08",{"$f":"VLOOKUP(A330,'RWH 10-yr Simulation'!$A$11:$N$3662,11)","v":0},null,null,null,null,"2005-12-19",{"$f":"VLOOKUP(G330,'RWH 10-yr Simulation'!$A$11:$N$3662,11)","v":1057.4600871983243},null,null,null,null,"2006-01-27",{"$f":"VLOOKUP(M330,'RWH 10-yr Simulation'!$A$11:$N$3662,11)","v":1057.4600871983243}]
["2005-08-14",{"$f":"VLOOKUP(A331,'RWH 10-yr Simulation'!$A$11:$N$3662,11)","v":0},null,null,null,null,"2005-12-20",{"$f":"VLOOKUP(G331,'RWH 10-yr Simulation'!$A$11:$N$3662,11)","v":1057.4600871983243},null,null,null,null,"2006-01-29",{"$f":"VLOOKUP(M331,'RWH 10-yr Simulation'!$A$11:$N$3662,11)","v":1041.8074946057318}]
["2005-10-14",{"$f":"VLOOKUP(A332,'RWH 10-yr Simulation'!$A$11:$N$3662,11)","v":0},null,null,null,null,"2005-12-21",{"$f":"VLOOKUP(G332,'RWH 10-yr Simulation'!$A$11:$N$3662,11)","v":1057.4600871983243},null,null,null,null,"2006-01-31",{"$f":"VLOOKUP(M332,'RWH 10-yr Simulation'!$A$11:$N$3662,11)","v":1041.8074946057318}]
["2005-10-23",{"$f":"VLOOKUP(A333,'RWH 10-yr Simulation'!$A$11:$N$3662,11)","v":0},null,null,null,null,"2005-12-24",{"$f":"VLOOKUP(G333,'RWH 10-yr Simulation'!$A$11:$N$3662,11)","v":1026.1549020131392},null,null,null,null,"2006-02-01",{"$f":"VLOOKUP(M333,'RWH 10-yr Simulation'!$A$11:$N$3662,11)","v":1057.4600871983243}]
["2005-10-24",{"$f":"VLOOKUP(A334,'RWH 10-yr Simulation'!$A$11:$N$3662,11)","v":0},null,null,null,null,"2005-12-25",{"$f":"VLOOKUP(G334,'RWH 10-yr Simulation'!$A$11:$N$3662,11)","v":1057.4600871983243},null,null,null,null,"2006-02-03",{"$f":"VLOOKUP(M334,'RWH 10-yr Simulation'!$A$11:$N$3662,11)","v":1033.9811983094355}]
["2005-10-25",{"$f":"VLOOKUP(A335,'RWH 10-yr Simulation'!$A$11:$N$3662,11)","v":0},null,null,null,null,"2005-12-26",{"$f":"VLOOKUP(G335,'RWH 10-yr Simulation'!$A$11:$N$3662,11)","v":1057.4600871983243},null,null,null,null,"2006-02-16",{"$f":"VLOOKUP(M335,'RWH 10-yr Simulation'!$A$11:$N$3662,11)","v":775.71342053165836}]
["2005-10-27",{"$f":"VLOOKUP(A336,'RWH 10-yr Simulation'!$A$11:$N$3662,11)","v":79.225666666666655},null,null,null,null,"2005-12-27",{"$f":"VLOOKUP(G336,'RWH 10-yr Simulation'!$A$11:$N$3662,11)","v":1057.4600871983243},null,null,null,null,"2006-02-17",{"$f":"VLOOKUP(M336,'RWH 10-yr Simulation'!$A$11:$N$3662,11)","v":826.57742053165839}]
["2005-10-28",{"$f":"VLOOKUP(A337,'RWH 10-yr Simulation'!$A$11:$N$3662,11)","v":79.703555555555539},null,null,null,null,"2005-12-28",{"$f":"VLOOKUP(G337,'RWH 10-yr Simulation'!$A$11:$N$3662,11)","v":1057.4600871983243},null,null,null,null,"2006-02-18",{"$f":"VLOOKUP(M337,'RWH 10-yr Simulation'!$A$11:$N$3662,11)","v":883.79942053165837}]
["2005-11-02",{"$f":"VLOOKUP(A338,'RWH 10-yr Simulation'!$A$11:$N$3662,11)","v":57.679111111111069},null,null,null,null,"2005-12-29",{"$f":"VLOOKUP(G338,'RWH 10-yr Simulation'!$A$11:$N$3662,11)","v":1053.7062353464723},null,null,null,null,"2006-02-25",{"$f":"VLOOKUP(M338,'RWH 10-yr Simulation'!$A$11:$N$3662,11)","v":731.34593905017709}]
["2005-11-03",{"$f":"VLOOKUP(A339,'RWH 10-yr Simulation'!$A$11:$N$3662,11)","v":114.90111111111108},null,null,null,null,"2005-12-30",{"$f":"VLOOKUP(G339,'RWH 10-yr Simulation'!$A$11:$N$3662,11)","v":1057.4600871983243},null,null,null,null,"2006-02-26",{"$f":"VLOOKUP(M339,'RWH 10-yr Simulation'!$A$11:$N$3662,11)","v":979.30793905017708}]
["2005-11-05",{"$f":"VLOOKUP(A340,'RWH 10-yr Simulation'!$A$11:$N$3662,11)","v":155.0022222222222},null,null,null,null,"2005-12-31",{"$f":"VLOOKUP(G340,'RWH 10-yr Simulation'!$A$11:$N$3662,11)","v":1057.4600871983243},null,null,null,null,"2006-02-27",{"$f":"VLOOKUP(M340,'RWH 10-yr Simulation'!$A$11:$N$3662,11)","v":1057.4600871983243}]
["2005-11-06",{"$f":"VLOOKUP(A341,'RWH 10-yr Simulation'!$A$11:$N$3662,11)","v":143.42207407407406},null,null,null,null,"2006-01-01",{"$f":"VLOOKUP(G341,'RWH 10-yr Simulation'!$A$11:$N$3662,11)","v":1057.4600871983243},null,null,null,null,"2006-03-01",{"$f":"VLOOKUP(M341,'RWH 10-yr Simulation'!$A$11:$N$3662,11)","v":1018.3286057168428}]
["2005-11-07",{"$f":"VLOOKUP(A342,'RWH 10-yr Simulation'!$A$11:$N$3662,11)","v":327.80407407407409},null,null,null,null,"2006-01-02",{"$f":"VLOOKUP(G342,'RWH 10-yr Simulation'!$A$11:$N$3662,11)","v":1057.4600871983243},null,null,null,null,"2006-03-02",{"$f":"VLOOKUP(M342,'RWH 10-yr Simulation'!$A$11:$N$3662,11)","v":1057.4600871983243}]
["2005-11-08",{"$f":"VLOOKUP(A343,'RWH 10-yr Simulation'!$A$11:$N$3662,11)","v":467.68007407407413},null,null,null,null,"2006-01-03",{"$f":"VLOOKUP(G343,'RWH 10-yr Simulation'!$A$11:$N$3662,11)","v":1057.4600871983243},null,null,null,null,"2006-03-03",{"$f":"VLOOKUP(M343,'RWH 10-yr Simulation'!$A$11:$N$3662,11)","v":1057.4600871983243}]
["2005-11-24",{"$f":"VLOOKUP(A344,'RWH 10-yr Simulation'!$A$11:$N$3662,11)","v":115.8153333333334},null,null,null,null,"2006-01-06",{"$f":"VLOOKUP(G344,'RWH 10-yr Simulation'!$A$11:$N$3662,11)","v":1026.1549020131392},null,null,null,null,"2006-03-04",{"$f":"VLOOKUP(M344,'RWH 10-yr Simulation'!$A$11:$N$3662,11)","v":1042.1260871983243}]
["2005-11-27",{"$f":"VLOOKUP(A345,'RWH 10-yr Simulation'!$A$11:$N$3662,11)","v":265.95555555555563},null,null,null,null,"2006-01-07",{"$f":"VLOOKUP(G345,'RWH 10-yr Simulation'!$A$11:$N$3662,11)","v":1057.4600871983243},null,null,null,null,"2006-03-05",{"$f":"VLOOKUP(M345,'RWH 10-yr Simulation'!$A$11:$N$3662,11)","v":1057.4600871983243}]
["2005-11-28",{"$f":"VLOOKUP(A346,'RWH 10-yr Simulation'!$A$11:$N$3662,11)","v":730.08955555555576},null,null,null,null,"2006-01-10",{"$f":"VLOOKUP(G346,'RWH 10-yr Simulation'!$A$11:$N$3662,11)","v":1026.1549020131392},null,null,null,null,"2006-03-06",{"$f":"VLOOKUP(M346,'RWH 10-yr Simulation'!$A$11:$N$3662,11)","v":1057.4600871983243}]
["2005-11-30",{"$f":"VLOOKUP(A347,'RWH 10-yr Simulation'!$A$11:$N$3662,11)","v":980.00466666666694},null,null,null,null,"2006-01-12",{"$f":"VLOOKUP(G347,'RWH 10-yr Simulation'!$A$11:$N$3662,11)","v":1041.8074946057318},null,null,null,null,"2006-03-08",{"$f":"VLOOKUP(M347,'RWH 10-yr Simulation'!$A$11:$N$3662,11)","v":1018.3286057168428}]
["2005-12-01",{"$f":"VLOOKUP(A348,'RWH 10-yr Simulation'!$A$11:$N$3662,11)","v":1057.4600871983243},null,null,null,null,"2006-01-13",{"$f":"VLOOKUP(G348,'RWH 10-yr Simulation'!$A$11:$N$3662,11)","v":1038.0536427538798},null,null,null,null,"2006-03-09",{"$f":"VLOOKUP(M348,'RWH 10-yr Simulation'!$A$11:$N$3662,11)","v":1057.4600871983243}]
["2005-12-06",{"$f":"VLOOKUP(A349,'RWH 10-yr Simulation'!$A$11:$N$3662,11)","v":994.84971682795413},null,null,null,null,"2006-01-16",{"$f":"VLOOKUP(G349,'RWH 10-yr Simulation'!$A$11:$N$3662,11)","v":1026.1549020131392},null,null,null,null,"2006-03-10",{"$f":"VLOOKUP(M349,'RWH 10-yr Simulation'!$A$11:$N$3662,11)","v":1057.4600871983243}]
["2005-12-16",{"$f":"VLOOKUP(A350,'RWH 10-yr Simulation'!$A$11:$N$3662,11)","v":873.05038349462109},null,null,null,null,"2006-01-17",{"$f":"VLOOKUP(G350,'RWH 10-yr Simulation'!$A$11:$N$3662,11)","v":1057.4600871983243},null,null,null,null,"2006-03-11",{"$f":"VLOOKUP(M350,'RWH 10-yr Simulation'!$A$11:$N$3662,11)","v":1057.4600871983243}]
["2005-12-17",{"$f":"VLOOKUP(A351,'RWH 10-yr Simulation'!$A$11:$N$3662,11)","v":1057.4600871983243},null,null,null,null,"2006-01-18",{"$f":"VLOOKUP(G351,'RWH 10-yr Simulation'!$A$11:$N$3662,11)","v":1057.4600871983243},null,null,null,null,"2006-03-12",{"$f":"VLOOKUP(M351,'RWH 10-yr Simulation'!$A$11:$N$3662,11)","v":1057.4600871983243}]
["2005-12-18",{"$f":"VLOOKUP(A352,'RWH 10-yr Simulation'!$A$11:$N$3662,11)","v":1057.4600871983243},null,null,null,null,"2006-01-20",{"$f":"VLOOKUP(G352,'RWH 10-yr Simulation'!$A$11:$N$3662,11)","v":1038.0536427538798},null,null,null,null,"2006-03-13",{"$f":"VLOOKUP(M352,'RWH 10-yr Simulation'!$A$11:$N$3662,11)","v":1057.4600871983243}]
["2005-12-19",{"$f":"VLOOKUP(A353,'RWH 10-yr Simulation'!$A$11:$N$3662,11)","v":1057.4600871983243},null,null,null,null,"2006-01-24",{"$f":"VLOOKUP(G353,'RWH 10-yr Simulation'!$A$11:$N$3662,11)","v":1010.5023094205467},null,null,null,null,"2006-03-14",{"$f":"VLOOKUP(M353,'RWH 10-yr Simulation'!$A$11:$N$3662,11)","v":1057.4600871983243}]
["2005-12-20",{"$f":"VLOOKUP(A354,'RWH 10-yr Simulation'!$A$11:$N$3662,11)","v":1057.4600871983243},null,null,null,null,"2006-01-26",{"$f":"VLOOKUP(G354,'RWH 10-yr Simulation'!$A$11:$N$3662,11)","v":1020.2817168279541},null,null,null,null,"2006-03-15",{"$f":"VLOOKUP(M354,'RWH 10-yr Simulation'!$A$11:$N$3662,11)","v":1030.2273464575835}]
["2005-12-21",{"$f":"VLOOKUP(A355,'RWH 10-yr Simulation'!$A$11:$N$3662,11)","v":1057.4600871983243},null,null,null,null,"2006-01-27",{"$f":"VLOOKUP(G355,'RWH 10-yr Simulation'!$A$11:$N$3662,11)","v":1057.4600871983243},null,null,null,null,"2006-03-16",{"$f":"VLOOKUP(M355,'RWH 10-yr Simulation'!$A$11:$N$3662,11)","v":1057.4600871983243}]
["2005-12-24",{"$f":"VLOOKUP(A356,'RWH 10-yr Simulation'!$A$11:$N$3662,11)","v":1026.1549020131392},null,null,null,null,"2006-01-29",{"$f":"VLOOKUP(G356,'RWH 10-yr Simulation'!$A$11:$N$3662,11)","v":1041.8074946057318},null,null,null,null,"2006-03-19",{"$f":"VLOOKUP(M356,'RWH 10-yr Simulation'!$A$11:$N$3662,11)","v":979.19712423536134}]
["2005-12-25",{"$f":"VLOOKUP(A357,'RWH 10-yr Simulation'!$A$11:$N$3662,11)","v":1057.4600871983243},null,null,null,null,"2006-01-31",{"$f":"VLOOKUP(G357,'RWH 10-yr Simulation'!$A$11:$N$3662,11)","v":1041.8074946057318},null,null,null,null,"2006-03-20",{"$f":"VLOOKUP(M357,'RWH 10-yr Simulation'!$A$11:$N$3662,11)","v":1057.4600871983243}]
["2005-12-26",{"$f":"VLOOKUP(A358,'RWH 10-yr Simulation'!$A$11:$N$3662,11)","v":1057.4600871983243},null,null,null,null,"2006-02-01",{"$f":"VLOOKUP(G358,'RWH 10-yr Simulation'!$A$11:$N$3662,11)","v":1057.4600871983243},null,null,null,null,"2006-03-23",{"$f":"VLOOKUP(M358,'RWH 10-yr Simulation'!$A$11:$N$3662,11)","v":979.19712423536134}]
["2005-12-27",{"$f":"VLOOKUP(A359,'RWH 10-yr Simulation'!$A$11:$N$3662,11)","v":1057.4600871983243},null,null,null,null,"2006-02-03",{"$f":"VLOOKUP(G359,'RWH 10-yr Simulation'!$A$11:$N$3662,11)","v":1033.9811983094355},null,null,null,null,"2006-03-24",{"$f":"VLOOKUP(M359,'RWH 10-yr Simulation'!$A$11:$N$3662,11)","v":1057.4600871983243}]
["2005-12-28",{"$f":"VLOOKUP(A360,'RWH 10-yr Simulation'!$A$11:$N$3662,11)","v":1057.4600871983243},null,null,null,null,"2006-02-16",{"$f":"VLOOKUP(G360,'RWH 10-yr Simulation'!$A$11:$N$3662,11)","v":775.71342053165836},null,null,null,null,"2006-03-26",{"$f":"VLOOKUP(M360,'RWH 10-yr Simulation'!$A$11:$N$3662,11)","v":1018.3286057168428}]
["2005-12-29",{"$f":"VLOOKUP(A361,'RWH 10-yr Simulation'!$A$11:$N$3662,11)","v":1053.7062353464723},null,null,null,null,"2006-02-17",{"$f":"VLOOKUP(G361,'RWH 10-yr Simulation'!$A$11:$N$3662,11)","v":826.57742053165839},null,null,null,null,"2006-03-27",{"$f":"VLOOKUP(M361,'RWH 10-yr Simulation'!$A$11:$N$3662,11)","v":1057.4600871983243}]
["2005-12-30",{"$f":"VLOOKUP(A362,'RWH 10-yr Simulation'!$A$11:$N$3662,11)","v":1057.4600871983243},null,null,null,null,"2006-02-18",{"$f":"VLOOKUP(G362,'RWH 10-yr Simulation'!$A$11:$N$3662,11)","v":883.79942053165837},null,null,null,null,"2006-03-28",{"$f":"VLOOKUP(M362,'RWH 10-yr Simulation'!$A$11:$N$3662,11)","v":1057.4600871983243}]
["2005-12-31",{"$f":"VLOOKUP(A363,'RWH 10-yr Simulation'!$A$11:$N$3662,11)","v":1057.4600871983243},null,null,null,null,"2006-02-25",{"$f":"VLOOKUP(G363,'RWH 10-yr Simulation'!$A$11:$N$3662,11)","v":731.34593905017709},null,null,null,null,"2006-03-29",{"$f":"VLOOKUP(M363,'RWH 10-yr Simulation'!$A$11:$N$3662,11)","v":1057.4600871983243}]
["2006-01-01",{"$f":"VLOOKUP(A364,'RWH 10-yr Simulation'!$A$11:$N$3662,11)","v":1057.4600871983243},null,null,null,null,"2006-02-26",{"$f":"VLOOKUP(G364,'RWH 10-yr Simulation'!$A$11:$N$3662,11)","v":979.30793905017708},null,null,null,null,"2006-03-30",{"$f":"VLOOKUP(M364,'RWH 10-yr Simulation'!$A$11:$N$3662,11)","v":1057.4600871983243}]
["2006-01-02",{"$f":"VLOOKUP(A365,'RWH 10-yr Simulation'!$A$11:$N$3662,11)","v":1057.4600871983243},null,null,null,null,"2006-02-27",{"$f":"VLOOKUP(G365,'RWH 10-yr Simulation'!$A$11:$N$3662,11)","v":1057.4600871983243},null,null,null,null,"2006-03-31",{"$f":"VLOOKUP(M365,'RWH 10-yr Simulation'!$A$11:$N$3662,11)","v":1057.4600871983243}]
["2006-01-03",{"$f":"VLOOKUP(A366,'RWH 10-yr Simulation'!$A$11:$N$3662,11)","v":1057.4600871983243},null,null,null,null,"2006-03-01",{"$f":"VLOOKUP(G366,'RWH 10-yr Simulation'!$A$11:$N$3662,11)","v":1018.3286057168428},null,null,null,null,"2006-04-01",{"$f":"VLOOKUP(M366,'RWH 10-yr Simulation'!$A$11:$N$3662,11)","v":1057.4600871983243}]
["2006-01-06",{"$f":"VLOOKUP(A367,'RWH 10-yr Simulation'!$A$11:$N$3662,11)","v":1026.1549020131392},null,null,null,null,"2006-03-02",{"$f":"VLOOKUP(G367,'RWH 10-yr Simulation'!$A$11:$N$3662,11)","v":1057.4600871983243},null,null,null,null,"2006-04-02",{"$f":"VLOOKUP(M367,'RWH 10-yr Simulation'!$A$11:$N$3662,11)","v":1057.4600871983243}]
["2006-01-07",{"$f":"VLOOKUP(A368,'RWH 10-yr Simulation'!$A$11:$N$3662,11)","v":1057.4600871983243},null,null,null,null,"2006-03-03",{"$f":"VLOOKUP(G368,'RWH 10-yr Simulation'!$A$11:$N$3662,11)","v":1057.4600871983243},null,null,null,null,"2006-04-03",{"$f":"VLOOKUP(M368,'RWH 10-yr Simulation'!$A$11:$N$3662,11)","v":1057.4600871983243}]
["2006-01-10",{"$f":"VLOOKUP(A369,'RWH 10-yr Simulation'!$A$11:$N$3662,11)","v":1026.1549020131392},null,null,null,null,"2006-03-04",{"$f":"VLOOKUP(G369,'RWH 10-yr Simulation'!$A$11:$N$3662,11)","v":1042.1260871983243},null,null,null,null,"2006-04-04",{"$f":"VLOOKUP(M369,'RWH 10-yr Simulation'!$A$11:$N$3662,11)","v":1057.4600871983243}]
["2006-01-12",{"$f":"VLOOKUP(A370,'RWH 10-yr Simulation'!$A$11:$N$3662,11)","v":1041.8074946057318},null,null,null,null,"2006-03-05",{"$f":"VLOOKUP(G370,'RWH 10-yr Simulation'!$A$11:$N$3662,11)","v":1057.4600871983243},null,null,null,null,"2006-04-06",{"$f":"VLOOKUP(M370,'RWH 10-yr Simulation'!$A$11:$N$3662,11)","v":1006.5891612723984}]
["2006-01-13",{"$f":"VLOOKUP(A371,'RWH 10-yr Simulation'!$A$11:$N$3662,11)","v":1038.0536427538798},null,null,null,null,"2006-03-06",{"$f":"VLOOKUP(G371,'RWH 10-yr Simulation'!$A$11:$N$3662,11)","v":1057.4600871983243},null,null,null,null,"2006-04-07",{"$f":"VLOOKUP(M371,'RWH 10-yr Simulation'!$A$11:$N$3662,11)","v":1057.4600871983243}]
["2006-01-16",{"$f":"VLOOKUP(A372,'RWH 10-yr Simulation'!$A$11:$N$3662,11)","v":1026.1549020131392},null,null,null,null,"2006-03-08",{"$f":"VLOOKUP(G372,'RWH 10-yr Simulation'!$A$11:$N$3662,11)","v":1018.3286057168428},null,null,null,null,"2006-04-08",{"$f":"VLOOKUP(M372,'RWH 10-yr Simulation'!$A$11:$N$3662,11)","v":1057.4600871983243}]
["2006-01-17",{"$f":"VLOOKUP(A373,'RWH 10-yr Simulation'!$A$11:$N$3662,11)","v":1057.4600871983243},null,null,null,null,"2006-03-09",{"$f":"VLOOKUP(G373,'RWH 10-yr Simulation'!$A$11:$N$3662,11)","v":1057.4600871983243},null,null,null,null,"2006-04-09",{"$f":"VLOOKUP(M373,'RWH 10-yr Simulation'!$A$11:$N$3662,11)","v":1030.3866427538799}]
["2006-01-18",{"$f":"VLOOKUP(A374,'RWH 10-yr Simulation'!$A$11:$N$3662,11)","v":1057.4600871983243},null,null,null,null,"2006-03-10",{"$f":"VLOOKUP(G374,'RWH 10-yr Simulation'!$A$11:$N$3662,11)","v":1057.4600871983243},null,null,null,null,"2006-04-10",{"$f":"VLOOKUP(M374,'RWH 10-yr Simulation'!$A$11:$N$3662,11)","v":991.41445756869462}]
["2006-01-20",{"$f":"VLOOKUP(A375,'RWH 10-yr Simulation'!$A$11:$N$3662,11)","v":1038.0536427538798},null,null,null,null,"2006-03-11",{"$f":"VLOOKUP(G375,'RWH 10-yr Simulation'!$A$11:$N$3662,11)","v":1057.4600871983243},null,null,null,null,"2006-04-11",{"$f":"VLOOKUP(M375,'RWH 10-yr Simulation'!$A$11:$N$3662,11)","v":1057.4600871983243}]
["2006-01-24",{"$f":"VLOOKUP(A376,'RWH 10-yr Simulation'!$A$11:$N$3662,11)","v":1010.5023094205467},null,null,null,null,"2006-03-12",{"$f":"VLOOKUP(G376,'RWH 10-yr Simulation'!$A$11:$N$3662,11)","v":1057.4600871983243},null,null,null,null,"2006-04-12",{"$f":"VLOOKUP(M376,'RWH 10-yr Simulation'!$A$11:$N$3662,11)","v":1057.4600871983243}]
["2006-01-26",{"$f":"VLOOKUP(A377,'RWH 10-yr Simulation'!$A$11:$N$3662,11)","v":1020.2817168279541},null,null,null,null,"2006-03-13",{"$f":"VLOOKUP(G377,'RWH 10-yr Simulation'!$A$11:$N$3662,11)","v":1057.4600871983243},null,null,null,null,"2006-04-14",{"$f":"VLOOKUP(M377,'RWH 10-yr Simulation'!$A$11:$N$3662,11)","v":979.51571682795395}]
["2006-01-27",{"$f":"VLOOKUP(A378,'RWH 10-yr Simulation'!$A$11:$N$3662,11)","v":1057.4600871983243},null,null,null,null,"2006-03-14",{"$f":"VLOOKUP(G378,'RWH 10-yr Simulation'!$A$11:$N$3662,11)","v":1057.4600871983243},null,null,null,null,"2006-04-15",{"$f":"VLOOKUP(M378,'RWH 10-yr Simulation'!$A$11:$N$3662,11)","v":1049.4537168279539}]
["2006-01-29",{"$f":"VLOOKUP(A379,'RWH 10-yr Simulation'!$A$11:$N$3662,11)","v":1041.8074946057318},null,null,null,null,"2006-03-15",{"$f":"VLOOKUP(G379,'RWH 10-yr Simulation'!$A$11:$N$3662,11)","v":1030.2273464575835},null,null,null,null,"2006-04-16",{"$f":"VLOOKUP(M379,'RWH 10-yr Simulation'!$A$11:$N$3662,11)","v":1057.4600871983243}]
["2006-01-31",{"$f":"VLOOKUP(A380,'RWH 10-yr Simulation'!$A$11:$N$3662,11)","v":1041.8074946057318},null,null,null,null,"2006-03-16",{"$f":"VLOOKUP(G380,'RWH 10-yr Simulation'!$A$11:$N$3662,11)","v":1057.4600871983243},null,null,null,null,"2006-11-01",{"$f":"VLOOKUP(M380,'RWH 10-yr Simulation'!$A$11:$N$3662,11)","v":0}]
["2006-02-01",{"$f":"VLOOKUP(A381,'RWH 10-yr Simulation'!$A$11:$N$3662,11)","v":1057.4600871983243},null,null,null,null,"2006-03-19",{"$f":"VLOOKUP(G381,'RWH 10-yr Simulation'!$A$11:$N$3662,11)","v":979.19712423536134},null,null,null,null,"2006-11-02",{"$f":"VLOOKUP(M381,'RWH 10-yr Simulation'!$A$11:$N$3662,11)","v":432.34400000000011}]
["2006-02-03",{"$f":"VLOOKUP(A382,'RWH 10-yr Simulation'!$A$11:$N$3662,11)","v":1033.9811983094355},null,null,null,null,"2006-03-20",{"$f":"VLOOKUP(G382,'RWH 10-yr Simulation'!$A$11:$N$3662,11)","v":1057.4600871983243},null,null,null,null,"2006-11-07",{"$f":"VLOOKUP(M382,'RWH 10-yr Simulation'!$A$11:$N$3662,11)","v":326.84829629629638}]
["2006-02-16",{"$f":"VLOOKUP(A383,'RWH 10-yr Simulation'!$A$11:$N$3662,11)","v":775.71342053165836},null,null,null,null,"2006-03-23",{"$f":"VLOOKUP(G383,'RWH 10-yr Simulation'!$A$11:$N$3662,11)","v":979.19712423536134},null,null,null,null,"2006-11-10",{"$f":"VLOOKUP(M383,'RWH 10-yr Simulation'!$A$11:$N$3662,11)","v":324.39651851851863}]
["2006-02-17",{"$f":"VLOOKUP(A384,'RWH 10-yr Simulation'!$A$11:$N$3662,11)","v":826.57742053165839},null,null,null,null,"2006-03-24",{"$f":"VLOOKUP(G384,'RWH 10-yr Simulation'!$A$11:$N$3662,11)","v":1057.4600871983243},null,null,null,null,"2006-11-12",{"$f":"VLOOKUP(M384,'RWH 10-yr Simulation'!$A$11:$N$3662,11)","v":593.38562962962965}]
["2006-02-18",{"$f":"VLOOKUP(A385,'RWH 10-yr Simulation'!$A$11:$N$3662,11)","v":883.79942053165837},null,null,null,null,"2006-03-26",{"$f":"VLOOKUP(G385,'RWH 10-yr Simulation'!$A$11:$N$3662,11)","v":1018.3286057168428},null,null,null,null,"2006-11-16",{"$f":"VLOOKUP(M385,'RWH 10-yr Simulation'!$A$11:$N$3662,11)","v":987.02342053165785}]
["2006-02-25",{"$f":"VLOOKUP(A386,'RWH 10-yr Simulation'!$A$11:$N$3662,11)","v":731.34593905017709},null,null,null,null,"2006-03-27",{"$f":"VLOOKUP(G386,'RWH 10-yr Simulation'!$A$11:$N$3662,11)","v":1057.4600871983243},null,null,null,null,"2006-11-21",{"$f":"VLOOKUP(M386,'RWH 10-yr Simulation'!$A$11:$N$3662,11)","v":893.42645756869501}]
["2006-02-26",{"$f":"VLOOKUP(A387,'RWH 10-yr Simulation'!$A$11:$N$3662,11)","v":979.30793905017708},null,null,null,null,"2006-03-28",{"$f":"VLOOKUP(G387,'RWH 10-yr Simulation'!$A$11:$N$3662,11)","v":1057.4600871983243},null,null,null,null,"2006-11-25",{"$f":"VLOOKUP(M387,'RWH 10-yr Simulation'!$A$11:$N$3662,11)","v":873.85379090202855}]
["2006-02-27",{"$f":"VLOOKUP(A388,'RWH 10-yr Simulation'!$A$11:$N$3662,11)","v":1057.4600871983243},null,null,null,null,"2006-03-29",{"$f":"VLOOKUP(G388,'RWH 10-yr Simulation'!$A$11:$N$3662,11)","v":1057.4600871983243},null,null,null,null,"2006-11-26",{"$f":"VLOOKUP(M388,'RWH 10-yr Simulation'!$A$11:$N$3662,11)","v":1057.4600871983243}]
["2006-03-01",{"$f":"VLOOKUP(A389,'RWH 10-yr Simulation'!$A$11:$N$3662,11)","v":1018.3286057168428},null,null,null,null,"2006-03-30",{"$f":"VLOOKUP(G389,'RWH 10-yr Simulation'!$A$11:$N$3662,11)","v":1057.4600871983243},null,null,null,null,"2006-12-07",{"$f":"VLOOKUP(M389,'RWH 10-yr Simulation'!$A$11:$N$3662,11)","v":877.45527238350996}]
["2006-03-02",{"$f":"VLOOKUP(A390,'RWH 10-yr Simulation'!$A$11:$N$3662,11)","v":1057.4600871983243},null,null,null,null,"2006-03-31",{"$f":"VLOOKUP(G390,'RWH 10-yr Simulation'!$A$11:$N$3662,11)","v":1057.4600871983243},null,null,null,null,"2006-12-08",{"$f":"VLOOKUP(M390,'RWH 10-yr Simulation'!$A$11:$N$3662,11)","v":1057.4600871983243}]
["2006-03-03",{"$f":"VLOOKUP(A391,'RWH 10-yr Simulation'!$A$11:$N$3662,11)","v":1057.4600871983243},null,null,null,null,"2006-04-01",{"$f":"VLOOKUP(G391,'RWH 10-yr Simulation'!$A$11:$N$3662,11)","v":1057.4600871983243},null,null,null,null,"2006-12-09",{"$f":"VLOOKUP(M391,'RWH 10-yr Simulation'!$A$11:$N$3662,11)","v":1057.4600871983243}]
["2006-03-04",{"$f":"VLOOKUP(A392,'RWH 10-yr Simulation'!$A$11:$N$3662,11)","v":1042.1260871983243},null,null,null,null,"2006-04-02",{"$f":"VLOOKUP(G392,'RWH 10-yr Simulation'!$A$11:$N$3662,11)","v":1057.4600871983243},null,null,null,null,"2006-12-10",{"$f":"VLOOKUP(M392,'RWH 10-yr Simulation'!$A$11:$N$3662,11)","v":1057.4600871983243}]
["2006-03-05",{"$f":"VLOOKUP(A393,'RWH 10-yr Simulation'!$A$11:$N$3662,11)","v":1057.4600871983243},null,null,null,null,"2006-04-03",{"$f":"VLOOKUP(G393,'RWH 10-yr Simulation'!$A$11:$N$3662,11)","v":1057.4600871983243},null,null,null,null,"2006-12-11",{"$f":"VLOOKUP(M393,'RWH 10-yr Simulation'!$A$11:$N$3662,11)","v":1053.7062353464723}]
["2006-03-06",{"$f":"VLOOKUP(A394,'RWH 10-yr Simulation'!$A$11:$N$3662,11)","v":1057.4600871983243},null,null,null,null,"2006-04-04",{"$f":"VLOOKUP(G394,'RWH 10-yr Simulation'!$A$11:$N$3662,11)","v":1057.4600871983243},null,null,null,null,"2006-12-12",{"$f":"VLOOKUP(M394,'RWH 10-yr Simulation'!$A$11:$N$3662,11)","v":1057.4600871983243}]
["2006-03-08",{"$f":"VLOOKUP(A395,'RWH 10-yr Simulation'!$A$11:$N$3662,11)","v":1018.3286057168428},null,null,null,null,"2006-04-06",{"$f":"VLOOKUP(G395,'RWH 10-yr Simulation'!$A$11:$N$3662,11)","v":1006.5891612723984},null,null,null,null,"2006-12-13",{"$f":"VLOOKUP(M395,'RWH 10-yr Simulation'!$A$11:$N$3662,11)","v":1057.4600871983243}]
["2006-03-09",{"$f":"VLOOKUP(A396,'RWH 10-yr Simulation'!$A$11:$N$3662,11)","v":1057.4600871983243},null,null,null,null,"2006-04-07",{"$f":"VLOOKUP(G396,'RWH 10-yr Simulation'!$A$11:$N$3662,11)","v":1057.4600871983243},null,null,null,null,"2006-12-14",{"$f":"VLOOKUP(M396,'RWH 10-yr Simulation'!$A$11:$N$3662,11)","v":1057.4600871983243}]
["2006-03-10",{"$f":"VLOOKUP(A397,'RWH 10-yr Simulation'!$A$11:$N$3662,11)","v":1057.4600871983243},null,null,null,null,"2006-04-08",{"$f":"VLOOKUP(G397,'RWH 10-yr Simulation'!$A$11:$N$3662,11)","v":1057.4600871983243},null,null,null,null,"2006-12-20",{"$f":"VLOOKUP(M397,'RWH 10-yr Simulation'!$A$11:$N$3662,11)","v":979.19712423536157}]
["2006-03-11",{"$f":"VLOOKUP(A398,'RWH 10-yr Simulation'!$A$11:$N$3662,11)","v":1057.4600871983243},null,null,null,null,"2006-04-09",{"$f":"VLOOKUP(G398,'RWH 10-yr Simulation'!$A$11:$N$3662,11)","v":1030.3866427538799},null,null,null,null,"2006-12-21",{"$f":"VLOOKUP(M398,'RWH 10-yr Simulation'!$A$11:$N$3662,11)","v":1057.4600871983243}]
["2006-03-12",{"$f":"VLOOKUP(A399,'RWH 10-yr Simulation'!$A$11:$N$3662,11)","v":1057.4600871983243},null,null,null,null,"2006-04-10",{"$f":"VLOOKUP(G399,'RWH 10-yr Simulation'!$A$11:$N$3662,11)","v":991.41445756869462},null,null,null,null,"2006-12-25",{"$f":"VLOOKUP(M399,'RWH 10-yr Simulation'!$A$11:$N$3662,11)","v":1006.7484575686947}]
["2006-03-13",{"$f":"VLOOKUP(A400,'RWH 10-yr Simulation'!$A$11:$N$3662,11)","v":1057.4600871983243},null,null,null,null,"2006-04-11",{"$f":"VLOOKUP(G400,'RWH 10-yr Simulation'!$A$11:$N$3662,11)","v":1057.4600871983243},null,null,null,null,"2006-12-26",{"$f":"VLOOKUP(M400,'RWH 10-yr Simulation'!$A$11:$N$3662,11)","v":1057.4600871983243}]
["2006-03-14",{"$f":"VLOOKUP(A401,'RWH 10-yr Simulation'!$A$11:$N$3662,11)","v":1057.4600871983243},null,null,null,null,"2006-04-12",{"$f":"VLOOKUP(G401,'RWH 10-yr Simulation'!$A$11:$N$3662,11)","v":1057.4600871983243},null,null,null,null,"2007-01-02",{"$f":"VLOOKUP(M401,'RWH 10-yr Simulation'!$A$11:$N$3662,11)","v":963.54453164276902}]
["2006-03-15",{"$f":"VLOOKUP(A402,'RWH 10-yr Simulation'!$A$11:$N$3662,11)","v":1030.2273464575835},null,null,null,null,"2006-04-14",{"$f":"VLOOKUP(G402,'RWH 10-yr Simulation'!$A$11:$N$3662,11)","v":979.51571682795395},null,null,null,null,"2007-01-03",{"$f":"VLOOKUP(M402,'RWH 10-yr Simulation'!$A$11:$N$3662,11)","v":1027.1245316427689}]
["2006-03-16",{"$f":"VLOOKUP(A403,'RWH 10-yr Simulation'!$A$11:$N$3662,11)","v":1057.4600871983243},null,null,null,null,"2006-04-15",{"$f":"VLOOKUP(G403,'RWH 10-yr Simulation'!$A$11:$N$3662,11)","v":1049.4537168279539},null,null,null,null,"2007-01-15",{"$f":"VLOOKUP(M403,'RWH 10-yr Simulation'!$A$11:$N$3662,11)","v":885.28156867980624}]
["2006-03-19",{"$f":"VLOOKUP(A404,'RWH 10-yr Simulation'!$A$11:$N$3662,11)","v":979.19712423536134},null,null,null,null,"2006-04-16",{"$f":"VLOOKUP(G404,'RWH 10-yr Simulation'!$A$11:$N$3662,11)","v":1057.4600871983243},null,null,null,null,"2007-01-25",{"$f":"VLOOKUP(M404,'RWH 10-yr Simulation'!$A$11:$N$3662,11)","v":846.13623534647331}]
["2006-03-20",{"$f":"VLOOKUP(A405,'RWH 10-yr Simulation'!$A$11:$N$3662,11)","v":1057.4600871983243},null,null,null,null,"2006-05-18",{"$f":"VLOOKUP(G405,'RWH 10-yr Simulation'!$A$11:$N$3662,11)","v":0},null,null,null,null,"2007-01-26",{"$f":"VLOOKUP(M405,'RWH 10-yr Simulation'!$A$11:$N$3662,11)","v":897.00023534647335}]
["2006-03-23",{"$f":"VLOOKUP(A406,'RWH 10-yr Simulation'!$A$11:$N$3662,11)","v":979.19712423536134},null,null,null,null,"2006-05-20",{"$f":"VLOOKUP(G406,'RWH 10-yr Simulation'!$A$11:$N$3662,11)","v":30.314777777777763},null,null,null,null,"2007-01-27",{"$f":"VLOOKUP(M406,'RWH 10-yr Simulation'!$A$11:$N$3662,11)","v":960.58023534647339}]
["2006-03-24",{"$f":"VLOOKUP(A407,'RWH 10-yr Simulation'!$A$11:$N$3662,11)","v":1057.4600871983243},null,null,null,null,"2006-05-23",{"$f":"VLOOKUP(G407,'RWH 10-yr Simulation'!$A$11:$N$3662,11)","v":78.22833333333331},null,null,null,null,"2007-02-06",{"$f":"VLOOKUP(M407,'RWH 10-yr Simulation'!$A$11:$N$3662,11)","v":842.68712423536272}]
["2006-03-26",{"$f":"VLOOKUP(A408,'RWH 10-yr Simulation'!$A$11:$N$3662,11)","v":1018.3286057168428},null,null,null,null,"2006-10-03",{"$f":"VLOOKUP(G408,'RWH 10-yr Simulation'!$A$11:$N$3662,11)","v":0},null,null,null,null,"2007-02-07",{"$f":"VLOOKUP(M408,'RWH 10-yr Simulation'!$A$11:$N$3662,11)","v":976.20512423536275}]
["2006-03-27",{"$f":"VLOOKUP(A409,'RWH 10-yr Simulation'!$A$11:$N$3662,11)","v":1057.4600871983243},null,null,null,null,"2006-10-04",{"$f":"VLOOKUP(G409,'RWH 10-yr Simulation'!$A$11:$N$3662,11)","v":152.59200000000004},null,null,null,null,"2007-02-08",{"$f":"VLOOKUP(M409,'RWH 10-yr Simulation'!$A$11:$N$3662,11)","v":1057.4600871983243}]
["2006-03-28",{"$f":"VLOOKUP(A410,'RWH 10-yr Simulation'!$A$11:$N$3662,11)","v":1057.4600871983243},null,null,null,null,"2006-10-15",{"$f":"VLOOKUP(G410,'RWH 10-yr Simulation'!$A$11:$N$3662,11)","v":35.65466666666665},null,null,null,null,"2007-02-09",{"$f":"VLOOKUP(M410,'RWH 10-yr Simulation'!$A$11:$N$3662,11)","v":1057.4600871983243}]
["2006-03-29",{"$f":"VLOOKUP(A411,'RWH 10-yr Simulation'!$A$11:$N$3662,11)","v":1057.4600871983243},null,null,null,null,"2006-10-31",{"$f":"VLOOKUP(G411,'RWH 10-yr Simulation'!$A$11:$N$3662,11)","v":0},null,null,null,null,"2007-02-10",{"$f":"VLOOKUP(M411,'RWH 10-yr Simulation'!$A$11:$N$3662,11)","v":1057.4600871983243}]
["2006-03-30",{"$f":"VLOOKUP(A412,'RWH 10-yr Simulation'!$A$11:$N$3662,11)","v":1057.4600871983243},null,null,null,null,"2006-11-01",{"$f":"VLOOKUP(G412,'RWH 10-yr Simulation'!$A$11:$N$3662,11)","v":0},null,null,null,null,"2007-02-11",{"$f":"VLOOKUP(M412,'RWH 10-yr Simulation'!$A$11:$N$3662,11)","v":1057.4600871983243}]
["2006-03-31",{"$f":"VLOOKUP(A413,'RWH 10-yr Simulation'!$A$11:$N$3662,11)","v":1057.4600871983243},null,null,null,null,"2006-11-02",{"$f":"VLOOKUP(G413,'RWH 10-yr Simulation'!$A$11:$N$3662,11)","v":432.34400000000011},null,null,null,null,"2007-02-20",{"$f":"VLOOKUP(M413,'RWH 10-yr Simulation'!$A$11:$N$3662,11)","v":869.62897608721369}]
["2006-04-01",{"$f":"VLOOKUP(A414,'RWH 10-yr Simulation'!$A$11:$N$3662,11)","v":1057.4600871983243},null,null,null,null,"2006-11-07",{"$f":"VLOOKUP(G414,'RWH 10-yr Simulation'!$A$11:$N$3662,11)","v":326.84829629629638},null,null,null,null,"2007-02-21",{"$f":"VLOOKUP(M414,'RWH 10-yr Simulation'!$A$11:$N$3662,11)","v":858.04882793906552}]
["2006-04-02",{"$f":"VLOOKUP(A415,'RWH 10-yr Simulation'!$A$11:$N$3662,11)","v":1057.4600871983243},null,null,null,null,"2006-11-10",{"$f":"VLOOKUP(G415,'RWH 10-yr Simulation'!$A$11:$N$3662,11)","v":324.39651851851863},null,null,null,null,"2007-02-22",{"$f":"VLOOKUP(M415,'RWH 10-yr Simulation'!$A$11:$N$3662,11)","v":1057.4600871983243}]
["2006-04-03",{"$f":"VLOOKUP(A416,'RWH 10-yr Simulation'!$A$11:$N$3662,11)","v":1057.4600871983243},null,null,null,null,"2006-11-12",{"$f":"VLOOKUP(G416,'RWH 10-yr Simulation'!$A$11:$N$3662,11)","v":593.38562962962965},null,null,null,null,"2007-02-23",{"$f":"VLOOKUP(M416,'RWH 10-yr Simulation'!$A$11:$N$3662,11)","v":1057.4600871983243}]
["2006-04-04",{"$f":"VLOOKUP(A417,'RWH 10-yr Simulation'!$A$11:$N$3662,11)","v":1057.4600871983243},null,null,null,null,"2006-11-16",{"$f":"VLOOKUP(G417,'RWH 10-yr Simulation'!$A$11:$N$3662,11)","v":987.02342053165785},null,null,null,null,"2007-02-24",{"$f":"VLOOKUP(M417,'RWH 10-yr Simulation'!$A$11:$N$3662,11)","v":1057.4600871983243}]
["2006-04-06",{"$f":"VLOOKUP(A418,'RWH 10-yr Simulation'!$A$11:$N$3662,11)","v":1006.5891612723984},null,null,null,null,"2006-11-21",{"$f":"VLOOKUP(G418,'RWH 10-yr Simulation'!$A$11:$N$3662,11)","v":893.42645756869501},null,null,null,null,"2007-02-25",{"$f":"VLOOKUP(M418,'RWH 10-yr Simulation'!$A$11:$N$3662,11)","v":1057.4600871983243}]
["2006-04-07",{"$f":"VLOOKUP(A419,'RWH 10-yr Simulation'!$A$11:$N$3662,11)","v":1057.4600871983243},null,null,null,null,"2006-11-25",{"$f":"VLOOKUP(G419,'RWH 10-yr Simulation'!$A$11:$N$3662,11)","v":873.85379090202855},null,null,null,null,"2007-02-26",{"$f":"VLOOKUP(M419,'RWH 10-yr Simulation'!$A$11:$N$3662,11)","v":1057.4600871983243}]
["2006-04-08",{"$f":"VLOOKUP(A420,'RWH 10-yr Simulation'!$A$11:$N$3662,11)","v":1057.4600871983243},null,null,null,null,"2006-11-26",{"$f":"VLOOKUP(G420,'RWH 10-yr Simulation'!$A$11:$N$3662,11)","v":1057.4600871983243},null,null,null,null,"2007-03-19",{"$f":"VLOOKUP(M420,'RWH 10-yr Simulation'!$A$11:$N$3662,11)","v":290.483050161287}]
["2006-04-09",{"$f":"VLOOKUP(A421,'RWH 10-yr Simulation'!$A$11:$N$3662,11)","v":1030.3866427538799},null,null,null,null,"2006-12-07",{"$f":"VLOOKUP(G421,'RWH 10-yr Simulation'!$A$11:$N$3662,11)","v":877.45527238350996},null,null,null,null,"2007-03-24",{"$f":"VLOOKUP(M421,'RWH 10-yr Simulation'!$A$11:$N$3662,11)","v":261.11712423536102}]
["2006-04-10",{"$f":"VLOOKUP(A422,'RWH 10-yr Simulation'!$A$11:$N$3662,11)","v":991.41445756869462},null,null,null,null,"2006-12-08",{"$f":"VLOOKUP(G422,'RWH 10-yr Simulation'!$A$11:$N$3662,11)","v":1057.4600871983243},null,null,null,null,"2007-03-25",{"$f":"VLOOKUP(M422,'RWH 10-yr Simulation'!$A$11:$N$3662,11)","v":245.78312423536102}]
["2006-04-11",{"$f":"VLOOKUP(A423,'RWH 10-yr Simulation'!$A$11:$N$3662,11)","v":1057.4600871983243},null,null,null,null,"2006-12-09",{"$f":"VLOOKUP(G423,'RWH 10-yr Simulation'!$A$11:$N$3662,11)","v":1057.4600871983243},null,null,null,null,"2007-04-08",{"$f":"VLOOKUP(M423,'RWH 10-yr Simulation'!$A$11:$N$3662,11)","v":0}]
["2006-04-12",{"$f":"VLOOKUP(A424,'RWH 10-yr Simulation'!$A$11:$N$3662,11)","v":1057.4600871983243},null,null,null,null,"2006-12-10",{"$f":"VLOOKUP(G424,'RWH 10-yr Simulation'!$A$11:$N$3662,11)","v":1057.4600871983243},null,null,null,null,"2007-04-10",{"$f":"VLOOKUP(M424,'RWH 10-yr Simulation'!$A$11:$N$3662,11)","v":0}]
["2006-04-14",{"$f":"VLOOKUP(A425,'RWH 10-yr Simulation'!$A$11:$N$3662,11)","v":979.51571682795395},null,null,null,null,"2006-12-11",{"$f":"VLOOKUP(G425,'RWH 10-yr Simulation'!$A$11:$N$3662,11)","v":1053.7062353464723},null,null,null,null,"2007-04-13",{"$f":"VLOOKUP(M425,'RWH 10-yr Simulation'!$A$11:$N$3662,11)","v":0}]
["2006-04-15",{"$f":"VLOOKUP(A426,'RWH 10-yr Simulation'!$A$11:$N$3662,11)","v":1049.4537168279539},null,null,null,null,"2006-12-12",{"$f":"VLOOKUP(G426,'RWH 10-yr Simulation'!$A$11:$N$3662,11)","v":1057.4600871983243},null,null,null,null,"2007-04-18",{"$f":"VLOOKUP(M426,'RWH 10-yr Simulation'!$A$11:$N$3662,11)","v":0}]
["2006-04-16",{"$f":"VLOOKUP(A427,'RWH 10-yr Simulation'!$A$11:$N$3662,11)","v":1057.4600871983243},null,null,null,null,"2006-12-13",{"$f":"VLOOKUP(G427,'RWH 10-yr Simulation'!$A$11:$N$3662,11)","v":1057.4600871983243},null,null,null,null,"2007-04-19",{"$f":"VLOOKUP(M427,'RWH 10-yr Simulation'!$A$11:$N$3662,11)","v":171.66600000000003}]
["2006-05-18",{"$f":"VLOOKUP(A428,'RWH 10-yr Simulation'!$A$11:$N$3662,11)","v":0},null,null,null,null,"2006-12-14",{"$f":"VLOOKUP(G428,'RWH 10-yr Simulation'!$A$11:$N$3662,11)","v":1057.4600871983243},null,null,null,null,"2007-04-20",{"$f":"VLOOKUP(M428,'RWH 10-yr Simulation'!$A$11:$N$3662,11)","v":260.67800000000005}]
["2006-05-20",{"$f":"VLOOKUP(A429,'RWH 10-yr Simulation'!$A$11:$N$3662,11)","v":30.314777777777763},null,null,null,null,"2006-12-20",{"$f":"VLOOKUP(G429,'RWH 10-yr Simulation'!$A$11:$N$3662,11)","v":979.19712423536157},null,null,null,null,"2007-04-21",{"$f":"VLOOKUP(M429,'RWH 10-yr Simulation'!$A$11:$N$3662,11)","v":343.33200000000005}]
["2006-05-23",{"$f":"VLOOKUP(A430,'RWH 10-yr Simulation'!$A$11:$N$3662,11)","v":78.22833333333331},null,null,null,null,"2006-12-21",{"$f":"VLOOKUP(G430,'RWH 10-yr Simulation'!$A$11:$N$3662,11)","v":1057.4600871983243},null,null,null,null,"2007-11-09",{"$f":"VLOOKUP(M430,'RWH 10-yr Simulation'!$A$11:$N$3662,11)","v":402.96008719832406}]
["2006-10-03",{"$f":"VLOOKUP(A431,'RWH 10-yr Simulation'!$A$11:$N$3662,11)","v":0},null,null,null,null,"2006-12-25",{"$f":"VLOOKUP(G431,'RWH 10-yr Simulation'!$A$11:$N$3662,11)","v":1006.7484575686947},null,null,null,null,"2007-11-10",{"$f":"VLOOKUP(M431,'RWH 10-yr Simulation'!$A$11:$N$3662,11)","v":809.87208719832415}]
["2006-10-04",{"$f":"VLOOKUP(A432,'RWH 10-yr Simulation'!$A$11:$N$3662,11)","v":152.59200000000004},null,null,null,null,"2006-12-26",{"$f":"VLOOKUP(G432,'RWH 10-yr Simulation'!$A$11:$N$3662,11)","v":1057.4600871983243},null,null,null,null,"2007-12-03",{"$f":"VLOOKUP(M432,'RWH 10-yr Simulation'!$A$11:$N$3662,11)","v":520.27142053165858}]
["2006-10-15",{"$f":"VLOOKUP(A433,'RWH 10-yr Simulation'!$A$11:$N$3662,11)","v":35.65466666666665},null,null,null,null,"2007-01-02",{"$f":"VLOOKUP(G433,'RWH 10-yr Simulation'!$A$11:$N$3662,11)","v":963.54453164276902},null,null,null,null,"2007-12-05",{"$f":"VLOOKUP(M433,'RWH 10-yr Simulation'!$A$11:$N$3662,11)","v":714.4328279390661}]
["2006-10-31",{"$f":"VLOOKUP(A434,'RWH 10-yr Simulation'!$A$11:$N$3662,11)","v":0},null,null,null,null,"2007-01-03",{"$f":"VLOOKUP(G434,'RWH 10-yr Simulation'!$A$11:$N$3662,11)","v":1027.1245316427689},null,null,null,null,"2007-12-06",{"$f":"VLOOKUP(M434,'RWH 10-yr Simulation'!$A$11:$N$3662,11)","v":968.75282793906615}]
["2006-11-01",{"$f":"VLOOKUP(A435,'RWH 10-yr Simulation'!$A$11:$N$3662,11)","v":0},null,null,null,null,"2007-01-15",{"$f":"VLOOKUP(G435,'RWH 10-yr Simulation'!$A$11:$N$3662,11)","v":885.28156867980624},null,null,null,null,"2007-12-16",{"$f":"VLOOKUP(M435,'RWH 10-yr Simulation'!$A$11:$N$3662,11)","v":916.58675386499135}]
["2006-11-02",{"$f":"VLOOKUP(A436,'RWH 10-yr Simulation'!$A$11:$N$3662,11)","v":432.34400000000011},null,null,null,null,"2007-01-25",{"$f":"VLOOKUP(G436,'RWH 10-yr Simulation'!$A$11:$N$3662,11)","v":846.13623534647331},null,null,null,null,"2007-12-17",{"$f":"VLOOKUP(M436,'RWH 10-yr Simulation'!$A$11:$N$3662,11)","v":1018.3147538649914}]
["2006-11-07",{"$f":"VLOOKUP(A437,'RWH 10-yr Simulation'!$A$11:$N$3662,11)","v":326.84829629629638},null,null,null,null,"2007-01-26",{"$f":"VLOOKUP(G437,'RWH 10-yr Simulation'!$A$11:$N$3662,11)","v":897.00023534647335},null,null,null,null,"2007-12-19",{"$f":"VLOOKUP(M437,'RWH 10-yr Simulation'!$A$11:$N$3662,11)","v":1041.8074946057318}]
["2006-11-10",{"$f":"VLOOKUP(A438,'RWH 10-yr Simulation'!$A$11:$N$3662,11)","v":324.39651851851863},null,null,null,null,"2007-01-27",{"$f":"VLOOKUP(G438,'RWH 10-yr Simulation'!$A$11:$N$3662,11)","v":960.58023534647339},null,null,null,null,"2007-12-26",{"$f":"VLOOKUP(M438,'RWH 10-yr Simulation'!$A$11:$N$3662,11)","v":963.54453164276902}]
["2006-11-12",{"$f":"VLOOKUP(A439,'RWH 10-yr Simulation'!$A$11:$N$3662,11)","v":593.38562962962965},null,null,null,null,"2007-02-06",{"$f":"VLOOKUP(G439,'RWH 10-yr Simulation'!$A$11:$N$3662,11)","v":842.68712423536272},null,null,null,null,"2007-12-27",{"$f":"VLOOKUP(M439,'RWH 10-yr Simulation'!$A$11:$N$3662,11)","v":1052.556531642769}]
["2006-11-16",{"$f":"VLOOKUP(A440,'RWH 10-yr Simulation'!$A$11:$N$3662,11)","v":987.02342053165785},null,null,null,null,"2007-02-07",{"$f":"VLOOKUP(G440,'RWH 10-yr Simulation'!$A$11:$N$3662,11)","v":976.20512423536275},null,null,null,null,"2007-12-28",{"$f":"VLOOKUP(M440,'RWH 10-yr Simulation'!$A$11:$N$3662,11)","v":1057.4600871983243}]
["2006-11-21",{"$f":"VLOOKUP(A441,'RWH 10-yr Simulation'!$A$11:$N$3662,11)","v":893.42645756869501},null,null,null,null,"2007-02-08",{"$f":"VLOOKUP(G441,'RWH 10-yr Simulation'!$A$11:$N$3662,11)","v":1057.4600871983243},null,null,null,null,"2007-12-29",{"$f":"VLOOKUP(M441,'RWH 10-yr Simulation'!$A$11:$N$3662,11)","v":1057.4600871983243}]
["2006-11-25",{"$f":"VLOOKUP(A442,'RWH 10-yr Simulation'!$A$11:$N$3662,11)","v":873.85379090202855},null,null,null,null,"2007-02-09",{"$f":"VLOOKUP(G442,'RWH 10-yr Simulation'!$A$11:$N$3662,11)","v":1057.4600871983243},null,null,null,null,"2008-01-02",{"$f":"VLOOKUP(M442,'RWH 10-yr Simulation'!$A$11:$N$3662,11)","v":1006.7484575686947}]
["2006-11-26",{"$f":"VLOOKUP(A443,'RWH 10-yr Simulation'!$A$11:$N$3662,11)","v":1057.4600871983243},null,null,null,null,"2007-02-10",{"$f":"VLOOKUP(G443,'RWH 10-yr Simulation'!$A$11:$N$3662,11)","v":1057.4600871983243},null,null,null,null,"2008-01-03",{"$f":"VLOOKUP(M443,'RWH 10-yr Simulation'!$A$11:$N$3662,11)","v":1057.4600871983243}]
["2006-12-07",{"$f":"VLOOKUP(A444,'RWH 10-yr Simulation'!$A$11:$N$3662,11)","v":877.45527238350996},null,null,null,null,"2007-02-11",{"$f":"VLOOKUP(G444,'RWH 10-yr Simulation'!$A$11:$N$3662,11)","v":1057.4600871983243},null,null,null,null,"2008-01-04",{"$f":"VLOOKUP(M444,'RWH 10-yr Simulation'!$A$11:$N$3662,11)","v":1057.4600871983243}]
["2006-12-08",{"$f":"VLOOKUP(A445,'RWH 10-yr Simulation'!$A$11:$N$3662,11)","v":1057.4600871983243},null,null,null,null,"2007-02-20",{"$f":"VLOOKUP(G445,'RWH 10-yr Simulation'!$A$11:$N$3662,11)","v":869.62897608721369},null,null,null,null,"2008-01-05",{"$f":"VLOOKUP(M445,'RWH 10-yr Simulation'!$A$11:$N$3662,11)","v":1057.4600871983243}]
["2006-12-09",{"$f":"VLOOKUP(A446,'RWH 10-yr Simulation'!$A$11:$N$3662,11)","v":1057.4600871983243},null,null,null,null,"2007-02-21",{"$f":"VLOOKUP(G446,'RWH 10-yr Simulation'!$A$11:$N$3662,11)","v":858.04882793906552},null,null,null,null,"2008-01-06",{"$f":"VLOOKUP(M446,'RWH 10-yr Simulation'!$A$11:$N$3662,11)","v":1057.4600871983243}]
["2006-12-10",{"$f":"VLOOKUP(A447,'RWH 10-yr Simulation'!$A$11:$N$3662,11)","v":1057.4600871983243},null,null,null,null,"2007-02-22",{"$f":"VLOOKUP(G447,'RWH 10-yr Simulation'!$A$11:$N$3662,11)","v":1057.4600871983243},null,null,null,null,"2008-01-07",{"$f":"VLOOKUP(M447,'RWH 10-yr Simulation'!$A$11:$N$3662,11)","v":1057.4600871983243}]
["2006-12-11",{"$f":"VLOOKUP(A448,'RWH 10-yr Simulation'!$A$11:$N$3662,11)","v":1053.7062353464723},null,null,null,null,"2007-02-23",{"$f":"VLOOKUP(G448,'RWH 10-yr Simulation'!$A$11:$N$3662,11)","v":1057.4600871983243},null,null,null,null,"2008-01-09",{"$f":"VLOOKUP(M448,'RWH 10-yr Simulation'!$A$11:$N$3662,11)","v":1041.8074946057318}]
["2006-12-12",{"$f":"VLOOKUP(A449,'RWH 10-yr Simulation'!$A$11:$N$3662,11)","v":1057.4600871983243},null,null,null,null,"2007-02-24",{"$f":"VLOOKUP(G449,'RWH 10-yr Simulation'!$A$11:$N$3662,11)","v":1057.4600871983243},null,null,null,null,"2008-01-20",{"$f":"VLOOKUP(M449,'RWH 10-yr Simulation'!$A$11:$N$3662,11)","v":900.9341612723988}]
["2006-12-13",{"$f":"VLOOKUP(A450,'RWH 10-yr Simulation'!$A$11:$N$3662,11)","v":1057.4600871983243},null,null,null,null,"2007-02-25",{"$f":"VLOOKUP(G450,'RWH 10-yr Simulation'!$A$11:$N$3662,11)","v":1057.4600871983243},null,null,null,null,"2008-01-21",{"$f":"VLOOKUP(M450,'RWH 10-yr Simulation'!$A$11:$N$3662,11)","v":1057.4600871983243}]
["2006-12-14",{"$f":"VLOOKUP(A451,'RWH 10-yr Simulation'!$A$11:$N$3662,11)","v":1057.4600871983243},null,null,null,null,"2007-02-26",{"$f":"VLOOKUP(G451,'RWH 10-yr Simulation'!$A$11:$N$3662,11)","v":1057.4600871983243},null,null,null,null,"2008-01-22",{"$f":"VLOOKUP(M451,'RWH 10-yr Simulation'!$A$11:$N$3662,11)","v":1053.7062353464723}]
["2006-12-20",{"$f":"VLOOKUP(A452,'RWH 10-yr Simulation'!$A$11:$N$3662,11)","v":979.19712423536157},null,null,null,null,"2007-03-19",{"$f":"VLOOKUP(G452,'RWH 10-yr Simulation'!$A$11:$N$3662,11)","v":290.483050161287},null,null,null,null,"2008-01-23",{"$f":"VLOOKUP(M452,'RWH 10-yr Simulation'!$A$11:$N$3662,11)","v":1057.4600871983243}]
["2006-12-21",{"$f":"VLOOKUP(A453,'RWH 10-yr Simulation'!$A$11:$N$3662,11)","v":1057.4600871983243},null,null,null,null,"2007-03-24",{"$f":"VLOOKUP(G453,'RWH 10-yr Simulation'!$A$11:$N$3662,11)","v":261.11712423536102},null,null,null,null,"2008-01-24",{"$f":"VLOOKUP(M453,'RWH 10-yr Simulation'!$A$11:$N$3662,11)","v":1057.4600871983243}]
["2006-12-25",{"$f":"VLOOKUP(A454,'RWH 10-yr Simulation'!$A$11:$N$3662,11)","v":1006.7484575686947},null,null,null,null,"2007-03-25",{"$f":"VLOOKUP(G454,'RWH 10-yr Simulation'!$A$11:$N$3662,11)","v":245.78312423536102},null,null,null,null,"2008-01-25",{"$f":"VLOOKUP(M454,'RWH 10-yr Simulation'!$A$11:$N$3662,11)","v":1057.4600871983243}]
["2006-12-26",{"$f":"VLOOKUP(A455,'RWH 10-yr Simulation'!$A$11:$N$3662,11)","v":1057.4600871983243},null,null,null,null,"2007-04-08",{"$f":"VLOOKUP(G455,'RWH 10-yr Simulation'!$A$11:$N$3662,11)","v":0},null,null,null,null,"2008-01-26",{"$f":"VLOOKUP(M455,'RWH 10-yr Simulation'!$A$11:$N$3662,11)","v":1057.4600871983243}]
["2007-01-02",{"$f":"VLOOKUP(A456,'RWH 10-yr Simulation'!$A$11:$N$3662,11)","v":963.54453164276902},null,null,null,null,"2007-04-10",{"$f":"VLOOKUP(G456,'RWH 10-yr Simulation'!$A$11:$N$3662,11)","v":0},null,null,null,null,"2008-01-27",{"$f":"VLOOKUP(M456,'RWH 10-yr Simulation'!$A$11:$N$3662,11)","v":1057.4600871983243}]
["2007-01-03",{"$f":"VLOOKUP(A457,'RWH 10-yr Simulation'!$A$11:$N$3662,11)","v":1027.1245316427689},null,null,null,null,"2007-04-13",{"$f":"VLOOKUP(G457,'RWH 10-yr Simulation'!$A$11:$N$3662,11)","v":0},null,null,null,null,"2008-01-28",{"$f":"VLOOKUP(M457,'RWH 10-yr Simulation'!$A$11:$N$3662,11)","v":1057.4600871983243}]
["2007-01-15",{"$f":"VLOOKUP(A458,'RWH 10-yr Simulation'!$A$11:$N$3662,11)","v":885.28156867980624},null,null,null,null,"2007-04-18",{"$f":"VLOOKUP(G458,'RWH 10-yr Simulation'!$A$11:$N$3662,11)","v":0},null,null,null,null,"2008-01-29",{"$f":"VLOOKUP(M458,'RWH 10-yr Simulation'!$A$11:$N$3662,11)","v":1057.4600871983243}]
["2007-01-25",{"$f":"VLOOKUP(A459,'RWH 10-yr Simulation'!$A$11:$N$3662,11)","v":846.13623534647331},null,null,null,null,"2007-04-19",{"$f":"VLOOKUP(G459,'RWH 10-yr Simulation'!$A$11:$N$3662,11)","v":171.66600000000003},null,null,null,null,"2008-01-30",{"$f":"VLOOKUP(M459,'RWH 10-yr Simulation'!$A$11:$N$3662,11)","v":1057.4600871983243}]
["2007-01-26",{"$f":"VLOOKUP(A460,'RWH 10-yr Simulation'!$A$11:$N$3662,11)","v":897.00023534647335},null,null,null,null,"2007-04-20",{"$f":"VLOOKUP(G460,'RWH 10-yr Simulation'!$A$11:$N$3662,11)","v":260.67800000000005},null,null,null,null,"2008-02-01",{"$f":"VLOOKUP(M460,'RWH 10-yr Simulation'!$A$11:$N$3662,11)","v":1033.9811983094355}]
["2007-01-27",{"$f":"VLOOKUP(A461,'RWH 10-yr Simulation'!$A$11:$N$3662,11)","v":960.58023534647339},null,null,null,null,"2007-04-21",{"$f":"VLOOKUP(G461,'RWH 10-yr Simulation'!$A$11:$N$3662,11)","v":343.33200000000005},null,null,null,null,"2008-02-02",{"$f":"VLOOKUP(M461,'RWH 10-yr Simulation'!$A$11:$N$3662,11)","v":1057.4600871983243}]
["2007-02-06",{"$f":"VLOOKUP(A462,'RWH 10-yr Simulation'!$A$11:$N$3662,11)","v":842.68712423536272},null,null,null,null,"2007-05-01",{"$f":"VLOOKUP(G462,'RWH 10-yr Simulation'!$A$11:$N$3662,11)","v":157.41937037037047},null,null,null,null,"2008-02-18",{"$f":"VLOOKUP(M462,'RWH 10-yr Simulation'!$A$11:$N$3662,11)","v":705.27675386499186}]
["2007-02-07",{"$f":"VLOOKUP(A463,'RWH 10-yr Simulation'!$A$11:$N$3662,11)","v":976.20512423536275},null,null,null,null,"2007-05-02",{"$f":"VLOOKUP(G463,'RWH 10-yr Simulation'!$A$11:$N$3662,11)","v":297.29537037037051},null,null,null,null,"2008-02-19",{"$f":"VLOOKUP(M463,'RWH 10-yr Simulation'!$A$11:$N$3662,11)","v":1057.4600871983243}]
["2007-02-08",{"$f":"VLOOKUP(A464,'RWH 10-yr Simulation'!$A$11:$N$3662,11)","v":1057.4600871983243},null,null,null,null,"2007-05-03",{"$f":"VLOOKUP(G464,'RWH 10-yr Simulation'!$A$11:$N$3662,11)","v":250.496888888889},null,null,null,null,"2008-02-20",{"$f":"VLOOKUP(M464,'RWH 10-yr Simulation'!$A$11:$N$3662,11)","v":1057.4600871983243}]
["2007-02-09",{"$f":"VLOOKUP(A465,'RWH 10-yr Simulation'!$A$11:$N$3662,11)","v":1057.4600871983243},null,null,null,null,"2007-10-09",{"$f":"VLOOKUP(G465,'RWH 10-yr Simulation'!$A$11:$N$3662,11)","v":0},null,null,null,null,"2008-02-21",{"$f":"VLOOKUP(M465,'RWH 10-yr Simulation'!$A$11:$N$3662,11)","v":1057.4600871983243}]
["2007-02-10",{"$f":"VLOOKUP(A466,'RWH 10-yr Simulation'!$A$11:$N$3662,11)","v":1057.4600871983243},null,null,null,null,"2007-10-10",{"$f":"VLOOKUP(G466,'RWH 10-yr Simulation'!$A$11:$N$3662,11)","v":254.32000000000002},null,null,null,null,"2008-02-22",{"$f":"VLOOKUP(M466,'RWH 10-yr Simulation'!$A$11:$N$3662,11)","v":1057.4600871983243}]
["2007-02-11",{"$f":"VLOOKUP(A467,'RWH 10-yr Simulation'!$A$11:$N$3662,11)","v":1057.4600871983243},null,null,null,null,"2007-10-11",{"$f":"VLOOKUP(G467,'RWH 10-yr Simulation'!$A$11:$N$3662,11)","v":381.48},null,null,null,null,"2008-02-23",{"$f":"VLOOKUP(M467,'RWH 10-yr Simulation'!$A$11:$N$3662,11)","v":1057.4600871983243}]
["2007-02-20",{"$f":"VLOOKUP(A468,'RWH 10-yr Simulation'!$A$11:$N$3662,11)","v":869.62897608721369},null,null,null,null,"2007-10-19",{"$f":"VLOOKUP(G468,'RWH 10-yr Simulation'!$A$11:$N$3662,11)","v":810.93175386499081},null,null,null,null,"2008-03-12",{"$f":"VLOOKUP(M468,'RWH 10-yr Simulation'!$A$11:$N$3662,11)","v":470.48786497610217}]
["2007-02-21",{"$f":"VLOOKUP(A469,'RWH 10-yr Simulation'!$A$11:$N$3662,11)","v":858.04882793906552},null,null,null,null,"2007-11-09",{"$f":"VLOOKUP(G469,'RWH 10-yr Simulation'!$A$11:$N$3662,11)","v":402.96008719832406},null,null,null,null,"2008-03-13",{"$f":"VLOOKUP(M469,'RWH 10-yr Simulation'!$A$11:$N$3662,11)","v":559.49986497610212}]
["2007-02-22",{"$f":"VLOOKUP(A470,'RWH 10-yr Simulation'!$A$11:$N$3662,11)","v":1057.4600871983243},null,null,null,null,"2007-11-10",{"$f":"VLOOKUP(G470,'RWH 10-yr Simulation'!$A$11:$N$3662,11)","v":809.87208719832415},null,null,null,null,"2008-03-14",{"$f":"VLOOKUP(M470,'RWH 10-yr Simulation'!$A$11:$N$3662,11)","v":591.76082793906505}]
["2007-02-23",{"$f":"VLOOKUP(A471,'RWH 10-yr Simulation'!$A$11:$N$3662,11)","v":1057.4600871983243},null,null,null,null,"2007-12-03",{"$f":"VLOOKUP(G471,'RWH 10-yr Simulation'!$A$11:$N$3662,11)","v":520.27142053165858},null,null,null,null,"2008-03-28",{"$f":"VLOOKUP(M471,'RWH 10-yr Simulation'!$A$11:$N$3662,11)","v":127.21127238350927}]
["2007-02-24",{"$f":"VLOOKUP(A472,'RWH 10-yr Simulation'!$A$11:$N$3662,11)","v":1057.4600871983243},null,null,null,null,"2007-12-05",{"$f":"VLOOKUP(G472,'RWH 10-yr Simulation'!$A$11:$N$3662,11)","v":714.4328279390661},null,null,null,null,"2008-03-29",{"$f":"VLOOKUP(M472,'RWH 10-yr Simulation'!$A$11:$N$3662,11)","v":135.67475386499075}]
["2007-02-25",{"$f":"VLOOKUP(A473,'RWH 10-yr Simulation'!$A$11:$N$3662,11)","v":1057.4600871983243},null,null,null,null,"2007-12-06",{"$f":"VLOOKUP(G473,'RWH 10-yr Simulation'!$A$11:$N$3662,11)","v":968.75282793906615},null,null,null,null,"2008-04-21",{"$f":"VLOOKUP(M473,'RWH 10-yr Simulation'!$A$11:$N$3662,11)","v":0}]
["2007-02-26",{"$f":"VLOOKUP(A474,'RWH 10-yr Simulation'!$A$11:$N$3662,11)","v":1057.4600871983243},null,null,null,null,"2007-12-16",{"$f":"VLOOKUP(G474,'RWH 10-yr Simulation'!$A$11:$N$3662,11)","v":916.58675386499135},null,null,null,null,"2008-11-01",{"$f":"VLOOKUP(M474,'RWH 10-yr Simulation'!$A$11:$N$3662,11)","v":831.74137037037042}]
["2007-03-19",{"$f":"VLOOKUP(A475,'RWH 10-yr Simulation'!$A$11:$N$3662,11)","v":290.483050161287},null,null,null,null,"2007-12-17",{"$f":"VLOOKUP(G475,'RWH 10-yr Simulation'!$A$11:$N$3662,11)","v":1018.3147538649914},null,null,null,null,"2008-11-02",{"$f":"VLOOKUP(M475,'RWH 10-yr Simulation'!$A$11:$N$3662,11)","v":1057.4600871983243}]
["2007-03-24",{"$f":"VLOOKUP(A476,'RWH 10-yr Simulation'!$A$11:$N$3662,11)","v":261.11712423536102},null,null,null,null,"2007-12-19",{"$f":"VLOOKUP(G476,'RWH 10-yr Simulation'!$A$11:$N$3662,11)","v":1041.8074946057318},null,null,null,null,"2008-11-07",{"$f":"VLOOKUP(M476,'RWH 10-yr Simulation'!$A$11:$N$3662,11)","v":963.54453164276902}]
["2007-03-25",{"$f":"VLOOKUP(A477,'RWH 10-yr Simulation'!$A$11:$N$3662,11)","v":245.78312423536102},null,null,null,null,"2007-12-26",{"$f":"VLOOKUP(G477,'RWH 10-yr Simulation'!$A$11:$N$3662,11)","v":963.54453164276902},null,null,null,null,"2008-11-25",{"$f":"VLOOKUP(M477,'RWH 10-yr Simulation'!$A$11:$N$3662,11)","v":615.2674205316589}]
["2007-04-08",{"$f":"VLOOKUP(A478,'RWH 10-yr Simulation'!$A$11:$N$3662,11)","v":0},null,null,null,null,"2007-12-27",{"$f":"VLOOKUP(G478,'RWH 10-yr Simulation'!$A$11:$N$3662,11)","v":1052.556531642769},null,null,null,null,"2008-12-11",{"$f":"VLOOKUP(M478,'RWH 10-yr Simulation'!$A$11:$N$3662,11)","v":463.6173464575852}]
["2007-04-10",{"$f":"VLOOKUP(A479,'RWH 10-yr Simulation'!$A$11:$N$3662,11)","v":0},null,null,null,null,"2007-12-28",{"$f":"VLOOKUP(G479,'RWH 10-yr Simulation'!$A$11:$N$3662,11)","v":1057.4600871983243},null,null,null,null,"2008-12-13",{"$f":"VLOOKUP(M479,'RWH 10-yr Simulation'!$A$11:$N$3662,11)","v":456.10964275388147}]
["2007-04-13",{"$f":"VLOOKUP(A480,'RWH 10-yr Simulation'!$A$11:$N$3662,11)","v":0},null,null,null,null,"2007-12-29",{"$f":"VLOOKUP(G480,'RWH 10-yr Simulation'!$A$11:$N$3662,11)","v":1057.4600871983243},null,null,null,null,"2008-12-14",{"$f":"VLOOKUP(M480,'RWH 10-yr Simulation'!$A$11:$N$3662,11)","v":894.81164275388153}]
["2007-04-18",{"$f":"VLOOKUP(A481,'RWH 10-yr Simulation'!$A$11:$N$3662,11)","v":0},null,null,null,null,"2008-01-02",{"$f":"VLOOKUP(G481,'RWH 10-yr Simulation'!$A$11:$N$3662,11)","v":1006.7484575686947},null,null,null,null,"2008-12-15",{"$f":"VLOOKUP(M481,'RWH 10-yr Simulation'!$A$11:$N$3662,11)","v":1028.3296427538814}]
["2007-04-19",{"$f":"VLOOKUP(A482,'RWH 10-yr Simulation'!$A$11:$N$3662,11)","v":171.66600000000003},null,null,null,null,"2008-01-03",{"$f":"VLOOKUP(G482,'RWH 10-yr Simulation'!$A$11:$N$3662,11)","v":1057.4600871983243},null,null,null,null,"2008-12-18",{"$f":"VLOOKUP(M482,'RWH 10-yr Simulation'!$A$11:$N$3662,11)","v":1026.1549020131392}]
["2007-04-20",{"$f":"VLOOKUP(A483,'RWH 10-yr Simulation'!$A$11:$N$3662,11)","v":260.67800000000005},null,null,null,null,"2008-01-04",{"$f":"VLOOKUP(G483,'RWH 10-yr Simulation'!$A$11:$N$3662,11)","v":1057.4600871983243},null,null,null,null,"2008-12-20",{"$f":"VLOOKUP(M483,'RWH 10-yr Simulation'!$A$11:$N$3662,11)","v":1041.8074946057318}]
["2007-04-21",{"$f":"VLOOKUP(A484,'RWH 10-yr Simulation'!$A$11:$N$3662,11)","v":343.33200000000005},null,null,null,null,"2008-01-05",{"$f":"VLOOKUP(G484,'RWH 10-yr Simulation'!$A$11:$N$3662,11)","v":1057.4600871983243},null,null,null,null,"2008-12-21",{"$f":"VLOOKUP(M484,'RWH 10-yr Simulation'!$A$11:$N$3662,11)","v":1057.4600871983243}]
["2007-05-01",{"$f":"VLOOKUP(A485,'RWH 10-yr Simulation'!$A$11:$N$3662,11)","v":157.41937037037047},null,null,null,null,"2008-01-06",{"$f":"VLOOKUP(G485,'RWH 10-yr Simulation'!$A$11:$N$3662,11)","v":1057.4600871983243},null,null,null,null,"2008-12-22",{"$f":"VLOOKUP(M485,'RWH 10-yr Simulation'!$A$11:$N$3662,11)","v":1057.4600871983243}]
["2007-05-02",{"$f":"VLOOKUP(A486,'RWH 10-yr Simulation'!$A$11:$N$3662,11)","v":297.29537037037051},null,null,null,null,"2008-01-07",{"$f":"VLOOKUP(G486,'RWH 10-yr Simulation'!$A$11:$N$3662,11)","v":1057.4600871983243},null,null,null,null,"2008-12-23",{"$f":"VLOOKUP(M486,'RWH 10-yr Simulation'!$A$11:$N$3662,11)","v":1057.4600871983243}]
["2007-05-03",{"$f":"VLOOKUP(A487,'RWH 10-yr Simulation'!$A$11:$N$3662,11)","v":250.496888888889},null,null,null,null,"2008-01-09",{"$f":"VLOOKUP(G487,'RWH 10-yr Simulation'!$A$11:$N$3662,11)","v":1041.8074946057318},null,null,null,null,"2008-12-24",{"$f":"VLOOKUP(M487,'RWH 10-yr Simulation'!$A$11:$N$3662,11)","v":1057.4600871983243}]
["2007-07-17",{"$f":"VLOOKUP(A488,'RWH 10-yr Simulation'!$A$11:$N$3662,11)","v":0},null,null,null,null,"2008-01-20",{"$f":"VLOOKUP(G488,'RWH 10-yr Simulation'!$A$11:$N$3662,11)","v":900.9341612723988},null,null,null,null,"2009-01-01",{"$f":"VLOOKUP(M488,'RWH 10-yr Simulation'!$A$11:$N$3662,11)","v":947.89193905017646}]
["2007-09-21",{"$f":"VLOOKUP(A489,'RWH 10-yr Simulation'!$A$11:$N$3662,11)","v":0},null,null,null,null,"2008-01-21",{"$f":"VLOOKUP(G489,'RWH 10-yr Simulation'!$A$11:$N$3662,11)","v":1057.4600871983243},null,null,null,null,"2009-01-20",{"$f":"VLOOKUP(M489,'RWH 10-yr Simulation'!$A$11:$N$3662,11)","v":775.71342053165836}]
["2007-10-09",{"$f":"VLOOKUP(A490,'RWH 10-yr Simulation'!$A$11:$N$3662,11)","v":0},null,null,null,null,"2008-01-22",{"$f":"VLOOKUP(G490,'RWH 10-yr Simulation'!$A$11:$N$3662,11)","v":1053.7062353464723},null,null,null,null,"2009-01-21",{"$f":"VLOOKUP(M490,'RWH 10-yr Simulation'!$A$11:$N$3662,11)","v":826.57742053165839}]
["2007-10-10",{"$f":"VLOOKUP(A491,'RWH 10-yr Simulation'!$A$11:$N$3662,11)","v":254.32000000000002},null,null,null,null,"2008-01-23",{"$f":"VLOOKUP(G491,'RWH 10-yr Simulation'!$A$11:$N$3662,11)","v":1057.4600871983243},null,null,null,null,"2009-01-22",{"$f":"VLOOKUP(M491,'RWH 10-yr Simulation'!$A$11:$N$3662,11)","v":1057.4600871983243}]
["2007-10-11",{"$f":"VLOOKUP(A492,'RWH 10-yr Simulation'!$A$11:$N$3662,11)","v":381.48},null,null,null,null,"2008-01-24",{"$f":"VLOOKUP(G492,'RWH 10-yr Simulation'!$A$11:$N$3662,11)","v":1057.4600871983243},null,null,null,null,"2009-01-23",{"$f":"VLOOKUP(M492,'RWH 10-yr Simulation'!$A$11:$N$3662,11)","v":1057.4600871983243}]
["2007-10-19",{"$f":"VLOOKUP(A493,'RWH 10-yr Simulation'!$A$11:$N$3662,11)","v":810.93175386499081},null,null,null,null,"2008-01-25",{"$f":"VLOOKUP(G493,'RWH 10-yr Simulation'!$A$11:$N$3662,11)","v":1057.4600871983243},null,null,null,null,"2009-02-04",{"$f":"VLOOKUP(M493,'RWH 10-yr Simulation'!$A$11:$N$3662,11)","v":850.22253164276913}]
["2007-11-09",{"$f":"VLOOKUP(A494,'RWH 10-yr Simulation'!$A$11:$N$3662,11)","v":402.96008719832406},null,null,null,null,"2008-01-26",{"$f":"VLOOKUP(G494,'RWH 10-yr Simulation'!$A$11:$N$3662,11)","v":1057.4600871983243},null,null,null,null,"2009-02-05",{"$f":"VLOOKUP(M494,'RWH 10-yr Simulation'!$A$11:$N$3662,11)","v":932.87653164276912}]
["2007-11-10",{"$f":"VLOOKUP(A495,'RWH 10-yr Simulation'!$A$11:$N$3662,11)","v":809.87208719832415},null,null,null,null,"2008-01-27",{"$f":"VLOOKUP(G495,'RWH 10-yr Simulation'!$A$11:$N$3662,11)","v":1057.4600871983243},null,null,null,null,"2009-02-06",{"$f":"VLOOKUP(M495,'RWH 10-yr Simulation'!$A$11:$N$3662,11)","v":1057.4600871983243}]
["2007-12-03",{"$f":"VLOOKUP(A496,'RWH 10-yr Simulation'!$A$11:$N$3662,11)","v":520.27142053165858},null,null,null,null,"2008-01-28",{"$f":"VLOOKUP(G496,'RWH 10-yr Simulation'!$A$11:$N$3662,11)","v":1057.4600871983243},null,null,null,null,"2009-02-07",{"$f":"VLOOKUP(M496,'RWH 10-yr Simulation'!$A$11:$N$3662,11)","v":1057.4600871983243}]
["2007-12-05",{"$f":"VLOOKUP(A497,'RWH 10-yr Simulation'!$A$11:$N$3662,11)","v":714.4328279390661},null,null,null,null,"2008-01-29",{"$f":"VLOOKUP(G497,'RWH 10-yr Simulation'!$A$11:$N$3662,11)","v":1057.4600871983243},null,null,null,null,"2009-02-09",{"$f":"VLOOKUP(M497,'RWH 10-yr Simulation'!$A$11:$N$3662,11)","v":1033.9811983094355}]
["2007-12-06",{"$f":"VLOOKUP(A498,'RWH 10-yr Simulation'!$A$11:$N$3662,11)","v":968.75282793906615},null,null,null,null,"2008-01-30",{"$f":"VLOOKUP(G498,'RWH 10-yr Simulation'!$A$11:$N$3662,11)","v":1057.4600871983243},null,null,null,null,"2009-02-10",{"$f":"VLOOKUP(M498,'RWH 10-yr Simulation'!$A$11:$N$3662,11)","v":1057.4600871983243}]
["2007-12-16",{"$f":"VLOOKUP(A499,'RWH 10-yr Simulation'!$A$11:$N$3662,11)","v":916.58675386499135},null,null,null,null,"2008-02-01",{"$f":"VLOOKUP(G499,'RWH 10-yr Simulation'!$A$11:$N$3662,11)","v":1033.9811983094355},null,null,null,null,"2009-02-12",{"$f":"VLOOKUP(M499,'RWH 10-yr Simulation'!$A$11:$N$3662,11)","v":1033.9811983094355}]
["2007-12-17",{"$f":"VLOOKUP(A500,'RWH 10-yr Simulation'!$A$11:$N$3662,11)","v":1018.3147538649914},null,null,null,null,"2008-02-02",{"$f":"VLOOKUP(G500,'RWH 10-yr Simulation'!$A$11:$N$3662,11)","v":1057.4600871983243},null,null,null,null,"2009-02-13",{"$f":"VLOOKUP(M500,'RWH 10-yr Simulation'!$A$11:$N$3662,11)","v":1057.4600871983243}]
["2007-12-19",{"$f":"VLOOKUP(A501,'RWH 10-yr Simulation'!$A$11:$N$3662,11)","v":1041.8074946057318},null,null,null,null,"2008-02-18",{"$f":"VLOOKUP(G501,'RWH 10-yr Simulation'!$A$11:$N$3662,11)","v":705.27675386499186},null,null,null,null,"2009-02-14",{"$f":"VLOOKUP(M501,'RWH 10-yr Simulation'!$A$11:$N$3662,11)","v":1057.4600871983243}]
["2007-12-26",{"$f":"VLOOKUP(A502,'RWH 10-yr Simulation'!$A$11:$N$3662,11)","v":963.54453164276902},null,null,null,null,"2008-02-19",{"$f":"VLOOKUP(G502,'RWH 10-yr Simulation'!$A$11:$N$3662,11)","v":1057.4600871983243},null,null,null,null,"2009-02-15",{"$f":"VLOOKUP(M502,'RWH 10-yr Simulation'!$A$11:$N$3662,11)","v":1057.4600871983243}]
["2007-12-27",{"$f":"VLOOKUP(A503,'RWH 10-yr Simulation'!$A$11:$N$3662,11)","v":1052.556531642769},null,null,null,null,"2008-02-20",{"$f":"VLOOKUP(G503,'RWH 10-yr Simulation'!$A$11:$N$3662,11)","v":1057.4600871983243},null,null,null,null,"2009-02-16",{"$f":"VLOOKUP(M503,'RWH 10-yr Simulation'!$A$11:$N$3662,11)","v":1057.4600871983243}]
["2007-12-28",{"$f":"VLOOKUP(A504,'RWH 10-yr Simulation'!$A$11:$N$3662,11)","v":1057.4600871983243},null,null,null,null,"2008-02-21",{"$f":"VLOOKUP(G504,'RWH 10-yr Simulation'!$A$11:$N$3662,11)","v":1057.4600871983243},null,null,null,null,"2009-02-21",{"$f":"VLOOKUP(M504,'RWH 10-yr Simulation'!$A$11:$N$3662,11)","v":963.54453164276902}]
["2007-12-29",{"$f":"VLOOKUP(A505,'RWH 10-yr Simulation'!$A$11:$N$3662,11)","v":1057.4600871983243},null,null,null,null,"2008-02-22",{"$f":"VLOOKUP(G505,'RWH 10-yr Simulation'!$A$11:$N$3662,11)","v":1057.4600871983243},null,null,null,null,"2009-02-22",{"$f":"VLOOKUP(M505,'RWH 10-yr Simulation'!$A$11:$N$3662,11)","v":1057.4600871983243}]
["2008-01-02",{"$f":"VLOOKUP(A506,'RWH 10-yr Simulation'!$A$11:$N$3662,11)","v":1006.7484575686947},null,null,null,null,"2008-02-23",{"$f":"VLOOKUP(G506,'RWH 10-yr Simulation'!$A$11:$N$3662,11)","v":1057.4600871983243},null,null,null,null,"2009-02-23",{"$f":"VLOOKUP(M506,'RWH 10-yr Simulation'!$A$11:$N$3662,11)","v":1057.4600871983243}]
["2008-01-03",{"$f":"VLOOKUP(A507,'RWH 10-yr Simulation'!$A$11:$N$3662,11)","v":1057.4600871983243},null,null,null,null,"2008-03-12",{"$f":"VLOOKUP(G507,'RWH 10-yr Simulation'!$A$11:$N$3662,11)","v":470.48786497610217},null,null,null,null,"2009-02-24",{"$f":"VLOOKUP(M507,'RWH 10-yr Simulation'!$A$11:$N$3662,11)","v":1057.4600871983243}]
["2008-01-04",{"$f":"VLOOKUP(A508,'RWH 10-yr Simulation'!$A$11:$N$3662,11)","v":1057.4600871983243},null,null,null,null,"2008-03-13",{"$f":"VLOOKUP(G508,'RWH 10-yr Simulation'!$A$11:$N$3662,11)","v":559.49986497610212},null,null,null,null,"2009-02-25",{"$f":"VLOOKUP(M508,'RWH 10-yr Simulation'!$A$11:$N$3662,11)","v":1057.4600871983243}]
["2008-01-05",{"$f":"VLOOKUP(A509,'RWH 10-yr Simulation'!$A$11:$N$3662,11)","v":1057.4600871983243},null,null,null,null,"2008-03-14",{"$f":"VLOOKUP(G509,'RWH 10-yr Simulation'!$A$11:$N$3662,11)","v":591.76082793906505},null,null,null,null,"2009-02-28",{"$f":"VLOOKUP(M509,'RWH 10-yr Simulation'!$A$11:$N$3662,11)","v":1010.5023094205467}]
["2008-01-06",{"$f":"VLOOKUP(A510,'RWH 10-yr Simulation'!$A$11:$N$3662,11)","v":1057.4600871983243},null,null,null,null,"2008-03-28",{"$f":"VLOOKUP(G510,'RWH 10-yr Simulation'!$A$11:$N$3662,11)","v":127.21127238350927},null,null,null,null,"2009-03-01",{"$f":"VLOOKUP(M510,'RWH 10-yr Simulation'!$A$11:$N$3662,11)","v":1057.4600871983243}]
["2008-01-07",{"$f":"VLOOKUP(A511,'RWH 10-yr Simulation'!$A$11:$N$3662,11)","v":1057.4600871983243},null,null,null,null,"2008-03-29",{"$f":"VLOOKUP(G511,'RWH 10-yr Simulation'!$A$11:$N$3662,11)","v":135.67475386499075},null,null,null,null,"2009-03-02",{"$f":"VLOOKUP(M511,'RWH 10-yr Simulation'!$A$11:$N$3662,11)","v":1057.4600871983243}]
["2008-01-09",{"$f":"VLOOKUP(A512,'RWH 10-yr Simulation'!$A$11:$N$3662,11)","v":1041.8074946057318},null,null,null,null,"2008-04-21",{"$f":"VLOOKUP(G512,'RWH 10-yr Simulation'!$A$11:$N$3662,11)","v":0},null,null,null,null,"2009-03-03",{"$f":"VLOOKUP(M512,'RWH 10-yr Simulation'!$A$11:$N$3662,11)","v":1057.4600871983243}]
["2008-01-20",{"$f":"VLOOKUP(A513,'RWH 10-yr Simulation'!$A$11:$N$3662,11)","v":900.9341612723988},null,null,null,null,"2008-05-23",{"$f":"VLOOKUP(G513,'RWH 10-yr Simulation'!$A$11:$N$3662,11)","v":0},null,null,null,null,"2009-03-04",{"$f":"VLOOKUP(M513,'RWH 10-yr Simulation'!$A$11:$N$3662,11)","v":1057.4600871983243}]
["2008-01-21",{"$f":"VLOOKUP(A514,'RWH 10-yr Simulation'!$A$11:$N$3662,11)","v":1057.4600871983243},null,null,null,null,"2008-10-02",{"$f":"VLOOKUP(G514,'RWH 10-yr Simulation'!$A$11:$N$3662,11)","v":0},null,null,null,null,"2009-03-14",{"$f":"VLOOKUP(M514,'RWH 10-yr Simulation'!$A$11:$N$3662,11)","v":705.27675386499084}]
["2008-01-22",{"$f":"VLOOKUP(A515,'RWH 10-yr Simulation'!$A$11:$N$3662,11)","v":1053.7062353464723},null,null,null,null,"2008-10-03",{"$f":"VLOOKUP(G515,'RWH 10-yr Simulation'!$A$11:$N$3662,11)","v":0},null,null,null,null,"2009-03-15",{"$f":"VLOOKUP(M515,'RWH 10-yr Simulation'!$A$11:$N$3662,11)","v":756.14075386499087}]
["2008-01-23",{"$f":"VLOOKUP(A516,'RWH 10-yr Simulation'!$A$11:$N$3662,11)","v":1057.4600871983243},null,null,null,null,"2008-10-29",{"$f":"VLOOKUP(G516,'RWH 10-yr Simulation'!$A$11:$N$3662,11)","v":0},null,null,null,null,"2009-03-16",{"$f":"VLOOKUP(M516,'RWH 10-yr Simulation'!$A$11:$N$3662,11)","v":813.36275386499085}]
["2008-01-24",{"$f":"VLOOKUP(A517,'RWH 10-yr Simulation'!$A$11:$N$3662,11)","v":1057.4600871983243},null,null,null,null,"2008-10-30",{"$f":"VLOOKUP(G517,'RWH 10-yr Simulation'!$A$11:$N$3662,11)","v":24.275370370370371},null,null,null,null,"2009-03-21",{"$f":"VLOOKUP(M517,'RWH 10-yr Simulation'!$A$11:$N$3662,11)","v":629.60408719832401}]
["2008-01-25",{"$f":"VLOOKUP(A518,'RWH 10-yr Simulation'!$A$11:$N$3662,11)","v":1057.4600871983243},null,null,null,null,"2008-10-31",{"$f":"VLOOKUP(G518,'RWH 10-yr Simulation'!$A$11:$N$3662,11)","v":126.00337037037039},null,null,null,null,"2009-04-06",{"$f":"VLOOKUP(M518,'RWH 10-yr Simulation'!$A$11:$N$3662,11)","v":124.78719830943498}]
["2008-01-26",{"$f":"VLOOKUP(A519,'RWH 10-yr Simulation'!$A$11:$N$3662,11)","v":1057.4600871983243},null,null,null,null,"2008-11-01",{"$f":"VLOOKUP(G519,'RWH 10-yr Simulation'!$A$11:$N$3662,11)","v":831.74137037037042},null,null,null,null,"2009-04-07",{"$f":"VLOOKUP(M519,'RWH 10-yr Simulation'!$A$11:$N$3662,11)","v":264.66319830943502}]
["2008-01-27",{"$f":"VLOOKUP(A520,'RWH 10-yr Simulation'!$A$11:$N$3662,11)","v":1057.4600871983243},null,null,null,null,"2008-11-02",{"$f":"VLOOKUP(G520,'RWH 10-yr Simulation'!$A$11:$N$3662,11)","v":1057.4600871983243},null,null,null,null,"2009-04-08",{"$f":"VLOOKUP(M520,'RWH 10-yr Simulation'!$A$11:$N$3662,11)","v":225.69101312424982}]
["2008-01-28",{"$f":"VLOOKUP(A521,'RWH 10-yr Simulation'!$A$11:$N$3662,11)","v":1057.4600871983243},null,null,null,null,"2008-11-07",{"$f":"VLOOKUP(G521,'RWH 10-yr Simulation'!$A$11:$N$3662,11)","v":963.54453164276902},null,null,null,null,"2009-04-30",{"$f":"VLOOKUP(M521,'RWH 10-yr Simulation'!$A$11:$N$3662,11)","v":0}]
["2008-01-29",{"$f":"VLOOKUP(A522,'RWH 10-yr Simulation'!$A$11:$N$3662,11)","v":1057.4600871983243},null,null,null,null,"2008-11-25",{"$f":"VLOOKUP(G522,'RWH 10-yr Simulation'!$A$11:$N$3662,11)","v":615.2674205316589},null,null,null,null,"2009-05-01",{"$f":"VLOOKUP(M522,'RWH 10-yr Simulation'!$A$11:$N$3662,11)","v":146.23400000000001}]
["2008-01-30",{"$f":"VLOOKUP(A523,'RWH 10-yr Simulation'!$A$11:$N$3662,11)","v":1057.4600871983243},null,null,null,null,"2008-12-11",{"$f":"VLOOKUP(G523,'RWH 10-yr Simulation'!$A$11:$N$3662,11)","v":463.6173464575852},null,null,null,null,"2009-11-05",{"$f":"VLOOKUP(M523,'RWH 10-yr Simulation'!$A$11:$N$3662,11)","v":517.44564275387984}]
["2008-02-01",{"$f":"VLOOKUP(A524,'RWH 10-yr Simulation'!$A$11:$N$3662,11)","v":1033.9811983094355},null,null,null,null,"2008-12-13",{"$f":"VLOOKUP(G524,'RWH 10-yr Simulation'!$A$11:$N$3662,11)","v":456.10964275388147},null,null,null,null,"2009-11-13",{"$f":"VLOOKUP(M524,'RWH 10-yr Simulation'!$A$11:$N$3662,11)","v":410.31542053165771}]
["2008-02-02",{"$f":"VLOOKUP(A525,'RWH 10-yr Simulation'!$A$11:$N$3662,11)","v":1057.4600871983243},null,null,null,null,"2008-12-14",{"$f":"VLOOKUP(G525,'RWH 10-yr Simulation'!$A$11:$N$3662,11)","v":894.81164275388153},null,null,null,null,"2009-11-16",{"$f":"VLOOKUP(M525,'RWH 10-yr Simulation'!$A$11:$N$3662,11)","v":395.14764275387995}]
["2008-02-18",{"$f":"VLOOKUP(A526,'RWH 10-yr Simulation'!$A$11:$N$3662,11)","v":705.27675386499186},null,null,null,null,"2008-12-15",{"$f":"VLOOKUP(G526,'RWH 10-yr Simulation'!$A$11:$N$3662,11)","v":1028.3296427538814},null,null,null,null,"2009-11-19",{"$f":"VLOOKUP(M526,'RWH 10-yr Simulation'!$A$11:$N$3662,11)","v":336.609716827954}]
["2008-02-19",{"$f":"VLOOKUP(A527,'RWH 10-yr Simulation'!$A$11:$N$3662,11)","v":1057.4600871983243},null,null,null,null,"2008-12-18",{"$f":"VLOOKUP(G527,'RWH 10-yr Simulation'!$A$11:$N$3662,11)","v":1026.1549020131392},null,null,null,null,"2009-11-26",{"$f":"VLOOKUP(M527,'RWH 10-yr Simulation'!$A$11:$N$3662,11)","v":380.11838349462073}]
["2008-02-20",{"$f":"VLOOKUP(A528,'RWH 10-yr Simulation'!$A$11:$N$3662,11)","v":1057.4600871983243},null,null,null,null,"2008-12-20",{"$f":"VLOOKUP(G528,'RWH 10-yr Simulation'!$A$11:$N$3662,11)","v":1041.8074946057318},null,null,null,null,"2009-12-05",{"$f":"VLOOKUP(M528,'RWH 10-yr Simulation'!$A$11:$N$3662,11)","v":219.83860571684292}]
["2008-02-21",{"$f":"VLOOKUP(A529,'RWH 10-yr Simulation'!$A$11:$N$3662,11)","v":1057.4600871983243},null,null,null,null,"2008-12-21",{"$f":"VLOOKUP(G529,'RWH 10-yr Simulation'!$A$11:$N$3662,11)","v":1057.4600871983243},null,null,null,null,"2009-12-06",{"$f":"VLOOKUP(M529,'RWH 10-yr Simulation'!$A$11:$N$3662,11)","v":359.71460571684293}]
["2008-02-22",{"$f":"VLOOKUP(A530,'RWH 10-yr Simulation'!$A$11:$N$3662,11)","v":1057.4600871983243},null,null,null,null,"2008-12-22",{"$f":"VLOOKUP(G530,'RWH 10-yr Simulation'!$A$11:$N$3662,11)","v":1057.4600871983243},null,null,null,null,"2009-12-09",{"$f":"VLOOKUP(M530,'RWH 10-yr Simulation'!$A$11:$N$3662,11)","v":538.22342053165789}]
["2008-02-23",{"$f":"VLOOKUP(A531,'RWH 10-yr Simulation'!$A$11:$N$3662,11)","v":1057.4600871983243},null,null,null,null,"2008-12-23",{"$f":"VLOOKUP(G531,'RWH 10-yr Simulation'!$A$11:$N$3662,11)","v":1057.4600871983243},null,null,null,null,"2009-12-10",{"$f":"VLOOKUP(M531,'RWH 10-yr Simulation'!$A$11:$N$3662,11)","v":563.65542053165791}]
["2008-03-12",{"$f":"VLOOKUP(A532,'RWH 10-yr Simulation'!$A$11:$N$3662,11)","v":470.48786497610217},null,null,null,null,"2008-12-24",{"$f":"VLOOKUP(G532,'RWH 10-yr Simulation'!$A$11:$N$3662,11)","v":1057.4600871983243},null,null,null,null,"2009-12-11",{"$f":"VLOOKUP(M532,'RWH 10-yr Simulation'!$A$11:$N$3662,11)","v":919.70342053165791}]
["2008-03-13",{"$f":"VLOOKUP(A533,'RWH 10-yr Simulation'!$A$11:$N$3662,11)","v":559.49986497610212},null,null,null,null,"2009-01-01",{"$f":"VLOOKUP(G533,'RWH 10-yr Simulation'!$A$11:$N$3662,11)","v":947.89193905017646},null,null,null,null,"2009-12-12",{"$f":"VLOOKUP(M533,'RWH 10-yr Simulation'!$A$11:$N$3662,11)","v":1057.4600871983243}]
["2008-03-14",{"$f":"VLOOKUP(A534,'RWH 10-yr Simulation'!$A$11:$N$3662,11)","v":591.76082793906505},null,null,null,null,"2009-01-20",{"$f":"VLOOKUP(G534,'RWH 10-yr Simulation'!$A$11:$N$3662,11)","v":775.71342053165836},null,null,null,null,"2009-12-15",{"$f":"VLOOKUP(M534,'RWH 10-yr Simulation'!$A$11:$N$3662,11)","v":1026.1549020131392}]
["2008-03-28",{"$f":"VLOOKUP(A535,'RWH 10-yr Simulation'!$A$11:$N$3662,11)","v":127.21127238350927},null,null,null,null,"2009-01-21",{"$f":"VLOOKUP(G535,'RWH 10-yr Simulation'!$A$11:$N$3662,11)","v":826.57742053165839},null,null,null,null,"2009-12-19",{"$f":"VLOOKUP(M535,'RWH 10-yr Simulation'!$A$11:$N$3662,11)","v":1010.5023094205467}]
["2008-03-29",{"$f":"VLOOKUP(A536,'RWH 10-yr Simulation'!$A$11:$N$3662,11)","v":135.67475386499075},null,null,null,null,"2009-01-22",{"$f":"VLOOKUP(G536,'RWH 10-yr Simulation'!$A$11:$N$3662,11)","v":1057.4600871983243},null,null,null,null,"2009-12-20",{"$f":"VLOOKUP(M536,'RWH 10-yr Simulation'!$A$11:$N$3662,11)","v":1018.6471983094356}]
["2008-04-21",{"$f":"VLOOKUP(A537,'RWH 10-yr Simulation'!$A$11:$N$3662,11)","v":0},null,null,null,null,"2009-01-23",{"$f":"VLOOKUP(G537,'RWH 10-yr Simulation'!$A$11:$N$3662,11)","v":1057.4600871983243},null,null,null,null,"2009-12-25",{"$f":"VLOOKUP(M537,'RWH 10-yr Simulation'!$A$11:$N$3662,11)","v":994.84971682795413}]
["2008-05-23",{"$f":"VLOOKUP(A538,'RWH 10-yr Simulation'!$A$11:$N$3662,11)","v":0},null,null,null,null,"2009-02-04",{"$f":"VLOOKUP(G538,'RWH 10-yr Simulation'!$A$11:$N$3662,11)","v":850.22253164276913},null,null,null,null,"2009-12-26",{"$f":"VLOOKUP(M538,'RWH 10-yr Simulation'!$A$11:$N$3662,11)","v":1057.4600871983243}]
["2008-08-08",{"$f":"VLOOKUP(A539,'RWH 10-yr Simulation'!$A$11:$N$3662,11)","v":0},null,null,null,null,"2009-02-05",{"$f":"VLOOKUP(G539,'RWH 10-yr Simulation'!$A$11:$N$3662,11)","v":932.87653164276912},null,null,null,null,"2009-12-28",{"$f":"VLOOKUP(M539,'RWH 10-yr Simulation'!$A$11:$N$3662,11)","v":1041.8074946057318}]
["2008-10-02",{"$f":"VLOOKUP(A540,'RWH 10-yr Simulation'!$A$11:$N$3662,11)","v":0},null,null,null,null,"2009-02-06",{"$f":"VLOOKUP(G540,'RWH 10-yr Simulation'!$A$11:$N$3662,11)","v":1057.4600871983243},null,null,null,null,"2009-12-29",{"$f":"VLOOKUP(M540,'RWH 10-yr Simulation'!$A$11:$N$3662,11)","v":1057.4600871983243}]
["2008-10-03",{"$f":"VLOOKUP(A541,'RWH 10-yr Simulation'!$A$11:$N$3662,11)","v":0},null,null,null,null,"2009-02-07",{"$f":"VLOOKUP(G541,'RWH 10-yr Simulation'!$A$11:$N$3662,11)","v":1057.4600871983243},null,null,null,null,"2009-12-31",{"$f":"VLOOKUP(M541,'RWH 10-yr Simulation'!$A$11:$N$3662,11)","v":1038.0536427538798}]
["2008-10-29",{"$f":"VLOOKUP(A542,'RWH 10-yr Simulation'!$A$11:$N$3662,11)","v":0},null,null,null,null,"2009-02-09",{"$f":"VLOOKUP(G542,'RWH 10-yr Simulation'!$A$11:$N$3662,11)","v":1033.9811983094355},null,null,null,null,"2010-01-01",{"$f":"VLOOKUP(M542,'RWH 10-yr Simulation'!$A$11:$N$3662,11)","v":1057.4600871983243}]
["2008-10-30",{"$f":"VLOOKUP(A543,'RWH 10-yr Simulation'!$A$11:$N$3662,11)","v":24.275370370370371},null,null,null,null,"2009-02-10",{"$f":"VLOOKUP(G543,'RWH 10-yr Simulation'!$A$11:$N$3662,11)","v":1057.4600871983243},null,null,null,null,"2010-01-11",{"$f":"VLOOKUP(M543,'RWH 10-yr Simulation'!$A$11:$N$3662,11)","v":912.83290201313935}]
["2008-10-31",{"$f":"VLOOKUP(A544,'RWH 10-yr Simulation'!$A$11:$N$3662,11)","v":126.00337037037039},null,null,null,null,"2009-02-12",{"$f":"VLOOKUP(G544,'RWH 10-yr Simulation'!$A$11:$N$3662,11)","v":1033.9811983094355},null,null,null,null,"2010-01-12",{"$f":"VLOOKUP(M544,'RWH 10-yr Simulation'!$A$11:$N$3662,11)","v":1057.4600871983243}]
["2008-11-01",{"$f":"VLOOKUP(A545,'RWH 10-yr Simulation'!$A$11:$N$3662,11)","v":831.74137037037042},null,null,null,null,"2009-02-13",{"$f":"VLOOKUP(G545,'RWH 10-yr Simulation'!$A$11:$N$3662,11)","v":1057.4600871983243},null,null,null,null,"2010-01-15",{"$f":"VLOOKUP(M545,'RWH 10-yr Simulation'!$A$11:$N$3662,11)","v":1026.1549020131392}]
["2008-11-02",{"$f":"VLOOKUP(A546,'RWH 10-yr Simulation'!$A$11:$N$3662,11)","v":1057.4600871983243},null,null,null,null,"2009-02-14",{"$f":"VLOOKUP(G546,'RWH 10-yr Simulation'!$A$11:$N$3662,11)","v":1057.4600871983243},null,null,null,null,"2010-01-16",{"$f":"VLOOKUP(M546,'RWH 10-yr Simulation'!$A$11:$N$3662,11)","v":1057.4600871983243}]
["2008-11-07",{"$f":"VLOOKUP(A547,'RWH 10-yr Simulation'!$A$11:$N$3662,11)","v":963.54453164276902},null,null,null,null,"2009-02-15",{"$f":"VLOOKUP(G547,'RWH 10-yr Simulation'!$A$11:$N$3662,11)","v":1057.4600871983243},null,null,null,null,"2010-01-17",{"$f":"VLOOKUP(M547,'RWH 10-yr Simulation'!$A$11:$N$3662,11)","v":1057.4600871983243}]
["2008-11-25",{"$f":"VLOOKUP(A548,'RWH 10-yr Simulation'!$A$11:$N$3662,11)","v":615.2674205316589},null,null,null,null,"2009-02-16",{"$f":"VLOOKUP(G548,'RWH 10-yr Simulation'!$A$11:$N$3662,11)","v":1057.4600871983243},null,null,null,null,"2010-01-18",{"$f":"VLOOKUP(M548,'RWH 10-yr Simulation'!$A$11:$N$3662,11)","v":1057.4600871983243}]
["2008-12-11",{"$f":"VLOOKUP(A549,'RWH 10-yr Simulation'!$A$11:$N$3662,11)","v":463.6173464575852},null,null,null,null,"2009-02-21",{"$f":"VLOOKUP(G549,'RWH 10-yr Simulation'!$A$11:$N$3662,11)","v":963.54453164276902},null,null,null,null,"2010-01-19",{"$f":"VLOOKUP(M549,'RWH 10-yr Simulation'!$A$11:$N$3662,11)","v":1057.4600871983243}]
["2008-12-13",{"$f":"VLOOKUP(A550,'RWH 10-yr Simulation'!$A$11:$N$3662,11)","v":456.10964275388147},null,null,null,null,"2009-02-22",{"$f":"VLOOKUP(G550,'RWH 10-yr Simulation'!$A$11:$N$3662,11)","v":1057.4600871983243},null,null,null,null,"2010-01-20",{"$f":"VLOOKUP(M550,'RWH 10-yr Simulation'!$A$11:$N$3662,11)","v":1057.4600871983243}]
["2008-12-14",{"$f":"VLOOKUP(A551,'RWH 10-yr Simulation'!$A$11:$N$3662,11)","v":894.81164275388153},null,null,null,null,"2009-02-23",{"$f":"VLOOKUP(G551,'RWH 10-yr Simulation'!$A$11:$N$3662,11)","v":1057.4600871983243},null,null,null,null,"2010-01-21",{"$f":"VLOOKUP(M551,'RWH 10-yr Simulation'!$A$11:$N$3662,11)","v":1057.4600871983243}]
["2008-12-15",{"$f":"VLOOKUP(A552,'RWH 10-yr Simulation'!$A$11:$N$3662,11)","v":1028.3296427538814},null,null,null,null,"2009-02-24",{"$f":"VLOOKUP(G552,'RWH 10-yr Simulation'!$A$11:$N$3662,11)","v":1057.4600871983243},null,null,null,null,"2010-01-22",{"$f":"VLOOKUP(M552,'RWH 10-yr Simulation'!$A$11:$N$3662,11)","v":1057.4600871983243}]
["2008-12-18",{"$f":"VLOOKUP(A553,'RWH 10-yr Simulation'!$A$11:$N$3662,11)","v":1026.1549020131392},null,null,null,null,"2009-02-25",{"$f":"VLOOKUP(G553,'RWH 10-yr Simulation'!$A$11:$N$3662,11)","v":1057.4600871983243},null,null,null,null,"2010-01-23",{"$f":"VLOOKUP(M553,'RWH 10-yr Simulation'!$A$11:$N$3662,11)","v":1057.4600871983243}]
["2008-12-20",{"$f":"VLOOKUP(A554,'RWH 10-yr Simulation'!$A$11:$N$3662,11)","v":1041.8074946057318},null,null,null,null,"2009-02-28",{"$f":"VLOOKUP(G554,'RWH 10-yr Simulation'!$A$11:$N$3662,11)","v":1010.5023094205467},null,null,null,null,"2010-01-24",{"$f":"VLOOKUP(M554,'RWH 10-yr Simulation'!$A$11:$N$3662,11)","v":1057.4600871983243}]
["2008-12-21",{"$f":"VLOOKUP(A555,'RWH 10-yr Simulation'!$A$11:$N$3662,11)","v":1057.4600871983243},null,null,null,null,"2009-03-01",{"$f":"VLOOKUP(G555,'RWH 10-yr Simulation'!$A$11:$N$3662,11)","v":1057.4600871983243},null,null,null,null,"2010-01-25",{"$f":"VLOOKUP(M555,'RWH 10-yr Simulation'!$A$11:$N$3662,11)","v":1057.4600871983243}]
["2008-12-22",{"$f":"VLOOKUP(A556,'RWH 10-yr Simulation'!$A$11:$N$3662,11)","v":1057.4600871983243},null,null,null,null,"2009-03-02",{"$f":"VLOOKUP(G556,'RWH 10-yr Simulation'!$A$11:$N$3662,11)","v":1057.4600871983243},null,null,null,null,"2010-01-28",{"$f":"VLOOKUP(M556,'RWH 10-yr Simulation'!$A$11:$N$3662,11)","v":1026.1549020131392}]
["2008-12-23",{"$f":"VLOOKUP(A557,'RWH 10-yr Simulation'!$A$11:$N$3662,11)","v":1057.4600871983243},null,null,null,null,"2009-03-03",{"$f":"VLOOKUP(G557,'RWH 10-yr Simulation'!$A$11:$N$3662,11)","v":1057.4600871983243},null,null,null,null,"2010-01-29",{"$f":"VLOOKUP(M557,'RWH 10-yr Simulation'!$A$11:$N$3662,11)","v":1057.4600871983243}]
["2008-12-24",{"$f":"VLOOKUP(A558,'RWH 10-yr Simulation'!$A$11:$N$3662,11)","v":1057.4600871983243},null,null,null,null,"2009-03-04",{"$f":"VLOOKUP(G558,'RWH 10-yr Simulation'!$A$11:$N$3662,11)","v":1057.4600871983243},null,null,null,null,"2010-02-03",{"$f":"VLOOKUP(M558,'RWH 10-yr Simulation'!$A$11:$N$3662,11)","v":971.37082793906529}]
["2009-01-01",{"$f":"VLOOKUP(A559,'RWH 10-yr Simulation'!$A$11:$N$3662,11)","v":947.89193905017646},null,null,null,null,"2009-03-14",{"$f":"VLOOKUP(G559,'RWH 10-yr Simulation'!$A$11:$N$3662,11)","v":705.27675386499084},null,null,null,null,"2010-02-05",{"$f":"VLOOKUP(M559,'RWH 10-yr Simulation'!$A$11:$N$3662,11)","v":1033.9811983094355}]
["2009-01-20",{"$f":"VLOOKUP(A560,'RWH 10-yr Simulation'!$A$11:$N$3662,11)","v":775.71342053165836},null,null,null,null,"2009-03-15",{"$f":"VLOOKUP(G560,'RWH 10-yr Simulation'!$A$11:$N$3662,11)","v":756.14075386499087},null,null,null,null,"2010-02-07",{"$f":"VLOOKUP(M560,'RWH 10-yr Simulation'!$A$11:$N$3662,11)","v":1033.9811983094355}]
["2009-01-21",{"$f":"VLOOKUP(A561,'RWH 10-yr Simulation'!$A$11:$N$3662,11)","v":826.57742053165839},null,null,null,null,"2009-03-16",{"$f":"VLOOKUP(G561,'RWH 10-yr Simulation'!$A$11:$N$3662,11)","v":813.36275386499085},null,null,null,null,"2010-02-08",{"$f":"VLOOKUP(M561,'RWH 10-yr Simulation'!$A$11:$N$3662,11)","v":1057.4600871983243}]
["2009-01-22",{"$f":"VLOOKUP(A562,'RWH 10-yr Simulation'!$A$11:$N$3662,11)","v":1057.4600871983243},null,null,null,null,"2009-03-21",{"$f":"VLOOKUP(G562,'RWH 10-yr Simulation'!$A$11:$N$3662,11)","v":629.60408719832401},null,null,null,null,"2010-02-10",{"$f":"VLOOKUP(M562,'RWH 10-yr Simulation'!$A$11:$N$3662,11)","v":1033.9811983094355}]
["2009-01-23",{"$f":"VLOOKUP(A563,'RWH 10-yr Simulation'!$A$11:$N$3662,11)","v":1057.4600871983243},null,null,null,null,"2009-04-06",{"$f":"VLOOKUP(G563,'RWH 10-yr Simulation'!$A$11:$N$3662,11)","v":124.78719830943498},null,null,null,null,"2010-02-11",{"$f":"VLOOKUP(M563,'RWH 10-yr Simulation'!$A$11:$N$3662,11)","v":1022.4010501612873}]
["2009-02-04",{"$f":"VLOOKUP(A564,'RWH 10-yr Simulation'!$A$11:$N$3662,11)","v":850.22253164276913},null,null,null,null,"2009-04-07",{"$f":"VLOOKUP(G564,'RWH 10-yr Simulation'!$A$11:$N$3662,11)","v":264.66319830943502},null,null,null,null,"2010-02-20",{"$f":"VLOOKUP(M564,'RWH 10-yr Simulation'!$A$11:$N$3662,11)","v":869.62897608721369}]
["2009-02-05",{"$f":"VLOOKUP(A565,'RWH 10-yr Simulation'!$A$11:$N$3662,11)","v":932.87653164276912},null,null,null,null,"2009-04-08",{"$f":"VLOOKUP(G565,'RWH 10-yr Simulation'!$A$11:$N$3662,11)","v":225.69101312424982},null,null,null,null,"2010-02-22",{"$f":"VLOOKUP(M565,'RWH 10-yr Simulation'!$A$11:$N$3662,11)","v":1033.9811983094355}]
["2009-02-06",{"$f":"VLOOKUP(A566,'RWH 10-yr Simulation'!$A$11:$N$3662,11)","v":1057.4600871983243},null,null,null,null,"2009-04-30",{"$f":"VLOOKUP(G566,'RWH 10-yr Simulation'!$A$11:$N$3662,11)","v":0},null,null,null,null,"2010-02-23",{"$f":"VLOOKUP(M566,'RWH 10-yr Simulation'!$A$11:$N$3662,11)","v":1057.4600871983243}]
["2009-02-07",{"$f":"VLOOKUP(A567,'RWH 10-yr Simulation'!$A$11:$N$3662,11)","v":1057.4600871983243},null,null,null,null,"2009-05-01",{"$f":"VLOOKUP(G567,'RWH 10-yr Simulation'!$A$11:$N$3662,11)","v":146.23400000000001},null,null,null,null,"2010-02-25",{"$f":"VLOOKUP(M567,'RWH 10-yr Simulation'!$A$11:$N$3662,11)","v":1033.9811983094355}]
["2009-02-09",{"$f":"VLOOKUP(A568,'RWH 10-yr Simulation'!$A$11:$N$3662,11)","v":1033.9811983094355},null,null,null,null,"2009-05-02",{"$f":"VLOOKUP(G568,'RWH 10-yr Simulation'!$A$11:$N$3662,11)","v":135.13174074074075},null,null,null,null,"2010-02-26",{"$f":"VLOOKUP(M568,'RWH 10-yr Simulation'!$A$11:$N$3662,11)","v":1057.4600871983243}]
["2009-02-10",{"$f":"VLOOKUP(A569,'RWH 10-yr Simulation'!$A$11:$N$3662,11)","v":1057.4600871983243},null,null,null,null,"2009-05-03",{"$f":"VLOOKUP(G569,'RWH 10-yr Simulation'!$A$11:$N$3662,11)","v":147.82696296296297},null,null,null,null,"2010-03-01",{"$f":"VLOOKUP(M569,'RWH 10-yr Simulation'!$A$11:$N$3662,11)","v":994.84971682795401}]
["2009-02-12",{"$f":"VLOOKUP(A570,'RWH 10-yr Simulation'!$A$11:$N$3662,11)","v":1033.9811983094355},null,null,null,null,"2009-05-04",{"$f":"VLOOKUP(G570,'RWH 10-yr Simulation'!$A$11:$N$3662,11)","v":136.72470370370371},null,null,null,null,"2010-03-02",{"$f":"VLOOKUP(M570,'RWH 10-yr Simulation'!$A$11:$N$3662,11)","v":1057.4600871983243}]
["2009-02-13",{"$f":"VLOOKUP(A571,'RWH 10-yr Simulation'!$A$11:$N$3662,11)","v":1057.4600871983243},null,null,null,null,"2009-10-12",{"$f":"VLOOKUP(G571,'RWH 10-yr Simulation'!$A$11:$N$3662,11)","v":0},null,null,null,null,"2010-03-07",{"$f":"VLOOKUP(M571,'RWH 10-yr Simulation'!$A$11:$N$3662,11)","v":900.93416127239834}]
["2009-02-14",{"$f":"VLOOKUP(A572,'RWH 10-yr Simulation'!$A$11:$N$3662,11)","v":1057.4600871983243},null,null,null,null,"2009-10-18",{"$f":"VLOOKUP(G572,'RWH 10-yr Simulation'!$A$11:$N$3662,11)","v":881.36842053165753},null,null,null,null,"2010-03-09",{"$f":"VLOOKUP(M572,'RWH 10-yr Simulation'!$A$11:$N$3662,11)","v":950.8146797909169}]
["2009-02-15",{"$f":"VLOOKUP(A573,'RWH 10-yr Simulation'!$A$11:$N$3662,11)","v":1057.4600871983243},null,null,null,null,"2009-11-05",{"$f":"VLOOKUP(G573,'RWH 10-yr Simulation'!$A$11:$N$3662,11)","v":517.44564275387984},null,null,null,null,"2010-03-11",{"$f":"VLOOKUP(M573,'RWH 10-yr Simulation'!$A$11:$N$3662,11)","v":955.84290201313911}]
["2009-02-16",{"$f":"VLOOKUP(A574,'RWH 10-yr Simulation'!$A$11:$N$3662,11)","v":1057.4600871983243},null,null,null,null,"2009-11-13",{"$f":"VLOOKUP(G574,'RWH 10-yr Simulation'!$A$11:$N$3662,11)","v":410.31542053165771},null,null,null,null,"2010-03-23",{"$f":"VLOOKUP(M574,'RWH 10-yr Simulation'!$A$11:$N$3662,11)","v":627.01379090202784}]
["2009-02-21",{"$f":"VLOOKUP(A575,'RWH 10-yr Simulation'!$A$11:$N$3662,11)","v":963.54453164276902},null,null,null,null,"2009-11-16",{"$f":"VLOOKUP(G575,'RWH 10-yr Simulation'!$A$11:$N$3662,11)","v":395.14764275387995},null,null,null,null,"2010-03-24",{"$f":"VLOOKUP(M575,'RWH 10-yr Simulation'!$A$11:$N$3662,11)","v":647.37601312424999}]
["2009-02-22",{"$f":"VLOOKUP(A576,'RWH 10-yr Simulation'!$A$11:$N$3662,11)","v":1057.4600871983243},null,null,null,null,"2009-11-19",{"$f":"VLOOKUP(G576,'RWH 10-yr Simulation'!$A$11:$N$3662,11)","v":336.609716827954},null,null,null,null,"2010-03-28",{"$f":"VLOOKUP(M576,'RWH 10-yr Simulation'!$A$11:$N$3662,11)","v":562.24253164276843}]
["2009-02-23",{"$f":"VLOOKUP(A577,'RWH 10-yr Simulation'!$A$11:$N$3662,11)","v":1057.4600871983243},null,null,null,null,"2009-11-26",{"$f":"VLOOKUP(G577,'RWH 10-yr Simulation'!$A$11:$N$3662,11)","v":380.11838349462073},null,null,null,null,"2010-03-29",{"$f":"VLOOKUP(M577,'RWH 10-yr Simulation'!$A$11:$N$3662,11)","v":570.70601312424992}]
["2009-02-24",{"$f":"VLOOKUP(A578,'RWH 10-yr Simulation'!$A$11:$N$3662,11)","v":1057.4600871983243},null,null,null,null,"2009-12-05",{"$f":"VLOOKUP(G578,'RWH 10-yr Simulation'!$A$11:$N$3662,11)","v":219.83860571684292},null,null,null,null,"2010-03-30",{"$f":"VLOOKUP(M578,'RWH 10-yr Simulation'!$A$11:$N$3662,11)","v":685.15001312424988}]
["2009-02-25",{"$f":"VLOOKUP(A579,'RWH 10-yr Simulation'!$A$11:$N$3662,11)","v":1057.4600871983243},null,null,null,null,"2009-12-06",{"$f":"VLOOKUP(G579,'RWH 10-yr Simulation'!$A$11:$N$3662,11)","v":359.71460571684293},null,null,null,null,"2010-04-01",{"$f":"VLOOKUP(M579,'RWH 10-yr Simulation'!$A$11:$N$3662,11)","v":964.89508719832395}]
["2009-02-28",{"$f":"VLOOKUP(A580,'RWH 10-yr Simulation'!$A$11:$N$3662,11)","v":1010.5023094205467},null,null,null,null,"2009-12-09",{"$f":"VLOOKUP(G580,'RWH 10-yr Simulation'!$A$11:$N$3662,11)","v":538.22342053165789},null,null,null,null,"2010-04-03",{"$f":"VLOOKUP(M580,'RWH 10-yr Simulation'!$A$11:$N$3662,11)","v":1003.0361612723981}]
["2009-03-01",{"$f":"VLOOKUP(A581,'RWH 10-yr Simulation'!$A$11:$N$3662,11)","v":1057.4600871983243},null,null,null,null,"2009-12-10",{"$f":"VLOOKUP(G581,'RWH 10-yr Simulation'!$A$11:$N$3662,11)","v":563.65542053165791},null,null,null,null,"2010-04-04",{"$f":"VLOOKUP(M581,'RWH 10-yr Simulation'!$A$11:$N$3662,11)","v":1057.4600871983243}]
["2009-03-02",{"$f":"VLOOKUP(A582,'RWH 10-yr Simulation'!$A$11:$N$3662,11)","v":1057.4600871983243},null,null,null,null,"2009-12-11",{"$f":"VLOOKUP(G582,'RWH 10-yr Simulation'!$A$11:$N$3662,11)","v":919.70342053165791},null,null,null,null,"2010-04-10",{"$f":"VLOOKUP(M582,'RWH 10-yr Simulation'!$A$11:$N$3662,11)","v":803.10545756869476}]
["2009-03-03",{"$f":"VLOOKUP(A583,'RWH 10-yr Simulation'!$A$11:$N$3662,11)","v":1057.4600871983243},null,null,null,null,"2009-12-12",{"$f":"VLOOKUP(G583,'RWH 10-yr Simulation'!$A$11:$N$3662,11)","v":1057.4600871983243},null,null,null,null,"2010-04-11",{"$f":"VLOOKUP(M583,'RWH 10-yr Simulation'!$A$11:$N$3662,11)","v":1057.4600871983243}]
["2009-03-04",{"$f":"VLOOKUP(A584,'RWH 10-yr Simulation'!$A$11:$N$3662,11)","v":1057.4600871983243},null,null,null,null,"2009-12-15",{"$f":"VLOOKUP(G584,'RWH 10-yr Simulation'!$A$11:$N$3662,11)","v":1026.1549020131392},null,null,null,null,"2010-04-19",{"$f":"VLOOKUP(M584,'RWH 10-yr Simulation'!$A$11:$N$3662,11)","v":701.36360571684293}]
["2009-03-14",{"$f":"VLOOKUP(A585,'RWH 10-yr Simulation'!$A$11:$N$3662,11)","v":705.27675386499084},null,null,null,null,"2009-12-19",{"$f":"VLOOKUP(G585,'RWH 10-yr Simulation'!$A$11:$N$3662,11)","v":1010.5023094205467},null,null,null,null,"2010-04-20",{"$f":"VLOOKUP(M585,'RWH 10-yr Simulation'!$A$11:$N$3662,11)","v":1057.4600871983243}]
["2009-03-15",{"$f":"VLOOKUP(A586,'RWH 10-yr Simulation'!$A$11:$N$3662,11)","v":756.14075386499087},null,null,null,null,"2009-12-20",{"$f":"VLOOKUP(G586,'RWH 10-yr Simulation'!$A$11:$N$3662,11)","v":1018.6471983094356},null,null,null,null,"2010-04-26",{"$f":"VLOOKUP(M586,'RWH 10-yr Simulation'!$A$11:$N$3662,11)","v":764.13327238350951}]
["2009-03-16",{"$f":"VLOOKUP(A587,'RWH 10-yr Simulation'!$A$11:$N$3662,11)","v":813.36275386499085},null,null,null,null,"2009-12-25",{"$f":"VLOOKUP(G587,'RWH 10-yr Simulation'!$A$11:$N$3662,11)","v":994.84971682795413},null,null,null,null,"2010-04-27",{"$f":"VLOOKUP(M587,'RWH 10-yr Simulation'!$A$11:$N$3662,11)","v":840.42927238350956}]
["2009-03-21",{"$f":"VLOOKUP(A588,'RWH 10-yr Simulation'!$A$11:$N$3662,11)","v":629.60408719832401},null,null,null,null,"2009-12-26",{"$f":"VLOOKUP(G588,'RWH 10-yr Simulation'!$A$11:$N$3662,11)","v":1057.4600871983243},null,null,null,null,"2010-11-06",{"$f":"VLOOKUP(M588,'RWH 10-yr Simulation'!$A$11:$N$3662,11)","v":757.53700000000026}]
["2009-04-06",{"$f":"VLOOKUP(A589,'RWH 10-yr Simulation'!$A$11:$N$3662,11)","v":124.78719830943498},null,null,null,null,"2009-12-28",{"$f":"VLOOKUP(G589,'RWH 10-yr Simulation'!$A$11:$N$3662,11)","v":1041.8074946057318},null,null,null,null,"2010-11-08",{"$f":"VLOOKUP(M589,'RWH 10-yr Simulation'!$A$11:$N$3662,11)","v":1033.9811983094355}]
["2009-04-07",{"$f":"VLOOKUP(A590,'RWH 10-yr Simulation'!$A$11:$N$3662,11)","v":264.66319830943502},null,null,null,null,"2009-12-29",{"$f":"VLOOKUP(G590,'RWH 10-yr Simulation'!$A$11:$N$3662,11)","v":1057.4600871983243},null,null,null,null,"2010-11-09",{"$f":"VLOOKUP(M590,'RWH 10-yr Simulation'!$A$11:$N$3662,11)","v":1034.299790902028}]
["2009-04-08",{"$f":"VLOOKUP(A591,'RWH 10-yr Simulation'!$A$11:$N$3662,11)","v":225.69101312424982},null,null,null,null,"2009-12-31",{"$f":"VLOOKUP(G591,'RWH 10-yr Simulation'!$A$11:$N$3662,11)","v":1038.0536427538798},null,null,null,null,"2010-11-18",{"$f":"VLOOKUP(M591,'RWH 10-yr Simulation'!$A$11:$N$3662,11)","v":869.62897608721369}]
["2009-04-30",{"$f":"VLOOKUP(A592,'RWH 10-yr Simulation'!$A$11:$N$3662,11)","v":0},null,null,null,null,"2010-01-01",{"$f":"VLOOKUP(G592,'RWH 10-yr Simulation'!$A$11:$N$3662,11)","v":1057.4600871983243},null,null,null,null,"2010-11-19",{"$f":"VLOOKUP(M592,'RWH 10-yr Simulation'!$A$11:$N$3662,11)","v":1057.4600871983243}]
["2009-05-01",{"$f":"VLOOKUP(A593,'RWH 10-yr Simulation'!$A$11:$N$3662,11)","v":146.23400000000001},null,null,null,null,"2010-01-11",{"$f":"VLOOKUP(G593,'RWH 10-yr Simulation'!$A$11:$N$3662,11)","v":912.83290201313935},null,null,null,null,"2010-11-20",{"$f":"VLOOKUP(M593,'RWH 10-yr Simulation'!$A$11:$N$3662,11)","v":1057.4600871983243}]
["2009-05-02",{"$f":"VLOOKUP(A594,'RWH 10-yr Simulation'!$A$11:$N$3662,11)","v":135.13174074074075},null,null,null,null,"2010-01-12",{"$f":"VLOOKUP(G594,'RWH 10-yr Simulation'!$A$11:$N$3662,11)","v":1057.4600871983243},null,null,null,null,"2010-11-21",{"$f":"VLOOKUP(M594,'RWH 10-yr Simulation'!$A$11:$N$3662,11)","v":1057.4600871983243}]
["2009-05-03",{"$f":"VLOOKUP(A595,'RWH 10-yr Simulation'!$A$11:$N$3662,11)","v":147.82696296296297},null,null,null,null,"2010-01-15",{"$f":"VLOOKUP(G595,'RWH 10-yr Simulation'!$A$11:$N$3662,11)","v":1026.1549020131392},null,null,null,null,"2010-11-22",{"$f":"VLOOKUP(M595,'RWH 10-yr Simulation'!$A$11:$N$3662,11)","v":1057.4600871983243}]
["2009-05-04",{"$f":"VLOOKUP(A596,'RWH 10-yr Simulation'!$A$11:$N$3662,11)","v":136.72470370370371},null,null,null,null,"2010-01-16",{"$f":"VLOOKUP(G596,'RWH 10-yr Simulation'!$A$11:$N$3662,11)","v":1057.4600871983243},null,null,null,null,"2010-11-26",{"$f":"VLOOKUP(M596,'RWH 10-yr Simulation'!$A$11:$N$3662,11)","v":987.02342053165785}]
["2009-09-11",{"$f":"VLOOKUP(A597,'RWH 10-yr Simulation'!$A$11:$N$3662,11)","v":0},null,null,null,null,"2010-01-17",{"$f":"VLOOKUP(G597,'RWH 10-yr Simulation'!$A$11:$N$3662,11)","v":1057.4600871983243},null,null,null,null,"2010-12-01",{"$f":"VLOOKUP(M597,'RWH 10-yr Simulation'!$A$11:$N$3662,11)","v":971.37082793906529}]
["2009-09-12",{"$f":"VLOOKUP(A598,'RWH 10-yr Simulation'!$A$11:$N$3662,11)","v":0},null,null,null,null,"2010-01-18",{"$f":"VLOOKUP(G598,'RWH 10-yr Simulation'!$A$11:$N$3662,11)","v":1057.4600871983243},null,null,null,null,"2010-12-03",{"$f":"VLOOKUP(M598,'RWH 10-yr Simulation'!$A$11:$N$3662,11)","v":963.86312423536162}]
["2009-10-12",{"$f":"VLOOKUP(A599,'RWH 10-yr Simulation'!$A$11:$N$3662,11)","v":0},null,null,null,null,"2010-01-19",{"$f":"VLOOKUP(G599,'RWH 10-yr Simulation'!$A$11:$N$3662,11)","v":1057.4600871983243},null,null,null,null,"2010-12-04",{"$f":"VLOOKUP(M599,'RWH 10-yr Simulation'!$A$11:$N$3662,11)","v":972.00801312425051}]
["2009-10-18",{"$f":"VLOOKUP(A600,'RWH 10-yr Simulation'!$A$11:$N$3662,11)","v":881.36842053165753},null,null,null,null,"2010-01-20",{"$f":"VLOOKUP(G600,'RWH 10-yr Simulation'!$A$11:$N$3662,11)","v":1057.4600871983243},null,null,null,null,"2010-12-05",{"$f":"VLOOKUP(M600,'RWH 10-yr Simulation'!$A$11:$N$3662,11)","v":1057.4600871983243}]
["2009-11-05",{"$f":"VLOOKUP(A601,'RWH 10-yr Simulation'!$A$11:$N$3662,11)","v":517.44564275387984},null,null,null,null,"2010-01-21",{"$f":"VLOOKUP(G601,'RWH 10-yr Simulation'!$A$11:$N$3662,11)","v":1057.4600871983243},null,null,null,null,"2010-12-07",{"$f":"VLOOKUP(M601,'RWH 10-yr Simulation'!$A$11:$N$3662,11)","v":1041.8074946057318}]
["2009-11-13",{"$f":"VLOOKUP(A602,'RWH 10-yr Simulation'!$A$11:$N$3662,11)","v":410.31542053165771},null,null,null,null,"2010-01-22",{"$f":"VLOOKUP(G602,'RWH 10-yr Simulation'!$A$11:$N$3662,11)","v":1057.4600871983243},null,null,null,null,"2010-12-08",{"$f":"VLOOKUP(M602,'RWH 10-yr Simulation'!$A$11:$N$3662,11)","v":1057.4600871983243}]
["2009-11-16",{"$f":"VLOOKUP(A603,'RWH 10-yr Simulation'!$A$11:$N$3662,11)","v":395.14764275387995},null,null,null,null,"2010-01-23",{"$f":"VLOOKUP(G603,'RWH 10-yr Simulation'!$A$11:$N$3662,11)","v":1057.4600871983243},null,null,null,null,"2010-12-09",{"$f":"VLOOKUP(M603,'RWH 10-yr Simulation'!$A$11:$N$3662,11)","v":1053.7062353464723}]
["2009-11-19",{"$f":"VLOOKUP(A604,'RWH 10-yr Simulation'!$A$11:$N$3662,11)","v":336.609716827954},null,null,null,null,"2010-01-24",{"$f":"VLOOKUP(G604,'RWH 10-yr Simulation'!$A$11:$N$3662,11)","v":1057.4600871983243},null,null,null,null,"2010-12-13",{"$f":"VLOOKUP(M604,'RWH 10-yr Simulation'!$A$11:$N$3662,11)","v":1010.5023094205467}]
["2009-11-26",{"$f":"VLOOKUP(A605,'RWH 10-yr Simulation'!$A$11:$N$3662,11)","v":380.11838349462073},null,null,null,null,"2010-01-25",{"$f":"VLOOKUP(G605,'RWH 10-yr Simulation'!$A$11:$N$3662,11)","v":1057.4600871983243},null,null,null,null,"2010-12-15",{"$f":"VLOOKUP(M605,'RWH 10-yr Simulation'!$A$11:$N$3662,11)","v":1041.8074946057318}]
["2009-12-05",{"$f":"VLOOKUP(A606,'RWH 10-yr Simulation'!$A$11:$N$3662,11)","v":219.83860571684292},null,null,null,null,"2010-01-28",{"$f":"VLOOKUP(G606,'RWH 10-yr Simulation'!$A$11:$N$3662,11)","v":1026.1549020131392},null,null,null,null,"2010-12-16",{"$f":"VLOOKUP(M606,'RWH 10-yr Simulation'!$A$11:$N$3662,11)","v":1049.9523834946206}]
["2009-12-06",{"$f":"VLOOKUP(A607,'RWH 10-yr Simulation'!$A$11:$N$3662,11)","v":359.71460571684293},null,null,null,null,"2010-01-29",{"$f":"VLOOKUP(G607,'RWH 10-yr Simulation'!$A$11:$N$3662,11)","v":1057.4600871983243},null,null,null,null,"2010-12-17",{"$f":"VLOOKUP(M607,'RWH 10-yr Simulation'!$A$11:$N$3662,11)","v":1057.4600871983243}]
["2009-12-09",{"$f":"VLOOKUP(A608,'RWH 10-yr Simulation'!$A$11:$N$3662,11)","v":538.22342053165789},null,null,null,null,"2010-02-03",{"$f":"VLOOKUP(G608,'RWH 10-yr Simulation'!$A$11:$N$3662,11)","v":971.37082793906529},null,null,null,null,"2010-12-18",{"$f":"VLOOKUP(M608,'RWH 10-yr Simulation'!$A$11:$N$3662,11)","v":1057.4600871983243}]
["2009-12-10",{"$f":"VLOOKUP(A609,'RWH 10-yr Simulation'!$A$11:$N$3662,11)","v":563.65542053165791},null,null,null,null,"2010-02-05",{"$f":"VLOOKUP(G609,'RWH 10-yr Simulation'!$A$11:$N$3662,11)","v":1033.9811983094355},null,null,null,null,"2010-12-19",{"$f":"VLOOKUP(M609,'RWH 10-yr Simulation'!$A$11:$N$3662,11)","v":1057.4600871983243}]
["2009-12-11",{"$f":"VLOOKUP(A610,'RWH 10-yr Simulation'!$A$11:$N$3662,11)","v":919.70342053165791},null,null,null,null,"2010-02-07",{"$f":"VLOOKUP(G610,'RWH 10-yr Simulation'!$A$11:$N$3662,11)","v":1033.9811983094355},null,null,null,null,"2010-12-20",{"$f":"VLOOKUP(M610,'RWH 10-yr Simulation'!$A$11:$N$3662,11)","v":1057.4600871983243}]
["2009-12-12",{"$f":"VLOOKUP(A611,'RWH 10-yr Simulation'!$A$11:$N$3662,11)","v":1057.4600871983243},null,null,null,null,"2010-02-08",{"$f":"VLOOKUP(G611,'RWH 10-yr Simulation'!$A$11:$N$3662,11)","v":1057.4600871983243},null,null,null,null,"2010-12-21",{"$f":"VLOOKUP(M611,'RWH 10-yr Simulation'!$A$11:$N$3662,11)","v":1057.4600871983243}]
["2009-12-15",{"$f":"VLOOKUP(A612,'RWH 10-yr Simulation'!$A$11:$N$3662,11)","v":1026.1549020131392},null,null,null,null,"2010-02-10",{"$f":"VLOOKUP(G612,'RWH 10-yr Simulation'!$A$11:$N$3662,11)","v":1033.9811983094355},null,null,null,null,"2010-12-24",{"$f":"VLOOKUP(M612,'RWH 10-yr Simulation'!$A$11:$N$3662,11)","v":1026.1549020131392}]
["2009-12-19",{"$f":"VLOOKUP(A613,'RWH 10-yr Simulation'!$A$11:$N$3662,11)","v":1010.5023094205467},null,null,null,null,"2010-02-11",{"$f":"VLOOKUP(G613,'RWH 10-yr Simulation'!$A$11:$N$3662,11)","v":1022.4010501612873},null,null,null,null,"2010-12-25",{"$f":"VLOOKUP(M613,'RWH 10-yr Simulation'!$A$11:$N$3662,11)","v":1057.4600871983243}]
["2009-12-20",{"$f":"VLOOKUP(A614,'RWH 10-yr Simulation'!$A$11:$N$3662,11)","v":1018.6471983094356},null,null,null,null,"2010-02-20",{"$f":"VLOOKUP(G614,'RWH 10-yr Simulation'!$A$11:$N$3662,11)","v":869.62897608721369},null,null,null,null,"2010-12-27",{"$f":"VLOOKUP(M614,'RWH 10-yr Simulation'!$A$11:$N$3662,11)","v":1041.8074946057318}]
["2009-12-25",{"$f":"VLOOKUP(A615,'RWH 10-yr Simulation'!$A$11:$N$3662,11)","v":994.84971682795413},null,null,null,null,"2010-02-22",{"$f":"VLOOKUP(G615,'RWH 10-yr Simulation'!$A$11:$N$3662,11)","v":1033.9811983094355},null,null,null,null,"2010-12-28",{"$f":"VLOOKUP(M615,'RWH 10-yr Simulation'!$A$11:$N$3662,11)","v":1057.4600871983243}]
["2009-12-26",{"$f":"VLOOKUP(A616,'RWH 10-yr Simulation'!$A$11:$N$3662,11)","v":1057.4600871983243},null,null,null,null,"2010-02-23",{"$f":"VLOOKUP(G616,'RWH 10-yr Simulation'!$A$11:$N$3662,11)","v":1057.4600871983243}]
["2009-12-28",{"$f":"VLOOKUP(A617,'RWH 10-yr Simulation'!$A$11:$N$3662,11)","v":1041.8074946057318},null,null,null,null,"2010-02-25",{"$f":"VLOOKUP(G617,'RWH 10-yr Simulation'!$A$11:$N$3662,11)","v":1033.9811983094355}]
["2009-12-29",{"$f":"VLOOKUP(A618,'RWH 10-yr Simulation'!$A$11:$N$3662,11)","v":1057.4600871983243},null,null,null,null,"2010-02-26",{"$f":"VLOOKUP(G618,'RWH 10-yr Simulation'!$A$11:$N$3662,11)","v":1057.4600871983243}]
["2009-12-31",{"$f":"VLOOKUP(A619,'RWH 10-yr Simulation'!$A$11:$N$3662,11)","v":1038.0536427538798},null,null,null,null,"2010-03-01",{"$f":"VLOOKUP(G619,'RWH 10-yr Simulation'!$A$11:$N$3662,11)","v":994.84971682795401}]
["2010-01-01",{"$f":"VLOOKUP(A620,'RWH 10-yr Simulation'!$A$11:$N$3662,11)","v":1057.4600871983243},null,null,null,null,"2010-03-02",{"$f":"VLOOKUP(G620,'RWH 10-yr Simulation'!$A$11:$N$3662,11)","v":1057.4600871983243}]
["2010-01-11",{"$f":"VLOOKUP(A621,'RWH 10-yr Simulation'!$A$11:$N$3662,11)","v":912.83290201313935},null,null,null,null,"2010-03-07",{"$f":"VLOOKUP(G621,'RWH 10-yr Simulation'!$A$11:$N$3662,11)","v":900.93416127239834}]
["2010-01-12",{"$f":"VLOOKUP(A622,'RWH 10-yr Simulation'!$A$11:$N$3662,11)","v":1057.4600871983243},null,null,null,null,"2010-03-09",{"$f":"VLOOKUP(G622,'RWH 10-yr Simulation'!$A$11:$N$3662,11)","v":950.8146797909169}]
["2010-01-15",{"$f":"VLOOKUP(A623,'RWH 10-yr Simulation'!$A$11:$N$3662,11)","v":1026.1549020131392},null,null,null,null,"2010-03-11",{"$f":"VLOOKUP(G623,'RWH 10-yr Simulation'!$A$11:$N$3662,11)","v":955.84290201313911}]
["2010-01-16",{"$f":"VLOOKUP(A624,'RWH 10-yr Simulation'!$A$11:$N$3662,11)","v":1057.4600871983243},null,null,null,null,"2010-03-23",{"$f":"VLOOKUP(G624,'RWH 10-yr Simulation'!$A$11:$N$3662,11)","v":627.01379090202784}]
["2010-01-17",{"$f":"VLOOKUP(A625,'RWH 10-yr Simulation'!$A$11:$N$3662,11)","v":1057.4600871983243},null,null,null,null,"2010-03-24",{"$f":"VLOOKUP(G625,'RWH 10-yr Simulation'!$A$11:$N$3662,11)","v":647.37601312424999}]
["2010-01-18",{"$f":"VLOOKUP(A626,'RWH 10-yr Simulation'!$A$11:$N$3662,11)","v":1057.4600871983243},null,null,null,null,"2010-03-28",{"$f":"VLOOKUP(G626,'RWH 10-yr Simulation'!$A$11:$N$3662,11)","v":562.24253164276843}]
["2010-01-19",{"$f":"VLOOKUP(A627,'RWH 10-yr Simulation'!$A$11:$N$3662,11)","v":1057.4600871983243},null,null,null,null,"2010-03-29",{"$f":"VLOOKUP(G627,'RWH 10-yr Simulation'!$A$11:$N$3662,11)","v":570.70601312424992}]
["2010-01-20",{"$f":"VLOOKUP(A628,'RWH 10-yr Simulation'!$A$11:$N$3662,11)","v":1057.4600871983243},null,null,null,null,"2010-03-30",{"$f":"VLOOKUP(G628,'RWH 10-yr Simulation'!$A$11:$N$3662,11)","v":685.15001312424988}]
["2010-01-21",{"$f":"VLOOKUP(A629,'RWH 10-yr Simulation'!$A$11:$N$3662,11)","v":1057.4600871983243},null,null,null,null,"2010-04-01",{"$f":"VLOOKUP(G629,'RWH 10-yr Simulation'!$A$11:$N$3662,11)","v":964.89508719832395}]
["2010-01-22",{"$f":"VLOOKUP(A630,'RWH 10-yr Simulation'!$A$11:$N$3662,11)","v":1057.4600871983243},null,null,null,null,"2010-04-03",{"$f":"VLOOKUP(G630,'RWH 10-yr Simulation'!$A$11:$N$3662,11)","v":1003.0361612723981}]
["2010-01-23",{"$f":"VLOOKUP(A631,'RWH 10-yr Simulation'!$A$11:$N$3662,11)","v":1057.4600871983243},null,null,null,null,"2010-04-04",{"$f":"VLOOKUP(G631,'RWH 10-yr Simulation'!$A$11:$N$3662,11)","v":1057.4600871983243}]
["2010-01-24",{"$f":"VLOOKUP(A632,'RWH 10-yr Simulation'!$A$11:$N$3662,11)","v":1057.4600871983243},null,null,null,null,"2010-04-10",{"$f":"VLOOKUP(G632,'RWH 10-yr Simulation'!$A$11:$N$3662,11)","v":803.10545756869476}]
["2010-01-25",{"$f":"VLOOKUP(A633,'RWH 10-yr Simulation'!$A$11:$N$3662,11)","v":1057.4600871983243},null,null,null,null,"2010-04-11",{"$f":"VLOOKUP(G633,'RWH 10-yr Simulation'!$A$11:$N$3662,11)","v":1057.4600871983243}]
["2010-01-28",{"$f":"VLOOKUP(A634,'RWH 10-yr Simulation'!$A$11:$N$3662,11)","v":1026.1549020131392},null,null,null,null,"2010-04-19",{"$f":"VLOOKUP(G634,'RWH 10-yr Simulation'!$A$11:$N$3662,11)","v":701.36360571684293}]
["2010-01-29",{"$f":"VLOOKUP(A635,'RWH 10-yr Simulation'!$A$11:$N$3662,11)","v":1057.4600871983243},null,null,null,null,"2010-04-20",{"$f":"VLOOKUP(G635,'RWH 10-yr Simulation'!$A$11:$N$3662,11)","v":1057.4600871983243}]
["2010-02-03",{"$f":"VLOOKUP(A636,'RWH 10-yr Simulation'!$A$11:$N$3662,11)","v":971.37082793906529},null,null,null,null,"2010-04-26",{"$f":"VLOOKUP(G636,'RWH 10-yr Simulation'!$A$11:$N$3662,11)","v":764.13327238350951}]
["2010-02-05",{"$f":"VLOOKUP(A637,'RWH 10-yr Simulation'!$A$11:$N$3662,11)","v":1033.9811983094355},null,null,null,null,"2010-04-27",{"$f":"VLOOKUP(G637,'RWH 10-yr Simulation'!$A$11:$N$3662,11)","v":840.42927238350956}]
["2010-02-07",{"$f":"VLOOKUP(A638,'RWH 10-yr Simulation'!$A$11:$N$3662,11)","v":1033.9811983094355},null,null,null,null,"2010-05-09",{"$f":"VLOOKUP(G638,'RWH 10-yr Simulation'!$A$11:$N$3662,11)","v":324.8564205316577}]
["2010-02-08",{"$f":"VLOOKUP(A639,'RWH 10-yr Simulation'!$A$11:$N$3662,11)","v":1057.4600871983243},null,null,null,null,"2010-05-16",{"$f":"VLOOKUP(G639,'RWH 10-yr Simulation'!$A$11:$N$3662,11)","v":106.19108719832424}]
["2010-02-10",{"$f":"VLOOKUP(A640,'RWH 10-yr Simulation'!$A$11:$N$3662,11)","v":1033.9811983094355},null,null,null,null,"2010-05-17",{"$f":"VLOOKUP(G640,'RWH 10-yr Simulation'!$A$11:$N$3662,11)","v":246.06708719832426}]
["2010-02-11",{"$f":"VLOOKUP(A641,'RWH 10-yr Simulation'!$A$11:$N$3662,11)","v":1022.4010501612873},null,null,null,null,"2010-05-24",{"$f":"VLOOKUP(G641,'RWH 10-yr Simulation'!$A$11:$N$3662,11)","v":0}]
["2010-02-20",{"$f":"VLOOKUP(A642,'RWH 10-yr Simulation'!$A$11:$N$3662,11)","v":869.62897608721369},null,null,null,null,"2010-05-25",{"$f":"VLOOKUP(G642,'RWH 10-yr Simulation'!$A$11:$N$3662,11)","v":139.876}]
["2010-02-22",{"$f":"VLOOKUP(A643,'RWH 10-yr Simulation'!$A$11:$N$3662,11)","v":1033.9811983094355},null,null,null,null,"2010-05-26",{"$f":"VLOOKUP(G643,'RWH 10-yr Simulation'!$A$11:$N$3662,11)","v":93.077518518518502}]
["2010-02-23",{"$f":"VLOOKUP(A644,'RWH 10-yr Simulation'!$A$11:$N$3662,11)","v":1057.4600871983243},null,null,null,null,"2010-10-02",{"$f":"VLOOKUP(G644,'RWH 10-yr Simulation'!$A$11:$N$3662,11)","v":0}]
["2010-02-25",{"$f":"VLOOKUP(A645,'RWH 10-yr Simulation'!$A$11:$N$3662,11)","v":1033.9811983094355},null,null,null,null,"2010-10-16",{"$f":"VLOOKUP(G645,'RWH 10-yr Simulation'!$A$11:$N$3662,11)","v":0}]
["2010-02-26",{"$f":"VLOOKUP(A646,'RWH 10-yr Simulation'!$A$11:$N$3662,11)","v":1057.4600871983243},null,null,null,null,"2010-10-21",{"$f":"VLOOKUP(G646,'RWH 10-yr Simulation'!$A$11:$N$3662,11)","v":0}]
["2010-03-01",{"$f":"VLOOKUP(A647,'RWH 10-yr Simulation'!$A$11:$N$3662,11)","v":994.84971682795401},null,null,null,null,"2010-10-22",{"$f":"VLOOKUP(G647,'RWH 10-yr Simulation'!$A$11:$N$3662,11)","v":63.580000000000005}]
["2010-03-02",{"$f":"VLOOKUP(A648,'RWH 10-yr Simulation'!$A$11:$N$3662,11)","v":1057.4600871983243},null,null,null,null,"2010-10-23",{"$f":"VLOOKUP(G648,'RWH 10-yr Simulation'!$A$11:$N$3662,11)","v":336.97400000000005}]
["2010-03-07",{"$f":"VLOOKUP(A649,'RWH 10-yr Simulation'!$A$11:$N$3662,11)","v":900.93416127239834},null,null,null,null,"2010-10-28",{"$f":"VLOOKUP(G649,'RWH 10-yr Simulation'!$A$11:$N$3662,11)","v":583.93866666666668}]
["2010-03-09",{"$f":"VLOOKUP(A650,'RWH 10-yr Simulation'!$A$11:$N$3662,11)","v":950.8146797909169},null,null,null,null,"2010-10-29",{"$f":"VLOOKUP(G650,'RWH 10-yr Simulation'!$A$11:$N$3662,11)","v":863.69066666666674}]
["2010-03-11",{"$f":"VLOOKUP(A651,'RWH 10-yr Simulation'!$A$11:$N$3662,11)","v":955.84290201313911},null,null,null,null,"2010-11-06",{"$f":"VLOOKUP(G651,'RWH 10-yr Simulation'!$A$11:$N$3662,11)","v":757.53700000000026}]
["2010-03-23",{"$f":"VLOOKUP(A652,'RWH 10-yr Simulation'!$A$11:$N$3662,11)","v":627.01379090202784},null,null,null,null,"2010-11-08",{"$f":"VLOOKUP(G652,'RWH 10-yr Simulation'!$A$11:$N$3662,11)","v":1033.9811983094355}]
["2010-03-24",{"$f":"VLOOKUP(A653,'RWH 10-yr Simulation'!$A$11:$N$3662,11)","v":647.37601312424999},null,null,null,null,"2010-11-09",{"$f":"VLOOKUP(G653,'RWH 10-yr Simulation'!$A$11:$N$3662,11)","v":1034.299790902028}]
["2010-03-28",{"$f":"VLOOKUP(A654,'RWH 10-yr Simulation'!$A$11:$N$3662,11)","v":562.24253164276843},null,null,null,null,"2010-11-18",{"$f":"VLOOKUP(G654,'RWH 10-yr Simulation'!$A$11:$N$3662,11)","v":869.62897608721369}]
["2010-03-29",{"$f":"VLOOKUP(A655,'RWH 10-yr Simulation'!$A$11:$N$3662,11)","v":570.70601312424992},null,null,null,null,"2010-11-19",{"$f":"VLOOKUP(G655,'RWH 10-yr Simulation'!$A$11:$N$3662,11)","v":1057.4600871983243}]
["2010-03-30",{"$f":"VLOOKUP(A656,'RWH 10-yr Simulation'!$A$11:$N$3662,11)","v":685.15001312424988},null,null,null,null,"2010-11-20",{"$f":"VLOOKUP(G656,'RWH 10-yr Simulation'!$A$11:$N$3662,11)","v":1057.4600871983243}]
["2010-04-01",{"$f":"VLOOKUP(A657,'RWH 10-yr Simulation'!$A$11:$N$3662,11)","v":964.89508719832395},null,null,null,null,"2010-11-21",{"$f":"VLOOKUP(G657,'RWH 10-yr Simulation'!$A$11:$N$3662,11)","v":1057.4600871983243}]
["2010-04-03",{"$f":"VLOOKUP(A658,'RWH 10-yr Simulation'!$A$11:$N$3662,11)","v":1003.0361612723981},null,null,null,null,"2010-11-22",{"$f":"VLOOKUP(G658,'RWH 10-yr Simulation'!$A$11:$N$3662,11)","v":1057.4600871983243}]
["2010-04-04",{"$f":"VLOOKUP(A659,'RWH 10-yr Simulation'!$A$11:$N$3662,11)","v":1057.4600871983243},null,null,null,null,"2010-11-26",{"$f":"VLOOKUP(G659,'RWH 10-yr Simulation'!$A$11:$N$3662,11)","v":987.02342053165785}]
["2010-04-10",{"$f":"VLOOKUP(A660,'RWH 10-yr Simulation'!$A$11:$N$3662,11)","v":803.10545756869476},null,null,null,null,"2010-12-01",{"$f":"VLOOKUP(G660,'RWH 10-yr Simulation'!$A$11:$N$3662,11)","v":971.37082793906529}]
["2010-04-11",{"$f":"VLOOKUP(A661,'RWH 10-yr Simulation'!$A$11:$N$3662,11)","v":1057.4600871983243},null,null,null,null,"2010-12-03",{"$f":"VLOOKUP(G661,'RWH 10-yr Simulation'!$A$11:$N$3662,11)","v":963.86312423536162}]
["2010-04-19",{"$f":"VLOOKUP(A662,'RWH 10-yr Simulation'!$A$11:$N$3662,11)","v":701.36360571684293},null,null,null,null,"2010-12-04",{"$f":"VLOOKUP(G662,'RWH 10-yr Simulation'!$A$11:$N$3662,11)","v":972.00801312425051}]
["2010-04-20",{"$f":"VLOOKUP(A663,'RWH 10-yr Simulation'!$A$11:$N$3662,11)","v":1057.4600871983243},null,null,null,null,"2010-12-05",{"$f":"VLOOKUP(G663,'RWH 10-yr Simulation'!$A$11:$N$3662,11)","v":1057.4600871983243}]
["2010-04-26",{"$f":"VLOOKUP(A664,'RWH 10-yr Simulation'!$A$11:$N$3662,11)","v":764.13327238350951},null,null,null,null,"2010-12-07",{"$f":"VLOOKUP(G664,'RWH 10-yr Simulation'!$A$11:$N$3662,11)","v":1041.8074946057318}]
["2010-04-27",{"$f":"VLOOKUP(A665,'RWH 10-yr Simulation'!$A$11:$N$3662,11)","v":840.42927238350956},null,null,null,null,"2010-12-08",{"$f":"VLOOKUP(G665,'RWH 10-yr Simulation'!$A$11:$N$3662,11)","v":1057.4600871983243}]
["2010-05-09",{"$f":"VLOOKUP(A666,'RWH 10-yr Simulation'!$A$11:$N$3662,11)","v":324.8564205316577},null,null,null,null,"2010-12-09",{"$f":"VLOOKUP(G666,'RWH 10-yr Simulation'!$A$11:$N$3662,11)","v":1053.7062353464723}]
["2010-05-16",{"$f":"VLOOKUP(A667,'RWH 10-yr Simulation'!$A$11:$N$3662,11)","v":106.19108719832424},null,null,null,null,"2010-12-13",{"$f":"VLOOKUP(G667,'RWH 10-yr Simulation'!$A$11:$N$3662,11)","v":1010.5023094205467}]
["2010-05-17",{"$f":"VLOOKUP(A668,'RWH 10-yr Simulation'!$A$11:$N$3662,11)","v":246.06708719832426},null,null,null,null,"2010-12-15",{"$f":"VLOOKUP(G668,'RWH 10-yr Simulation'!$A$11:$N$3662,11)","v":1041.8074946057318}]
["2010-05-24",{"$f":"VLOOKUP(A669,'RWH 10-yr Simulation'!$A$11:$N$3662,11)","v":0},null,null,null,null,"2010-12-16",{"$f":"VLOOKUP(G669,'RWH 10-yr Simulation'!$A$11:$N$3662,11)","v":1049.9523834946206}]
["2010-05-25",{"$f":"VLOOKUP(A670,'RWH 10-yr Simulation'!$A$11:$N$3662,11)","v":139.876},null,null,null,null,"2010-12-17",{"$f":"VLOOKUP(G670,'RWH 10-yr Simulation'!$A$11:$N$3662,11)","v":1057.4600871983243}]
["2010-05-26",{"$f":"VLOOKUP(A671,'RWH 10-yr Simulation'!$A$11:$N$3662,11)","v":93.077518518518502},null,null,null,null,"2010-12-18",{"$f":"VLOOKUP(G671,'RWH 10-yr Simulation'!$A$11:$N$3662,11)","v":1057.4600871983243}]
["2010-06-01",{"$f":"VLOOKUP(A672,'RWH 10-yr Simulation'!$A$11:$N$3662,11)","v":0},null,null,null,null,"2010-12-19",{"$f":"VLOOKUP(G672,'RWH 10-yr Simulation'!$A$11:$N$3662,11)","v":1057.4600871983243}]
["2010-06-03",{"$f":"VLOOKUP(A673,'RWH 10-yr Simulation'!$A$11:$N$3662,11)","v":0},null,null,null,null,"2010-12-20",{"$f":"VLOOKUP(G673,'RWH 10-yr Simulation'!$A$11:$N$3662,11)","v":1057.4600871983243}]
["2010-06-23",{"$f":"VLOOKUP(A674,'RWH 10-yr Simulation'!$A$11:$N$3662,11)","v":0},null,null,null,null,"2010-12-21",{"$f":"VLOOKUP(G674,'RWH 10-yr Simulation'!$A$11:$N$3662,11)","v":1057.4600871983243}]
["2010-06-24",{"$f":"VLOOKUP(A675,'RWH 10-yr Simulation'!$A$11:$N$3662,11)","v":0},null,null,null,null,"2010-12-24",{"$f":"VLOOKUP(G675,'RWH 10-yr Simulation'!$A$11:$N$3662,11)","v":1026.1549020131392}]
["2010-09-07",{"$f":"VLOOKUP(A676,'RWH 10-yr Simulation'!$A$11:$N$3662,11)","v":0},null,null,null,null,"2010-12-25",{"$f":"VLOOKUP(G676,'RWH 10-yr Simulation'!$A$11:$N$3662,11)","v":1057.4600871983243}]
["2010-10-02",{"$f":"VLOOKUP(A677,'RWH 10-yr Simulation'!$A$11:$N$3662,11)","v":0},null,null,null,null,"2010-12-27",{"$f":"VLOOKUP(G677,'RWH 10-yr Simulation'!$A$11:$N$3662,11)","v":1041.8074946057318}]
["2010-10-16",{"$f":"VLOOKUP(A678,'RWH 10-yr Simulation'!$A$11:$N$3662,11)","v":0},null,null,null,null,"2010-12-28",{"$f":"VLOOKUP(G678,'RWH 10-yr Simulation'!$A$11:$N$3662,11)","v":1057.4600871983243}]
["2010-10-21",{"$f":"VLOOKUP(A679,'RWH 10-yr Simulation'!$A$11:$N$3662,11)","v":0}]
["2010-10-22",{"$f":"VLOOKUP(A680,'RWH 10-yr Simulation'!$A$11:$N$3662,11)","v":63.580000000000005}]
["2010-10-23",{"$f":"VLOOKUP(A681,'RWH 10-yr Simulation'!$A$11:$N$3662,11)","v":336.97400000000005}]
["2010-10-28",{"$f":"VLOOKUP(A682,'RWH 10-yr Simulation'!$A$11:$N$3662,11)","v":583.93866666666668}]
["2010-10-29",{"$f":"VLOOKUP(A683,'RWH 10-yr Simulation'!$A$11:$N$3662,11)","v":863.69066666666674}]
["2010-11-06",{"$f":"VLOOKUP(A684,'RWH 10-yr Simulation'!$A$11:$N$3662,11)","v":757.53700000000026}]
["2010-11-08",{"$f":"VLOOKUP(A685,'RWH 10-yr Simulation'!$A$11:$N$3662,11)","v":1033.9811983094355}]
["2010-11-09",{"$f":"VLOOKUP(A686,'RWH 10-yr Simulation'!$A$11:$N$3662,11)","v":1034.299790902028}]
["2010-11-18",{"$f":"VLOOKUP(A687,'RWH 10-yr Simulation'!$A$11:$N$3662,11)","v":869.62897608721369}]
["2010-11-19",{"$f":"VLOOKUP(A688,'RWH 10-yr Simulation'!$A$11:$N$3662,11)","v":1057.4600871983243}]
["2010-11-20",{"$f":"VLOOKUP(A689,'RWH 10-yr Simulation'!$A$11:$N$3662,11)","v":1057.4600871983243}]
["2010-11-21",{"$f":"VLOOKUP(A690,'RWH 10-yr Simulation'!$A$11:$N$3662,11)","v":1057.4600871983243}]
["2010-11-22",{"$f":"VLOOKUP(A691,'RWH 10-yr Simulation'!$A$11:$N$3662,11)","v":1057.4600871983243}]
["2010-11-26",{"$f":"VLOOKUP(A692,'RWH 10-yr Simulation'!$A$11:$N$3662,11)","v":987.02342053165785}]
["2010-12-01",{"$f":"VLOOKUP(A693,'RWH 10-yr Simulation'!$A$11:$N$3662,11)","v":971.37082793906529}]
["2010-12-03",{"$f":"VLOOKUP(A694,'RWH 10-yr Simulation'!$A$11:$N$3662,11)","v":963.86312423536162}]
["2010-12-04",{"$f":"VLOOKUP(A695,'RWH 10-yr Simulation'!$A$11:$N$3662,11)","v":972.00801312425051}]
["2010-12-05",{"$f":"VLOOKUP(A696,'RWH 10-yr Simulation'!$A$11:$N$3662,11)","v":1057.4600871983243}]
["2010-12-07",{"$f":"VLOOKUP(A697,'RWH 10-yr Simulation'!$A$11:$N$3662,11)","v":1041.8074946057318}]
["2010-12-08",{"$f":"VLOOKUP(A698,'RWH 10-yr Simulation'!$A$11:$N$3662,11)","v":1057.4600871983243}]
["2010-12-09",{"$f":"VLOOKUP(A699,'RWH 10-yr Simulation'!$A$11:$N$3662,11)","v":1053.7062353464723}]
["2010-12-13",{"$f":"VLOOKUP(A700,'RWH 10-yr Simulation'!$A$11:$N$3662,11)","v":1010.5023094205467}]
["2010-12-15",{"$f":"VLOOKUP(A701,'RWH 10-yr Simulation'!$A$11:$N$3662,11)","v":1041.8074946057318}]
["2010-12-16",{"$f":"VLOOKUP(A702,'RWH 10-yr Simulation'!$A$11:$N$3662,11)","v":1049.9523834946206}]
["2010-12-17",{"$f":"VLOOKUP(A703,'RWH 10-yr Simulation'!$A$11:$N$3662,11)","v":1057.4600871983243}]
["2010-12-18",{"$f":"VLOOKUP(A704,'RWH 10-yr Simulation'!$A$11:$N$3662,11)","v":1057.4600871983243}]
["2010-12-19",{"$f":"VLOOKUP(A705,'RWH 10-yr Simulation'!$A$11:$N$3662,11)","v":1057.4600871983243}]
["2010-12-20",{"$f":"VLOOKUP(A706,'RWH 10-yr Simulation'!$A$11:$N$3662,11)","v":1057.4600871983243}]
["2010-12-21",{"$f":"VLOOKUP(A707,'RWH 10-yr Simulation'!$A$11:$N$3662,11)","v":1057.4600871983243}]
["2010-12-24",{"$f":"VLOOKUP(A708,'RWH 10-yr Simulation'!$A$11:$N$3662,11)","v":1026.1549020131392}]
["2010-12-25",{"$f":"VLOOKUP(A709,'RWH 10-yr Simulation'!$A$11:$N$3662,11)","v":1057.4600871983243}]
["2010-12-27",{"$f":"VLOOKUP(A710,'RWH 10-yr Simulation'!$A$11:$N$3662,11)","v":1041.8074946057318}]
["2010-12-28",{"$f":"VLOOKUP(A711,'RWH 10-yr Simulation'!$A$11:$N$3662,11)","v":1057.4600871983243}]